{"text_format":"1","workbook":"xlsx","n_sheets":7,"sheets":["CALCULADORA","Características","Flujos","TIR de Tenencia","Tabla de Amortizacion","Tablas","Exclusión"],"not_rendered":{"charts":0,"images":3,"macros":1,"external_links":1,"defined_names":4,"comments":0,"pivot_tables":0},"unopened":[],"bounds":{"document_bytes":16777216,"sheet_cells":100000,"rows_first":2000,"rows_last":500,"rows_between":2000,"halvings":0,"cell_chars":16384,"cell_head_chars":4096},"cells_cut":0,"cells_raw":0,"read":"whole","date_system":"1900"}

{"sheet":"CALCULADORA","index":0,"n_rows":43,"n_cols":8,"rows_kept":43,"cut":false,"hidden":false,"merged":[[58,7,58,8],[10,1,10,2],[38,7,38,8],[6,1,6,2],[21,1,21,2],[25,1,25,2],[38,10,38,11],[21,3,23,4]]}
[null,"Exclusión de responsabilidad",null,null,null,null,null,"Valor nominal negociado"]
[null,null,null,null,null,null,null,"TIPS N13 A"]
[null,null,null,null,null,null,null,"TIPS N14 A"]
[null,null,null,null,null,null,null,"TIPS N15 A"]
[null,null,null,null,null,null,null,"TIPS N16 A"]
[null,null,null,null,null,null,null,"TIPS N17 A "]
[null,"Calculadora Emisiones TIPS en Pesos",null,null,null,null,null,"TIPS N18 A 2034"]
[null,null,null,null,null,null,null,"TIPS N19 A 2034"]
[null,"Emisión","TIPS N21 A",null,"Seleccionar la Emisión a Calcular",null,null,"TIPS N20 A 2034"]
[null,null,null,null,null,null,null,"TIPS N21 A"]
[null,"Características",null,null,null,null,null,"TIPS N22 A"]
[null,"Identificación titulo (Nemotécnico)",{"$f":"+HLOOKUP(C9,Características!B1:K7,2,FALSE)","v":"INST13240634"},null,null,99.998999999999995]
[null,"Fecha de Emisión ",{"$f":"+HLOOKUP(C9,Características!B1:K7,4,FALSE)","v":"2021-06-24"}]
[null,"Fecha de Vencimiento Contractual",{"$f":"+HLOOKUP(C9,Características!B1:K7,5,FALSE)","v":"2034-06-24"}]
[null,"Fecha estimada para el pago del 100% del título",{"$f":"+VLOOKUP(0,Flujos!D2:J182,6,FALSE)","v":"2032-02-24"}]
[null,"Tasa Facial Efectiva Anual",{"$f":"+HLOOKUP(C9,Características!B1:K7,6,FALSE)","v":6.0600000000000001E-2}]
[null,"Tasa Facial Nominal Anual ",{"$f":"+ROUND(((1+C16)^(1/12)-1)*12,6)","v":5.8978999999999997E-2}]
[null,"Duración Macaulay",{"$f":"+SUMPRODUCT(Flujos!B2:B182,Flujos!H2:H182)/Flujos!H183/365","v":2.4214514745462394}]
[null,"Nominal Inicial  (Nominal del título al momento de la emisión)",{"$f":"Flujos!L2","v":290499999999.99994}]
[]
[]
[null,"Datos de Compra",null,"Fecha de Compra y Valor de Compra son datos opcionales deben incluirse solo para calcular la TIR de Tenencia"]
[null,"Fecha de Compra","2024-03-07"]
[null,"Valor de Compra (COP)",1000000000]
[]
[null,"Datos de Venta"]
[null,"Fecha de Venta ","2024-04-01",null,"Incluir los datos de las celdas grises"]
[null,"Valor nominal a negociar (COP)",150723400555]
[null,"Tasa de negociación / tasa de valoración",0.109]
[null,"Precio Limpio (sin incluir intereses causados)"]
[null,"Precio sucio (incluyendo intereses causados)",100.02800000000001]
[{"$f":"+Flujos!C183*100","v":51.884131000000011},"Porcentaje del nominal inicial que falta por pagar del capital",{"$f":"+Flujos!C183*100/100","v":0.51884131000000011}]
[null,"Valor de Giro (COP)",{"$f":"+Características!B32","v":135135586470}]
[]
[null,"TIR de Tenencia en COP*",{"$f":"+'TIR de Tenencia'!K2","v":{"$error":"#VALUE!"}}]
[]
[null,"Oficina de Atención a Inversionistas al 601 618 3030 ext 258 - 239, o al correo  smoreno@titularizadora.com - josorio@titularizadora.com"]
[]
[]
[]
[]
[]
[null,null,1]

{"sheet":"Características","index":1,"n_rows":39,"n_cols":11,"rows_kept":39,"cut":false,"hidden":true,"merged":[[8,0,8,1],[26,0,26,1]]}
["Serie","TIPS N13 A","TIPS N14 A","TIPS N15 A","TIPS N16 A","TIPS N17 A ","TIPS N18 A 2034","TIPS N19 A 2034","TIPS N20 A 2034","TIPS N21 A","TIPS N22 A"]
["Nemo MEC","INST10011226","INST10080327","INST10270627","INST10061227","INST10150328","INST15040434","INST15230534","INST15041034","INST13240634","INST070339A"]
["ISIN"]
["Emisión","2016-12-01","2017-03-08","2017-06-27","2017-12-06","2018-03-15","2021-02-04","2021-07-23","2021-04-04","2021-06-24","2024-03-07"]
["Vencimiento contractual","2026-12-01","2027-03-08","2042-03-08","2027-12-06","2033-03-15","2034-04-04","2034-05-23","2034-10-04","2034-06-24","2039-03-07"]
["Cupón EA",8.3699999999999997E-2,7.7499999999999999E-2,6.9000000000000006E-2,6.3799999999999996E-2,6.5699999999999995E-2,6.83E-2,6.8900000000000003E-2,6.0400000000000002E-2,6.0600000000000001E-2,0.109]
["Moneda","COP","COP","COP","COP","COP","COP","COP","COP","COP","COP"]
[]
["Cálculo de tasa y precio sucio a partir del limpio"]
["Fecha de liquidación",{"$f":"+CALCULADORA!C27","v":"2024-04-01"}]
["Fecha último pago cupón",{"$f":"+VLOOKUP(B10,Flujos!$A$2:$A$182,1)","v":"2024-03-24"}]
["Valor Par",{"$f":"+VLOOKUP(B11,Flujos!$A$2:$D$182,4)","v":51.884130999999996}]
["Próximo pago de interés",{"$f":"+VLOOKUP(EDATE(B10,1),Flujos!$A$2:$F$182,6)","v":0.25501099999999999}]
["Días corridos",{"$f":"+DAYS360(B11,B10,TRUE)","v":7}]
["Días entre flujos",30]
["Cupón corrido",{"$f":"ROUND(B13/B12*B14/B15*100,4)","v":0.1147}]
["Precio limpio",{"$f":"+TRUNC(Flujos!H183/VLOOKUP(CALCULADORA!C27,Flujos!A:D,4)*100,3)","v":89.543999999999997}]
["Nominal",{"$f":"+CALCULADORA!C28","v":150723400555}]
["Moneda",1]
["Contravalor",{"$f":"ROUND(B18*B19*(B17+B16)/100,0)","v":135136641533}]
["Precio unitario",{"$f":"TRUNC(B20/B18,5)","v":0.89658000000000004}]
["Precio sucio MEC",{"$f":"TRUNC(B21/B19*100,3)","v":89.658000000000001}]
["Precio sucio modelo",{"$f":"+B22","v":89.658000000000001}]
["Diferencia",{"$f":"+B22-B23","v":0}]
["Tasa de descuento equivalente",{"$f":"TRUNC(CALCULADORA!C29,5)","v":0.109}]
[]
["Cálculo de precio limpio y sucio a partir de tasa"]
["Tasa de descuento",{"$f":"TRUNC(CALCULADORA!C29,5)","v":0.109}]
["Precio sucio modelo",{"$f":"+B23","v":89.658000000000001}]
["Moneda",{"$f":"+CALCULADORA!$C$43","v":1}]
["Nominal",{"$f":"+CALCULADORA!C28","v":150723400555}]
["Contravalor",{"$f":"+ROUND(B29/100*B31*B30,0)","v":135135586470}]
["Valor Par",{"$f":"+VLOOKUP(B11,Flujos!$A$2:$D$182,4)","v":51.884130999999996}]
["Próximo pago de interés",{"$f":"+VLOOKUP(EDATE(B10,1),Flujos!$A$2:$F$182,6)","v":0.25501099999999999}]
["Días corridos",{"$f":"+DAYS360(B11,B10,TRUE)","v":7}]
["Días entre flujos",30]
["Precio unitario",{"$f":"TRUNC(B32/(B30*B31),5)","v":0.89658000000000004}]
["Cupón corrido",{"$f":"ROUND(B34/B33*B35/B36,6)*100","v":0.1147}]
["Precio limpio",{"$f":"ROUND((B37-(B38/100))*100,3)","v":89.543000000000006}]

{"sheet":"Flujos","index":2,"n_rows":183,"n_cols":15,"rows_kept":183,"cut":false,"hidden":false,"merged":[]}
["Fecha","Días 365 / Days 365","Amortización / Amortization","Factor Saldo","Factor Capital","Factor Intereses","Factor Total","VPN","Control","Mes inicial","Días iniciales","Saldo / Balance","Pago de Capital","Pago de Intereses","Pago Total"]
[{"$f":"+CALCULADORA!C13","v":"2021-06-24"},{"$f":"IF(DIAS365(CALCULADORA!$C$27,A2)<0,0,DIAS365(CALCULADORA!$C$27,A2))","v":0},0,{"$f":"+CALCULADORA!A32/Flujos!C183","v":100},0,0,{"$f":"F2+E2","v":0},{"$f":"IF($B2<0,0,G2/POWER(1+CALCULADORA!$C$29,Flujos!$B2/365))","v":0},{"$f":"+A2","v":"2021-06-24"},0,0,{"$f":"+Características!B18/Flujos!C183","v":290499999999.99994},0,0,{"$f":"+N2+M2","v":0}]
[{"$f":"EDATE(A2,1)","v":"2021-07-24"},{"$f":"IF(DIAS365(CALCULADORA!$C$27,A3)<0,0,DIAS365(CALCULADORA!$C$27,A3))","v":0},{"$f":"+HLOOKUP(CALCULADORA!$C$9,Tablas!B:B,Flujos!J3+1,FALSE)","v":1.952549E-2},{"$f":"+ROUND(D2-E3,6)","v":98.047450999999995},{"$f":"ROUND(C3*$D$2,6)","v":1.9525490000000001},{"$f":"ROUND(D2*ROUND(((1+CALCULADORA!$C$16)^(1/12)-1),6),6)","v":0.49149999999999999},{"$f":"F3+E3","v":2.4440490000000001},{"$f":"IF($B3=0,0,G3/POWER(1+CALCULADORA!$C$29,Flujos!$B3/365))","v":0},{"$f":"+A3","v":"2021-07-24"},1,{"$f":"+DIAS365($A$2,A3)","v":30},{"$f":"+L2-M3","v":284827845154.99994},{"$f":"+$L$2*C3","v":5672154844.999999},{"$f":"+L2*$F$3%","v":1427807499.9999998},{"$f":"+N3+M3","v":7099962344.999999}]
[{"$f":"EDATE(A3,1)","v":"2021-08-24"},{"$f":"IF(DIAS365(CALCULADORA!$C$27,A4)<0,0,DIAS365(CALCULADORA!$C$27,A4))","v":0},{"$f":"+HLOOKUP(CALCULADORA!$C$9,Tablas!B:B,Flujos!J4+1,FALSE)","v":2.8349989999999999E-2},{"$f":"+ROUND(D3-E4,6)","v":95.212451999999999},{"$f":"ROUND(C4*$D$2,6)","v":2.8349989999999998},{"$f":"ROUND(D3*ROUND(((1+CALCULADORA!$C$16)^(1/12)-1),6),6)","v":0.48190300000000003},{"$f":"F4+E4","v":3.3169019999999998},{"$f":"IF($B4=0,0,G4/POWER(1+CALCULADORA!$C$29,Flujos!$B4/365))","v":0},"2021-08-24",2,{"$f":"+DIAS365($A$2,A4)","v":61},{"$f":"+L3-M4","v":276592173059.99994},{"$f":"+$L$2*C4","v":8235672094.9999981},{"$f":"+L3*$F$3%","v":1399928858.9368248},{"$f":"+N4+M4","v":9635600953.9368229}]
["2021-09-24",{"$f":"IF(DIAS365(CALCULADORA!$C$27,A5)<0,0,DIAS365(CALCULADORA!$C$27,A5))","v":0},{"$f":"+HLOOKUP(CALCULADORA!$C$9,Tablas!B:B,Flujos!J5+1,FALSE)","v":2.6544970000000001E-2},{"$f":"+ROUND(D4-E5,6)","v":92.557955000000007},2.6544970000000001,{"$f":"ROUND(D4*ROUND(((1+CALCULADORA!$C$16)^(1/12)-1),6),6)","v":0.46796900000000002},3.1224660000000002,{"$f":"IF($B5=0,0,G5/POWER(1+CALCULADORA!$C$29,Flujos!$B5/365))","v":0},"2021-09-24",3,{"$f":"+DIAS365($A$2,A5)","v":92},268880859274.99994,7711313784.999999,1359450530.5898998,9070764315.5898991]
["2021-10-24",{"$f":"IF(DIAS365(CALCULADORA!$C$27,A6)<0,0,DIAS365(CALCULADORA!$C$27,A6))","v":0},{"$f":"+HLOOKUP(CALCULADORA!$C$9,Tablas!B:B,Flujos!J6+1,FALSE)","v":2.6772089999999998E-2},89.880746000000002,2.6772089999999999,{"$f":"ROUND(D5*ROUND(((1+CALCULADORA!$C$16)^(1/12)-1),6),6)","v":0.45492199999999999},3.1321309999999998,{"$f":"IF($B6=0,0,G6/POWER(1+CALCULADORA!$C$29,Flujos!$B6/365))","v":0},"2021-10-24",4,{"$f":"+DIAS365($A$2,A6)","v":122},261103567129.99994,7777292144.9999981,1321549423.3366246,9098841568.3366222]
["2021-11-24",{"$f":"IF(DIAS365(CALCULADORA!$C$27,A7)<0,0,DIAS365(CALCULADORA!$C$27,A7))","v":0},{"$f":"+HLOOKUP(CALCULADORA!$C$9,Tablas!B:B,Flujos!J7+1,FALSE)","v":2.1764450000000001E-2},87.704301000000001,2.1764450000000002,{"$f":"ROUND(D6*ROUND(((1+CALCULADORA!$C$16)^(1/12)-1),6),6)","v":0.44176399999999999},2.6182090000000002,{"$f":"IF($B7=0,0,G7/POWER(1+CALCULADORA!$C$29,Flujos!$B7/365))","v":0},"2021-11-24",5,{"$f":"+DIAS365($A$2,A7)","v":153},254780994404.99994,6322572724.999999,1283324032.4439497,7605896757.4439487]
["2021-12-24",{"$f":"IF(DIAS365(CALCULADORA!$C$27,A8)<0,0,DIAS365(CALCULADORA!$C$27,A8))","v":0},{"$f":"+HLOOKUP(CALCULADORA!$C$9,Tablas!B:B,Flujos!J8+1,FALSE)","v":1.8318210000000001E-2},85.872479999999996,1.8318209999999999,{"$f":"ROUND(D7*ROUND(((1+CALCULADORA!$C$16)^(1/12)-1),6),6)","v":0.43106699999999998},2.2628879999999998,{"$f":"IF($B8=0,0,G8/POWER(1+CALCULADORA!$C$29,Flujos!$B8/365))","v":0},"2021-12-24",6,{"$f":"+DIAS365($A$2,A8)","v":183},249459554399.99994,5321440004.999999,1252248587.5005748,6573688592.5005741]
["2022-01-24",{"$f":"IF(DIAS365(CALCULADORA!$C$27,A9)<0,0,DIAS365(CALCULADORA!$C$27,A9))","v":0},{"$f":"+HLOOKUP(CALCULADORA!$C$9,Tablas!B:B,Flujos!J9+1,FALSE)","v":1.7947040000000001E-2},84.077776,1.7947040000000001,{"$f":"ROUND(D8*ROUND(((1+CALCULADORA!$C$16)^(1/12)-1),6),6)","v":0.42206300000000002},2.2167669999999999,{"$f":"IF($B9=0,0,G9/POWER(1+CALCULADORA!$C$29,Flujos!$B9/365))","v":0},"2022-01-24",7,{"$f":"+DIAS365($A$2,A9)","v":214},244245939279.99994,5213615119.999999,1226093709.8759997,6439708829.8759985]
["2022-02-24",{"$f":"IF(DIAS365(CALCULADORA!$C$27,A10)<0,0,DIAS365(CALCULADORA!$C$27,A10))","v":0},{"$f":"+HLOOKUP(CALCULADORA!$C$9,Tablas!B:B,Flujos!J10+1,FALSE)","v":1.6100360000000001E-2},82.467740000000006,1.610036,{"$f":"ROUND(D9*ROUND(((1+CALCULADORA!$C$16)^(1/12)-1),6),6)","v":0.413242},2.0232779999999999,{"$f":"IF($B10=0,0,G10/POWER(1+CALCULADORA!$C$29,Flujos!$B10/365))","v":0},"2022-02-24",8,{"$f":"+DIAS365($A$2,A10)","v":245},239568784699.99994,4677154579.999999,1200468791.5611997,5877623371.5611992]
["2022-03-24",{"$f":"IF(DIAS365(CALCULADORA!$C$27,A11)<0,0,DIAS365(CALCULADORA!$C$27,A11))","v":0},{"$f":"+HLOOKUP(CALCULADORA!$C$9,Tablas!B:B,Flujos!J11+1,FALSE)","v":1.46862E-2},80.999120000000005,1.46862,{"$f":"ROUND(D10*ROUND(((1+CALCULADORA!$C$16)^(1/12)-1),6),6)","v":0.40532899999999999},1.8739490000000001,{"$f":"IF($B11=0,0,G11/POWER(1+CALCULADORA!$C$29,Flujos!$B11/365))","v":0},"2022-03-24",9,{"$f":"+DIAS365($A$2,A11)","v":273},235302443599.99994,4266341099.999999,1177480576.8004997,5443821676.800499]
["2022-04-24",{"$f":"IF(DIAS365(CALCULADORA!$C$27,A12)<0,0,DIAS365(CALCULADORA!$C$27,A12))","v":0},{"$f":"+HLOOKUP(CALCULADORA!$C$9,Tablas!B:B,Flujos!J12+1,FALSE)","v":1.427731E-2},79.571388999999996,1.4277310000000001,{"$f":"ROUND(D11*ROUND(((1+CALCULADORA!$C$16)^(1/12)-1),6),6)","v":0.39811099999999999},1.8258420000000002,{"$f":"IF($B12=0,0,G12/POWER(1+CALCULADORA!$C$29,Flujos!$B12/365))","v":0},"2022-04-24",10,{"$f":"+DIAS365($A$2,A12)","v":304},231154885044.99994,4147558554.999999,1156511510.2939997,5304070065.2939987]
["2022-05-24",{"$f":"IF(DIAS365(CALCULADORA!$C$27,A13)<0,0,DIAS365(CALCULADORA!$C$27,A13))","v":0},{"$f":"+HLOOKUP(CALCULADORA!$C$9,Tablas!B:B,Flujos!J13+1,FALSE)","v":1.730595E-2},77.840794000000002,1.7305950000000001,{"$f":"ROUND(D12*ROUND(((1+CALCULADORA!$C$16)^(1/12)-1),6),6)","v":0.39109300000000002},2.1216880000000002,{"$f":"IF($B13=0,0,G13/POWER(1+CALCULADORA!$C$29,Flujos!$B13/365))","v":0},"2022-05-24",11,{"$f":"+DIAS365($A$2,A13)","v":334},226127506569.99994,5027378474.999999,1136126259.9961748,6163504734.9961739]
["2022-06-24",{"$f":"IF(DIAS365(CALCULADORA!$C$27,A14)<0,0,DIAS365(CALCULADORA!$C$27,A14))","v":0},{"$f":"+HLOOKUP(CALCULADORA!$C$9,Tablas!B:B,Flujos!J14+1,FALSE)","v":1.3769160000000001E-2},76.463877999999994,1.376916,{"$f":"ROUND(D13*ROUND(((1+CALCULADORA!$C$16)^(1/12)-1),6),6)","v":0.38258799999999998},1.759504,{"$f":"IF($B14=0,0,G14/POWER(1+CALCULADORA!$C$29,Flujos!$B14/365))","v":0},"2022-06-24",12,{"$f":"+DIAS365($A$2,A14)","v":365},222127565589.99994,3999940979.9999995,1111416694.7915497,5111357674.7915497]
["2022-07-24",{"$f":"IF(DIAS365(CALCULADORA!$C$27,A15)<0,0,DIAS365(CALCULADORA!$C$27,A15))","v":0},{"$f":"+HLOOKUP(CALCULADORA!$C$9,Tablas!B:B,Flujos!J15+1,FALSE)","v":1.483369E-2},74.980508999999998,1.4833689999999999,{"$f":"ROUND(D14*ROUND(((1+CALCULADORA!$C$16)^(1/12)-1),6),6)","v":0.37581999999999999},1.859189,{"$f":"IF($B15=0,0,G15/POWER(1+CALCULADORA!$C$29,Flujos!$B15/365))","v":0},"2022-07-24",13,{"$f":"+DIAS365($A$2,A15)","v":395},217818378644.99994,4309186944.999999,1091756984.8748498,5400943929.8748493]
["2022-08-24",{"$f":"IF(DIAS365(CALCULADORA!$C$27,A16)<0,0,DIAS365(CALCULADORA!$C$27,A16))","v":0},{"$f":"+HLOOKUP(CALCULADORA!$C$9,Tablas!B:B,Flujos!J16+1,FALSE)","v":1.2893119999999999E-2},73.691197000000003,1.289312,{"$f":"ROUND(D15*ROUND(((1+CALCULADORA!$C$16)^(1/12)-1),6),6)","v":0.368529},1.6578409999999999,{"$f":"IF($B16=0,0,G16/POWER(1+CALCULADORA!$C$29,Flujos!$B16/365))","v":0},"2022-08-24",14,{"$f":"+DIAS365($A$2,A16)","v":426},214072927284.99994,3745451359.999999,1070577331.0401747,4816028691.0401735]
["2022-09-24",{"$f":"IF(DIAS365(CALCULADORA!$C$27,A17)<0,0,DIAS365(CALCULADORA!$C$27,A17))","v":0},{"$f":"+HLOOKUP(CALCULADORA!$C$9,Tablas!B:B,Flujos!J17+1,FALSE)","v":1.178352E-2},72.512844999999999,1.1783520000000001,{"$f":"ROUND(D16*ROUND(((1+CALCULADORA!$C$16)^(1/12)-1),6),6)","v":0.36219200000000001},1.5405440000000001,{"$f":"IF($B17=0,0,G17/POWER(1+CALCULADORA!$C$29,Flujos!$B17/365))","v":0},"2022-09-24",15,{"$f":"+DIAS365($A$2,A17)","v":457},210649814724.99994,3423112559.9999995,1052168437.6057748,4475280997.6057739]
["2022-10-24",{"$f":"IF(DIAS365(CALCULADORA!$C$27,A18)<0,0,DIAS365(CALCULADORA!$C$27,A18))","v":0},{"$f":"+HLOOKUP(CALCULADORA!$C$9,Tablas!B:B,Flujos!J18+1,FALSE)","v":1.0406540000000001E-2},71.472190999999995,1.040654,{"$f":"ROUND(D17*ROUND(((1+CALCULADORA!$C$16)^(1/12)-1),6),6)","v":0.35640100000000002},1.3970549999999999,{"$f":"IF($B18=0,0,G18/POWER(1+CALCULADORA!$C$29,Flujos!$B18/365))","v":0},"2022-10-24",16,{"$f":"+DIAS365($A$2,A18)","v":487},207626714854.99994,3023099869.9999995,1035343839.3733747,4058443709.373374]
["2022-11-24",{"$f":"IF(DIAS365(CALCULADORA!$C$27,A19)<0,0,DIAS365(CALCULADORA!$C$27,A19))","v":0},{"$f":"+HLOOKUP(CALCULADORA!$C$9,Tablas!B:B,Flujos!J19+1,FALSE)","v":1.3268179999999999E-2},70.145373000000006,1.3268180000000001,{"$f":"ROUND(D18*ROUND(((1+CALCULADORA!$C$16)^(1/12)-1),6),6)","v":0.35128599999999999},1.678104,{"$f":"IF($B19=0,0,G19/POWER(1+CALCULADORA!$C$29,Flujos!$B19/365))","v":0},"2022-11-24",17,{"$f":"+DIAS365($A$2,A19)","v":518},203772308564.99994,3854406289.999999,1020485303.5123247,4874891593.5123234]
["2022-12-24",{"$f":"IF(DIAS365(CALCULADORA!$C$27,A20)<0,0,DIAS365(CALCULADORA!$C$27,A20))","v":0},{"$f":"+HLOOKUP(CALCULADORA!$C$9,Tablas!B:B,Flujos!J20+1,FALSE)","v":1.4011529999999999E-2},68.744219999999999,1.4011530000000001,{"$f":"ROUND(D19*ROUND(((1+CALCULADORA!$C$16)^(1/12)-1),6),6)","v":0.34476499999999999},1.7459180000000001,{"$f":"IF($B20=0,0,G20/POWER(1+CALCULADORA!$C$29,Flujos!$B20/365))","v":0},"2022-12-24",18,{"$f":"+DIAS365($A$2,A20)","v":548},199701959099.99994,4070349464.999999,1001540896.5969747,5071890361.5969734]
["2023-01-24",{"$f":"IF(DIAS365(CALCULADORA!$C$27,A21)<0,0,DIAS365(CALCULADORA!$C$27,A21))","v":0},{"$f":"+HLOOKUP(CALCULADORA!$C$9,Tablas!B:B,Flujos!J21+1,FALSE)","v":1.3735590000000001E-2},67.370660999999998,1.373559,{"$f":"ROUND(D20*ROUND(((1+CALCULADORA!$C$16)^(1/12)-1),6),6)","v":0.33787800000000001},1.7114370000000001,{"$f":"IF($B21=0,0,G21/POWER(1+CALCULADORA!$C$29,Flujos!$B21/365))","v":0},"2023-01-24",19,{"$f":"+DIAS365($A$2,A21)","v":579},195711770204.99994,3990188894.9999995,981535128.97649968,4971724023.9764996]
["2023-02-24",{"$f":"IF(DIAS365(CALCULADORA!$C$27,A22)<0,0,DIAS365(CALCULADORA!$C$27,A22))","v":0},{"$f":"+HLOOKUP(CALCULADORA!$C$9,Tablas!B:B,Flujos!J22+1,FALSE)","v":1.4403030000000001E-2},{"$f":"+ROUND(D21-E22,6)","v":65.930357999999998},1.4403030000000001,{"$f":"ROUND(D21*ROUND(((1+CALCULADORA!$C$16)^(1/12)-1),6),6)","v":0.331127},1.7714300000000001,{"$f":"IF($B22=0,0,G22/POWER(1+CALCULADORA!$C$29,Flujos!$B22/365))","v":0},"2023-02-24",20,{"$f":"+DIAS365($A$2,A22)","v":610},191527689989.99994,4184080214.9999995,961923350.55757475,5146003565.5575743]
["2023-03-24",{"$f":"IF(DIAS365(CALCULADORA!$C$27,A23)<0,0,DIAS365(CALCULADORA!$C$27,A23))","v":0},{"$f":"+HLOOKUP(CALCULADORA!$C$9,Tablas!B:B,Flujos!J23+1,FALSE)","v":1.2226229999999999E-2},64.707735,1.222623,{"$f":"ROUND(D22*ROUND(((1+CALCULADORA!$C$16)^(1/12)-1),6),6)","v":0.324048},1.5466709999999999,{"$f":"IF($B23=0,0,G23/POWER(1+CALCULADORA!$C$29,Flujos!$B23/365))","v":0},"2023-03-24",21,{"$f":"+DIAS365($A$2,A23)","v":638},187975970174.99994,3551719814.999999,941358596.30084968,4493078411.300849]
["2023-04-24",{"$f":"IF(DIAS365(CALCULADORA!$C$27,A24)<0,0,DIAS365(CALCULADORA!$C$27,A24))","v":0},{"$f":"+HLOOKUP(CALCULADORA!$C$9,Tablas!B:B,Flujos!J24+1,FALSE)","v":1.260328E-2},63.447406999999998,1.2603279999999999,{"$f":"ROUND(D23*ROUND(((1+CALCULADORA!$C$16)^(1/12)-1),6),6)","v":0.31803900000000002},1.5783669999999999,{"$f":"IF($B24=0,0,G24/POWER(1+CALCULADORA!$C$29,Flujos!$B24/365))","v":0},"2023-04-24",22,{"$f":"+DIAS365($A$2,A24)","v":669},184314717334.99994,3661252839.999999,923901893.41012466,4585154733.4101238]
["2023-05-24",{"$f":"IF(DIAS365(CALCULADORA!$C$27,A25)<0,0,DIAS365(CALCULADORA!$C$27,A25))","v":0},{"$f":"+HLOOKUP(CALCULADORA!$C$9,Tablas!B:B,Flujos!J25+1,FALSE)","v":1.0628820000000001E-2},62.384524999999996,1.0628820000000001,{"$f":"ROUND(D24*ROUND(((1+CALCULADORA!$C$16)^(1/12)-1),6),6)","v":0.31184400000000001},1.3747260000000001,{"$f":"IF($B25=0,0,G25/POWER(1+CALCULADORA!$C$29,Flujos!$B25/365))","v":0},"2023-05-24",23,{"$f":"+DIAS365($A$2,A25)","v":699},181227045124.99994,3087672209.9999995,905906835.70152473,3993579045.7015243]
["2023-06-24",{"$f":"IF(DIAS365(CALCULADORA!$C$27,A26)<0,0,DIAS365(CALCULADORA!$C$27,A26))","v":0},{"$f":"+HLOOKUP(CALCULADORA!$C$9,Tablas!B:B,Flujos!J26+1,FALSE)","v":9.7083499999999993E-3},61.413690000000003,0.970835,{"$f":"ROUND(D25*ROUND(((1+CALCULADORA!$C$16)^(1/12)-1),6),6)","v":0.30662},1.277455,{"$f":"IF($B26=0,0,G26/POWER(1+CALCULADORA!$C$29,Flujos!$B26/365))","v":0},"2023-06-24",24,{"$f":"+DIAS365($A$2,A26)","v":730},178406769449.99994,2820275674.999999,890730926.78937471,3711006601.7893739]
["2023-07-24",{"$f":"IF(DIAS365(CALCULADORA!$C$27,A27)<0,0,DIAS365(CALCULADORA!$C$27,A27))","v":0},{"$f":"+HLOOKUP(CALCULADORA!$C$9,Tablas!B:B,Flujos!J27+1,FALSE)","v":9.1862799999999998E-3},60.495061999999997,0.918628,{"$f":"ROUND(D26*ROUND(((1+CALCULADORA!$C$16)^(1/12)-1),6),6)","v":0.30184800000000001},1.2204760000000001,{"$f":"IF($B27=0,0,G27/POWER(1+CALCULADORA!$C$29,Flujos!$B27/365))","v":0},"2023-07-24",25,{"$f":"+DIAS365($A$2,A27)","v":760},175738155109.99994,2668614339.9999995,876869271.84674966,3545483611.8467493]
["2023-08-24",{"$f":"IF(DIAS365(CALCULADORA!$C$27,A28)<0,0,DIAS365(CALCULADORA!$C$27,A28))","v":0},{"$f":"+HLOOKUP(CALCULADORA!$C$9,Tablas!B:B,Flujos!J28+1,FALSE)","v":1.3526109999999999E-2},59.142451000000001,1.352611,{"$f":"ROUND(D27*ROUND(((1+CALCULADORA!$C$16)^(1/12)-1),6),6)","v":0.29733300000000001},1.6499440000000001,{"$f":"IF($B28=0,0,G28/POWER(1+CALCULADORA!$C$29,Flujos!$B28/365))","v":0},"2023-08-24",26,{"$f":"+DIAS365($A$2,A28)","v":791},171808820154.99994,3929334954.999999,863753032.3656497,4793087987.3656483]
["2023-09-24",{"$f":"IF(DIAS365(CALCULADORA!$C$27,A29)<0,0,DIAS365(CALCULADORA!$C$27,A29))","v":0},{"$f":"+HLOOKUP(CALCULADORA!$C$9,Tablas!B:B,Flujos!J29+1,FALSE)","v":1.1434740000000001E-2},57.998976999999996,1.1434740000000001,{"$f":"ROUND(D28*ROUND(((1+CALCULADORA!$C$16)^(1/12)-1),6),6)","v":0.29068500000000003},1.4341590000000002,{"$f":"IF($B29=0,0,G29/POWER(1+CALCULADORA!$C$29,Flujos!$B29/365))","v":0},"2023-09-24",27,{"$f":"+DIAS365($A$2,A29)","v":822},168487028184.99994,3321791969.9999995,844440351.06182468,4166232321.0618243]
["2023-10-24",{"$f":"IF(DIAS365(CALCULADORA!$C$27,A30)<0,0,DIAS365(CALCULADORA!$C$27,A30))","v":0},{"$f":"+HLOOKUP(CALCULADORA!$C$9,Tablas!B:B,Flujos!J30+1,FALSE)","v":8.3203400000000007E-3},57.166943000000003,0.83203400000000005,{"$f":"ROUND(D29*ROUND(((1+CALCULADORA!$C$16)^(1/12)-1),6),6)","v":0.28506500000000001},1.1170990000000001,{"$f":"IF($B30=0,0,G30/POWER(1+CALCULADORA!$C$29,Flujos!$B30/365))","v":0},"2023-10-24",28,{"$f":"+DIAS365($A$2,A30)","v":852},166069969414.99994,2417058769.9999995,828113743.5292747,3245172513.529274]
["2023-11-24",{"$f":"IF(DIAS365(CALCULADORA!$C$27,A31)<0,0,DIAS365(CALCULADORA!$C$27,A31))","v":0},{"$f":"+HLOOKUP(CALCULADORA!$C$9,Tablas!B:B,Flujos!J31+1,FALSE)","v":1.294797E-2},55.872146000000001,1.294797,{"$f":"ROUND(D30*ROUND(((1+CALCULADORA!$C$16)^(1/12)-1),6),6)","v":0.280976},1.5757729999999999,{"$f":"IF($B31=0,0,G31/POWER(1+CALCULADORA!$C$29,Flujos!$B31/365))","v":0},"2023-11-24",29,{"$f":"+DIAS365($A$2,A31)","v":883},162308584129.99994,3761385284.999999,816233899.6747247,4577619184.6747236]
["2023-12-24",{"$f":"IF(DIAS365(CALCULADORA!$C$27,A32)<0,0,DIAS365(CALCULADORA!$C$27,A32))","v":0},{"$f":"+HLOOKUP(CALCULADORA!$C$9,Tablas!B:B,Flujos!J32+1,FALSE)","v":9.2125000000000002E-3},54.950896,0.92125000000000001,{"$f":"ROUND(D31*ROUND(((1+CALCULADORA!$C$16)^(1/12)-1),6),6)","v":0.27461200000000002},1.195862,{"$f":"IF($B32=0,0,G32/POWER(1+CALCULADORA!$C$29,Flujos!$B32/365))","v":0},"2023-12-24",30,{"$f":"+DIAS365($A$2,A32)","v":913},159632352879.99994,2676231249.9999995,797746690.99894977,3473977940.9989491]
["2024-01-24",{"$f":"IF(DIAS365(CALCULADORA!$C$27,A33)<0,0,DIAS365(CALCULADORA!$C$27,A33))","v":0},{"$f":"+HLOOKUP(CALCULADORA!$C$9,Tablas!B:B,Flujos!J33+1,FALSE)","v":1.153683E-2},53.797212999999999,1.153683,{"$f":"ROUND(D32*ROUND(((1+CALCULADORA!$C$16)^(1/12)-1),6),6)","v":0.27008399999999999},1.423767,{"$f":"IF($B33=0,0,G33/POWER(1+CALCULADORA!$C$29,Flujos!$B33/365))","v":0},"2024-01-24",31,{"$f":"+DIAS365($A$2,A33)","v":944},156280903764.99994,3351449114.999999,784593014.40519977,4136042129.4051991]
["2024-02-24",{"$f":"IF(DIAS365(CALCULADORA!$C$27,A34)<0,0,DIAS365(CALCULADORA!$C$27,A34))","v":0},{"$f":"+HLOOKUP(CALCULADORA!$C$9,Tablas!B:B,Flujos!J34+1,FALSE)","v":1.0280620000000001E-2},52.769151000000001,1.028062,{"$f":"ROUND(D33*ROUND(((1+CALCULADORA!$C$16)^(1/12)-1),6),6)","v":0.26441300000000001},1.292475,{"$f":"IF($B34=0,0,G34/POWER(1+CALCULADORA!$C$29,Flujos!$B34/365))","v":0},"2024-02-24",32,{"$f":"+DIAS365($A$2,A34)","v":975},153294383654.99994,2986520109.9999995,768120642.00497472,3754640752.0049744]
[{"$f":"EDATE(A34,1)","v":"2024-03-24"},{"$f":"IF(DIAS365(CALCULADORA!$C$27,A35)<0,0,DIAS365(CALCULADORA!$C$27,A35))","v":0},{"$f":"+HLOOKUP(CALCULADORA!$C$9,Tablas!B:B,Flujos!J35+1,FALSE)","v":8.8502000000000008E-3},51.884130999999996,0.88502000000000003,{"$f":"ROUND(D34*ROUND(((1+CALCULADORA!$C$16)^(1/12)-1),6),6)","v":0.25935999999999998},1.14438,{"$f":"IF($B35=0,0,G35/POWER(1+CALCULADORA!$C$29,Flujos!$B35/365))","v":0},"2024-03-24",33,{"$f":"+DIAS365($A$2,A35)","v":1003},150723400554.99994,2570983099.9999995,753441895.66432476,3324424995.6643243]
["2024-04-24",{"$f":"IF(DIAS365(CALCULADORA!$C$27,A36)<0,0,DIAS365(CALCULADORA!$C$27,A36))","v":23},{"$f":"+HLOOKUP(CALCULADORA!$C$9,Tablas!B:B,Flujos!J36+1,FALSE)","v":1.1129760000000001E-2},50.771155,1.112976,{"$f":"ROUND(D35*ROUND(((1+CALCULADORA!$C$16)^(1/12)-1),6),6)","v":0.25501099999999999},1.3679869999999998,{"$f":"IF($B36=0,0,G36/POWER(1+CALCULADORA!$C$29,Flujos!$B36/365))","v":1.3590976683059643},"2024-04-24",34,{"$f":"+DIAS365($A$2,A36)","v":1034},147490205274.99994,3233195279.9999995,740805513.72782469,3974000793.7278242]
["2024-05-24",{"$f":"IF(DIAS365(CALCULADORA!$C$27,A37)<0,0,DIAS365(CALCULADORA!$C$27,A37))","v":53},{"$f":"+HLOOKUP(CALCULADORA!$C$9,Tablas!B:B,Flujos!J37+1,FALSE)","v":9.3430400000000004E-3},49.836851000000003,0.93430400000000002,{"$f":"ROUND(D36*ROUND(((1+CALCULADORA!$C$16)^(1/12)-1),6),6)","v":0.24954000000000001},1.1838440000000001,{"$f":"IF($B37=0,0,G37/POWER(1+CALCULADORA!$C$29,Flujos!$B37/365))","v":1.1661923029495447},"2024-05-24",35,{"$f":"+DIAS365($A$2,A37)","v":1064},144776052154.99994,2714153119.9999995,724914358.92662466,3439067478.9266243]
["2024-06-24",{"$f":"IF(DIAS365(CALCULADORA!$C$27,A38)<0,0,DIAS365(CALCULADORA!$C$27,A38))","v":84},{"$f":"+HLOOKUP(CALCULADORA!$C$9,Tablas!B:B,Flujos!J38+1,FALSE)","v":9.0670899999999999E-3},48.930141999999996,0.90670899999999999,{"$f":"ROUND(D37*ROUND(((1+CALCULADORA!$C$16)^(1/12)-1),6),6)","v":0.244948},1.1516569999999999,{"$f":"IF($B38=0,0,G38/POWER(1+CALCULADORA!$C$29,Flujos!$B38/365))","v":1.12456028281789},"2024-06-24",36,{"$f":"+DIAS365($A$2,A38)","v":1095},142142062509.99994,2633989644.9999995,711574296.34182477,3345563941.3418245]
["2024-07-24",{"$f":"IF(DIAS365(CALCULADORA!$C$27,A39)<0,0,DIAS365(CALCULADORA!$C$27,A39))","v":114},{"$f":"+HLOOKUP(CALCULADORA!$C$9,Tablas!B:B,Flujos!J39+1,FALSE)","v":9.2047099999999996E-3},48.009670999999997,0.92047100000000004,{"$f":"ROUND(D38*ROUND(((1+CALCULADORA!$C$16)^(1/12)-1),6),6)","v":0.24049200000000001},1.160963,{"$f":"IF($B39=0,0,G39/POWER(1+CALCULADORA!$C$29,Flujos!$B39/365))","v":1.1240482777643332},"2024-07-24",37,{"$f":"+DIAS365($A$2,A39)","v":1125},139468094254.99994,2673968254.9999995,698628237.23664975,3372596492.2366495]
["2024-08-24",{"$f":"IF(DIAS365(CALCULADORA!$C$27,A40)<0,0,DIAS365(CALCULADORA!$C$27,A40))","v":145},{"$f":"+HLOOKUP(CALCULADORA!$C$9,Tablas!B:B,Flujos!J40+1,FALSE)","v":9.0914099999999994E-3},{"$f":"+ROUND(D39-E40,6)","v":47.100529999999999},{"$f":"ROUND(C40*$D$2,6)","v":0.90914099999999998},{"$f":"ROUND(D39*ROUND(((1+CALCULADORA!$C$16)^(1/12)-1),6),6)","v":0.23596800000000001},{"$f":"F40+E40","v":1.1451089999999999},{"$f":"IF($B40=0,0,G40/POWER(1+CALCULADORA!$C$29,Flujos!$B40/365))","v":1.0989990314837674},{"$f":"+A40","v":"2024-08-24"},38,{"$f":"+DIAS365($A$2,A40)","v":1156},136827039649.99994,2641054604.999999,685485683.26332474,3326540288.2633238]
["2024-09-24",{"$f":"IF(DIAS365(CALCULADORA!$C$27,A41)<0,0,DIAS365(CALCULADORA!$C$27,A41))","v":176},{"$f":"+HLOOKUP(CALCULADORA!$C$9,Tablas!B:B,Flujos!J41+1,FALSE)","v":9.0458499999999994E-3},46.195945000000002,0.90458499999999997,{"$f":"ROUND(D40*ROUND(((1+CALCULADORA!$C$16)^(1/12)-1),6),6)","v":0.23149900000000001},1.1360839999999999,{"$f":"IF($B41=0,0,G41/POWER(1+CALCULADORA!$C$29,Flujos!$B41/365))","v":1.080798718965017},"2024-09-24",39,{"$f":"+DIAS365($A$2,A41)","v":1187},134199220224.99994,2627819424.999999,672504899.87974966,3300324324.8797488]
["2024-10-24",{"$f":"IF(DIAS365(CALCULADORA!$C$27,A42)<0,0,DIAS365(CALCULADORA!$C$27,A42))","v":206},{"$f":"+HLOOKUP(CALCULADORA!$C$9,Tablas!B:B,Flujos!J42+1,FALSE)","v":8.9479499999999997E-3},45.30115,0.89479500000000001,{"$f":"ROUND(D41*ROUND(((1+CALCULADORA!$C$16)^(1/12)-1),6),6)","v":0.227053},1.121848,{"$f":"IF($B42=0,0,G42/POWER(1+CALCULADORA!$C$29,Flujos!$B42/365))","v":1.058218603057826},"2024-10-24",40,{"$f":"+DIAS365($A$2,A42)","v":1217},131599840749.99994,2599379474.9999995,659589167.40587473,3258968642.4058743]
["2024-11-24",{"$f":"IF(DIAS365(CALCULADORA!$C$27,A43)<0,0,DIAS365(CALCULADORA!$C$27,A43))","v":237},{"$f":"+HLOOKUP(CALCULADORA!$C$9,Tablas!B:B,Flujos!J43+1,FALSE)","v":8.8372599999999996E-3},44.417423999999997,0.88372600000000001,{"$f":"ROUND(D42*ROUND(((1+CALCULADORA!$C$16)^(1/12)-1),6),6)","v":0.22265499999999999},1.1063810000000001,{"$f":"IF($B43=0,0,G43/POWER(1+CALCULADORA!$C$29,Flujos!$B43/365))","v":1.0344987709055287},"2024-11-24",41,{"$f":"+DIAS365($A$2,A43)","v":1248},129032616719.99994,2567224029.9999995,646813217.28624976,3214037247.2862492]
["2024-12-24",{"$f":"IF(DIAS365(CALCULADORA!$C$27,A44)<0,0,DIAS365(CALCULADORA!$C$27,A44))","v":267},{"$f":"+HLOOKUP(CALCULADORA!$C$9,Tablas!B:B,Flujos!J44+1,FALSE)","v":8.7556500000000002E-3},43.541859000000002,0.87556500000000004,{"$f":"ROUND(D43*ROUND(((1+CALCULADORA!$C$16)^(1/12)-1),6),6)","v":0.21831200000000001},1.093877,{"$f":"IF($B44=0,0,G44/POWER(1+CALCULADORA!$C$29,Flujos!$B44/365))","v":1.0141466423773617},"2024-12-24",42,{"$f":"+DIAS365($A$2,A44)","v":1278},126489100394.99994,2543516324.9999995,634195311.17879975,3177711636.1787992]
["2025-01-24",{"$f":"IF(DIAS365(CALCULADORA!$C$27,A45)<0,0,DIAS365(CALCULADORA!$C$27,A45))","v":298},{"$f":"+HLOOKUP(CALCULADORA!$C$9,Tablas!B:B,Flujos!J45+1,FALSE)","v":8.6771399999999999E-3},42.674145000000003,0.86771399999999999,{"$f":"ROUND(D44*ROUND(((1+CALCULADORA!$C$16)^(1/12)-1),6),6)","v":0.214008},1.0817220000000001,{"$f":"IF($B45=0,0,G45/POWER(1+CALCULADORA!$C$29,Flujos!$B45/365))","v":0.99410400799716381},"2025-01-24",43,{"$f":"+DIAS365($A$2,A45)","v":1309},123968391224.99994,2520709169.9999995,621693928.44142473,3142403098.4414244]
["2025-02-24",{"$f":"IF(DIAS365(CALCULADORA!$C$27,A46)<0,0,DIAS365(CALCULADORA!$C$27,A46))","v":329},{"$f":"+HLOOKUP(CALCULADORA!$C$9,Tablas!B:B,Flujos!J46+1,FALSE)","v":8.6086200000000009E-3},41.813282999999998,0.86086200000000002,{"$f":"ROUND(D45*ROUND(((1+CALCULADORA!$C$16)^(1/12)-1),6),6)","v":0.20974300000000001},1.070605,{"$f":"IF($B46=0,0,G46/POWER(1+CALCULADORA!$C$29,Flujos!$B46/365))","v":0.97528001675568832},"2025-02-24",44,{"$f":"+DIAS365($A$2,A46)","v":1340},121467587114.99994,2500804109.9999995,609304642.87087476,3110108752.8708744]
["2025-03-24",{"$f":"IF(DIAS365(CALCULADORA!$C$27,A47)<0,0,DIAS365(CALCULADORA!$C$27,A47))","v":357},{"$f":"+HLOOKUP(CALCULADORA!$C$9,Tablas!B:B,Flujos!J47+1,FALSE)","v":8.5358900000000008E-3},40.959693999999999,0.85358900000000004,{"$f":"ROUND(D46*ROUND(((1+CALCULADORA!$C$16)^(1/12)-1),6),6)","v":0.205512},1.0591010000000001,{"$f":"IF($B47=0,0,G47/POWER(1+CALCULADORA!$C$29,Flujos!$B47/365))","v":0.95717342636543046},"2025-03-24",45,{"$f":"+DIAS365($A$2,A47)","v":1368},118987911069.99994,2479676044.9999995,597013190.67022467,3076689235.6702242]
["2025-04-24",{"$f":"IF(DIAS365(CALCULADORA!$C$27,A48)<0,0,DIAS365(CALCULADORA!$C$27,A48))","v":388},{"$f":"+HLOOKUP(CALCULADORA!$C$9,Tablas!B:B,Flujos!J48+1,FALSE)","v":8.4636699999999995E-3},40.113326999999998,0.84636699999999998,{"$f":"ROUND(D47*ROUND(((1+CALCULADORA!$C$16)^(1/12)-1),6),6)","v":0.201317},1.0476840000000001,{"$f":"IF($B48=0,0,G48/POWER(1+CALCULADORA!$C$29,Flujos!$B48/365))","v":0.93857171580601373},"2025-04-24",46,{"$f":"+DIAS365($A$2,A48)","v":1399},116529214934.99994,2458696134.9999995,584825582.90904975,3043521717.909049]
["2025-05-24",{"$f":"IF(DIAS365(CALCULADORA!$C$27,A49)<0,0,DIAS365(CALCULADORA!$C$27,A49))","v":418},{"$f":"+HLOOKUP(CALCULADORA!$C$9,Tablas!B:B,Flujos!J49+1,FALSE)","v":8.4118200000000004E-3},39.272145000000002,0.84118199999999999,{"$f":"ROUND(D48*ROUND(((1+CALCULADORA!$C$16)^(1/12)-1),6),6)","v":0.197157},1.0383389999999999,{"$f":"IF($B49=0,0,G49/POWER(1+CALCULADORA!$C$29,Flujos!$B49/365))","v":0.92232358354980715},"2025-05-24",47,{"$f":"+DIAS365($A$2,A49)","v":1429},114085581224.99994,2443633709.9999995,572741091.40552473,3016374801.4055243]
["2025-06-24",{"$f":"IF(DIAS365(CALCULADORA!$C$27,A50)<0,0,DIAS365(CALCULADORA!$C$27,A50))","v":449},{"$f":"+HLOOKUP(CALCULADORA!$C$9,Tablas!B:B,Flujos!J50+1,FALSE)","v":8.1060100000000003E-3},38.461544000000004,0.81060100000000002,{"$f":"ROUND(D49*ROUND(((1+CALCULADORA!$C$16)^(1/12)-1),6),6)","v":0.193023},1.0036240000000001,{"$f":"IF($B50=0,0,G50/POWER(1+CALCULADORA!$C$29,Flujos!$B50/365))","v":0.88368825205856616},"2025-06-24",48,{"$f":"+DIAS365($A$2,A50)","v":1460},111730785319.99994,2354795904.9999995,560730631.72087467,2915526536.7208743]
["2025-07-24",{"$f":"IF(DIAS365(CALCULADORA!$C$27,A51)<0,0,DIAS365(CALCULADORA!$C$27,A51))","v":479},{"$f":"+HLOOKUP(CALCULADORA!$C$9,Tablas!B:B,Flujos!J51+1,FALSE)","v":8.2698000000000008E-3},37.634563999999997,0.82698000000000005,{"$f":"ROUND(D50*ROUND(((1+CALCULADORA!$C$16)^(1/12)-1),6),6)","v":0.18903800000000001},1.0160180000000001,{"$f":"IF($B51=0,0,G51/POWER(1+CALCULADORA!$C$29,Flujos!$B51/365))","v":0.88702618729314808},"2025-07-24",49,{"$f":"+DIAS365($A$2,A51)","v":1490},109328408419.99994,2402376899.9999995,549156809.84779966,2951533709.8477993]
["2025-08-24",{"$f":"IF(DIAS365(CALCULADORA!$C$27,A52)<0,0,DIAS365(CALCULADORA!$C$27,A52))","v":510},{"$f":"+HLOOKUP(CALCULADORA!$C$9,Tablas!B:B,Flujos!J52+1,FALSE)","v":8.2055300000000008E-3},36.814011000000001,0.82055299999999998,{"$f":"ROUND(D51*ROUND(((1+CALCULADORA!$C$16)^(1/12)-1),6),6)","v":0.184974},1.0055270000000001,{"$f":"IF($B52=0,0,G52/POWER(1+CALCULADORA!$C$29,Flujos!$B52/365))","v":0.87018716262447626},"2025-08-24",50,{"$f":"+DIAS365($A$2,A52)","v":1521},106944701954.99994,2383706464.9999995,537349127.38429976,2921055592.3842993]
["2025-09-24",{"$f":"IF(DIAS365(CALCULADORA!$C$27,A53)<0,0,DIAS365(CALCULADORA!$C$27,A53))","v":541},{"$f":"+HLOOKUP(CALCULADORA!$C$9,Tablas!B:B,Flujos!J53+1,FALSE)","v":8.15747E-3},35.998263999999999,0.815747,{"$f":"ROUND(D52*ROUND(((1+CALCULADORA!$C$16)^(1/12)-1),6),6)","v":0.18094099999999999},0.99668800000000002,{"$f":"IF($B53=0,0,G53/POWER(1+CALCULADORA!$C$29,Flujos!$B53/365))","v":0.85499201949735559},"2025-09-24",51,{"$f":"+DIAS365($A$2,A53)","v":1552},104574956919.99994,2369745034.9999995,525633210.10882473,2895378245.1088243]
["2025-10-24",{"$f":"IF(DIAS365(CALCULADORA!$C$27,A54)<0,0,DIAS365(CALCULADORA!$C$27,A54))","v":571},{"$f":"+HLOOKUP(CALCULADORA!$C$9,Tablas!B:B,Flujos!J54+1,FALSE)","v":8.0637899999999995E-3},35.191884999999999,0.80637899999999996,{"$f":"ROUND(D53*ROUND(((1+CALCULADORA!$C$16)^(1/12)-1),6),6)","v":0.176931},0.98330999999999991,{"$f":"IF($B54=0,0,G54/POWER(1+CALCULADORA!$C$29,Flujos!$B54/365))","v":0.8363735378400653},"2025-10-24",52,{"$f":"+DIAS365($A$2,A54)","v":1582},102232425924.99994,2342530994.9999995,513985913.26179969,2856516908.2617993]
["2025-11-24",{"$f":"IF(DIAS365(CALCULADORA!$C$27,A55)<0,0,DIAS365(CALCULADORA!$C$27,A55))","v":602},{"$f":"+HLOOKUP(CALCULADORA!$C$9,Tablas!B:B,Flujos!J55+1,FALSE)","v":8.0183100000000007E-3},34.390053999999999,0.80183099999999996,{"$f":"ROUND(D54*ROUND(((1+CALCULADORA!$C$16)^(1/12)-1),6),6)","v":0.17296800000000001},0.97479899999999997,{"$f":"IF($B55=0,0,G55/POWER(1+CALCULADORA!$C$29,Flujos!$B55/365))","v":0.8218807316565534},"2025-11-24",53,{"$f":"+DIAS365($A$2,A55)","v":1613},99903106869.999939,2329319054.9999995,502472373.42137474,2831791428.4213743]
["2025-12-24",{"$f":"IF(DIAS365(CALCULADORA!$C$27,A56)<0,0,DIAS365(CALCULADORA!$C$27,A56))","v":632},{"$f":"+HLOOKUP(CALCULADORA!$C$9,Tablas!B:B,Flujos!J56+1,FALSE)","v":7.9434299999999996E-3},33.595711000000001,0.79434300000000002,{"$f":"ROUND(D55*ROUND(((1+CALCULADORA!$C$16)^(1/12)-1),6),6)","v":0.16902700000000001},0.96337000000000006,{"$f":"IF($B56=0,0,G56/POWER(1+CALCULADORA!$C$29,Flujos!$B56/365))","v":0.80536701424557833},"2025-12-24",54,{"$f":"+DIAS365($A$2,A56)","v":1643},97595540454.999939,2307566414.9999995,491023770.26604968,2798590185.2660494]
["2026-01-24",{"$f":"IF(DIAS365(CALCULADORA!$C$27,A57)<0,0,DIAS365(CALCULADORA!$C$27,A57))","v":663},{"$f":"+HLOOKUP(CALCULADORA!$C$9,Tablas!B:B,Flujos!J57+1,FALSE)","v":7.8757800000000006E-3},32.808132999999998,0.787578,{"$f":"ROUND(D56*ROUND(((1+CALCULADORA!$C$16)^(1/12)-1),6),6)","v":0.16512299999999999},0.95270100000000002,{"$f":"IF($B57=0,0,G57/POWER(1+CALCULADORA!$C$29,Flujos!$B57/365))","v":0.78948019051367802},"2026-01-24",55,{"$f":"+DIAS365($A$2,A57)","v":1674},95307626364.999939,2287914089.9999995,479682081.33632469,2767596171.3363242]
["2026-02-24",{"$f":"IF(DIAS365(CALCULADORA!$C$27,A58)<0,0,DIAS365(CALCULADORA!$C$27,A58))","v":694},{"$f":"+HLOOKUP(CALCULADORA!$C$9,Tablas!B:B,Flujos!J58+1,FALSE)","v":7.7993999999999997E-3},32.028193000000002,0.77993999999999997,{"$f":"ROUND(D57*ROUND(((1+CALCULADORA!$C$16)^(1/12)-1),6),6)","v":0.16125200000000001},0.94119200000000003,{"$f":"IF($B58=0,0,G58/POWER(1+CALCULADORA!$C$29,Flujos!$B58/365))","v":0.77311969926067881},"2026-02-24",56,{"$f":"+DIAS365($A$2,A58)","v":1705},93041900664.999939,2265725699.9999995,468436983.58397472,2734162683.5839744]
["2026-03-24",{"$f":"IF(DIAS365(CALCULADORA!$C$27,A59)<0,0,DIAS365(CALCULADORA!$C$27,A59))","v":722},{"$f":"+HLOOKUP(CALCULADORA!$C$9,Tablas!B:B,Flujos!J59+1,FALSE)","v":7.7307900000000004E-3},31.255113999999999,0.77307899999999996,{"$f":"ROUND(D58*ROUND(((1+CALCULADORA!$C$16)^(1/12)-1),6),6)","v":0.157419},0.93049799999999994,{"$f":"IF($B59=0,0,G59/POWER(1+CALCULADORA!$C$29,Flujos!$B59/365))","v":0.75829318472081619},"2026-03-24",57,{"$f":"+DIAS365($A$2,A59)","v":1733},90796106169.999939,2245794494.9999995,457300941.7684747,2703095436.7684741]
["2026-04-24",{"$f":"IF(DIAS365(CALCULADORA!$C$27,A60)<0,0,DIAS365(CALCULADORA!$C$27,A60))","v":753},{"$f":"+HLOOKUP(CALCULADORA!$C$9,Tablas!B:B,Flujos!J60+1,FALSE)","v":7.6923800000000004E-3},30.485876000000001,0.76923799999999998,{"$f":"ROUND(D59*ROUND(((1+CALCULADORA!$C$16)^(1/12)-1),6),6)","v":0.15361900000000001},0.92285700000000004,{"$f":"IF($B60=0,0,G60/POWER(1+CALCULADORA!$C$29,Flujos!$B60/365))","v":0.74548689878126473},"2026-04-24",58,{"$f":"+DIAS365($A$2,A60)","v":1764},88561469779.999939,2234636389.9999995,446262861.82554972,2680899251.8255491]
["2026-05-24",{"$f":"IF(DIAS365(CALCULADORA!$C$27,A61)<0,0,DIAS365(CALCULADORA!$C$27,A61))","v":783},{"$f":"+HLOOKUP(CALCULADORA!$C$9,Tablas!B:B,Flujos!J61+1,FALSE)","v":7.6089800000000004E-3},29.724978,0.76089799999999996,{"$f":"ROUND(D60*ROUND(((1+CALCULADORA!$C$16)^(1/12)-1),6),6)","v":0.149838},0.91073599999999999,{"$f":"IF($B61=0,0,G61/POWER(1+CALCULADORA!$C$29,Flujos!$B61/365))","v":0.72946608470875429},"2026-05-24",59,{"$f":"+DIAS365($A$2,A61)","v":1794},86351061089.999939,2210408689.9999995,435279623.96869969,2645688313.9686995]
["2026-06-24",{"$f":"IF(DIAS365(CALCULADORA!$C$27,A62)<0,0,DIAS365(CALCULADORA!$C$27,A62))","v":814},{"$f":"+HLOOKUP(CALCULADORA!$C$9,Tablas!B:B,Flujos!J62+1,FALSE)","v":7.3212299999999998E-3},28.992854999999999,0.73212299999999997,{"$f":"ROUND(D61*ROUND(((1+CALCULADORA!$C$16)^(1/12)-1),6),6)","v":0.14609800000000001},0.87822099999999992,{"$f":"IF($B62=0,0,G62/POWER(1+CALCULADORA!$C$29,Flujos!$B62/365))","v":0.6972689318464671},"2026-06-24",60,{"$f":"+DIAS365($A$2,A62)","v":1825},84224243774.999939,2126817314.9999995,424415465.25734973,2551232780.257349]
["2026-07-24",{"$f":"IF(DIAS365(CALCULADORA!$C$27,A63)<0,0,DIAS365(CALCULADORA!$C$27,A63))","v":844},{"$f":"+HLOOKUP(CALCULADORA!$C$9,Tablas!B:B,Flujos!J63+1,FALSE)","v":7.4956600000000003E-3},28.243289000000001,0.74956599999999995,{"$f":"ROUND(D62*ROUND(((1+CALCULADORA!$C$16)^(1/12)-1),6),6)","v":0.14249999999999999},0.89206599999999991,{"$f":"IF($B63=0,0,G63/POWER(1+CALCULADORA!$C$29,Flujos!$B63/365))","v":0.70226412050783116},"2026-07-24",61,{"$f":"+DIAS365($A$2,A63)","v":1855},82046754544.999939,2177489229.9999995,413962158.15412474,2591451388.1541243]
["2026-08-24",{"$f":"IF(DIAS365(CALCULADORA!$C$27,A64)<0,0,DIAS365(CALCULADORA!$C$27,A64))","v":875},{"$f":"+HLOOKUP(CALCULADORA!$C$9,Tablas!B:B,Flujos!J64+1,FALSE)","v":7.4266999999999996E-3},27.500619,0.74267000000000005,{"$f":"ROUND(D63*ROUND(((1+CALCULADORA!$C$16)^(1/12)-1),6),6)","v":0.13881599999999999},0.88148599999999999,{"$f":"IF($B64=0,0,G64/POWER(1+CALCULADORA!$C$29,Flujos!$B64/365))","v":0.68786436054419475},"2026-08-24",62,{"$f":"+DIAS365($A$2,A64)","v":1886},79889298194.999939,2157456349.9999995,403259798.58867472,2560716148.5886741]
["2026-09-24",{"$f":"IF(DIAS365(CALCULADORA!$C$27,A65)<0,0,DIAS365(CALCULADORA!$C$27,A65))","v":906},{"$f":"+HLOOKUP(CALCULADORA!$C$9,Tablas!B:B,Flujos!J65+1,FALSE)","v":7.3637399999999997E-3},26.764244999999999,0.73637399999999997,{"$f":"ROUND(D64*ROUND(((1+CALCULADORA!$C$16)^(1/12)-1),6),6)","v":0.13516600000000001},0.87153999999999998,{"$f":"IF($B65=0,0,G65/POWER(1+CALCULADORA!$C$29,Flujos!$B65/365))","v":0.67415321444780696},"2026-09-24",63,{"$f":"+DIAS365($A$2,A65)","v":1917},77750131724.999939,2139166469.9999995,392655900.6284247,2531822370.6284242]
["2026-10-24",{"$f":"IF(DIAS365(CALCULADORA!$C$27,A66)<0,0,DIAS365(CALCULADORA!$C$27,A66))","v":936},{"$f":"+HLOOKUP(CALCULADORA!$C$9,Tablas!B:B,Flujos!J66+1,FALSE)","v":7.2994699999999997E-3},26.034298,0.72994700000000001,{"$f":"ROUND(D65*ROUND(((1+CALCULADORA!$C$16)^(1/12)-1),6),6)","v":0.131546},0.86149300000000006,{"$f":"IF($B66=0,0,G66/POWER(1+CALCULADORA!$C$29,Flujos!$B66/365))","v":0.66073914134978751},"2026-10-24",64,{"$f":"+DIAS365($A$2,A66)","v":1947},75629635689.999939,2120496034.9999995,382141897.42837471,2502637932.4283743]
[{"$f":"EDATE(A66,1)","v":"2026-11-24"},{"$f":"IF(DIAS365(CALCULADORA!$C$27,A67)<0,0,DIAS365(CALCULADORA!$C$27,A67))","v":967},{"$f":"+HLOOKUP(CALCULADORA!$C$9,Tablas!B:B,Flujos!J67+1,FALSE)","v":7.2492900000000002E-3},25.309369,0.72492900000000005,{"$f":"ROUND(D66*ROUND(((1+CALCULADORA!$C$16)^(1/12)-1),6),6)","v":0.12795899999999999},0.85288800000000009,{"$f":"IF($B67=0,0,G67/POWER(1+CALCULADORA!$C$29,Flujos!$B67/365))","v":0.64841668527987206},{"$f":"+A67","v":"2026-11-24"},65,{"$f":"+DIAS365($A$2,A67)","v":1978},73523716944.999939,2105918744.9999995,371719659.41634971,2477638404.4163494]
["2026-12-24",{"$f":"IF(DIAS365(CALCULADORA!$C$27,A68)<0,0,DIAS365(CALCULADORA!$C$27,A68))","v":997},{"$f":"+HLOOKUP(CALCULADORA!$C$9,Tablas!B:B,Flujos!J68+1,FALSE)","v":7.1822600000000002E-3},{"$f":"+ROUND(D67-E68,6)","v":24.591142999999999},{"$f":"ROUND(C68*$D$2,6)","v":0.71822600000000003},{"$f":"ROUND(D67*ROUND(((1+CALCULADORA!$C$16)^(1/12)-1),6),6)","v":0.12439600000000001},{"$f":"F68+E68","v":0.84262199999999998},{"$f":"IF($B68=0,0,G68/POWER(1+CALCULADORA!$C$29,Flujos!$B68/365))","v":0.63518753648361093},"2026-12-24",66,{"$f":"+DIAS365($A$2,A68)","v":2008},{"$f":"+L67-M68","v":71437270414.999939},{"$f":"+$L$2*C68","v":2086446529.9999995},{"$f":"+L67*$F$3%","v":361369068.7846747},{"$f":"+N68+M68","v":2447815598.7846742}]
["2027-01-24",{"$f":"IF(DIAS365(CALCULADORA!$C$27,A69)<0,0,DIAS365(CALCULADORA!$C$27,A69))","v":1028},{"$f":"+HLOOKUP(CALCULADORA!$C$9,Tablas!B:B,Flujos!J69+1,FALSE)","v":7.1307999999999996E-3},23.878063000000001,0.71308000000000005,{"$f":"ROUND(D68*ROUND(((1+CALCULADORA!$C$16)^(1/12)-1),6),6)","v":0.120865},0.83394500000000005,{"$f":"IF($B69=0,0,G69/POWER(1+CALCULADORA!$C$29,Flujos!$B69/365))","v":0.62314695787763275},"2027-01-24",67,{"$f":"+DIAS365($A$2,A69)","v":2039},69365773014.999939,2071497399.9999995,351114184.08972472,2422611584.0897241]
["2027-02-24",{"$f":"IF(DIAS365(CALCULADORA!$C$27,A70)<0,0,DIAS365(CALCULADORA!$C$27,A70))","v":1059},{"$f":"+HLOOKUP(CALCULADORA!$C$9,Tablas!B:B,Flujos!J70+1,FALSE)","v":7.0660699999999998E-3},23.171455999999999,0.70660699999999999,{"$f":"ROUND(D69*ROUND(((1+CALCULADORA!$C$16)^(1/12)-1),6),6)","v":0.11736099999999999},0.82396800000000003,{"$f":"IF($B70=0,0,G70/POWER(1+CALCULADORA!$C$29,Flujos!$B70/365))","v":0.61030553918578967},"2027-02-24",68,{"$f":"+DIAS365($A$2,A70)","v":2070},67313079679.999939,2052693334.9999995,340932774.3687247,2393626109.3687243]
["2027-03-24",{"$f":"IF(DIAS365(CALCULADORA!$C$27,A71)<0,0,DIAS365(CALCULADORA!$C$27,A71))","v":1087},{"$f":"+HLOOKUP(CALCULADORA!$C$9,Tablas!B:B,Flujos!J71+1,FALSE)","v":7.0131400000000002E-3},22.470141999999999,0.70131399999999999,{"$f":"ROUND(D70*ROUND(((1+CALCULADORA!$C$16)^(1/12)-1),6),6)","v":0.113888},0.81520199999999998,{"$f":"IF($B71=0,0,G71/POWER(1+CALCULADORA!$C$29,Flujos!$B71/365))","v":0.59903941561635821},"2027-03-24",69,{"$f":"+DIAS365($A$2,A71)","v":2098},65275762509.999939,2037317169.9999995,330843786.62719971,2368160956.6271992]
["2027-04-24",{"$f":"IF(DIAS365(CALCULADORA!$C$27,A72)<0,0,DIAS365(CALCULADORA!$C$27,A72))","v":1118},{"$f":"+HLOOKUP(CALCULADORA!$C$9,Tablas!B:B,Flujos!J72+1,FALSE)","v":6.94584E-3},21.775558,0.69458399999999998,{"$f":"ROUND(D71*ROUND(((1+CALCULADORA!$C$16)^(1/12)-1),6),6)","v":0.110441},0.80502499999999999,{"$f":"IF($B72=0,0,G72/POWER(1+CALCULADORA!$C$29,Flujos!$B72/365))","v":0.58638577486502741},"2027-04-24",70,{"$f":"+DIAS365($A$2,A72)","v":2129},63257995989.999939,2017766519.9999995,320830372.73664969,2338596892.736649]
["2027-05-24",{"$f":"IF(DIAS365(CALCULADORA!$C$27,A73)<0,0,DIAS365(CALCULADORA!$C$27,A73))","v":1148},{"$f":"+HLOOKUP(CALCULADORA!$C$9,Tablas!B:B,Flujos!J73+1,FALSE)","v":6.8820900000000004E-3},21.087349,0.68820899999999996,{"$f":"ROUND(D72*ROUND(((1+CALCULADORA!$C$16)^(1/12)-1),6),6)","v":0.107027},0.79523599999999994,{"$f":"IF($B73=0,0,G73/POWER(1+CALCULADORA!$C$29,Flujos!$B73/365))","v":0.5743506104764865},"2027-05-24",71,{"$f":"+DIAS365($A$2,A73)","v":2159},61258748844.999939,1999247144.9999998,310913050.29084969,2310160195.2908497]
["2027-06-24",{"$f":"IF(DIAS365(CALCULADORA!$C$27,A74)<0,0,DIAS365(CALCULADORA!$C$27,A74))","v":1179},{"$f":"+HLOOKUP(CALCULADORA!$C$9,Tablas!B:B,Flujos!J74+1,FALSE)","v":6.5699900000000004E-3},20.430350000000001,0.656999,{"$f":"ROUND(D73*ROUND(((1+CALCULADORA!$C$16)^(1/12)-1),6),6)","v":0.103644},0.76064299999999996,{"$f":"IF($B74=0,0,G74/POWER(1+CALCULADORA!$C$29,Flujos!$B74/365))","v":0.54456010815849598},"2027-06-24",72,{"$f":"+DIAS365($A$2,A74)","v":2190},59350166749.999939,1908582094.9999998,301086750.57317472,2209668845.5731745]
["2027-07-24",{"$f":"IF(DIAS365(CALCULADORA!$C$27,A75)<0,0,DIAS365(CALCULADORA!$C$27,A75))","v":1209},{"$f":"+HLOOKUP(CALCULADORA!$C$9,Tablas!B:B,Flujos!J75+1,FALSE)","v":6.7317699999999998E-3},19.757173000000002,0.67317700000000003,{"$f":"ROUND(D74*ROUND(((1+CALCULADORA!$C$16)^(1/12)-1),6),6)","v":0.100415},0.77359200000000006,{"$f":"IF($B75=0,0,G75/POWER(1+CALCULADORA!$C$29,Flujos!$B75/365))","v":0.54914105917059497},"2027-07-24",73,{"$f":"+DIAS365($A$2,A75)","v":2220},57394587564.999939,1955579184.9999995,291706069.57624972,2247285254.5762491]
["2027-08-24",{"$f":"IF(DIAS365(CALCULADORA!$C$27,A76)<0,0,DIAS365(CALCULADORA!$C$27,A76))","v":1240},{"$f":"+HLOOKUP(CALCULADORA!$C$9,Tablas!B:B,Flujos!J76+1,FALSE)","v":6.6770500000000003E-3},19.089468,0.66770499999999999,{"$f":"ROUND(D75*ROUND(((1+CALCULADORA!$C$16)^(1/12)-1),6),6)","v":9.7106999999999999E-2},0.76481200000000005,{"$f":"IF($B76=0,0,G76/POWER(1+CALCULADORA!$C$29,Flujos!$B76/365))","v":0.53815891202316202},"2027-08-24",74,{"$f":"+DIAS365($A$2,A76)","v":2251},55454904539.999939,1939683024.9999998,282094397.8819747,2221777422.8819742]
["2027-09-24",{"$f":"IF(DIAS365(CALCULADORA!$C$27,A77)<0,0,DIAS365(CALCULADORA!$C$27,A77))","v":1271},{"$f":"+HLOOKUP(CALCULADORA!$C$9,Tablas!B:B,Flujos!J77+1,FALSE)","v":6.6114099999999999E-3},18.428326999999999,0.66114099999999998,{"$f":"ROUND(D76*ROUND(((1+CALCULADORA!$C$16)^(1/12)-1),6),6)","v":9.3825000000000006E-2},0.75496600000000003,{"$f":"IF($B77=0,0,G77/POWER(1+CALCULADORA!$C$29,Flujos!$B77/365))","v":0.52658336187555344},"2027-09-24",75,{"$f":"+DIAS365($A$2,A77)","v":2282},53534289934.999939,1920614604.9999995,272560855.81409973,2193175460.8140993]
["2027-10-24",{"$f":"IF(DIAS365(CALCULADORA!$C$27,A78)<0,0,DIAS365(CALCULADORA!$C$27,A78))","v":1301},{"$f":"+HLOOKUP(CALCULADORA!$C$9,Tablas!B:B,Flujos!J78+1,FALSE)","v":6.5514500000000003E-3},17.773181999999998,0.65514499999999998,{"$f":"ROUND(D77*ROUND(((1+CALCULADORA!$C$16)^(1/12)-1),6),6)","v":9.0575000000000003E-2},0.74571999999999994,{"$f":"IF($B78=0,0,G78/POWER(1+CALCULADORA!$C$29,Flujos!$B78/365))","v":0.51573015600274075},"2027-10-24",76,{"$f":"+DIAS365($A$2,A78)","v":2312},51631093709.999939,1903196224.9999998,263121035.0305247,2166317260.0305243]
["2027-11-24",{"$f":"IF(DIAS365(CALCULADORA!$C$27,A79)<0,0,DIAS365(CALCULADORA!$C$27,A79))","v":1332},{"$f":"+HLOOKUP(CALCULADORA!$C$9,Tablas!B:B,Flujos!J79+1,FALSE)","v":6.4967499999999999E-3},17.123507,0.649675,{"$f":"ROUND(D78*ROUND(((1+CALCULADORA!$C$16)^(1/12)-1),6),6)","v":8.7355000000000002E-2},0.73702999999999996,{"$f":"IF($B79=0,0,G79/POWER(1+CALCULADORA!$C$29,Flujos!$B79/365))","v":0.50526102327329603},"2027-11-24",77,{"$f":"+DIAS365($A$2,A79)","v":2343},49743787834.999939,1887305874.9999995,253766825.58464971,2141072700.5846493]
["2027-12-24",{"$f":"IF(DIAS365(CALCULADORA!$C$27,A80)<0,0,DIAS365(CALCULADORA!$C$27,A80))","v":1362},{"$f":"+HLOOKUP(CALCULADORA!$C$9,Tablas!B:B,Flujos!J80+1,FALSE)","v":6.4340899999999999E-3},16.480098000000002,0.64340900000000001,{"$f":"ROUND(D79*ROUND(((1+CALCULADORA!$C$16)^(1/12)-1),6),6)","v":8.4162000000000001E-2},0.72757099999999997,{"$f":"IF($B80=0,0,G80/POWER(1+CALCULADORA!$C$29,Flujos!$B80/365))","v":0.49455319069958709},"2027-12-24",78,{"$f":"+DIAS365($A$2,A80)","v":2373},47874684689.999939,1869103144.9999995,244490717.2090247,2113593862.2090242]
["2028-01-24",{"$f":"IF(DIAS365(CALCULADORA!$C$27,A81)<0,0,DIAS365(CALCULADORA!$C$27,A81))","v":1393},{"$f":"+HLOOKUP(CALCULADORA!$C$9,Tablas!B:B,Flujos!J81+1,FALSE)","v":6.3705200000000002E-3},15.843045999999999,0.63705199999999995,{"$f":"ROUND(D80*ROUND(((1+CALCULADORA!$C$16)^(1/12)-1),6),6)","v":8.1000000000000003E-2},0.71805199999999991,{"$f":"IF($B81=0,0,G81/POWER(1+CALCULADORA!$C$29,Flujos!$B81/365))","v":0.48381287348570351},"2028-01-24",79,{"$f":"+DIAS365($A$2,A81)","v":2404},46024048629.999939,1850636059.9999998,235304075.25134972,2085940135.2513494]
["2028-02-24",{"$f":"IF(DIAS365(CALCULADORA!$C$27,A82)<0,0,DIAS365(CALCULADORA!$C$27,A82))","v":1424},{"$f":"+HLOOKUP(CALCULADORA!$C$9,Tablas!B:B,Flujos!J82+1,FALSE)","v":6.3063299999999997E-3},15.212413,0.630633,{"$f":"ROUND(D81*ROUND(((1+CALCULADORA!$C$16)^(1/12)-1),6),6)","v":7.7868999999999994E-2},0.70850199999999997,{"$f":"IF($B82=0,0,G82/POWER(1+CALCULADORA!$C$29,Flujos!$B82/365))","v":0.4732019226124734},"2028-02-24",80,{"$f":"+DIAS365($A$2,A82)","v":2435},44192059764.999939,1831988864.9999995,226208199.01644969,2058197064.0164492]
["2028-03-24",{"$f":"IF(DIAS365(CALCULADORA!$C$27,A83)<0,0,DIAS365(CALCULADORA!$C$27,A83))","v":1452},{"$f":"+HLOOKUP(CALCULADORA!$C$9,Tablas!B:B,Flujos!J83+1,FALSE)","v":6.2454800000000003E-3},14.587865000000001,0.62454799999999999,{"$f":"ROUND(D82*ROUND(((1+CALCULADORA!$C$16)^(1/12)-1),6),6)","v":7.4769000000000002E-2},0.69931699999999997,{"$f":"IF($B83=0,0,G83/POWER(1+CALCULADORA!$C$29,Flujos!$B83/365))","v":0.46337511010877913},"2028-03-24",81,{"$f":"+DIAS365($A$2,A83)","v":2463},42377747824.999939,1814311939.9999998,217203973.7449747,2031515913.7449744]
["2028-04-24",{"$f":"IF(DIAS365(CALCULADORA!$C$27,A84)<0,0,DIAS365(CALCULADORA!$C$27,A84))","v":1483},{"$f":"+HLOOKUP(CALCULADORA!$C$9,Tablas!B:B,Flujos!J84+1,FALSE)","v":6.1798799999999996E-3},13.969877,0.61798799999999998,{"$f":"ROUND(D83*ROUND(((1+CALCULADORA!$C$16)^(1/12)-1),6),6)","v":7.1698999999999999E-2},0.68968699999999994,{"$f":"IF($B84=0,0,G84/POWER(1+CALCULADORA!$C$29,Flujos!$B84/365))","v":0.45299619330254082},"2028-04-24",82,{"$f":"+DIAS365($A$2,A84)","v":2494},40582492684.999939,1795255139.9999995,208286630.55987471,2003541770.5598743]
["2028-05-24",{"$f":"IF(DIAS365(CALCULADORA!$C$27,A85)<0,0,DIAS365(CALCULADORA!$C$27,A85))","v":1513},{"$f":"+HLOOKUP(CALCULADORA!$C$9,Tablas!B:B,Flujos!J85+1,FALSE)","v":6.1203500000000001E-3},13.357842,0.612035,{"$f":"ROUND(D84*ROUND(((1+CALCULADORA!$C$16)^(1/12)-1),6),6)","v":6.8662000000000001E-2},0.680697,{"$f":"IF($B85=0,0,G85/POWER(1+CALCULADORA!$C$29,Flujos!$B85/365))","v":0.44330573041668836},"2028-05-24",83,{"$f":"+DIAS365($A$2,A85)","v":2524},38804531009.999939,1777961674.9999998,199462951.54677472,1977424626.5467744]
["2028-06-24",{"$f":"IF(DIAS365(CALCULADORA!$C$27,A86)<0,0,DIAS365(CALCULADORA!$C$27,A86))","v":1544},{"$f":"+HLOOKUP(CALCULADORA!$C$9,Tablas!B:B,Flujos!J86+1,FALSE)","v":5.8078599999999998E-3},12.777056,0.58078600000000002,{"$f":"ROUND(D85*ROUND(((1+CALCULADORA!$C$16)^(1/12)-1),6),6)","v":6.5654000000000004E-2},0.64644000000000001,{"$f":"IF($B86=0,0,G86/POWER(1+CALCULADORA!$C$29,Flujos!$B86/365))","v":0.41731272369580946},"2028-06-24",84,{"$f":"+DIAS365($A$2,A86)","v":2555},37117347679.999939,1687183329.9999995,190724269.9141497,1877907599.9141493]
["2028-07-24",{"$f":"IF(DIAS365(CALCULADORA!$C$27,A87)<0,0,DIAS365(CALCULADORA!$C$27,A87))","v":1574},{"$f":"+HLOOKUP(CALCULADORA!$C$9,Tablas!B:B,Flujos!J87+1,FALSE)","v":5.9820300000000002E-3},12.178853,0.59820300000000004,{"$f":"ROUND(D86*ROUND(((1+CALCULADORA!$C$16)^(1/12)-1),6),6)","v":6.2798999999999994E-2},0.66100200000000009,{"$f":"IF($B87=0,0,G87/POWER(1+CALCULADORA!$C$29,Flujos!$B87/365))","v":0.42310014534924278},"2028-07-24",85,{"$f":"+DIAS365($A$2,A87)","v":2585},35379567964.999939,1737779714.9999998,182431763.84719971,1920211478.8471994]
["2028-08-24",{"$f":"IF(DIAS365(CALCULADORA!$C$27,A88)<0,0,DIAS365(CALCULADORA!$C$27,A88))","v":1605},{"$f":"+HLOOKUP(CALCULADORA!$C$9,Tablas!B:B,Flujos!J88+1,FALSE)","v":5.9121099999999999E-3},11.587642000000001,0.59121100000000004,{"$f":"ROUND(D87*ROUND(((1+CALCULADORA!$C$16)^(1/12)-1),6),6)","v":5.9859000000000002E-2},0.65107000000000004,{"$f":"IF($B88=0,0,G88/POWER(1+CALCULADORA!$C$29,Flujos!$B88/365))","v":0.41309694332034019},"2028-08-24",86,{"$f":"+DIAS365($A$2,A88)","v":2616},33662100009.999939,1717467954.9999995,173890576.54797471,1891358531.5479741]
["2028-09-24",{"$f":"IF(DIAS365(CALCULADORA!$C$27,A89)<0,0,DIAS365(CALCULADORA!$C$27,A89))","v":1636},{"$f":"+HLOOKUP(CALCULADORA!$C$9,Tablas!B:B,Flujos!J89+1,FALSE)","v":5.82681E-3},11.004961,0.582681,{"$f":"ROUND(D88*ROUND(((1+CALCULADORA!$C$16)^(1/12)-1),6),6)","v":5.6952999999999997E-2},0.63963400000000004,{"$f":"IF($B89=0,0,G89/POWER(1+CALCULADORA!$C$29,Flujos!$B89/365))","v":0.40229046017711706},"2028-09-24",87,{"$f":"+DIAS365($A$2,A89)","v":2647},31969411704.999939,1692688304.9999995,165449221.54914969,1858137526.5491493]
["2028-10-24",{"$f":"IF(DIAS365(CALCULADORA!$C$27,A90)<0,0,DIAS365(CALCULADORA!$C$27,A90))","v":1666},{"$f":"+HLOOKUP(CALCULADORA!$C$9,Tablas!B:B,Flujos!J90+1,FALSE)","v":5.7640399999999998E-3},10.428557,0.57640400000000003,{"$f":"ROUND(D89*ROUND(((1+CALCULADORA!$C$16)^(1/12)-1),6),6)","v":5.4088999999999998E-2},0.63049299999999997,{"$f":"IF($B90=0,0,G90/POWER(1+CALCULADORA!$C$29,Flujos!$B90/365))","v":0.39318365776240272},"2028-10-24",88,{"$f":"+DIAS365($A$2,A90)","v":2677},30294958084.999939,1674453619.9999995,157129658.53007472,1831583278.5300741]
["2028-11-24",{"$f":"IF(DIAS365(CALCULADORA!$C$27,A91)<0,0,DIAS365(CALCULADORA!$C$27,A91))","v":1697},{"$f":"+HLOOKUP(CALCULADORA!$C$9,Tablas!B:B,Flujos!J91+1,FALSE)","v":5.6965899999999996E-3},9.8588979999999999,0.56965900000000003,{"$f":"ROUND(D90*ROUND(((1+CALCULADORA!$C$16)^(1/12)-1),6),6)","v":5.1256000000000003E-2},0.62091499999999999,{"$f":"IF($B91=0,0,G91/POWER(1+CALCULADORA!$C$29,Flujos!$B91/365))","v":0.38382321338723535},"2028-11-24",89,{"$f":"+DIAS365($A$2,A91)","v":2708},28640098689.999939,1654859394.9999995,148899718.9877747,1803759113.9877741]
["2028-12-24",{"$f":"IF(DIAS365(CALCULADORA!$C$27,A92)<0,0,DIAS365(CALCULADORA!$C$27,A92))","v":1727},{"$f":"+HLOOKUP(CALCULADORA!$C$9,Tablas!B:B,Flujos!J92+1,FALSE)","v":5.6319600000000001E-3},9.2957020000000004,0.56319600000000003,{"$f":"ROUND(D91*ROUND(((1+CALCULADORA!$C$16)^(1/12)-1),6),6)","v":4.8455999999999999E-2},0.61165200000000008,{"$f":"IF($B92=0,0,G92/POWER(1+CALCULADORA!$C$29,Flujos!$B92/365))","v":0.37489571953770706},"2028-12-24",90,{"$f":"+DIAS365($A$2,A92)","v":2738},27004014309.999939,1636084379.9999998,140766085.06134969,1776850465.0613494]
["2029-01-24",{"$f":"IF(DIAS365(CALCULADORA!$C$27,A93)<0,0,DIAS365(CALCULADORA!$C$27,A93))","v":1758},{"$f":"+HLOOKUP(CALCULADORA!$C$9,Tablas!B:B,Flujos!J93+1,FALSE)","v":5.56786E-3},8.7389159999999997,0.556786,{"$f":"ROUND(D92*ROUND(((1+CALCULADORA!$C$16)^(1/12)-1),6),6)","v":4.5687999999999999E-2},0.60247399999999995,{"$f":"IF($B93=0,0,G93/POWER(1+CALCULADORA!$C$29,Flujos!$B93/365))","v":0.36603978132614168},"2029-01-24",91,{"$f":"+DIAS365($A$2,A93)","v":2769},25386550979.999939,1617463329.9999998,132724730.33364971,1750188060.3336494]
["2029-02-24",{"$f":"IF(DIAS365(CALCULADORA!$C$27,A94)<0,0,DIAS365(CALCULADORA!$C$27,A94))","v":1789},{"$f":"+HLOOKUP(CALCULADORA!$C$9,Tablas!B:B,Flujos!J94+1,FALSE)","v":5.4983899999999997E-3},8.1890769999999993,0.54983899999999997,{"$f":"ROUND(D93*ROUND(((1+CALCULADORA!$C$16)^(1/12)-1),6),6)","v":4.2951999999999997E-2},0.59279099999999996,{"$f":"IF($B94=0,0,G94/POWER(1+CALCULADORA!$C$29,Flujos!$B94/365))","v":0.35700596717577365},"2029-02-24",92,{"$f":"+DIAS365($A$2,A94)","v":2800},23789268684.999939,1597282294.9999995,124774898.0666997,1722057193.0666993]
["2029-03-24",{"$f":"IF(DIAS365(CALCULADORA!$C$27,A95)<0,0,DIAS365(CALCULADORA!$C$27,A95))","v":1817},{"$f":"+HLOOKUP(CALCULADORA!$C$9,Tablas!B:B,Flujos!J95+1,FALSE)","v":5.4334500000000003E-3},7.6457319999999998,0.54334499999999997,{"$f":"ROUND(D94*ROUND(((1+CALCULADORA!$C$16)^(1/12)-1),6),6)","v":4.0249E-2},0.58359399999999995,{"$f":"IF($B95=0,0,G95/POWER(1+CALCULADORA!$C$29,Flujos!$B95/365))","v":0.34868871213159958},"2029-03-24",93,{"$f":"+DIAS365($A$2,A95)","v":2828},22210851459.999939,1578417224.9999998,116924255.58677471,1695341480.5867743]
["2029-04-24",{"$f":"IF(DIAS365(CALCULADORA!$C$27,A96)<0,0,DIAS365(CALCULADORA!$C$27,A96))","v":1848},{"$f":"+HLOOKUP(CALCULADORA!$C$9,Tablas!B:B,Flujos!J96+1,FALSE)","v":5.3619899999999996E-3},7.1095329999999999,0.53619899999999998,{"$f":"ROUND(D95*ROUND(((1+CALCULADORA!$C$16)^(1/12)-1),6),6)","v":3.7579000000000001E-2},0.57377800000000001,{"$f":"IF($B96=0,0,G96/POWER(1+CALCULADORA!$C$29,Flujos!$B96/365))","v":0.33982463468650931},"2029-04-24",94,{"$f":"+DIAS365($A$2,A96)","v":2859},20653193364.999939,1557658094.9999995,109166334.9258997,1666824429.9258993]
["2029-05-24",{"$f":"IF(DIAS365(CALCULADORA!$C$27,A97)<0,0,DIAS365(CALCULADORA!$C$27,A97))","v":1878},{"$f":"+HLOOKUP(CALCULADORA!$C$9,Tablas!B:B,Flujos!J97+1,FALSE)","v":5.2928100000000002E-3},6.5802519999999998,0.529281,{"$f":"ROUND(D96*ROUND(((1+CALCULADORA!$C$16)^(1/12)-1),6),6)","v":3.4943000000000002E-2},0.56422400000000006,{"$f":"IF($B97=0,0,G97/POWER(1+CALCULADORA!$C$29,Flujos!$B97/365))","v":0.33133668133724381},"2029-05-24",95,{"$f":"+DIAS365($A$2,A97)","v":2889},19115632059.999939,1537561304.9999998,101510445.3889747,1639071750.3889744]
["2029-06-24",{"$f":"IF(DIAS365(CALCULADORA!$C$27,A98)<0,0,DIAS365(CALCULADORA!$C$27,A98))","v":1909},{"$f":"+HLOOKUP(CALCULADORA!$C$9,Tablas!B:B,Flujos!J98+1,FALSE)","v":4.9620599999999999E-3},6.0840459999999998,0.49620599999999998,{"$f":"ROUND(D97*ROUND(((1+CALCULADORA!$C$16)^(1/12)-1),6),6)","v":3.2342000000000003E-2},0.52854800000000002,{"$f":"IF($B98=0,0,G98/POWER(1+CALCULADORA!$C$29,Flujos!$B98/365))","v":0.30767080827059351},"2029-06-24",96,{"$f":"+DIAS365($A$2,A98)","v":2920},17674153629.999939,1441478429.9999998,93953331.574899703,1535431761.5748994]
[{"$f":"EDATE(A98,1)","v":"2029-07-24"},{"$f":"IF(DIAS365(CALCULADORA!$C$27,A99)<0,0,DIAS365(CALCULADORA!$C$27,A99))","v":1939},{"$f":"+HLOOKUP(CALCULADORA!$C$9,Tablas!B:B,Flujos!J99+1,FALSE)","v":5.1329499999999998E-3},5.5707509999999996,0.51329499999999995,{"$f":"ROUND(D98*ROUND(((1+CALCULADORA!$C$16)^(1/12)-1),6),6)","v":2.9902999999999999E-2},0.54319799999999996,{"$f":"IF($B99=0,0,G99/POWER(1+CALCULADORA!$C$29,Flujos!$B99/365))","v":0.31352127533524937},"2029-07-24",97,{"$f":"+DIAS365($A$2,A99)","v":2950},16183031654.999939,1491121974.9999995,86868465.091449708,1577990440.0914493]
["2029-08-24",{"$f":"IF(DIAS365(CALCULADORA!$C$27,A100)<0,0,DIAS365(CALCULADORA!$C$27,A100))","v":1970},{"$f":"+HLOOKUP(CALCULADORA!$C$9,Tablas!B:B,Flujos!J100+1,FALSE)","v":5.0336900000000004E-3},5.0673820000000003,0.50336899999999996,{"$f":"ROUND(D99*ROUND(((1+CALCULADORA!$C$16)^(1/12)-1),6),6)","v":2.7380000000000002E-2},0.53074899999999992,{"$f":"IF($B100=0,0,G100/POWER(1+CALCULADORA!$C$29,Flujos!$B100/365))","v":0.30365604799070539},"2029-08-24",98,{"$f":"+DIAS365($A$2,A100)","v":2981},14720744709.999939,1462286944.9999998,79539600.584324703,1541826545.5843244]
["2029-09-24",{"$f":"IF(DIAS365(CALCULADORA!$C$27,A101)<0,0,DIAS365(CALCULADORA!$C$27,A101))","v":2001},{"$f":"+HLOOKUP(CALCULADORA!$C$9,Tablas!B:B,Flujos!J101+1,FALSE)","v":4.9106999999999996E-3},4.5763119999999997,0.49107000000000001,{"$f":"ROUND(D100*ROUND(((1+CALCULADORA!$C$16)^(1/12)-1),6),6)","v":2.4906000000000001E-2},0.51597599999999999,{"$f":"IF($B101=0,0,G101/POWER(1+CALCULADORA!$C$29,Flujos!$B101/365))","v":0.29262144354225833},"2029-09-24",99,{"$f":"+DIAS365($A$2,A101)","v":3012},13294186359.999939,1426558349.9999995,72352460.249649704,1498910810.2496493]
["2029-10-24",{"$f":"IF(DIAS365(CALCULADORA!$C$27,A102)<0,0,DIAS365(CALCULADORA!$C$27,A102))","v":2031},{"$f":"+HLOOKUP(CALCULADORA!$C$9,Tablas!B:B,Flujos!J102+1,FALSE)","v":0},4.5763119999999997,0,{"$f":"ROUND(D101*ROUND(((1+CALCULADORA!$C$16)^(1/12)-1),6),6)","v":2.2492999999999999E-2},2.2492999999999999E-2,{"$f":"IF($B102=0,0,G102/POWER(1+CALCULADORA!$C$29,Flujos!$B102/365))","v":1.2648267048060841E-2},"2029-10-24",100,{"$f":"+DIAS365($A$2,A102)","v":3042},13294186359.999939,0,65340925.9593997,65340925.9593997]
["2029-11-24",{"$f":"IF(DIAS365(CALCULADORA!$C$27,A103)<0,0,DIAS365(CALCULADORA!$C$27,A103))","v":2062},{"$f":"+HLOOKUP(CALCULADORA!$C$9,Tablas!B:B,Flujos!J103+1,FALSE)","v":0},4.5763119999999997,0,{"$f":"ROUND(D102*ROUND(((1+CALCULADORA!$C$16)^(1/12)-1),6),6)","v":2.2492999999999999E-2},2.2492999999999999E-2,{"$f":"IF($B103=0,0,G103/POWER(1+CALCULADORA!$C$29,Flujos!$B103/365))","v":1.2537614797067951E-2},"2029-11-24",101,{"$f":"+DIAS365($A$2,A103)","v":3073},13294186359.999939,0,65340925.9593997,65340925.9593997]
["2029-12-24",{"$f":"IF(DIAS365(CALCULADORA!$C$27,A104)<0,0,DIAS365(CALCULADORA!$C$27,A104))","v":2092},{"$f":"+HLOOKUP(CALCULADORA!$C$9,Tablas!B:B,Flujos!J104+1,FALSE)","v":0},4.5763119999999997,0,{"$f":"ROUND(D103*ROUND(((1+CALCULADORA!$C$16)^(1/12)-1),6),6)","v":2.2492999999999999E-2},2.2492999999999999E-2,{"$f":"IF($B104=0,0,G104/POWER(1+CALCULADORA!$C$29,Flujos!$B104/365))","v":1.2431453755329752E-2},"2029-12-24",102,{"$f":"+DIAS365($A$2,A104)","v":3103},13294186359.999939,0,65340925.9593997,65340925.9593997]
["2030-01-24",{"$f":"IF(DIAS365(CALCULADORA!$C$27,A105)<0,0,DIAS365(CALCULADORA!$C$27,A105))","v":2123},{"$f":"+HLOOKUP(CALCULADORA!$C$9,Tablas!B:B,Flujos!J105+1,FALSE)","v":0},4.5763119999999997,0,{"$f":"ROUND(D104*ROUND(((1+CALCULADORA!$C$16)^(1/12)-1),6),6)","v":2.2492999999999999E-2},2.2492999999999999E-2,{"$f":"IF($B105=0,0,G105/POWER(1+CALCULADORA!$C$29,Flujos!$B105/365))","v":1.2322698276344815E-2},"2030-01-24",103,{"$f":"+DIAS365($A$2,A105)","v":3134},13294186359.999939,0,65340925.9593997,65340925.9593997]
["2030-02-24",{"$f":"IF(DIAS365(CALCULADORA!$C$27,A106)<0,0,DIAS365(CALCULADORA!$C$27,A106))","v":2154},{"$f":"+HLOOKUP(CALCULADORA!$C$9,Tablas!B:B,Flujos!J106+1,FALSE)","v":0},4.5763119999999997,0,{"$f":"ROUND(D105*ROUND(((1+CALCULADORA!$C$16)^(1/12)-1),6),6)","v":2.2492999999999999E-2},2.2492999999999999E-2,{"$f":"IF($B106=0,0,G106/POWER(1+CALCULADORA!$C$29,Flujos!$B106/365))","v":1.221489423509532E-2},"2030-02-24",104,{"$f":"+DIAS365($A$2,A106)","v":3165},13294186359.999939,0,65340925.9593997,65340925.9593997]
["2030-03-24",{"$f":"IF(DIAS365(CALCULADORA!$C$27,A107)<0,0,DIAS365(CALCULADORA!$C$27,A107))","v":2182},{"$f":"+HLOOKUP(CALCULADORA!$C$9,Tablas!B:B,Flujos!J107+1,FALSE)","v":0},4.5763119999999997,0,{"$f":"ROUND(D106*ROUND(((1+CALCULADORA!$C$16)^(1/12)-1),6),6)","v":2.2492999999999999E-2},2.2492999999999999E-2,{"$f":"IF($B107=0,0,G107/POWER(1+CALCULADORA!$C$29,Flujos!$B107/365))","v":1.2118333699058461E-2},"2030-03-24",105,{"$f":"+DIAS365($A$2,A107)","v":3193},13294186359.999939,0,65340925.9593997,65340925.9593997]
["2030-04-24",{"$f":"IF(DIAS365(CALCULADORA!$C$27,A108)<0,0,DIAS365(CALCULADORA!$C$27,A108))","v":2213},{"$f":"+HLOOKUP(CALCULADORA!$C$9,Tablas!B:B,Flujos!J108+1,FALSE)","v":0},4.5763119999999997,0,{"$f":"ROUND(D107*ROUND(((1+CALCULADORA!$C$16)^(1/12)-1),6),6)","v":2.2492999999999999E-2},2.2492999999999999E-2,{"$f":"IF($B108=0,0,G108/POWER(1+CALCULADORA!$C$29,Flujos!$B108/365))","v":1.2012317523325563E-2},"2030-04-24",106,{"$f":"+DIAS365($A$2,A108)","v":3224},13294186359.999939,0,65340925.9593997,65340925.9593997]
["2030-05-24",{"$f":"IF(DIAS365(CALCULADORA!$C$27,A109)<0,0,DIAS365(CALCULADORA!$C$27,A109))","v":2243},{"$f":"+HLOOKUP(CALCULADORA!$C$9,Tablas!B:B,Flujos!J109+1,FALSE)","v":0},4.5763119999999997,0,{"$f":"ROUND(D108*ROUND(((1+CALCULADORA!$C$16)^(1/12)-1),6),6)","v":2.2492999999999999E-2},2.2492999999999999E-2,{"$f":"IF($B109=0,0,G109/POWER(1+CALCULADORA!$C$29,Flujos!$B109/365))","v":1.1910604385491366E-2},"2030-05-24",107,{"$f":"+DIAS365($A$2,A109)","v":3254},13294186359.999939,0,65340925.9593997,65340925.9593997]
["2030-06-24",{"$f":"IF(DIAS365(CALCULADORA!$C$27,A110)<0,0,DIAS365(CALCULADORA!$C$27,A110))","v":2274},{"$f":"+HLOOKUP(CALCULADORA!$C$9,Tablas!B:B,Flujos!J110+1,FALSE)","v":0},4.5763119999999997,0,{"$f":"ROUND(D109*ROUND(((1+CALCULADORA!$C$16)^(1/12)-1),6),6)","v":2.2492999999999999E-2},2.2492999999999999E-2,{"$f":"IF($B110=0,0,G110/POWER(1+CALCULADORA!$C$29,Flujos!$B110/365))","v":1.1806405511374261E-2},"2030-06-24",108,{"$f":"+DIAS365($A$2,A110)","v":3285},13294186359.999939,0,65340925.9593997,65340925.9593997]
["2030-07-24",{"$f":"IF(DIAS365(CALCULADORA!$C$27,A111)<0,0,DIAS365(CALCULADORA!$C$27,A111))","v":2304},{"$f":"+HLOOKUP(CALCULADORA!$C$9,Tablas!B:B,Flujos!J111+1,FALSE)","v":0},4.5763119999999997,0,{"$f":"ROUND(D110*ROUND(((1+CALCULADORA!$C$16)^(1/12)-1),6),6)","v":2.2492999999999999E-2},2.2492999999999999E-2,{"$f":"IF($B111=0,0,G111/POWER(1+CALCULADORA!$C$29,Flujos!$B111/365))","v":1.1706435913603224E-2},"2030-07-24",109,{"$f":"+DIAS365($A$2,A111)","v":3315},13294186359.999939,0,65340925.9593997,65340925.9593997]
["2030-08-24",{"$f":"IF(DIAS365(CALCULADORA!$C$27,A112)<0,0,DIAS365(CALCULADORA!$C$27,A112))","v":2335},{"$f":"+HLOOKUP(CALCULADORA!$C$9,Tablas!B:B,Flujos!J112+1,FALSE)","v":0},4.5763119999999997,0,{"$f":"ROUND(D111*ROUND(((1+CALCULADORA!$C$16)^(1/12)-1),6),6)","v":2.2492999999999999E-2},2.2492999999999999E-2,{"$f":"IF($B112=0,0,G112/POWER(1+CALCULADORA!$C$29,Flujos!$B112/365))","v":1.1604023189391901E-2},"2030-08-24",110,{"$f":"+DIAS365($A$2,A112)","v":3346},13294186359.999939,0,65340925.9593997,65340925.9593997]
["2030-09-24",{"$f":"IF(DIAS365(CALCULADORA!$C$27,A113)<0,0,DIAS365(CALCULADORA!$C$27,A113))","v":2366},{"$f":"+HLOOKUP(CALCULADORA!$C$9,Tablas!B:B,Flujos!J113+1,FALSE)","v":0},4.5763119999999997,0,{"$f":"ROUND(D112*ROUND(((1+CALCULADORA!$C$16)^(1/12)-1),6),6)","v":2.2492999999999999E-2},2.2492999999999999E-2,{"$f":"IF($B113=0,0,G113/POWER(1+CALCULADORA!$C$29,Flujos!$B113/365))","v":1.1502506413884162E-2},"2030-09-24",111,{"$f":"+DIAS365($A$2,A113)","v":3377},13294186359.999939,0,65340925.9593997,65340925.9593997]
["2030-10-24",{"$f":"IF(DIAS365(CALCULADORA!$C$27,A114)<0,0,DIAS365(CALCULADORA!$C$27,A114))","v":2396},{"$f":"+HLOOKUP(CALCULADORA!$C$9,Tablas!B:B,Flujos!J114+1,FALSE)","v":0},4.5763119999999997,0,{"$f":"ROUND(D113*ROUND(((1+CALCULADORA!$C$16)^(1/12)-1),6),6)","v":2.2492999999999999E-2},2.2492999999999999E-2,{"$f":"IF($B114=0,0,G114/POWER(1+CALCULADORA!$C$29,Flujos!$B114/365))","v":1.140511005235423E-2},"2030-10-24",112,{"$f":"+DIAS365($A$2,A114)","v":3407},13294186359.999939,0,65340925.9593997,65340925.9593997]
["2030-11-24",{"$f":"IF(DIAS365(CALCULADORA!$C$27,A115)<0,0,DIAS365(CALCULADORA!$C$27,A115))","v":2427},{"$f":"+HLOOKUP(CALCULADORA!$C$9,Tablas!B:B,Flujos!J115+1,FALSE)","v":0},4.5763119999999997,0,{"$f":"ROUND(D114*ROUND(((1+CALCULADORA!$C$16)^(1/12)-1),6),6)","v":2.2492999999999999E-2},2.2492999999999999E-2,{"$f":"IF($B115=0,0,G115/POWER(1+CALCULADORA!$C$29,Flujos!$B115/365))","v":1.1305333450917901E-2},"2030-11-24",113,{"$f":"+DIAS365($A$2,A115)","v":3438},13294186359.999939,0,65340925.9593997,65340925.9593997]
["2030-12-24",{"$f":"IF(DIAS365(CALCULADORA!$C$27,A116)<0,0,DIAS365(CALCULADORA!$C$27,A116))","v":2457},{"$f":"+HLOOKUP(CALCULADORA!$C$9,Tablas!B:B,Flujos!J116+1,FALSE)","v":0},4.5763119999999997,0,{"$f":"ROUND(D115*ROUND(((1+CALCULADORA!$C$16)^(1/12)-1),6),6)","v":2.2492999999999999E-2},2.2492999999999999E-2,{"$f":"IF($B116=0,0,G116/POWER(1+CALCULADORA!$C$29,Flujos!$B116/365))","v":1.1209606632398336E-2},"2030-12-24",114,{"$f":"+DIAS365($A$2,A116)","v":3468},13294186359.999939,0,65340925.9593997,65340925.9593997]
["2031-01-24",{"$f":"IF(DIAS365(CALCULADORA!$C$27,A117)<0,0,DIAS365(CALCULADORA!$C$27,A117))","v":2488},{"$f":"+HLOOKUP(CALCULADORA!$C$9,Tablas!B:B,Flujos!J117+1,FALSE)","v":1.86655E-3},4.3896569999999997,0.18665499999999999,{"$f":"ROUND(D116*ROUND(((1+CALCULADORA!$C$16)^(1/12)-1),6),6)","v":2.2492999999999999E-2},0.209148,{"$f":"IF($B117=0,0,G117/POWER(1+CALCULADORA!$C$29,Flujos!$B117/365))","v":0.10331909689410497},"2031-01-24",115,{"$f":"+DIAS365($A$2,A117)","v":3499},12751953584.999939,542232774.99999988,65340925.9593997,607573700.95939958]
["2031-02-24",{"$f":"IF(DIAS365(CALCULADORA!$C$27,A118)<0,0,DIAS365(CALCULADORA!$C$27,A118))","v":2519},{"$f":"+HLOOKUP(CALCULADORA!$C$9,Tablas!B:B,Flujos!J118+1,FALSE)","v":3.6534499999999999E-3},4.0243120000000001,0.36534499999999998,{"$f":"ROUND(D117*ROUND(((1+CALCULADORA!$C$16)^(1/12)-1),6),6)","v":2.1575E-2},0.38691999999999999,{"$f":"IF($B118=0,0,G118/POWER(1+CALCULADORA!$C$29,Flujos!$B118/365))","v":0.18946629413022401},"2031-02-24",116,{"$f":"+DIAS365($A$2,A118)","v":3530},11690626359.999939,1061327224.9999998,62675851.8702747,1124003076.8702745]
["2031-03-24",{"$f":"IF(DIAS365(CALCULADORA!$C$27,A119)<0,0,DIAS365(CALCULADORA!$C$27,A119))","v":2547},{"$f":"+HLOOKUP(CALCULADORA!$C$9,Tablas!B:B,Flujos!J119+1,FALSE)","v":3.6074800000000001E-3},3.663564,0.36074800000000001,{"$f":"ROUND(D118*ROUND(((1+CALCULADORA!$C$16)^(1/12)-1),6),6)","v":1.9779000000000001E-2},0.380527,{"$f":"IF($B119=0,0,G119/POWER(1+CALCULADORA!$C$29,Flujos!$B119/365))","v":0.18486276954940911},{"$f":"+A119","v":"2031-03-24"},117,{"$f":"+DIAS365($A$2,A119)","v":3558},10642653419.999939,1047972939.9999999,57459428.559399702,1105432368.5593996]
["2031-04-24",{"$f":"IF(DIAS365(CALCULADORA!$C$27,A120)<0,0,DIAS365(CALCULADORA!$C$27,A120))","v":2578},{"$f":"+HLOOKUP(CALCULADORA!$C$9,Tablas!B:B,Flujos!J120+1,FALSE)","v":3.5704899999999999E-3},3.3065150000000001,0.35704900000000001,{"$f":"ROUND(D119*ROUND(((1+CALCULADORA!$C$16)^(1/12)-1),6),6)","v":1.8006000000000001E-2},0.37505500000000003,{"$f":"IF($B120=0,0,G120/POWER(1+CALCULADORA!$C$29,Flujos!$B120/365))","v":0.18061043292261894},{"$f":"+A120","v":"2031-04-24"},118,{"$f":"+DIAS365($A$2,A120)","v":3589},9605426074.999939,1037227344.9999998,52308641.5592997,1089535986.5592995]
["2031-05-24",{"$f":"IF(DIAS365(CALCULADORA!$C$27,A121)<0,0,DIAS365(CALCULADORA!$C$27,A121))","v":2608},{"$f":"+HLOOKUP(CALCULADORA!$C$9,Tablas!B:B,Flujos!J121+1,FALSE)","v":3.5366400000000002E-3},2.9528509999999999,0.35366399999999998,{"$f":"ROUND(D120*ROUND(((1+CALCULADORA!$C$16)^(1/12)-1),6),6)","v":1.6251999999999999E-2},0.36991599999999997,{"$f":"IF($B121=0,0,G121/POWER(1+CALCULADORA!$C$29,Flujos!$B121/365))","v":0.17662736359430944},"2031-05-24",119,{"$f":"+DIAS365($A$2,A121)","v":3619},8578032154.999939,1027393919.9999999,47210669.158624701,1074604589.1586246]
["2031-06-24",{"$f":"IF(DIAS365(CALCULADORA!$C$27,A122)<0,0,DIAS365(CALCULADORA!$C$27,A122))","v":2639},{"$f":"+HLOOKUP(CALCULADORA!$C$9,Tablas!B:B,Flujos!J122+1,FALSE)","v":3.20361E-3},2.6324900000000002,0.32036100000000001,{"$f":"ROUND(D121*ROUND(((1+CALCULADORA!$C$16)^(1/12)-1),6),6)","v":1.4513E-2},0.334874,{"$f":"IF($B122=0,0,G122/POWER(1+CALCULADORA!$C$29,Flujos!$B122/365))","v":0.15849668967108951},"2031-06-24",120,{"$f":"+DIAS365($A$2,A122)","v":3650},7647383449.999939,930648704.99999976,42161028.041824698,972809733.04182446]
["2031-07-24",{"$f":"IF(DIAS365(CALCULADORA!$C$27,A123)<0,0,DIAS365(CALCULADORA!$C$27,A123))","v":2669},{"$f":"+HLOOKUP(CALCULADORA!$C$9,Tablas!B:B,Flujos!J123+1,FALSE)","v":3.46204E-3},2.286286,0.34620400000000001,{"$f":"ROUND(D122*ROUND(((1+CALCULADORA!$C$16)^(1/12)-1),6),6)","v":1.2939000000000001E-2},0.35914299999999999,{"$f":"IF($B123=0,0,G123/POWER(1+CALCULADORA!$C$29,Flujos!$B123/365))","v":0.16854395030579808},"2031-07-24",121,{"$f":"+DIAS365($A$2,A123)","v":3680},6641660829.999939,1005722619.9999998,37586889.656749703,1043309509.6567495]
["2031-08-24",{"$f":"IF(DIAS365(CALCULADORA!$C$27,A124)<0,0,DIAS365(CALCULADORA!$C$27,A124))","v":2700},{"$f":"+HLOOKUP(CALCULADORA!$C$9,Tablas!B:B,Flujos!J124+1,FALSE)","v":3.4296700000000001E-3},1.943319,0.34296700000000002,{"$f":"ROUND(D123*ROUND(((1+CALCULADORA!$C$16)^(1/12)-1),6),6)","v":1.1237E-2},0.35420400000000002,{"$f":"IF($B124=0,0,G124/POWER(1+CALCULADORA!$C$29,Flujos!$B124/365))","v":0.16477188874652673},"2031-08-24",122,{"$f":"+DIAS365($A$2,A124)","v":3711},5645341694.999939,996319134.99999988,32643762.979449701,1028962897.9794496]
["2031-09-24",{"$f":"IF(DIAS365(CALCULADORA!$C$27,A125)<0,0,DIAS365(CALCULADORA!$C$27,A125))","v":2731},{"$f":"+HLOOKUP(CALCULADORA!$C$9,Tablas!B:B,Flujos!J125+1,FALSE)","v":3.3963499999999998E-3},1.6036840000000001,0.33963500000000002,{"$f":"ROUND(D124*ROUND(((1+CALCULADORA!$C$16)^(1/12)-1),6),6)","v":9.5510000000000005E-3},0.349186,{"$f":"IF($B125=0,0,G125/POWER(1+CALCULADORA!$C$29,Flujos!$B125/365))","v":0.16101649837553131},"2031-09-24",123,{"$f":"+DIAS365($A$2,A125)","v":3742},4658702019.999939,986639674.99999976,27746854.430924699,1014386529.4309244]
["2031-10-24",{"$f":"IF(DIAS365(CALCULADORA!$C$27,A126)<0,0,DIAS365(CALCULADORA!$C$27,A126))","v":2761},{"$f":"+HLOOKUP(CALCULADORA!$C$9,Tablas!B:B,Flujos!J126+1,FALSE)","v":3.3616499999999999E-3},1.2675190000000001,0.33616499999999999,{"$f":"ROUND(D125*ROUND(((1+CALCULADORA!$C$16)^(1/12)-1),6),6)","v":7.8820000000000001E-3},0.34404699999999999,{"$f":"IF($B126=0,0,G126/POWER(1+CALCULADORA!$C$29,Flujos!$B126/365))","v":0.15730347841239281},"2031-10-24",124,{"$f":"+DIAS365($A$2,A126)","v":3772},3682142694.999939,976559324.99999976,22897520.428299699,999456845.42829943]
["2031-11-24",{"$f":"IF(DIAS365(CALCULADORA!$C$27,A127)<0,0,DIAS365(CALCULADORA!$C$27,A127))","v":2792},{"$f":"+HLOOKUP(CALCULADORA!$C$9,Tablas!B:B,Flujos!J127+1,FALSE)","v":3.3227600000000001E-3},0.93524300000000005,0.33227600000000002,{"$f":"ROUND(D126*ROUND(((1+CALCULADORA!$C$16)^(1/12)-1),6),6)","v":6.2300000000000003E-3},0.33850600000000003,{"$f":"IF($B127=0,0,G127/POWER(1+CALCULADORA!$C$29,Flujos!$B127/365))","v":0.15341605746881257},"2031-11-24",125,{"$f":"+DIAS365($A$2,A127)","v":3803},2716880914.999939,965261779.99999988,18097731.345924702,983359511.34592462]
["2031-12-24",{"$f":"IF(DIAS365(CALCULADORA!$C$27,A128)<0,0,DIAS365(CALCULADORA!$C$27,A128))","v":2822},{"$f":"+HLOOKUP(CALCULADORA!$C$9,Tablas!B:B,Flujos!J128+1,FALSE)","v":3.2899600000000002E-3},0.60624699999999998,0.32899600000000001,{"$f":"ROUND(D127*ROUND(((1+CALCULADORA!$C$16)^(1/12)-1),6),6)","v":4.5970000000000004E-3},0.33359300000000003,{"$f":"IF($B128=0,0,G128/POWER(1+CALCULADORA!$C$29,Flujos!$B128/365))","v":0.1499092295629999},"2031-12-24",126,{"$f":"+DIAS365($A$2,A128)","v":3833},1761147534.999939,955733379.99999988,13353469.697224701,969086849.69722462]
["2032-01-24",{"$f":"IF(DIAS365(CALCULADORA!$C$27,A129)<0,0,DIAS365(CALCULADORA!$C$27,A129))","v":2853},{"$f":"+HLOOKUP(CALCULADORA!$C$9,Tablas!B:B,Flujos!J129+1,FALSE)","v":3.2527099999999998E-3},0.280976,0.32527099999999998,{"$f":"ROUND(D128*ROUND(((1+CALCULADORA!$C$16)^(1/12)-1),6),6)","v":2.98E-3},0.32825099999999996,{"$f":"IF($B129=0,0,G129/POWER(1+CALCULADORA!$C$29,Flujos!$B129/365))","v":0.14621818781946605},"2032-01-24",127,{"$f":"+DIAS365($A$2,A129)","v":3864},816235279.9999392,944912254.99999976,8656040.1345246993,953568295.13452446]
["2032-02-24",{"$f":"IF(DIAS365(CALCULADORA!$C$27,A130)<0,0,DIAS365(CALCULADORA!$C$27,A130))","v":2884},{"$f":"+HLOOKUP(CALCULADORA!$C$9,Tablas!B:B,Flujos!J130+1,FALSE)","v":2.8097600000000001E-3},0,0.280976,{"$f":"ROUND(D129*ROUND(((1+CALCULADORA!$C$16)^(1/12)-1),6),6)","v":1.3810000000000001E-3},0.28235700000000002,{"$f":"IF($B130=0,0,G130/POWER(1+CALCULADORA!$C$29,Flujos!$B130/365))","v":0.12467454567729885},"2032-02-24",128,{"$f":"+DIAS365($A$2,A130)","v":3895},-6.0677528381347656E-5,816235279.99999988,4011796.4011997012,820247076.40119958]
[{"$f":"EDATE(A130,1)","v":"2032-03-24"},{"$f":"IF(DIAS365(CALCULADORA!$C$27,A131)<0,0,DIAS365(CALCULADORA!$C$27,A131))","v":2912},{"$f":"+HLOOKUP(CALCULADORA!$C$9,Tablas!B:B,Flujos!J131+1,FALSE)","v":0},0,0,{"$f":"ROUND(D130*ROUND(((1+CALCULADORA!$C$16)^(1/12)-1),6),6)","v":0},0,{"$f":"IF($B131=0,0,G131/POWER(1+CALCULADORA!$C$29,Flujos!$B131/365))","v":0},{"$f":"+A131","v":"2032-03-24"},129,{"$f":"+DIAS365($A$2,A131)","v":3923},-6.0677528381347656E-5,0,-2.9823005199432374E-7,-2.9823005199432374E-7]
["2032-04-24",{"$f":"IF(DIAS365(CALCULADORA!$C$27,A132)<0,0,DIAS365(CALCULADORA!$C$27,A132))","v":2943},{"$f":"+HLOOKUP(CALCULADORA!$C$9,Tablas!B:B,Flujos!J132+1,FALSE)","v":0},{"$f":"+ROUND(D131-E132,6)","v":0},{"$f":"ROUND(C132*$D$2,6)","v":0},{"$f":"ROUND(D131*ROUND(((1+CALCULADORA!$C$16)^(1/12)-1),6),6)","v":0},{"$f":"F132+E132","v":0},{"$f":"IF($B132=0,0,G132/POWER(1+CALCULADORA!$C$29,Flujos!$B132/365))","v":0},"2032-04-24",130,{"$f":"+DIAS365($A$2,A132)","v":3954},{"$f":"+L131-M132","v":-6.0677528381347656E-5},{"$f":"+$L$2*C132","v":0},{"$f":"+L131*$F$3%","v":-2.9823005199432374E-7},{"$f":"+N132+M132","v":-2.9823005199432374E-7}]
["2032-05-24",{"$f":"IF(DIAS365(CALCULADORA!$C$27,A133)<0,0,DIAS365(CALCULADORA!$C$27,A133))","v":2973},{"$f":"+HLOOKUP(CALCULADORA!$C$9,Tablas!B:B,Flujos!J133+1,FALSE)","v":0},0,0,{"$f":"ROUND(D132*ROUND(((1+CALCULADORA!$C$16)^(1/12)-1),6),6)","v":0},0,{"$f":"IF($B133=0,0,G133/POWER(1+CALCULADORA!$C$29,Flujos!$B133/365))","v":0},"2032-05-24",131,{"$f":"+DIAS365($A$2,A133)","v":3984},-6.0677528381347656E-5,0,-2.9823005199432374E-7,-2.9823005199432374E-7]
["2032-06-24",{"$f":"IF(DIAS365(CALCULADORA!$C$27,A134)<0,0,DIAS365(CALCULADORA!$C$27,A134))","v":3004},{"$f":"+HLOOKUP(CALCULADORA!$C$9,Tablas!B:B,Flujos!J134+1,FALSE)","v":0},0,0,{"$f":"ROUND(D133*ROUND(((1+CALCULADORA!$C$16)^(1/12)-1),6),6)","v":0},0,{"$f":"IF($B134=0,0,G134/POWER(1+CALCULADORA!$C$29,Flujos!$B134/365))","v":0},"2032-06-24",132,{"$f":"+DIAS365($A$2,A134)","v":4015},-6.0677528381347656E-5,0,-2.9823005199432374E-7,-2.9823005199432374E-7]
["2032-07-24",{"$f":"IF(DIAS365(CALCULADORA!$C$27,A135)<0,0,DIAS365(CALCULADORA!$C$27,A135))","v":3034},{"$f":"+HLOOKUP(CALCULADORA!$C$9,Tablas!B:B,Flujos!J135+1,FALSE)","v":0},0,0,{"$f":"ROUND(D134*ROUND(((1+CALCULADORA!$C$16)^(1/12)-1),6),6)","v":0},0,{"$f":"IF($B135=0,0,G135/POWER(1+CALCULADORA!$C$29,Flujos!$B135/365))","v":0},"2032-07-24",133,{"$f":"+DIAS365($A$2,A135)","v":4045},-6.0677528381347656E-5,0,-2.9823005199432374E-7,-2.9823005199432374E-7]
["2032-08-24",{"$f":"IF(DIAS365(CALCULADORA!$C$27,A136)<0,0,DIAS365(CALCULADORA!$C$27,A136))","v":3065},{"$f":"+HLOOKUP(CALCULADORA!$C$9,Tablas!B:B,Flujos!J136+1,FALSE)","v":0},0,0,{"$f":"ROUND(D135*ROUND(((1+CALCULADORA!$C$16)^(1/12)-1),6),6)","v":0},0,{"$f":"IF($B136=0,0,G136/POWER(1+CALCULADORA!$C$29,Flujos!$B136/365))","v":0},"2032-08-24",134,{"$f":"+DIAS365($A$2,A136)","v":4076},-6.0677528381347656E-5,0,-2.9823005199432374E-7,-2.9823005199432374E-7]
["2032-09-24",{"$f":"IF(DIAS365(CALCULADORA!$C$27,A137)<0,0,DIAS365(CALCULADORA!$C$27,A137))","v":3096},{"$f":"+HLOOKUP(CALCULADORA!$C$9,Tablas!B:B,Flujos!J137+1,FALSE)","v":0},0,0,{"$f":"ROUND(D136*ROUND(((1+CALCULADORA!$C$16)^(1/12)-1),6),6)","v":0},0,{"$f":"IF($B137=0,0,G137/POWER(1+CALCULADORA!$C$29,Flujos!$B137/365))","v":0},"2032-09-24",135,{"$f":"+DIAS365($A$2,A137)","v":4107},-6.0677528381347656E-5,0,-2.9823005199432374E-7,-2.9823005199432374E-7]
["2032-10-24",{"$f":"IF(DIAS365(CALCULADORA!$C$27,A138)<0,0,DIAS365(CALCULADORA!$C$27,A138))","v":3126},{"$f":"+HLOOKUP(CALCULADORA!$C$9,Tablas!B:B,Flujos!J138+1,FALSE)","v":0},0,0,{"$f":"ROUND(D137*ROUND(((1+CALCULADORA!$C$16)^(1/12)-1),6),6)","v":0},0,{"$f":"IF($B138=0,0,G138/POWER(1+CALCULADORA!$C$29,Flujos!$B138/365))","v":0},"2032-10-24",136,{"$f":"+DIAS365($A$2,A138)","v":4137},-6.0677528381347656E-5,0,-2.9823005199432374E-7,-2.9823005199432374E-7]
["2032-11-24",{"$f":"IF(DIAS365(CALCULADORA!$C$27,A139)<0,0,DIAS365(CALCULADORA!$C$27,A139))","v":3157},{"$f":"+HLOOKUP(CALCULADORA!$C$9,Tablas!B:B,Flujos!J139+1,FALSE)","v":0},0,0,{"$f":"ROUND(D138*ROUND(((1+CALCULADORA!$C$16)^(1/12)-1),6),6)","v":0},0,{"$f":"IF($B139=0,0,G139/POWER(1+CALCULADORA!$C$29,Flujos!$B139/365))","v":0},"2032-11-24",137,{"$f":"+DIAS365($A$2,A139)","v":4168},-6.0677528381347656E-5,0,-2.9823005199432374E-7,-2.9823005199432374E-7]
["2032-12-24",{"$f":"IF(DIAS365(CALCULADORA!$C$27,A140)<0,0,DIAS365(CALCULADORA!$C$27,A140))","v":3187},{"$f":"+HLOOKUP(CALCULADORA!$C$9,Tablas!B:B,Flujos!J140+1,FALSE)","v":0},0,0,{"$f":"ROUND(D139*ROUND(((1+CALCULADORA!$C$16)^(1/12)-1),6),6)","v":0},0,{"$f":"IF($B140=0,0,G140/POWER(1+CALCULADORA!$C$29,Flujos!$B140/365))","v":0},"2032-12-24",138,{"$f":"+DIAS365($A$2,A140)","v":4198},-6.0677528381347656E-5,0,-2.9823005199432374E-7,-2.9823005199432374E-7]
["2033-01-24",{"$f":"IF(DIAS365(CALCULADORA!$C$27,A141)<0,0,DIAS365(CALCULADORA!$C$27,A141))","v":3218},{"$f":"+HLOOKUP(CALCULADORA!$C$9,Tablas!B:B,Flujos!J141+1,FALSE)","v":0},0,0,{"$f":"ROUND(D140*ROUND(((1+CALCULADORA!$C$16)^(1/12)-1),6),6)","v":0},0,{"$f":"IF($B141=0,0,G141/POWER(1+CALCULADORA!$C$29,Flujos!$B141/365))","v":0},"2033-01-24",139,{"$f":"+DIAS365($A$2,A141)","v":4229},-6.0677528381347656E-5,0,-2.9823005199432374E-7,-2.9823005199432374E-7]
["2033-02-24",{"$f":"IF(DIAS365(CALCULADORA!$C$27,A142)<0,0,DIAS365(CALCULADORA!$C$27,A142))","v":3249},{"$f":"+HLOOKUP(CALCULADORA!$C$9,Tablas!B:B,Flujos!J142+1,FALSE)","v":0},0,0,{"$f":"ROUND(D141*ROUND(((1+CALCULADORA!$C$16)^(1/12)-1),6),6)","v":0},0,{"$f":"IF($B142=0,0,G142/POWER(1+CALCULADORA!$C$29,Flujos!$B142/365))","v":0},"2033-02-24",140,{"$f":"+DIAS365($A$2,A142)","v":4260},-6.0677528381347656E-5,0,-2.9823005199432374E-7,-2.9823005199432374E-7]
["2033-03-24",{"$f":"IF(DIAS365(CALCULADORA!$C$27,A143)<0,0,DIAS365(CALCULADORA!$C$27,A143))","v":3277},{"$f":"+HLOOKUP(CALCULADORA!$C$9,Tablas!B:B,Flujos!J143+1,FALSE)","v":0},0,0,{"$f":"ROUND(D142*ROUND(((1+CALCULADORA!$C$16)^(1/12)-1),6),6)","v":0},0,{"$f":"IF($B143=0,0,G143/POWER(1+CALCULADORA!$C$29,Flujos!$B143/365))","v":0},"2033-03-24",141,{"$f":"+DIAS365($A$2,A143)","v":4288},-6.0677528381347656E-5,0,-2.9823005199432374E-7,-2.9823005199432374E-7]
["2033-04-24",{"$f":"IF(DIAS365(CALCULADORA!$C$27,A144)<0,0,DIAS365(CALCULADORA!$C$27,A144))","v":3308},{"$f":"+HLOOKUP(CALCULADORA!$C$9,Tablas!B:B,Flujos!J144+1,FALSE)","v":0},0,0,{"$f":"ROUND(D143*ROUND(((1+CALCULADORA!$C$16)^(1/12)-1),6),6)","v":0},0,{"$f":"IF($B144=0,0,G144/POWER(1+CALCULADORA!$C$29,Flujos!$B144/365))","v":0},"2033-04-24",142,{"$f":"+DIAS365($A$2,A144)","v":4319},-6.0677528381347656E-5,0,-2.9823005199432374E-7,-2.9823005199432374E-7]
["2033-05-24",{"$f":"IF(DIAS365(CALCULADORA!$C$27,A145)<0,0,DIAS365(CALCULADORA!$C$27,A145))","v":3338},{"$f":"+HLOOKUP(CALCULADORA!$C$9,Tablas!B:B,Flujos!J145+1,FALSE)","v":0},0,0,{"$f":"ROUND(D144*ROUND(((1+CALCULADORA!$C$16)^(1/12)-1),6),6)","v":0},0,{"$f":"IF($B145=0,0,G145/POWER(1+CALCULADORA!$C$29,Flujos!$B145/365))","v":0},"2033-05-24",143,{"$f":"+DIAS365($A$2,A145)","v":4349},-6.0677528381347656E-5,0,-2.9823005199432374E-7,-2.9823005199432374E-7]
["2033-06-24",{"$f":"IF(DIAS365(CALCULADORA!$C$27,A146)<0,0,DIAS365(CALCULADORA!$C$27,A146))","v":3369},{"$f":"+HLOOKUP(CALCULADORA!$C$9,Tablas!B:B,Flujos!J146+1,FALSE)","v":0},0,0,{"$f":"ROUND(D145*ROUND(((1+CALCULADORA!$C$16)^(1/12)-1),6),6)","v":0},0,{"$f":"IF($B146=0,0,G146/POWER(1+CALCULADORA!$C$29,Flujos!$B146/365))","v":0},"2033-06-24",144,{"$f":"+DIAS365($A$2,A146)","v":4380},-6.0677528381347656E-5,0,-2.9823005199432374E-7,-2.9823005199432374E-7]
["2033-07-24",{"$f":"IF(DIAS365(CALCULADORA!$C$27,A147)<0,0,DIAS365(CALCULADORA!$C$27,A147))","v":3399},{"$f":"+HLOOKUP(CALCULADORA!$C$9,Tablas!B:B,Flujos!J147+1,FALSE)","v":0},0,0,{"$f":"ROUND(D146*ROUND(((1+CALCULADORA!$C$16)^(1/12)-1),6),6)","v":0},0,{"$f":"IF($B147=0,0,G147/POWER(1+CALCULADORA!$C$29,Flujos!$B147/365))","v":0},"2033-07-24",145,{"$f":"+DIAS365($A$2,A147)","v":4410},-6.0677528381347656E-5,0,-2.9823005199432374E-7,-2.9823005199432374E-7]
["2033-08-24",{"$f":"IF(DIAS365(CALCULADORA!$C$27,A148)<0,0,DIAS365(CALCULADORA!$C$27,A148))","v":3430},{"$f":"+HLOOKUP(CALCULADORA!$C$9,Tablas!B:B,Flujos!J148+1,FALSE)","v":0},0,0,{"$f":"ROUND(D147*ROUND(((1+CALCULADORA!$C$16)^(1/12)-1),6),6)","v":0},0,{"$f":"IF($B148=0,0,G148/POWER(1+CALCULADORA!$C$29,Flujos!$B148/365))","v":0},"2033-08-24",146,{"$f":"+DIAS365($A$2,A148)","v":4441},-6.0677528381347656E-5,0,-2.9823005199432374E-7,-2.9823005199432374E-7]
["2033-09-24",{"$f":"IF(DIAS365(CALCULADORA!$C$27,A149)<0,0,DIAS365(CALCULADORA!$C$27,A149))","v":3461},{"$f":"+HLOOKUP(CALCULADORA!$C$9,Tablas!B:B,Flujos!J149+1,FALSE)","v":0},0,0,{"$f":"ROUND(D148*ROUND(((1+CALCULADORA!$C$16)^(1/12)-1),6),6)","v":0},0,{"$f":"IF($B149=0,0,G149/POWER(1+CALCULADORA!$C$29,Flujos!$B149/365))","v":0},"2033-09-24",147,{"$f":"+DIAS365($A$2,A149)","v":4472},-6.0677528381347656E-5,0,-2.9823005199432374E-7,-2.9823005199432374E-7]
["2033-10-24",{"$f":"IF(DIAS365(CALCULADORA!$C$27,A150)<0,0,DIAS365(CALCULADORA!$C$27,A150))","v":3491},{"$f":"+HLOOKUP(CALCULADORA!$C$9,Tablas!B:B,Flujos!J150+1,FALSE)","v":0},0,0,{"$f":"ROUND(D149*ROUND(((1+CALCULADORA!$C$16)^(1/12)-1),6),6)","v":0},0,{"$f":"IF($B150=0,0,G150/POWER(1+CALCULADORA!$C$29,Flujos!$B150/365))","v":0},"2033-10-24",148,{"$f":"+DIAS365($A$2,A150)","v":4502},-6.0677528381347656E-5,0,-2.9823005199432374E-7,-2.9823005199432374E-7]
["2033-11-24",{"$f":"IF(DIAS365(CALCULADORA!$C$27,A151)<0,0,DIAS365(CALCULADORA!$C$27,A151))","v":3522},{"$f":"+HLOOKUP(CALCULADORA!$C$9,Tablas!B:B,Flujos!J151+1,FALSE)","v":0},0,0,{"$f":"ROUND(D150*ROUND(((1+CALCULADORA!$C$16)^(1/12)-1),6),6)","v":0},0,{"$f":"IF($B151=0,0,G151/POWER(1+CALCULADORA!$C$29,Flujos!$B151/365))","v":0},"2033-11-24",149,{"$f":"+DIAS365($A$2,A151)","v":4533},-6.0677528381347656E-5,0,-2.9823005199432374E-7,-2.9823005199432374E-7]
["2033-12-24",{"$f":"IF(DIAS365(CALCULADORA!$C$27,A152)<0,0,DIAS365(CALCULADORA!$C$27,A152))","v":3552},{"$f":"+HLOOKUP(CALCULADORA!$C$9,Tablas!B:B,Flujos!J152+1,FALSE)","v":0},0,0,{"$f":"ROUND(D151*ROUND(((1+CALCULADORA!$C$16)^(1/12)-1),6),6)","v":0},0,{"$f":"IF($B152=0,0,G152/POWER(1+CALCULADORA!$C$29,Flujos!$B152/365))","v":0},"2033-12-24",150,{"$f":"+DIAS365($A$2,A152)","v":4563},-6.0677528381347656E-5,0,-2.9823005199432374E-7,-2.9823005199432374E-7]
["2034-01-24",{"$f":"IF(DIAS365(CALCULADORA!$C$27,A153)<0,0,DIAS365(CALCULADORA!$C$27,A153))","v":3583},{"$f":"+HLOOKUP(CALCULADORA!$C$9,Tablas!B:B,Flujos!J153+1,FALSE)","v":0},0,0,{"$f":"ROUND(D152*ROUND(((1+CALCULADORA!$C$16)^(1/12)-1),6),6)","v":0},0,{"$f":"IF($B153=0,0,G153/POWER(1+CALCULADORA!$C$29,Flujos!$B153/365))","v":0},"2034-01-24",151,{"$f":"+DIAS365($A$2,A153)","v":4594},-6.0677528381347656E-5,0,-2.9823005199432374E-7,-2.9823005199432374E-7]
["2034-02-24",{"$f":"IF(DIAS365(CALCULADORA!$C$27,A154)<0,0,DIAS365(CALCULADORA!$C$27,A154))","v":3614},{"$f":"+HLOOKUP(CALCULADORA!$C$9,Tablas!B:B,Flujos!J154+1,FALSE)","v":0},0,0,{"$f":"ROUND(D153*ROUND(((1+CALCULADORA!$C$16)^(1/12)-1),6),6)","v":0},0,{"$f":"IF($B154=0,0,G154/POWER(1+CALCULADORA!$C$29,Flujos!$B154/365))","v":0},"2034-02-24",152,{"$f":"+DIAS365($A$2,A154)","v":4625},-6.0677528381347656E-5,0,-2.9823005199432374E-7,-2.9823005199432374E-7]
["2034-03-24",{"$f":"IF(DIAS365(CALCULADORA!$C$27,A155)<0,0,DIAS365(CALCULADORA!$C$27,A155))","v":3642},{"$f":"+HLOOKUP(CALCULADORA!$C$9,Tablas!B:B,Flujos!J155+1,FALSE)","v":0},0,0,{"$f":"ROUND(D154*ROUND(((1+CALCULADORA!$C$16)^(1/12)-1),6),6)","v":0},0,{"$f":"IF($B155=0,0,G155/POWER(1+CALCULADORA!$C$29,Flujos!$B155/365))","v":0},"2034-03-24",153,{"$f":"+DIAS365($A$2,A155)","v":4653},-6.0677528381347656E-5,0,-2.9823005199432374E-7,-2.9823005199432374E-7]
["2034-04-24",{"$f":"IF(DIAS365(CALCULADORA!$C$27,A156)<0,0,DIAS365(CALCULADORA!$C$27,A156))","v":3673},{"$f":"+HLOOKUP(CALCULADORA!$C$9,Tablas!B:B,Flujos!J156+1,FALSE)","v":0},0,0,{"$f":"ROUND(D155*ROUND(((1+CALCULADORA!$C$16)^(1/12)-1),6),6)","v":0},0,{"$f":"IF($B156=0,0,G156/POWER(1+CALCULADORA!$C$29,Flujos!$B156/365))","v":0},"2034-04-24",154,{"$f":"+DIAS365($A$2,A156)","v":4684},-6.0677528381347656E-5,0,-2.9823005199432374E-7,-2.9823005199432374E-7]
["2034-05-24",{"$f":"IF(DIAS365(CALCULADORA!$C$27,A157)<0,0,DIAS365(CALCULADORA!$C$27,A157))","v":3703},{"$f":"+HLOOKUP(CALCULADORA!$C$9,Tablas!B:B,Flujos!J157+1,FALSE)","v":0},0,0,{"$f":"ROUND(D156*ROUND(((1+CALCULADORA!$C$16)^(1/12)-1),6),6)","v":0},0,{"$f":"IF($B157=0,0,G157/POWER(1+CALCULADORA!$C$29,Flujos!$B157/365))","v":0},"2034-05-24",155,{"$f":"+DIAS365($A$2,A157)","v":4714},-6.0677528381347656E-5,0,-2.9823005199432374E-7,-2.9823005199432374E-7]
["2034-06-24",{"$f":"IF(DIAS365(CALCULADORA!$C$27,A158)<0,0,DIAS365(CALCULADORA!$C$27,A158))","v":3734},{"$f":"+HLOOKUP(CALCULADORA!$C$9,Tablas!B:B,Flujos!J158+1,FALSE)","v":0},0,0,{"$f":"ROUND(D157*ROUND(((1+CALCULADORA!$C$16)^(1/12)-1),6),6)","v":0},0,{"$f":"IF($B158=0,0,G158/POWER(1+CALCULADORA!$C$29,Flujos!$B158/365))","v":0},"2034-06-24",156,{"$f":"+DIAS365($A$2,A158)","v":4745},-6.0677528381347656E-5,0,-2.9823005199432374E-7,-2.9823005199432374E-7]
["2034-07-24",{"$f":"IF(DIAS365(CALCULADORA!$C$27,A159)<0,0,DIAS365(CALCULADORA!$C$27,A159))","v":3764},{"$f":"+HLOOKUP(CALCULADORA!$C$9,Tablas!B:B,Flujos!J159+1,FALSE)","v":0},0,0,{"$f":"ROUND(D158*ROUND(((1+CALCULADORA!$C$16)^(1/12)-1),6),6)","v":0},0,{"$f":"IF($B159=0,0,G159/POWER(1+CALCULADORA!$C$29,Flujos!$B159/365))","v":0},"2034-07-24",157,{"$f":"+DIAS365($A$2,A159)","v":4775},-6.0677528381347656E-5,0,-2.9823005199432374E-7,-2.9823005199432374E-7]
["2034-08-24",{"$f":"IF(DIAS365(CALCULADORA!$C$27,A160)<0,0,DIAS365(CALCULADORA!$C$27,A160))","v":3795},{"$f":"+HLOOKUP(CALCULADORA!$C$9,Tablas!B:B,Flujos!J160+1,FALSE)","v":0},0,0,{"$f":"ROUND(D159*ROUND(((1+CALCULADORA!$C$16)^(1/12)-1),6),6)","v":0},0,{"$f":"IF($B160=0,0,G160/POWER(1+CALCULADORA!$C$29,Flujos!$B160/365))","v":0},"2034-08-24",158,{"$f":"+DIAS365($A$2,A160)","v":4806},-6.0677528381347656E-5,0,-2.9823005199432374E-7,-2.9823005199432374E-7]
["2034-09-24",{"$f":"IF(DIAS365(CALCULADORA!$C$27,A161)<0,0,DIAS365(CALCULADORA!$C$27,A161))","v":3826},{"$f":"+HLOOKUP(CALCULADORA!$C$9,Tablas!B:B,Flujos!J161+1,FALSE)","v":0},0,0,{"$f":"ROUND(D160*ROUND(((1+CALCULADORA!$C$16)^(1/12)-1),6),6)","v":0},0,{"$f":"IF($B161=0,0,G161/POWER(1+CALCULADORA!$C$29,Flujos!$B161/365))","v":0},"2034-09-24",159,{"$f":"+DIAS365($A$2,A161)","v":4837},-6.0677528381347656E-5,0,-2.9823005199432374E-7,-2.9823005199432374E-7]
["2034-10-24",{"$f":"IF(DIAS365(CALCULADORA!$C$27,A162)<0,0,DIAS365(CALCULADORA!$C$27,A162))","v":3856},{"$f":"+HLOOKUP(CALCULADORA!$C$9,Tablas!B:B,Flujos!J162+1,FALSE)","v":0},0,0,{"$f":"ROUND(D161*ROUND(((1+CALCULADORA!$C$16)^(1/12)-1),6),6)","v":0},0,{"$f":"IF($B162=0,0,G162/POWER(1+CALCULADORA!$C$29,Flujos!$B162/365))","v":0},"2034-10-24",160,{"$f":"+DIAS365($A$2,A162)","v":4867},-6.0677528381347656E-5,0,-2.9823005199432374E-7,-2.9823005199432374E-7]
[{"$f":"EDATE(A162,1)","v":"2034-11-24"},{"$f":"IF(DIAS365(CALCULADORA!$C$27,A163)<0,0,DIAS365(CALCULADORA!$C$27,A163))","v":3887},{"$f":"+HLOOKUP(CALCULADORA!$C$9,Tablas!B:B,Flujos!J163+1,FALSE)","v":0},0,0,{"$f":"ROUND(D162*ROUND(((1+CALCULADORA!$C$16)^(1/12)-1),6),6)","v":0},0,{"$f":"IF($B163=0,0,G163/POWER(1+CALCULADORA!$C$29,Flujos!$B163/365))","v":0},"2034-11-24",161,{"$f":"+DIAS365($A$2,A163)","v":4898},-6.0677528381347656E-5,0,-2.9823005199432374E-7,-2.9823005199432374E-7]
["2034-12-24",{"$f":"IF(DIAS365(CALCULADORA!$C$27,A164)<0,0,DIAS365(CALCULADORA!$C$27,A164))","v":3917},{"$f":"+HLOOKUP(CALCULADORA!$C$9,Tablas!B:B,Flujos!J164+1,FALSE)","v":0},0,0,{"$f":"ROUND(D163*ROUND(((1+CALCULADORA!$C$16)^(1/12)-1),6),6)","v":0},0,{"$f":"IF($B164=0,0,G164/POWER(1+CALCULADORA!$C$29,Flujos!$B164/365))","v":0},"2034-12-24",162,{"$f":"+DIAS365($A$2,A164)","v":4928},-6.0677528381347656E-5,0,-2.9823005199432374E-7,-2.9823005199432374E-7]
["2035-01-24",{"$f":"IF(DIAS365(CALCULADORA!$C$27,A165)<0,0,DIAS365(CALCULADORA!$C$27,A165))","v":3948},{"$f":"+HLOOKUP(CALCULADORA!$C$9,Tablas!B:B,Flujos!J165+1,FALSE)","v":0},0,0,{"$f":"ROUND(D164*ROUND(((1+CALCULADORA!$C$16)^(1/12)-1),6),6)","v":0},0,{"$f":"IF($B165=0,0,G165/POWER(1+CALCULADORA!$C$29,Flujos!$B165/365))","v":0},"2035-01-24",163,{"$f":"+DIAS365($A$2,A165)","v":4959},-6.0677528381347656E-5,0,-2.9823005199432374E-7,-2.9823005199432374E-7]
["2035-02-24",{"$f":"IF(DIAS365(CALCULADORA!$C$27,A166)<0,0,DIAS365(CALCULADORA!$C$27,A166))","v":3979},{"$f":"+HLOOKUP(CALCULADORA!$C$9,Tablas!B:B,Flujos!J166+1,FALSE)","v":0},0,0,{"$f":"ROUND(D165*ROUND(((1+CALCULADORA!$C$16)^(1/12)-1),6),6)","v":0},0,{"$f":"IF($B166=0,0,G166/POWER(1+CALCULADORA!$C$29,Flujos!$B166/365))","v":0},"2035-02-24",164,{"$f":"+DIAS365($A$2,A166)","v":4990},-6.0677528381347656E-5,0,-2.9823005199432374E-7,-2.9823005199432374E-7]
["2035-03-24",{"$f":"IF(DIAS365(CALCULADORA!$C$27,A167)<0,0,DIAS365(CALCULADORA!$C$27,A167))","v":4007},{"$f":"+HLOOKUP(CALCULADORA!$C$9,Tablas!B:B,Flujos!J167+1,FALSE)","v":0},0,0,{"$f":"ROUND(D166*ROUND(((1+CALCULADORA!$C$16)^(1/12)-1),6),6)","v":0},0,{"$f":"IF($B167=0,0,G167/POWER(1+CALCULADORA!$C$29,Flujos!$B167/365))","v":0},"2035-03-24",165,{"$f":"+DIAS365($A$2,A167)","v":5018},-6.0677528381347656E-5,0,-2.9823005199432374E-7,-2.9823005199432374E-7]
["2035-04-24",{"$f":"IF(DIAS365(CALCULADORA!$C$27,A168)<0,0,DIAS365(CALCULADORA!$C$27,A168))","v":4038},{"$f":"+HLOOKUP(CALCULADORA!$C$9,Tablas!B:B,Flujos!J168+1,FALSE)","v":0},0,0,{"$f":"ROUND(D167*ROUND(((1+CALCULADORA!$C$16)^(1/12)-1),6),6)","v":0},0,{"$f":"IF($B168=0,0,G168/POWER(1+CALCULADORA!$C$29,Flujos!$B168/365))","v":0},"2035-04-24",166,{"$f":"+DIAS365($A$2,A168)","v":5049},-6.0677528381347656E-5,0,-2.9823005199432374E-7,-2.9823005199432374E-7]
["2035-05-24",{"$f":"IF(DIAS365(CALCULADORA!$C$27,A169)<0,0,DIAS365(CALCULADORA!$C$27,A169))","v":4068},{"$f":"+HLOOKUP(CALCULADORA!$C$9,Tablas!B:B,Flujos!J169+1,FALSE)","v":0},0,0,{"$f":"ROUND(D168*ROUND(((1+CALCULADORA!$C$16)^(1/12)-1),6),6)","v":0},0,{"$f":"IF($B169=0,0,G169/POWER(1+CALCULADORA!$C$29,Flujos!$B169/365))","v":0},"2035-05-24",167,{"$f":"+DIAS365($A$2,A169)","v":5079},-6.0677528381347656E-5,0,-2.9823005199432374E-7,-2.9823005199432374E-7]
["2035-06-24",{"$f":"IF(DIAS365(CALCULADORA!$C$27,A170)<0,0,DIAS365(CALCULADORA!$C$27,A170))","v":4099},{"$f":"+HLOOKUP(CALCULADORA!$C$9,Tablas!B:B,Flujos!J170+1,FALSE)","v":0},0,0,{"$f":"ROUND(D169*ROUND(((1+CALCULADORA!$C$16)^(1/12)-1),6),6)","v":0},0,{"$f":"IF($B170=0,0,G170/POWER(1+CALCULADORA!$C$29,Flujos!$B170/365))","v":0},"2035-06-24",168,{"$f":"+DIAS365($A$2,A170)","v":5110},-6.0677528381347656E-5,0,-2.9823005199432374E-7,-2.9823005199432374E-7]
["2035-07-24",{"$f":"IF(DIAS365(CALCULADORA!$C$27,A171)<0,0,DIAS365(CALCULADORA!$C$27,A171))","v":4129},{"$f":"+HLOOKUP(CALCULADORA!$C$9,Tablas!B:B,Flujos!J171+1,FALSE)","v":0},0,0,{"$f":"ROUND(D170*ROUND(((1+CALCULADORA!$C$16)^(1/12)-1),6),6)","v":0},0,{"$f":"IF($B171=0,0,G171/POWER(1+CALCULADORA!$C$29,Flujos!$B171/365))","v":0},"2035-07-24",169,{"$f":"+DIAS365($A$2,A171)","v":5140},-6.0677528381347656E-5,0,-2.9823005199432374E-7,-2.9823005199432374E-7]
["2035-08-24",{"$f":"IF(DIAS365(CALCULADORA!$C$27,A172)<0,0,DIAS365(CALCULADORA!$C$27,A172))","v":4160},{"$f":"+HLOOKUP(CALCULADORA!$C$9,Tablas!B:B,Flujos!J172+1,FALSE)","v":0},0,0,{"$f":"ROUND(D171*ROUND(((1+CALCULADORA!$C$16)^(1/12)-1),6),6)","v":0},0,{"$f":"IF($B172=0,0,G172/POWER(1+CALCULADORA!$C$29,Flujos!$B172/365))","v":0},"2035-08-24",170,{"$f":"+DIAS365($A$2,A172)","v":5171},-6.0677528381347656E-5,0,-2.9823005199432374E-7,-2.9823005199432374E-7]
["2035-09-24",{"$f":"IF(DIAS365(CALCULADORA!$C$27,A173)<0,0,DIAS365(CALCULADORA!$C$27,A173))","v":4191},{"$f":"+HLOOKUP(CALCULADORA!$C$9,Tablas!B:B,Flujos!J173+1,FALSE)","v":0},0,0,{"$f":"ROUND(D172*ROUND(((1+CALCULADORA!$C$16)^(1/12)-1),6),6)","v":0},0,{"$f":"IF($B173=0,0,G173/POWER(1+CALCULADORA!$C$29,Flujos!$B173/365))","v":0},"2035-09-24",171,{"$f":"+DIAS365($A$2,A173)","v":5202},-6.0677528381347656E-5,0,-2.9823005199432374E-7,-2.9823005199432374E-7]
["2035-10-24",{"$f":"IF(DIAS365(CALCULADORA!$C$27,A174)<0,0,DIAS365(CALCULADORA!$C$27,A174))","v":4221},{"$f":"+HLOOKUP(CALCULADORA!$C$9,Tablas!B:B,Flujos!J174+1,FALSE)","v":0},0,0,{"$f":"ROUND(D173*ROUND(((1+CALCULADORA!$C$16)^(1/12)-1),6),6)","v":0},0,{"$f":"IF($B174=0,0,G174/POWER(1+CALCULADORA!$C$29,Flujos!$B174/365))","v":0},"2035-10-24",172,{"$f":"+DIAS365($A$2,A174)","v":5232},-6.0677528381347656E-5,0,-2.9823005199432374E-7,-2.9823005199432374E-7]
["2035-11-24",{"$f":"IF(DIAS365(CALCULADORA!$C$27,A175)<0,0,DIAS365(CALCULADORA!$C$27,A175))","v":4252},{"$f":"+HLOOKUP(CALCULADORA!$C$9,Tablas!B:B,Flujos!J175+1,FALSE)","v":0},0,0,{"$f":"ROUND(D174*ROUND(((1+CALCULADORA!$C$16)^(1/12)-1),6),6)","v":0},0,{"$f":"IF($B175=0,0,G175/POWER(1+CALCULADORA!$C$29,Flujos!$B175/365))","v":0},"2035-11-24",173,{"$f":"+DIAS365($A$2,A175)","v":5263},-6.0677528381347656E-5,0,-2.9823005199432374E-7,-2.9823005199432374E-7]
["2035-12-24",{"$f":"IF(DIAS365(CALCULADORA!$C$27,A176)<0,0,DIAS365(CALCULADORA!$C$27,A176))","v":4282},{"$f":"+HLOOKUP(CALCULADORA!$C$9,Tablas!B:B,Flujos!J176+1,FALSE)","v":0},0,0,{"$f":"ROUND(D175*ROUND(((1+CALCULADORA!$C$16)^(1/12)-1),6),6)","v":0},0,{"$f":"IF($B176=0,0,G176/POWER(1+CALCULADORA!$C$29,Flujos!$B176/365))","v":0},"2035-12-24",174,{"$f":"+DIAS365($A$2,A176)","v":5293},-6.0677528381347656E-5,0,-2.9823005199432374E-7,-2.9823005199432374E-7]
["2036-01-24",{"$f":"IF(DIAS365(CALCULADORA!$C$27,A177)<0,0,DIAS365(CALCULADORA!$C$27,A177))","v":4313},{"$f":"+HLOOKUP(CALCULADORA!$C$9,Tablas!B:B,Flujos!J177+1,FALSE)","v":0},0,0,{"$f":"ROUND(D176*ROUND(((1+CALCULADORA!$C$16)^(1/12)-1),6),6)","v":0},0,{"$f":"IF($B177=0,0,G177/POWER(1+CALCULADORA!$C$29,Flujos!$B177/365))","v":0},"2036-01-24",175,{"$f":"+DIAS365($A$2,A177)","v":5324},-6.0677528381347656E-5,0,-2.9823005199432374E-7,-2.9823005199432374E-7]
["2036-02-24",{"$f":"IF(DIAS365(CALCULADORA!$C$27,A178)<0,0,DIAS365(CALCULADORA!$C$27,A178))","v":4344},{"$f":"+HLOOKUP(CALCULADORA!$C$9,Tablas!B:B,Flujos!J178+1,FALSE)","v":0},0,0,{"$f":"ROUND(D177*ROUND(((1+CALCULADORA!$C$16)^(1/12)-1),6),6)","v":0},0,{"$f":"IF($B178=0,0,G178/POWER(1+CALCULADORA!$C$29,Flujos!$B178/365))","v":0},"2036-02-24",176,{"$f":"+DIAS365($A$2,A178)","v":5355},-6.0677528381347656E-5,0,-2.9823005199432374E-7,-2.9823005199432374E-7]
["2036-03-24",{"$f":"IF(DIAS365(CALCULADORA!$C$27,A179)<0,0,DIAS365(CALCULADORA!$C$27,A179))","v":4372},{"$f":"+HLOOKUP(CALCULADORA!$C$9,Tablas!B:B,Flujos!J179+1,FALSE)","v":0},0,0,{"$f":"ROUND(D178*ROUND(((1+CALCULADORA!$C$16)^(1/12)-1),6),6)","v":0},0,{"$f":"IF($B179=0,0,G179/POWER(1+CALCULADORA!$C$29,Flujos!$B179/365))","v":0},"2036-03-24",177,{"$f":"+DIAS365($A$2,A179)","v":5383},-6.0677528381347656E-5,0,-2.9823005199432374E-7,-2.9823005199432374E-7]
["2036-04-24",{"$f":"IF(DIAS365(CALCULADORA!$C$27,A180)<0,0,DIAS365(CALCULADORA!$C$27,A180))","v":4403},{"$f":"+HLOOKUP(CALCULADORA!$C$9,Tablas!B:B,Flujos!J180+1,FALSE)","v":0},0,0,{"$f":"ROUND(D179*ROUND(((1+CALCULADORA!$C$16)^(1/12)-1),6),6)","v":0},0,{"$f":"IF($B180=0,0,G180/POWER(1+CALCULADORA!$C$29,Flujos!$B180/365))","v":0},"2036-04-24",178,{"$f":"+DIAS365($A$2,A180)","v":5414},-6.0677528381347656E-5,0,-2.9823005199432374E-7,-2.9823005199432374E-7]
["2036-05-24",{"$f":"IF(DIAS365(CALCULADORA!$C$27,A181)<0,0,DIAS365(CALCULADORA!$C$27,A181))","v":4433},{"$f":"+HLOOKUP(CALCULADORA!$C$9,Tablas!B:B,Flujos!J181+1,FALSE)","v":0},0,0,{"$f":"ROUND(D180*ROUND(((1+CALCULADORA!$C$16)^(1/12)-1),6),6)","v":0},0,{"$f":"IF($B181=0,0,G181/POWER(1+CALCULADORA!$C$29,Flujos!$B181/365))","v":0},"2036-05-24",179,{"$f":"+DIAS365($A$2,A181)","v":5444},-6.0677528381347656E-5,0,-2.9823005199432374E-7,-2.9823005199432374E-7]
["2036-06-24",{"$f":"IF(DIAS365(CALCULADORA!$C$27,A182)<0,0,DIAS365(CALCULADORA!$C$27,A182))","v":4464},{"$f":"+HLOOKUP(CALCULADORA!$C$9,Tablas!B:B,Flujos!J182+1,FALSE)","v":0},0,0,{"$f":"ROUND(D181*ROUND(((1+CALCULADORA!$C$16)^(1/12)-1),6),6)","v":0},0,{"$f":"IF($B182=0,0,G182/POWER(1+CALCULADORA!$C$29,Flujos!$B182/365))","v":0},"2036-06-24",180,{"$f":"+DIAS365($A$2,A182)","v":5475},-6.0677528381347656E-5,0,-2.9823005199432374E-7,-2.9823005199432374E-7]
[null,null,{"$f":"+SUMIF(B2:B182,\">0\",C2:C182)","v":0.51884131000000011},null,{"$f":"SUM(E2:E182)","v":100.00000000000003},{"$f":"SUM(F2:F182)","v":20.770806999999998},{"$f":"SUM(G2:G182)","v":120.77080699999996},{"$f":"SUM(H2:H182)","v":46.459216244952962},null,null,null,"Totales",{"$f":"SUM(M2:M182)","v":290499999999.99994},{"$f":"SUM(N2:N182)","v":60339172906.470741},350839172906.47107]

{"sheet":"TIR de Tenencia","index":3,"n_rows":65536,"n_cols":17,"rows_kept":4500,"cut":true,"hidden":true,"merged":[],"bounds":{"rows_first":2000,"rows_last":500,"rows_between":2000,"halvings":0}}
[{"$f":"+Flujos!A1","v":"Fecha"},{"$f":"+Flujos!L1","v":"Saldo / Balance"},{"$f":"+Flujos!M1","v":"Pago de Capital"},{"$f":"+Flujos!N1","v":"Pago de Intereses"},{"$f":"+Flujos!O1","v":"Pago Total"},{"$f":"+CALCULADORA!C27","v":"2024-04-01"},"Fecha","Flujo ","Fecha","Flujo 1","TIR",{"$f":"+DAY(A2)","v":24},{"$f":"+MONTH(G2)","v":3},{"$f":"+YEAR(G2)","v":2024},null,{"$f":"MATCH(MAX('TIR de Tenencia'!I:I),'TIR de Tenencia'!I:I,0)","v":3}]
[{"$f":"+Flujos!A2","v":"2021-06-24"},{"$f":"+Flujos!L2","v":290499999999.99994},{"$f":"+Flujos!M2","v":0},{"$f":"+Flujos!N2","v":0},{"$f":"+Flujos!O2","v":0},null,{"$f":"+CALCULADORA!C23","v":"2024-03-07"},{"$f":"-CALCULADORA!C24","v":-1000000000},{"$f":"+G2","v":"2024-03-07"},{"$f":"+H2","v":-1000000000},{"$f":"+XIRR(J2:J22,I2:I22)","v":{"$error":"#VALUE!"}},{"$f":"+L1","v":24},{"$f":"+IF(M1=12,1,M1+1)","v":4},{"$f":"+IF(M2=1,N1+1,N1)","v":2024},null,1,"Enero"]
[{"$f":"+Flujos!A3","v":"2021-07-24"},{"$f":"+Flujos!L3","v":284827845154.99994},{"$f":"+Flujos!M3","v":5672154844.999999},{"$f":"+Flujos!N3","v":1427807499.9999998},{"$f":"+Flujos!O3","v":7099962344.999999},null,{"$f":"+DATE(N2,M2,L2)","v":"2024-04-24"},{"$f":"IF(G3<CALCULADORA!$C$23,0,IF(CALCULADORA!$C$27>'TIR de Tenencia'!G3,E3,CALCULADORA!$C$33))","v":135135586470},{"$f":"+IF(H3=H2,\" \",G3)","v":"2024-04-24"},{"$f":"+IF(H3=H2,\" \",H3)","v":135135586470},null,{"$f":"+L2","v":24},{"$f":"+IF(M2=12,1,M2+1)","v":5},{"$f":"+IF(M3=1,N2+1,N2)","v":2024},null,2,"Febrero"]
[{"$f":"+Flujos!A4","v":"2021-08-24"},{"$f":"+Flujos!L4","v":276592173059.99994},{"$f":"+Flujos!M4","v":8235672094.9999981},{"$f":"+Flujos!N4","v":1399928858.9368248},{"$f":"+Flujos!O4","v":9635600953.9368229},null,{"$f":"+DATE(N3,M3,L3)","v":"2024-05-24"},{"$f":"IF(G4<CALCULADORA!$C$23,0,IF(CALCULADORA!$C$27>'TIR de Tenencia'!G4,E4,CALCULADORA!$C$33))","v":135135586470},{"$f":"+IF(H4=H3,\" \",G4)","v":" "},{"$f":"+IF(H4=H3,\" \",H4)","v":" "},null,24,6,2024,null,3,"Marzo"]
[{"$f":"+Flujos!A5","v":"2021-09-24"},{"$f":"+Flujos!L5","v":268880859274.99994},{"$f":"+Flujos!M5","v":7711313784.999999},{"$f":"+Flujos!N5","v":1359450530.5898998},{"$f":"+Flujos!O5","v":9070764315.5898991},null,"2024-06-24",{"$f":"IF(G5<CALCULADORA!$C$23,0,IF(CALCULADORA!$C$27>'TIR de Tenencia'!G5,E5,CALCULADORA!$C$33))","v":135135586470},{"$f":"+IF(H5=H4,\" \",G5)","v":" "},{"$f":"+IF(H5=H4,\" \",H5)","v":" "},null,24,7,2024,null,4,"Abril"]
[{"$f":"+Flujos!A6","v":"2021-10-24"},{"$f":"+Flujos!L6","v":261103567129.99994},{"$f":"+Flujos!M6","v":7777292144.9999981},{"$f":"+Flujos!N6","v":1321549423.3366246},{"$f":"+Flujos!O6","v":9098841568.3366222},null,"2024-07-24",{"$f":"IF(G6<CALCULADORA!$C$23,0,IF(CALCULADORA!$C$27>'TIR de Tenencia'!G6,E6,CALCULADORA!$C$33))","v":135135586470}," "," ",null,24,8,2024,null,5,"Mayo"]
[{"$f":"+Flujos!A7","v":"2021-11-24"},{"$f":"+Flujos!L7","v":254780994404.99994},{"$f":"+Flujos!M7","v":6322572724.999999},{"$f":"+Flujos!N7","v":1283324032.4439497},{"$f":"+Flujos!O7","v":7605896757.4439487},null,"2024-08-24",{"$f":"IF(G7<CALCULADORA!$C$23,0,IF(CALCULADORA!$C$27>'TIR de Tenencia'!G7,E7,CALCULADORA!$C$33))","v":135135586470}," "," ",null,24,9,2024,null,6,"Junio"]
[{"$f":"+Flujos!A8","v":"2021-12-24"},{"$f":"+Flujos!L8","v":249459554399.99994},{"$f":"+Flujos!M8","v":5321440004.999999},{"$f":"+Flujos!N8","v":1252248587.5005748},{"$f":"+Flujos!O8","v":6573688592.5005741},null,"2024-09-24",{"$f":"IF(G8<CALCULADORA!$C$23,0,IF(CALCULADORA!$C$27>'TIR de Tenencia'!G8,E8,CALCULADORA!$C$33))","v":135135586470}," "," ",null,24,10,2024,null,7,"Julio"]
[{"$f":"+Flujos!A9","v":"2022-01-24"},{"$f":"+Flujos!L9","v":244245939279.99994},{"$f":"+Flujos!M9","v":5213615119.999999},{"$f":"+Flujos!N9","v":1226093709.8759997},{"$f":"+Flujos!O9","v":6439708829.8759985},null,"2024-10-24",{"$f":"IF(G9<CALCULADORA!$C$23,0,IF(CALCULADORA!$C$27>'TIR de Tenencia'!G9,E9,CALCULADORA!$C$33))","v":135135586470}," "," ",null,24,11,2024,null,8,"Agosto"]
[{"$f":"+Flujos!A10","v":"2022-02-24"},{"$f":"+Flujos!L10","v":239568784699.99994},{"$f":"+Flujos!M10","v":4677154579.999999},{"$f":"+Flujos!N10","v":1200468791.5611997},{"$f":"+Flujos!O10","v":5877623371.5611992},null,"2024-11-24",{"$f":"IF(G10<CALCULADORA!$C$23,0,IF(CALCULADORA!$C$27>'TIR de Tenencia'!G10,E10,CALCULADORA!$C$33))","v":135135586470}," "," ",null,24,12,2024,null,9,"Septiembre"]
[{"$f":"+Flujos!A11","v":"2022-03-24"},{"$f":"+Flujos!L11","v":235302443599.99994},{"$f":"+Flujos!M11","v":4266341099.999999},{"$f":"+Flujos!N11","v":1177480576.8004997},{"$f":"+Flujos!O11","v":5443821676.800499},null,"2024-12-24",{"$f":"IF(G11<CALCULADORA!$C$23,0,IF(CALCULADORA!$C$27>'TIR de Tenencia'!G11,E11,CALCULADORA!$C$33))","v":135135586470}," "," ",null,24,{"$f":"+IF(M10=12,1,M10+1)","v":1},2025,null,10,"Octubre"]
[{"$f":"+Flujos!A12","v":"2022-04-24"},{"$f":"+Flujos!L12","v":231154885044.99994},{"$f":"+Flujos!M12","v":4147558554.999999},{"$f":"+Flujos!N12","v":1156511510.2939997},{"$f":"+Flujos!O12","v":5304070065.2939987},null,"2025-01-24",{"$f":"IF(G12<CALCULADORA!$C$23,0,IF(CALCULADORA!$C$27>'TIR de Tenencia'!G12,E12,CALCULADORA!$C$33))","v":135135586470}," "," ",null,24,2,2025,null,11,"Noviembre"]
[{"$f":"+Flujos!A13","v":"2022-05-24"},{"$f":"+Flujos!L13","v":226127506569.99994},{"$f":"+Flujos!M13","v":5027378474.999999},{"$f":"+Flujos!N13","v":1136126259.9961748},{"$f":"+Flujos!O13","v":6163504734.9961739},null,"2025-02-24",{"$f":"IF(G13<CALCULADORA!$C$23,0,IF(CALCULADORA!$C$27>'TIR de Tenencia'!G13,E13,CALCULADORA!$C$33))","v":135135586470}," "," ",null,24,3,2025,null,12,"Diciembre"]
[{"$f":"+Flujos!A14","v":"2022-06-24"},{"$f":"+Flujos!L14","v":222127565589.99994},{"$f":"+Flujos!M14","v":3999940979.9999995},{"$f":"+Flujos!N14","v":1111416694.7915497},{"$f":"+Flujos!O14","v":5111357674.7915497},null,"2025-03-24",{"$f":"IF(G14<CALCULADORA!$C$23,0,IF(CALCULADORA!$C$27>'TIR de Tenencia'!G14,E14,CALCULADORA!$C$33))","v":135135586470}," "," ",null,24,4,2025]
[{"$f":"+Flujos!A15","v":"2022-07-24"},{"$f":"+Flujos!L15","v":217818378644.99994},{"$f":"+Flujos!M15","v":4309186944.999999},{"$f":"+Flujos!N15","v":1091756984.8748498},{"$f":"+Flujos!O15","v":5400943929.8748493},null,"2025-04-24",{"$f":"IF(G15<CALCULADORA!$C$23,0,IF(CALCULADORA!$C$27>'TIR de Tenencia'!G15,E15,CALCULADORA!$C$33))","v":135135586470}," "," ",null,24,{"$f":"+IF(M14=12,1,M14+1)","v":5},2025]
[{"$f":"+Flujos!A16","v":"2022-08-24"},{"$f":"+Flujos!L16","v":214072927284.99994},{"$f":"+Flujos!M16","v":3745451359.999999},{"$f":"+Flujos!N16","v":1070577331.0401747},{"$f":"+Flujos!O16","v":4816028691.0401735},null,"2025-05-24",{"$f":"IF(G16<CALCULADORA!$C$23,0,IF(CALCULADORA!$C$27>'TIR de Tenencia'!G16,E16,CALCULADORA!$C$33))","v":135135586470}," "," ",null,24,6,2025]
[{"$f":"+Flujos!A17","v":"2022-09-24"},{"$f":"+Flujos!L17","v":210649814724.99994},{"$f":"+Flujos!M17","v":3423112559.9999995},{"$f":"+Flujos!N17","v":1052168437.6057748},{"$f":"+Flujos!O17","v":4475280997.6057739},null,"2025-06-24",{"$f":"IF(G17<CALCULADORA!$C$23,0,IF(CALCULADORA!$C$27>'TIR de Tenencia'!G17,E17,CALCULADORA!$C$33))","v":135135586470},{"$f":"+IF(H17=H16,\" \",G17)","v":" "}," ",null,24,7,2025]
[{"$f":"+Flujos!A18","v":"2022-10-24"},{"$f":"+Flujos!L18","v":207626714854.99994},{"$f":"+Flujos!M18","v":3023099869.9999995},{"$f":"+Flujos!N18","v":1035343839.3733747},{"$f":"+Flujos!O18","v":4058443709.373374},null,"2025-07-24",{"$f":"IF(G18<CALCULADORA!$C$23,0,IF(CALCULADORA!$C$27>'TIR de Tenencia'!G18,E18,CALCULADORA!$C$33))","v":135135586470}," "," ",null,24,8,2025]
[{"$f":"+Flujos!A19","v":"2022-11-24"},{"$f":"+Flujos!L19","v":203772308564.99994},{"$f":"+Flujos!M19","v":3854406289.999999},{"$f":"+Flujos!N19","v":1020485303.5123247},{"$f":"+Flujos!O19","v":4874891593.5123234},null,"2025-08-24",{"$f":"IF(G19<CALCULADORA!$C$23,0,IF(CALCULADORA!$C$27>'TIR de Tenencia'!G19,E19,CALCULADORA!$C$33))","v":135135586470}," "," ",null,24,9,2025]
[{"$f":"+Flujos!A20","v":"2022-12-24"},{"$f":"+Flujos!L20","v":199701959099.99994},{"$f":"+Flujos!M20","v":4070349464.999999},{"$f":"+Flujos!N20","v":1001540896.5969747},{"$f":"+Flujos!O20","v":5071890361.5969734},null,"2025-09-24",{"$f":"IF(G20<CALCULADORA!$C$23,0,IF(CALCULADORA!$C$27>'TIR de Tenencia'!G20,E20,CALCULADORA!$C$33))","v":135135586470}," "," ",null,24,{"$f":"+IF(M19=12,1,M19+1)","v":10},2025]
[{"$f":"+Flujos!A21","v":"2023-01-24"},{"$f":"+Flujos!L21","v":195711770204.99994},{"$f":"+Flujos!M21","v":3990188894.9999995},{"$f":"+Flujos!N21","v":981535128.97649968},{"$f":"+Flujos!O21","v":4971724023.9764996},null,"2025-10-24",{"$f":"IF(G21<CALCULADORA!$C$23,0,IF(CALCULADORA!$C$27>'TIR de Tenencia'!G21,E21,CALCULADORA!$C$33))","v":135135586470}," "," ",null,24,11,2025]
[{"$f":"+Flujos!A22","v":"2023-02-24"},{"$f":"+Flujos!L22","v":191527689989.99994},{"$f":"+Flujos!M22","v":4184080214.9999995},{"$f":"+Flujos!N22","v":961923350.55757475},{"$f":"+Flujos!O22","v":5146003565.5575743},null,"2025-11-24",{"$f":"IF(G22<CALCULADORA!$C$23,0,IF(CALCULADORA!$C$27>'TIR de Tenencia'!G22,E22,CALCULADORA!$C$33))","v":135135586470}," "," ",null,24,12,2025]
[{"$f":"+Flujos!A23","v":"2023-03-24"},{"$f":"+Flujos!L23","v":187975970174.99994},{"$f":"+Flujos!M23","v":3551719814.999999},{"$f":"+Flujos!N23","v":941358596.30084968},{"$f":"+Flujos!O23","v":4493078411.300849},null,"2025-12-24",{"$f":"IF(G23<CALCULADORA!$C$23,0,IF(CALCULADORA!$C$27>'TIR de Tenencia'!G23,E23,CALCULADORA!$C$33))","v":135135586470}," "," ",null,24,1,2026]
[{"$f":"+Flujos!A24","v":"2023-04-24"},{"$f":"+Flujos!L24","v":184314717334.99994},{"$f":"+Flujos!M24","v":3661252839.999999},{"$f":"+Flujos!N24","v":923901893.41012466},{"$f":"+Flujos!O24","v":4585154733.4101238},null,"2026-01-24",{"$f":"IF(G24<CALCULADORA!$C$23,0,IF(CALCULADORA!$C$27>'TIR de Tenencia'!G24,E24,CALCULADORA!$C$33))","v":135135586470}," "," ",null,24,2,2026]
[{"$f":"+Flujos!A25","v":"2023-05-24"},{"$f":"+Flujos!L25","v":181227045124.99994},{"$f":"+Flujos!M25","v":3087672209.9999995},{"$f":"+Flujos!N25","v":905906835.70152473},{"$f":"+Flujos!O25","v":3993579045.7015243},null,"2026-02-24",{"$f":"IF(G25<CALCULADORA!$C$23,0,IF(CALCULADORA!$C$27>'TIR de Tenencia'!G25,E25,CALCULADORA!$C$33))","v":135135586470}," "," ",null,24,3,2026]
[{"$f":"+Flujos!A26","v":"2023-06-24"},{"$f":"+Flujos!L26","v":178406769449.99994},{"$f":"+Flujos!M26","v":2820275674.999999},{"$f":"+Flujos!N26","v":890730926.78937471},{"$f":"+Flujos!O26","v":3711006601.7893739},null,"2026-03-24",{"$f":"IF(G26<CALCULADORA!$C$23,0,IF(CALCULADORA!$C$27>'TIR de Tenencia'!G26,E26,CALCULADORA!$C$33))","v":135135586470}," ",{"$f":"+IF(H26=H25,\" \",H26)","v":" "},null,24,4,2026]
[{"$f":"+Flujos!A27","v":"2023-07-24"},{"$f":"+Flujos!L27","v":175738155109.99994},{"$f":"+Flujos!M27","v":2668614339.9999995},{"$f":"+Flujos!N27","v":876869271.84674966},{"$f":"+Flujos!O27","v":3545483611.8467493},null,"2026-04-24",{"$f":"IF(G27<CALCULADORA!$C$23,0,IF(CALCULADORA!$C$27>'TIR de Tenencia'!G27,E27,CALCULADORA!$C$33))","v":135135586470}," "," ",null,24,5,2026]
[{"$f":"+Flujos!A28","v":"2023-08-24"},{"$f":"+Flujos!L28","v":171808820154.99994},{"$f":"+Flujos!M28","v":3929334954.999999},{"$f":"+Flujos!N28","v":863753032.3656497},{"$f":"+Flujos!O28","v":4793087987.3656483},null,"2026-05-24",{"$f":"IF(G28<CALCULADORA!$C$23,0,IF(CALCULADORA!$C$27>'TIR de Tenencia'!G28,E28,CALCULADORA!$C$33))","v":135135586470}," "," ",null,24,6,2026]
[{"$f":"+Flujos!A29","v":"2023-09-24"},{"$f":"+Flujos!L29","v":168487028184.99994},{"$f":"+Flujos!M29","v":3321791969.9999995},{"$f":"+Flujos!N29","v":844440351.06182468},{"$f":"+Flujos!O29","v":4166232321.0618243},null,"2026-06-24",{"$f":"IF(G29<CALCULADORA!$C$23,0,IF(CALCULADORA!$C$27>'TIR de Tenencia'!G29,E29,CALCULADORA!$C$33))","v":135135586470}," "," ",null,24,7,2026]
[{"$f":"+Flujos!A30","v":"2023-10-24"},{"$f":"+Flujos!L30","v":166069969414.99994},{"$f":"+Flujos!M30","v":2417058769.9999995},{"$f":"+Flujos!N30","v":828113743.5292747},{"$f":"+Flujos!O30","v":3245172513.529274},null,"2026-07-24",{"$f":"IF(G30<CALCULADORA!$C$23,0,IF(CALCULADORA!$C$27>'TIR de Tenencia'!G30,E30,CALCULADORA!$C$33))","v":135135586470}," "," ",null,24,8,2026]
[{"$f":"+Flujos!A31","v":"2023-11-24"},{"$f":"+Flujos!L31","v":162308584129.99994},{"$f":"+Flujos!M31","v":3761385284.999999},{"$f":"+Flujos!N31","v":816233899.6747247},{"$f":"+Flujos!O31","v":4577619184.6747236},null,"2026-08-24",{"$f":"IF(G31<CALCULADORA!$C$23,0,IF(CALCULADORA!$C$27>'TIR de Tenencia'!G31,E31,CALCULADORA!$C$33))","v":135135586470}," "," ",null,24,9,2026]
[{"$f":"+Flujos!A32","v":"2023-12-24"},{"$f":"+Flujos!L32","v":159632352879.99994},{"$f":"+Flujos!M32","v":2676231249.9999995},{"$f":"+Flujos!N32","v":797746690.99894977},{"$f":"+Flujos!O32","v":3473977940.9989491},null,"2026-09-24",{"$f":"IF(G32<CALCULADORA!$C$23,0,IF(CALCULADORA!$C$27>'TIR de Tenencia'!G32,E32,CALCULADORA!$C$33))","v":135135586470}," "," ",null,24,10,2026]
[{"$f":"+Flujos!A33","v":"2024-01-24"},{"$f":"+Flujos!L33","v":156280903764.99994},{"$f":"+Flujos!M33","v":3351449114.999999},{"$f":"+Flujos!N33","v":784593014.40519977},{"$f":"+Flujos!O33","v":4136042129.4051991},null,"2026-10-24",{"$f":"IF(G33<CALCULADORA!$C$23,0,IF(CALCULADORA!$C$27>'TIR de Tenencia'!G33,E33,CALCULADORA!$C$33))","v":135135586470}," "," ",null,24,11,2026]
[{"$f":"+Flujos!A34","v":"2024-02-24"},{"$f":"+Flujos!L34","v":153294383654.99994},{"$f":"+Flujos!M34","v":2986520109.9999995},{"$f":"+Flujos!N34","v":768120642.00497472},{"$f":"+Flujos!O34","v":3754640752.0049744},null,"2026-11-24",{"$f":"IF(G34<CALCULADORA!$C$23,0,IF(CALCULADORA!$C$27>'TIR de Tenencia'!G34,E34,CALCULADORA!$C$33))","v":135135586470}," "," ",null,24,12,2026]
[{"$f":"+Flujos!A35","v":"2024-03-24"},{"$f":"+Flujos!L35","v":150723400554.99994},{"$f":"+Flujos!M35","v":2570983099.9999995},{"$f":"+Flujos!N35","v":753441895.66432476},{"$f":"+Flujos!O35","v":3324424995.6643243},null,{"$f":"+DATE(N34,M34,L34)","v":"2026-12-24"},{"$f":"IF(G35<CALCULADORA!$C$23,0,IF(CALCULADORA!$C$27>'TIR de Tenencia'!G35,E35,CALCULADORA!$C$33))","v":135135586470}," "," ",null,24,1,2027]
[{"$f":"+Flujos!A36","v":"2024-04-24"},{"$f":"+Flujos!L36","v":147490205274.99994},{"$f":"+Flujos!M36","v":3233195279.9999995},{"$f":"+Flujos!N36","v":740805513.72782469},{"$f":"+Flujos!O36","v":3974000793.7278242},null,"2027-01-24",{"$f":"IF(G36<CALCULADORA!$C$23,0,IF(CALCULADORA!$C$27>'TIR de Tenencia'!G36,E36,CALCULADORA!$C$33))","v":135135586470},{"$f":"+IF(IF(H36=H35,\" \",G36)=CALCULADORA!C27,'TIR de Tenencia'!G36,CALCULADORA!C27)","v":"2024-04-01"}," ",null,24,2,2027]
[{"$f":"+Flujos!A37","v":"2024-05-24"},{"$f":"+Flujos!L37","v":144776052154.99994},{"$f":"+Flujos!M37","v":2714153119.9999995},{"$f":"+Flujos!N37","v":724914358.92662466},{"$f":"+Flujos!O37","v":3439067478.9266243},null,"2027-02-24",{"$f":"IF(G37<CALCULADORA!$C$23,0,IF(CALCULADORA!$C$27>'TIR de Tenencia'!G37,E37,CALCULADORA!$C$33))","v":135135586470}," "," ",null,24,3,2027]
[{"$f":"+Flujos!A38","v":"2024-06-24"},{"$f":"+Flujos!L38","v":142142062509.99994},{"$f":"+Flujos!M38","v":2633989644.9999995},{"$f":"+Flujos!N38","v":711574296.34182477},{"$f":"+Flujos!O38","v":3345563941.3418245},null,"2027-03-24",{"$f":"IF(G38<CALCULADORA!$C$23,0,IF(CALCULADORA!$C$27>'TIR de Tenencia'!G38,E38,CALCULADORA!$C$33))","v":135135586470}," "," ",null,24,4,2027]
[{"$f":"+Flujos!A39","v":"2024-07-24"},{"$f":"+Flujos!L39","v":139468094254.99994},{"$f":"+Flujos!M39","v":2673968254.9999995},{"$f":"+Flujos!N39","v":698628237.23664975},{"$f":"+Flujos!O39","v":3372596492.2366495},null,"2027-04-24",{"$f":"IF(G39<CALCULADORA!$C$23,0,IF(CALCULADORA!$C$27>'TIR de Tenencia'!G39,E39,CALCULADORA!$C$33))","v":135135586470}," "," ",null,24,5,2027]
[{"$f":"+Flujos!A40","v":"2024-08-24"},{"$f":"+Flujos!L40","v":136827039649.99994},{"$f":"+Flujos!M40","v":2641054604.999999},{"$f":"+Flujos!N40","v":685485683.26332474},{"$f":"+Flujos!O40","v":3326540288.2633238},null,"2027-05-24",{"$f":"IF(G40<CALCULADORA!$C$23,0,IF(CALCULADORA!$C$27>'TIR de Tenencia'!G40,E40,CALCULADORA!$C$33))","v":135135586470}," "," ",null,24,6,2027]
[{"$f":"+Flujos!A41","v":"2024-09-24"},{"$f":"+Flujos!L41","v":134199220224.99994},{"$f":"+Flujos!M41","v":2627819424.999999},{"$f":"+Flujos!N41","v":672504899.87974966},{"$f":"+Flujos!O41","v":3300324324.8797488},null,"2027-06-24",{"$f":"IF(G41<CALCULADORA!$C$23,0,IF(CALCULADORA!$C$27>'TIR de Tenencia'!G41,E41,CALCULADORA!$C$33))","v":135135586470}," "," ",null,24,7,2027]
[{"$f":"+Flujos!A42","v":"2024-10-24"},{"$f":"+Flujos!L42","v":131599840749.99994},{"$f":"+Flujos!M42","v":2599379474.9999995},{"$f":"+Flujos!N42","v":659589167.40587473},{"$f":"+Flujos!O42","v":3258968642.4058743},null,"2027-07-24",{"$f":"IF(G42<CALCULADORA!$C$23,0,IF(CALCULADORA!$C$27>'TIR de Tenencia'!G42,E42,CALCULADORA!$C$33))","v":135135586470}," "," ",null,24,8,2027]
[{"$f":"+Flujos!A43","v":"2024-11-24"},{"$f":"+Flujos!L43","v":129032616719.99994},{"$f":"+Flujos!M43","v":2567224029.9999995},{"$f":"+Flujos!N43","v":646813217.28624976},{"$f":"+Flujos!O43","v":3214037247.2862492},null,"2027-08-24",{"$f":"IF(G43<CALCULADORA!$C$23,0,IF(CALCULADORA!$C$27>'TIR de Tenencia'!G43,E43,CALCULADORA!$C$33))","v":135135586470}," "," ",null,24,9,2027]
[{"$f":"+Flujos!A44","v":"2024-12-24"},{"$f":"+Flujos!L44","v":126489100394.99994},{"$f":"+Flujos!M44","v":2543516324.9999995},{"$f":"+Flujos!N44","v":634195311.17879975},{"$f":"+Flujos!O44","v":3177711636.1787992},null,"2027-09-24",{"$f":"IF(G44<CALCULADORA!$C$23,0,IF(CALCULADORA!$C$27>'TIR de Tenencia'!G44,E44,CALCULADORA!$C$33))","v":135135586470}," "," ",null,24,10,2027]
[{"$f":"+Flujos!A45","v":"2025-01-24"},{"$f":"+Flujos!L45","v":123968391224.99994},{"$f":"+Flujos!M45","v":2520709169.9999995},{"$f":"+Flujos!N45","v":621693928.44142473},{"$f":"+Flujos!O45","v":3142403098.4414244},null,"2027-10-24",{"$f":"IF(G45<CALCULADORA!$C$23,0,IF(CALCULADORA!$C$27>'TIR de Tenencia'!G45,E45,CALCULADORA!$C$33))","v":135135586470}," "," ",null,24,11,2027]
[{"$f":"+Flujos!A46","v":"2025-02-24"},{"$f":"+Flujos!L46","v":121467587114.99994},{"$f":"+Flujos!M46","v":2500804109.9999995},{"$f":"+Flujos!N46","v":609304642.87087476},{"$f":"+Flujos!O46","v":3110108752.8708744},null,"2027-11-24",{"$f":"IF(G46<CALCULADORA!$C$23,0,IF(CALCULADORA!$C$27>'TIR de Tenencia'!G46,E46,CALCULADORA!$C$33))","v":135135586470}," "," ",null,24,12,2027]
[{"$f":"+Flujos!A47","v":"2025-03-24"},{"$f":"+Flujos!L47","v":118987911069.99994},{"$f":"+Flujos!M47","v":2479676044.9999995},{"$f":"+Flujos!N47","v":597013190.67022467},{"$f":"+Flujos!O47","v":3076689235.6702242},null,"2027-12-24",{"$f":"IF(G47<CALCULADORA!$C$23,0,IF(CALCULADORA!$C$27>'TIR de Tenencia'!G47,E47,CALCULADORA!$C$33))","v":135135586470}," "," ",null,24,1,2028]
[{"$f":"+Flujos!A48","v":"2025-04-24"},{"$f":"+Flujos!L48","v":116529214934.99994},{"$f":"+Flujos!M48","v":2458696134.9999995},{"$f":"+Flujos!N48","v":584825582.90904975},{"$f":"+Flujos!O48","v":3043521717.909049},null,"2028-01-24",{"$f":"IF(G48<CALCULADORA!$C$23,0,IF(CALCULADORA!$C$27>'TIR de Tenencia'!G48,E48,CALCULADORA!$C$33))","v":135135586470}," "," ",null,24,2,2028]
[{"$f":"+Flujos!A49","v":"2025-05-24"},{"$f":"+Flujos!L49","v":114085581224.99994},{"$f":"+Flujos!M49","v":2443633709.9999995},{"$f":"+Flujos!N49","v":572741091.40552473},{"$f":"+Flujos!O49","v":3016374801.4055243},null,"2028-02-24",{"$f":"IF(G49<CALCULADORA!$C$23,0,IF(CALCULADORA!$C$27>'TIR de Tenencia'!G49,E49,CALCULADORA!$C$33))","v":135135586470}," "," ",null,24,3,2028]
[{"$f":"+Flujos!A50","v":"2025-06-24"},{"$f":"+Flujos!L50","v":111730785319.99994},{"$f":"+Flujos!M50","v":2354795904.9999995},{"$f":"+Flujos!N50","v":560730631.72087467},{"$f":"+Flujos!O50","v":2915526536.7208743},null,"2028-03-24",{"$f":"IF(G50<CALCULADORA!$C$23,0,IF(CALCULADORA!$C$27>'TIR de Tenencia'!G50,E50,CALCULADORA!$C$33))","v":135135586470}," "," ",null,24,4,2028]
[{"$f":"+Flujos!A51","v":"2025-07-24"},{"$f":"+Flujos!L51","v":109328408419.99994},{"$f":"+Flujos!M51","v":2402376899.9999995},{"$f":"+Flujos!N51","v":549156809.84779966},{"$f":"+Flujos!O51","v":2951533709.8477993},null,"2028-04-24",{"$f":"IF(G51<CALCULADORA!$C$23,0,IF(CALCULADORA!$C$27>'TIR de Tenencia'!G51,E51,CALCULADORA!$C$33))","v":135135586470}," "," ",null,24,5,2028]
[{"$f":"+Flujos!A52","v":"2025-08-24"},{"$f":"+Flujos!L52","v":106944701954.99994},{"$f":"+Flujos!M52","v":2383706464.9999995},{"$f":"+Flujos!N52","v":537349127.38429976},{"$f":"+Flujos!O52","v":2921055592.3842993},null,"2028-05-24",{"$f":"IF(G52<CALCULADORA!$C$23,0,IF(CALCULADORA!$C$27>'TIR de Tenencia'!G52,E52,CALCULADORA!$C$33))","v":135135586470}," "," ",null,24,6,2028]
[{"$f":"+Flujos!A53","v":"2025-09-24"},{"$f":"+Flujos!L53","v":104574956919.99994},{"$f":"+Flujos!M53","v":2369745034.9999995},{"$f":"+Flujos!N53","v":525633210.10882473},{"$f":"+Flujos!O53","v":2895378245.1088243},null,"2028-06-24",{"$f":"IF(G53<CALCULADORA!$C$23,0,IF(CALCULADORA!$C$27>'TIR de Tenencia'!G53,E53,CALCULADORA!$C$33))","v":135135586470}," "," ",null,24,7,2028]
[{"$f":"+Flujos!A54","v":"2025-10-24"},{"$f":"+Flujos!L54","v":102232425924.99994},{"$f":"+Flujos!M54","v":2342530994.9999995},{"$f":"+Flujos!N54","v":513985913.26179969},{"$f":"+Flujos!O54","v":2856516908.2617993},null,"2028-07-24",{"$f":"IF(G54<CALCULADORA!$C$23,0,IF(CALCULADORA!$C$27>'TIR de Tenencia'!G54,E54,CALCULADORA!$C$33))","v":135135586470}," "," ",null,24,8,2028]
[{"$f":"+Flujos!A55","v":"2025-11-24"},{"$f":"+Flujos!L55","v":99903106869.999939},{"$f":"+Flujos!M55","v":2329319054.9999995},{"$f":"+Flujos!N55","v":502472373.42137474},{"$f":"+Flujos!O55","v":2831791428.4213743},null,"2028-08-24",{"$f":"IF(G55<CALCULADORA!$C$23,0,IF(CALCULADORA!$C$27>'TIR de Tenencia'!G55,E55,CALCULADORA!$C$33))","v":135135586470}," "," ",null,24,9,2028]
[{"$f":"+Flujos!A56","v":"2025-12-24"},{"$f":"+Flujos!L56","v":97595540454.999939},{"$f":"+Flujos!M56","v":2307566414.9999995},{"$f":"+Flujos!N56","v":491023770.26604968},{"$f":"+Flujos!O56","v":2798590185.2660494},null,"2028-09-24",{"$f":"IF(G56<CALCULADORA!$C$23,0,IF(CALCULADORA!$C$27>'TIR de Tenencia'!G56,E56,CALCULADORA!$C$33))","v":135135586470}," "," ",null,24,10,2028]
[{"$f":"+Flujos!A57","v":"2026-01-24"},{"$f":"+Flujos!L57","v":95307626364.999939},{"$f":"+Flujos!M57","v":2287914089.9999995},{"$f":"+Flujos!N57","v":479682081.33632469},{"$f":"+Flujos!O57","v":2767596171.3363242},null,"2028-10-24",{"$f":"IF(G57<CALCULADORA!$C$23,0,IF(CALCULADORA!$C$27>'TIR de Tenencia'!G57,E57,CALCULADORA!$C$33))","v":135135586470}," "," ",null,24,11,2028]
[{"$f":"+Flujos!A58","v":"2026-02-24"},{"$f":"+Flujos!L58","v":93041900664.999939},{"$f":"+Flujos!M58","v":2265725699.9999995},{"$f":"+Flujos!N58","v":468436983.58397472},{"$f":"+Flujos!O58","v":2734162683.5839744},null,"2028-11-24",{"$f":"IF(G58<CALCULADORA!$C$23,0,IF(CALCULADORA!$C$27>'TIR de Tenencia'!G58,E58,CALCULADORA!$C$33))","v":135135586470}," "," ",null,24,12,2028]
[{"$f":"+Flujos!A59","v":"2026-03-24"},{"$f":"+Flujos!L59","v":90796106169.999939},{"$f":"+Flujos!M59","v":2245794494.9999995},{"$f":"+Flujos!N59","v":457300941.7684747},{"$f":"+Flujos!O59","v":2703095436.7684741},null,"2028-12-24",{"$f":"IF(G59<CALCULADORA!$C$23,0,IF(CALCULADORA!$C$27>'TIR de Tenencia'!G59,E59,CALCULADORA!$C$33))","v":135135586470}," "," ",null,24,1,2029]
[{"$f":"+Flujos!A60","v":"2026-04-24"},{"$f":"+Flujos!L60","v":88561469779.999939},{"$f":"+Flujos!M60","v":2234636389.9999995},{"$f":"+Flujos!N60","v":446262861.82554972},{"$f":"+Flujos!O60","v":2680899251.8255491},null,"2029-01-24",{"$f":"IF(G60<CALCULADORA!$C$23,0,IF(CALCULADORA!$C$27>'TIR de Tenencia'!G60,E60,CALCULADORA!$C$33))","v":135135586470}," "," ",null,24,2,2029]
[{"$f":"+Flujos!A61","v":"2026-05-24"},{"$f":"+Flujos!L61","v":86351061089.999939},{"$f":"+Flujos!M61","v":2210408689.9999995},{"$f":"+Flujos!N61","v":435279623.96869969},{"$f":"+Flujos!O61","v":2645688313.9686995},null,"2029-02-24",{"$f":"IF(G61<CALCULADORA!$C$23,0,IF(CALCULADORA!$C$27>'TIR de Tenencia'!G61,E61,CALCULADORA!$C$33))","v":135135586470}," "," ",null,24,3,2029]
[{"$f":"+Flujos!A62","v":"2026-06-24"},{"$f":"+Flujos!L62","v":84224243774.999939},{"$f":"+Flujos!M62","v":2126817314.9999995},{"$f":"+Flujos!N62","v":424415465.25734973},{"$f":"+Flujos!O62","v":2551232780.257349},null,"2029-03-24",{"$f":"IF(G62<CALCULADORA!$C$23,0,IF(CALCULADORA!$C$27>'TIR de Tenencia'!G62,E62,CALCULADORA!$C$33))","v":135135586470}," "," ",null,24,4,2029]
[{"$f":"+Flujos!A63","v":"2026-07-24"},{"$f":"+Flujos!L63","v":82046754544.999939},{"$f":"+Flujos!M63","v":2177489229.9999995},{"$f":"+Flujos!N63","v":413962158.15412474},{"$f":"+Flujos!O63","v":2591451388.1541243},null,"2029-04-24",{"$f":"IF(G63<CALCULADORA!$C$23,0,IF(CALCULADORA!$C$27>'TIR de Tenencia'!G63,E63,CALCULADORA!$C$33))","v":135135586470}," "," ",null,24,5,2029]
[{"$f":"+Flujos!A64","v":"2026-08-24"},{"$f":"+Flujos!L64","v":79889298194.999939},{"$f":"+Flujos!M64","v":2157456349.9999995},{"$f":"+Flujos!N64","v":403259798.58867472},{"$f":"+Flujos!O64","v":2560716148.5886741},null,"2029-05-24",{"$f":"IF(G64<CALCULADORA!$C$23,0,IF(CALCULADORA!$C$27>'TIR de Tenencia'!G64,E64,CALCULADORA!$C$33))","v":135135586470}," "," ",null,24,6,2029]
[{"$f":"+Flujos!A65","v":"2026-09-24"},{"$f":"+Flujos!L65","v":77750131724.999939},{"$f":"+Flujos!M65","v":2139166469.9999995},{"$f":"+Flujos!N65","v":392655900.6284247},{"$f":"+Flujos!O65","v":2531822370.6284242},null,"2029-06-24",{"$f":"IF(G65<CALCULADORA!$C$23,0,IF(CALCULADORA!$C$27>'TIR de Tenencia'!G65,E65,CALCULADORA!$C$33))","v":135135586470}," "," ",null,24,7,2029]
[{"$f":"+Flujos!A66","v":"2026-10-24"},{"$f":"+Flujos!L66","v":75629635689.999939},{"$f":"+Flujos!M66","v":2120496034.9999995},{"$f":"+Flujos!N66","v":382141897.42837471},{"$f":"+Flujos!O66","v":2502637932.4283743},null,"2029-07-24",{"$f":"IF(G66<CALCULADORA!$C$23,0,IF(CALCULADORA!$C$27>'TIR de Tenencia'!G66,E66,CALCULADORA!$C$33))","v":135135586470}," "," ",null,24,8,{"$f":"+IF(M66=1,N65+1,N65)","v":2029}]
[{"$f":"+Flujos!A67","v":"2026-11-24"},{"$f":"+Flujos!L67","v":73523716944.999939},{"$f":"+Flujos!M67","v":2105918744.9999995},{"$f":"+Flujos!N67","v":371719659.41634971},{"$f":"+Flujos!O67","v":2477638404.4163494},null,{"$f":"+DATE(N66,M66,L66)","v":"2029-08-24"},{"$f":"IF(G67<CALCULADORA!$C$23,0,IF(CALCULADORA!$C$27>'TIR de Tenencia'!G67,E67,CALCULADORA!$C$33))","v":135135586470}," "," ",null,{"$f":"+L66","v":24},{"$f":"+IF(M66=12,1,M66+1)","v":9},2029]
[{"$f":"+Flujos!A68","v":"2026-12-24"},{"$f":"+Flujos!L68","v":71437270414.999939},{"$f":"+Flujos!M68","v":2086446529.9999995},{"$f":"+Flujos!N68","v":361369068.7846747},{"$f":"+Flujos!O68","v":2447815598.7846742},null,"2029-09-24",{"$f":"IF(G68<CALCULADORA!$C$23,0,IF(CALCULADORA!$C$27>'TIR de Tenencia'!G68,E68,CALCULADORA!$C$33))","v":135135586470},{"$f":"+IF(H68=H67,\" \",G68)","v":" "},{"$f":"+IF(H68=H67,\" \",H68)","v":" "},null,24,10,2029]
[{"$f":"+Flujos!A69","v":"2027-01-24"},{"$f":"+Flujos!L69","v":69365773014.999939},{"$f":"+Flujos!M69","v":2071497399.9999995},{"$f":"+Flujos!N69","v":351114184.08972472},{"$f":"+Flujos!O69","v":2422611584.0897241},null,"2029-10-24",{"$f":"IF(G69<CALCULADORA!$C$23,0,IF(CALCULADORA!$C$27>'TIR de Tenencia'!G69,E69,CALCULADORA!$C$33))","v":135135586470}," "," ",null,24,11,2029]
[{"$f":"+Flujos!A70","v":"2027-02-24"},{"$f":"+Flujos!L70","v":67313079679.999939},{"$f":"+Flujos!M70","v":2052693334.9999995},{"$f":"+Flujos!N70","v":340932774.3687247},{"$f":"+Flujos!O70","v":2393626109.3687243},null,"2029-11-24",{"$f":"IF(G70<CALCULADORA!$C$23,0,IF(CALCULADORA!$C$27>'TIR de Tenencia'!G70,E70,CALCULADORA!$C$33))","v":135135586470}," "," ",null,24,12,2029]
[{"$f":"+Flujos!A71","v":"2027-03-24"},{"$f":"+Flujos!L71","v":65275762509.999939},{"$f":"+Flujos!M71","v":2037317169.9999995},{"$f":"+Flujos!N71","v":330843786.62719971},{"$f":"+Flujos!O71","v":2368160956.6271992},null,"2029-12-24",{"$f":"IF(G71<CALCULADORA!$C$23,0,IF(CALCULADORA!$C$27>'TIR de Tenencia'!G71,E71,CALCULADORA!$C$33))","v":135135586470}," "," ",null,24,1,2030]
[{"$f":"+Flujos!A72","v":"2027-04-24"},{"$f":"+Flujos!L72","v":63257995989.999939},{"$f":"+Flujos!M72","v":2017766519.9999995},{"$f":"+Flujos!N72","v":320830372.73664969},{"$f":"+Flujos!O72","v":2338596892.736649},null,"2030-01-24",{"$f":"IF(G72<CALCULADORA!$C$23,0,IF(CALCULADORA!$C$27>'TIR de Tenencia'!G72,E72,CALCULADORA!$C$33))","v":135135586470}," "," ",null,24,2,2030]
[{"$f":"+Flujos!A73","v":"2027-05-24"},{"$f":"+Flujos!L73","v":61258748844.999939},{"$f":"+Flujos!M73","v":1999247144.9999998},{"$f":"+Flujos!N73","v":310913050.29084969},{"$f":"+Flujos!O73","v":2310160195.2908497},null,"2030-02-24",{"$f":"IF(G73<CALCULADORA!$C$23,0,IF(CALCULADORA!$C$27>'TIR de Tenencia'!G73,E73,CALCULADORA!$C$33))","v":135135586470}," "," ",null,24,3,2030]
[{"$f":"+Flujos!A74","v":"2027-06-24"},{"$f":"+Flujos!L74","v":59350166749.999939},{"$f":"+Flujos!M74","v":1908582094.9999998},{"$f":"+Flujos!N74","v":301086750.57317472},{"$f":"+Flujos!O74","v":2209668845.5731745},null,"2030-03-24",{"$f":"IF(G74<CALCULADORA!$C$23,0,IF(CALCULADORA!$C$27>'TIR de Tenencia'!G74,E74,CALCULADORA!$C$33))","v":135135586470}," "," ",null,24,4,2030]
[{"$f":"+Flujos!A75","v":"2027-07-24"},{"$f":"+Flujos!L75","v":57394587564.999939},{"$f":"+Flujos!M75","v":1955579184.9999995},{"$f":"+Flujos!N75","v":291706069.57624972},{"$f":"+Flujos!O75","v":2247285254.5762491},null,"2030-04-24",{"$f":"IF(G75<CALCULADORA!$C$23,0,IF(CALCULADORA!$C$27>'TIR de Tenencia'!G75,E75,CALCULADORA!$C$33))","v":135135586470}," "," ",null,24,5,2030]
[{"$f":"+Flujos!A76","v":"2027-08-24"},{"$f":"+Flujos!L76","v":55454904539.999939},{"$f":"+Flujos!M76","v":1939683024.9999998},{"$f":"+Flujos!N76","v":282094397.8819747},{"$f":"+Flujos!O76","v":2221777422.8819742},null,"2030-05-24",{"$f":"IF(G76<CALCULADORA!$C$23,0,IF(CALCULADORA!$C$27>'TIR de Tenencia'!G76,E76,CALCULADORA!$C$33))","v":135135586470}," "," ",null,24,6,2030]
[{"$f":"+Flujos!A77","v":"2027-09-24"},{"$f":"+Flujos!L77","v":53534289934.999939},{"$f":"+Flujos!M77","v":1920614604.9999995},{"$f":"+Flujos!N77","v":272560855.81409973},{"$f":"+Flujos!O77","v":2193175460.8140993},null,"2030-06-24",{"$f":"IF(G77<CALCULADORA!$C$23,0,IF(CALCULADORA!$C$27>'TIR de Tenencia'!G77,E77,CALCULADORA!$C$33))","v":135135586470}," "," ",null,24,7,2030]
[{"$f":"+Flujos!A78","v":"2027-10-24"},{"$f":"+Flujos!L78","v":51631093709.999939},{"$f":"+Flujos!M78","v":1903196224.9999998},{"$f":"+Flujos!N78","v":263121035.0305247},{"$f":"+Flujos!O78","v":2166317260.0305243},null,"2030-07-24",{"$f":"IF(G78<CALCULADORA!$C$23,0,IF(CALCULADORA!$C$27>'TIR de Tenencia'!G78,E78,CALCULADORA!$C$33))","v":135135586470}," "," ",null,24,8,2030]
[{"$f":"+Flujos!A79","v":"2027-11-24"},{"$f":"+Flujos!L79","v":49743787834.999939},{"$f":"+Flujos!M79","v":1887305874.9999995},{"$f":"+Flujos!N79","v":253766825.58464971},{"$f":"+Flujos!O79","v":2141072700.5846493},null,"2030-08-24",{"$f":"IF(G79<CALCULADORA!$C$23,0,IF(CALCULADORA!$C$27>'TIR de Tenencia'!G79,E79,CALCULADORA!$C$33))","v":135135586470}," "," ",null,24,9,2030]
[{"$f":"+Flujos!A80","v":"2027-12-24"},{"$f":"+Flujos!L80","v":47874684689.999939},{"$f":"+Flujos!M80","v":1869103144.9999995},{"$f":"+Flujos!N80","v":244490717.2090247},{"$f":"+Flujos!O80","v":2113593862.2090242},null,"2030-09-24",{"$f":"IF(G80<CALCULADORA!$C$23,0,IF(CALCULADORA!$C$27>'TIR de Tenencia'!G80,E80,CALCULADORA!$C$33))","v":135135586470}," "," ",null,24,10,2030]
[{"$f":"+Flujos!A81","v":"2028-01-24"},{"$f":"+Flujos!L81","v":46024048629.999939},{"$f":"+Flujos!M81","v":1850636059.9999998},{"$f":"+Flujos!N81","v":235304075.25134972},{"$f":"+Flujos!O81","v":2085940135.2513494},null,"2030-10-24",{"$f":"IF(G81<CALCULADORA!$C$23,0,IF(CALCULADORA!$C$27>'TIR de Tenencia'!G81,E81,CALCULADORA!$C$33))","v":135135586470}," "," ",null,24,11,2030]
[{"$f":"+Flujos!A82","v":"2028-02-24"},{"$f":"+Flujos!L82","v":44192059764.999939},{"$f":"+Flujos!M82","v":1831988864.9999995},{"$f":"+Flujos!N82","v":226208199.01644969},{"$f":"+Flujos!O82","v":2058197064.0164492},null,"2030-11-24",{"$f":"IF(G82<CALCULADORA!$C$23,0,IF(CALCULADORA!$C$27>'TIR de Tenencia'!G82,E82,CALCULADORA!$C$33))","v":135135586470}," "," ",null,24,12,2030]
[{"$f":"+Flujos!A83","v":"2028-03-24"},{"$f":"+Flujos!L83","v":42377747824.999939},{"$f":"+Flujos!M83","v":1814311939.9999998},{"$f":"+Flujos!N83","v":217203973.7449747},{"$f":"+Flujos!O83","v":2031515913.7449744},null,"2030-12-24",{"$f":"IF(G83<CALCULADORA!$C$23,0,IF(CALCULADORA!$C$27>'TIR de Tenencia'!G83,E83,CALCULADORA!$C$33))","v":135135586470}," "," ",null,24,1,2031]
[{"$f":"+Flujos!A84","v":"2028-04-24"},{"$f":"+Flujos!L84","v":40582492684.999939},{"$f":"+Flujos!M84","v":1795255139.9999995},{"$f":"+Flujos!N84","v":208286630.55987471},{"$f":"+Flujos!O84","v":2003541770.5598743},null,"2031-01-24",{"$f":"IF(G84<CALCULADORA!$C$23,0,IF(CALCULADORA!$C$27>'TIR de Tenencia'!G84,E84,CALCULADORA!$C$33))","v":135135586470}," "," ",null,24,2,2031]
[{"$f":"+Flujos!A85","v":"2028-05-24"},{"$f":"+Flujos!L85","v":38804531009.999939},{"$f":"+Flujos!M85","v":1777961674.9999998},{"$f":"+Flujos!N85","v":199462951.54677472},{"$f":"+Flujos!O85","v":1977424626.5467744},null,"2031-02-24",{"$f":"IF(G85<CALCULADORA!$C$23,0,IF(CALCULADORA!$C$27>'TIR de Tenencia'!G85,E85,CALCULADORA!$C$33))","v":135135586470}," "," ",null,24,3,2031]
[{"$f":"+Flujos!A86","v":"2028-06-24"},{"$f":"+Flujos!L86","v":37117347679.999939},{"$f":"+Flujos!M86","v":1687183329.9999995},{"$f":"+Flujos!N86","v":190724269.9141497},{"$f":"+Flujos!O86","v":1877907599.9141493},null,"2031-03-24",{"$f":"IF(G86<CALCULADORA!$C$23,0,IF(CALCULADORA!$C$27>'TIR de Tenencia'!G86,E86,CALCULADORA!$C$33))","v":135135586470}," "," ",null,24,4,2031]
[{"$f":"+Flujos!A87","v":"2028-07-24"},{"$f":"+Flujos!L87","v":35379567964.999939},{"$f":"+Flujos!M87","v":1737779714.9999998},{"$f":"+Flujos!N87","v":182431763.84719971},{"$f":"+Flujos!O87","v":1920211478.8471994},null,"2031-04-24",{"$f":"IF(G87<CALCULADORA!$C$23,0,IF(CALCULADORA!$C$27>'TIR de Tenencia'!G87,E87,CALCULADORA!$C$33))","v":135135586470}," "," ",null,24,5,2031]
[{"$f":"+Flujos!A88","v":"2028-08-24"},{"$f":"+Flujos!L88","v":33662100009.999939},{"$f":"+Flujos!M88","v":1717467954.9999995},{"$f":"+Flujos!N88","v":173890576.54797471},{"$f":"+Flujos!O88","v":1891358531.5479741},null,"2031-05-24",{"$f":"IF(G88<CALCULADORA!$C$23,0,IF(CALCULADORA!$C$27>'TIR de Tenencia'!G88,E88,CALCULADORA!$C$33))","v":135135586470}," "," ",null,24,6,2031]
[{"$f":"+Flujos!A89","v":"2028-09-24"},{"$f":"+Flujos!L89","v":31969411704.999939},{"$f":"+Flujos!M89","v":1692688304.9999995},{"$f":"+Flujos!N89","v":165449221.54914969},{"$f":"+Flujos!O89","v":1858137526.5491493},null,"2031-06-24",{"$f":"IF(G89<CALCULADORA!$C$23,0,IF(CALCULADORA!$C$27>'TIR de Tenencia'!G89,E89,CALCULADORA!$C$33))","v":135135586470}," "," ",null,24,7,2031]
[{"$f":"+Flujos!A90","v":"2028-10-24"},{"$f":"+Flujos!L90","v":30294958084.999939},{"$f":"+Flujos!M90","v":1674453619.9999995},{"$f":"+Flujos!N90","v":157129658.53007472},{"$f":"+Flujos!O90","v":1831583278.5300741},null,"2031-07-24",{"$f":"IF(G90<CALCULADORA!$C$23,0,IF(CALCULADORA!$C$27>'TIR de Tenencia'!G90,E90,CALCULADORA!$C$33))","v":135135586470}," "," ",null,24,8,2031]
[{"$f":"+Flujos!A91","v":"2028-11-24"},{"$f":"+Flujos!L91","v":28640098689.999939},{"$f":"+Flujos!M91","v":1654859394.9999995},{"$f":"+Flujos!N91","v":148899718.9877747},{"$f":"+Flujos!O91","v":1803759113.9877741},null,"2031-08-24",{"$f":"IF(G91<CALCULADORA!$C$23,0,IF(CALCULADORA!$C$27>'TIR de Tenencia'!G91,E91,CALCULADORA!$C$33))","v":135135586470}," "," ",null,24,9,2031]
[{"$f":"+Flujos!A92","v":"2028-12-24"},{"$f":"+Flujos!L92","v":27004014309.999939},{"$f":"+Flujos!M92","v":1636084379.9999998},{"$f":"+Flujos!N92","v":140766085.06134969},{"$f":"+Flujos!O92","v":1776850465.0613494},null,"2031-09-24",{"$f":"IF(G92<CALCULADORA!$C$23,0,IF(CALCULADORA!$C$27>'TIR de Tenencia'!G92,E92,CALCULADORA!$C$33))","v":135135586470}," "," ",null,24,10,2031]
[{"$f":"+Flujos!A93","v":"2029-01-24"},{"$f":"+Flujos!L93","v":25386550979.999939},{"$f":"+Flujos!M93","v":1617463329.9999998},{"$f":"+Flujos!N93","v":132724730.33364971},{"$f":"+Flujos!O93","v":1750188060.3336494},null,"2031-10-24",{"$f":"IF(G93<CALCULADORA!$C$23,0,IF(CALCULADORA!$C$27>'TIR de Tenencia'!G93,E93,CALCULADORA!$C$33))","v":135135586470}," "," ",null,24,11,2031]
[{"$f":"+Flujos!A94","v":"2029-02-24"},{"$f":"+Flujos!L94","v":23789268684.999939},{"$f":"+Flujos!M94","v":1597282294.9999995},{"$f":"+Flujos!N94","v":124774898.0666997},{"$f":"+Flujos!O94","v":1722057193.0666993},null,"2031-11-24",{"$f":"IF(G94<CALCULADORA!$C$23,0,IF(CALCULADORA!$C$27>'TIR de Tenencia'!G94,E94,CALCULADORA!$C$33))","v":135135586470}," "," ",null,24,12,2031]
[{"$f":"+Flujos!A95","v":"2029-03-24"},{"$f":"+Flujos!L95","v":22210851459.999939},{"$f":"+Flujos!M95","v":1578417224.9999998},{"$f":"+Flujos!N95","v":116924255.58677471},{"$f":"+Flujos!O95","v":1695341480.5867743},null,"2031-12-24",{"$f":"IF(G95<CALCULADORA!$C$23,0,IF(CALCULADORA!$C$27>'TIR de Tenencia'!G95,E95,CALCULADORA!$C$33))","v":135135586470}," "," ",null,24,1,2032]
[{"$f":"+Flujos!A96","v":"2029-04-24"},{"$f":"+Flujos!L96","v":20653193364.999939},{"$f":"+Flujos!M96","v":1557658094.9999995},{"$f":"+Flujos!N96","v":109166334.9258997},{"$f":"+Flujos!O96","v":1666824429.9258993},null,"2032-01-24",{"$f":"IF(G96<CALCULADORA!$C$23,0,IF(CALCULADORA!$C$27>'TIR de Tenencia'!G96,E96,CALCULADORA!$C$33))","v":135135586470}," "," ",null,24,2,2032]
[{"$f":"+Flujos!A97","v":"2029-05-24"},{"$f":"+Flujos!L97","v":19115632059.999939},{"$f":"+Flujos!M97","v":1537561304.9999998},{"$f":"+Flujos!N97","v":101510445.3889747},{"$f":"+Flujos!O97","v":1639071750.3889744},null,"2032-02-24",{"$f":"IF(G97<CALCULADORA!$C$23,0,IF(CALCULADORA!$C$27>'TIR de Tenencia'!G97,E97,CALCULADORA!$C$33))","v":135135586470}," "," ",null,24,3,2032]
[{"$f":"+Flujos!A98","v":"2029-06-24"},{"$f":"+Flujos!L98","v":17674153629.999939},{"$f":"+Flujos!M98","v":1441478429.9999998},{"$f":"+Flujos!N98","v":93953331.574899703},{"$f":"+Flujos!O98","v":1535431761.5748994},null,"2032-03-24",{"$f":"IF(G98<CALCULADORA!$C$23,0,IF(CALCULADORA!$C$27>'TIR de Tenencia'!G98,E98,CALCULADORA!$C$33))","v":135135586470}," "," ",null,24,4,2032]
[{"$f":"+Flujos!A99","v":"2029-07-24"},{"$f":"+Flujos!L99","v":16183031654.999939},{"$f":"+Flujos!M99","v":1491121974.9999995},{"$f":"+Flujos!N99","v":86868465.091449708},{"$f":"+Flujos!O99","v":1577990440.0914493},null,{"$f":"+DATE(N98,M98,L98)","v":"2032-04-24"},{"$f":"IF(G99<CALCULADORA!$C$23,0,IF(CALCULADORA!$C$27>'TIR de Tenencia'!G99,E99,CALCULADORA!$C$33))","v":135135586470}," "," ",null,24,5,2032]
[{"$f":"+Flujos!A100","v":"2029-08-24"},{"$f":"+Flujos!L100","v":14720744709.999939},{"$f":"+Flujos!M100","v":1462286944.9999998},{"$f":"+Flujos!N100","v":79539600.584324703},{"$f":"+Flujos!O100","v":1541826545.5843244},null,"2032-05-24",{"$f":"IF(G100<CALCULADORA!$C$23,0,IF(CALCULADORA!$C$27>'TIR de Tenencia'!G100,E100,CALCULADORA!$C$33))","v":135135586470}," "," ",null,24,6,2032]
[{"$f":"+Flujos!A101","v":"2029-09-24"},{"$f":"+Flujos!L101","v":13294186359.999939},{"$f":"+Flujos!M101","v":1426558349.9999995},{"$f":"+Flujos!N101","v":72352460.249649704},{"$f":"+Flujos!O101","v":1498910810.2496493},null,"2032-06-24",{"$f":"IF(G101<CALCULADORA!$C$23,0,IF(CALCULADORA!$C$27>'TIR de Tenencia'!G101,E101,CALCULADORA!$C$33))","v":135135586470}," "," ",null,24,7,2032]
[{"$f":"+Flujos!A102","v":"2029-10-24"},{"$f":"+Flujos!L102","v":13294186359.999939},{"$f":"+Flujos!M102","v":0},{"$f":"+Flujos!N102","v":65340925.9593997},{"$f":"+Flujos!O102","v":65340925.9593997},null,"2032-07-24",{"$f":"IF(G102<CALCULADORA!$C$23,0,IF(CALCULADORA!$C$27>'TIR de Tenencia'!G102,E102,CALCULADORA!$C$33))","v":135135586470}," "," ",null,24,8,2032]
[{"$f":"+Flujos!A103","v":"2029-11-24"},{"$f":"+Flujos!L103","v":13294186359.999939},{"$f":"+Flujos!M103","v":0},{"$f":"+Flujos!N103","v":65340925.9593997},{"$f":"+Flujos!O103","v":65340925.9593997},null,"2032-08-24",{"$f":"IF(G103<CALCULADORA!$C$23,0,IF(CALCULADORA!$C$27>'TIR de Tenencia'!G103,E103,CALCULADORA!$C$33))","v":135135586470}," "," ",null,24,9,2032]
[{"$f":"+Flujos!A104","v":"2029-12-24"},{"$f":"+Flujos!L104","v":13294186359.999939},{"$f":"+Flujos!M104","v":0},{"$f":"+Flujos!N104","v":65340925.9593997},{"$f":"+Flujos!O104","v":65340925.9593997},null,"2032-09-24",{"$f":"IF(G104<CALCULADORA!$C$23,0,IF(CALCULADORA!$C$27>'TIR de Tenencia'!G104,E104,CALCULADORA!$C$33))","v":135135586470}," "," ",null,24,10,2032]
[{"$f":"+Flujos!A105","v":"2030-01-24"},{"$f":"+Flujos!L105","v":13294186359.999939},{"$f":"+Flujos!M105","v":0},{"$f":"+Flujos!N105","v":65340925.9593997},{"$f":"+Flujos!O105","v":65340925.9593997},null,"2032-10-24",{"$f":"IF(G105<CALCULADORA!$C$23,0,IF(CALCULADORA!$C$27>'TIR de Tenencia'!G105,E105,CALCULADORA!$C$33))","v":135135586470}," "," ",null,24,11,2032]
[{"$f":"+Flujos!A106","v":"2030-02-24"},{"$f":"+Flujos!L106","v":13294186359.999939},{"$f":"+Flujos!M106","v":0},{"$f":"+Flujos!N106","v":65340925.9593997},{"$f":"+Flujos!O106","v":65340925.9593997},null,"2032-11-24",{"$f":"IF(G106<CALCULADORA!$C$23,0,IF(CALCULADORA!$C$27>'TIR de Tenencia'!G106,E106,CALCULADORA!$C$33))","v":135135586470}," "," ",null,24,12,2032]
[{"$f":"+Flujos!A107","v":"2030-03-24"},{"$f":"+Flujos!L107","v":13294186359.999939},{"$f":"+Flujos!M107","v":0},{"$f":"+Flujos!N107","v":65340925.9593997},{"$f":"+Flujos!O107","v":65340925.9593997},null,"2032-12-24",{"$f":"IF(G107<CALCULADORA!$C$23,0,IF(CALCULADORA!$C$27>'TIR de Tenencia'!G107,E107,CALCULADORA!$C$33))","v":135135586470}," "," ",null,24,1,2033]
[{"$f":"+Flujos!A108","v":"2030-04-24"},{"$f":"+Flujos!L108","v":13294186359.999939},{"$f":"+Flujos!M108","v":0},{"$f":"+Flujos!N108","v":65340925.9593997},{"$f":"+Flujos!O108","v":65340925.9593997},null,"2033-01-24",{"$f":"IF(G108<CALCULADORA!$C$23,0,IF(CALCULADORA!$C$27>'TIR de Tenencia'!G108,E108,CALCULADORA!$C$33))","v":135135586470}," "," ",null,24,2,2033]
[{"$f":"+Flujos!A109","v":"2030-05-24"},{"$f":"+Flujos!L109","v":13294186359.999939},{"$f":"+Flujos!M109","v":0},{"$f":"+Flujos!N109","v":65340925.9593997},{"$f":"+Flujos!O109","v":65340925.9593997},null,"2033-02-24",{"$f":"IF(G109<CALCULADORA!$C$23,0,IF(CALCULADORA!$C$27>'TIR de Tenencia'!G109,E109,CALCULADORA!$C$33))","v":135135586470}," "," ",null,24,3,2033]
[{"$f":"+Flujos!A110","v":"2030-06-24"},{"$f":"+Flujos!L110","v":13294186359.999939},{"$f":"+Flujos!M110","v":0},{"$f":"+Flujos!N110","v":65340925.9593997},{"$f":"+Flujos!O110","v":65340925.9593997},null,"2033-03-24",{"$f":"IF(G110<CALCULADORA!$C$23,0,IF(CALCULADORA!$C$27>'TIR de Tenencia'!G110,E110,CALCULADORA!$C$33))","v":135135586470}," "," ",null,24,4,2033]
[{"$f":"+Flujos!A111","v":"2030-07-24"},{"$f":"+Flujos!L111","v":13294186359.999939},{"$f":"+Flujos!M111","v":0},{"$f":"+Flujos!N111","v":65340925.9593997},{"$f":"+Flujos!O111","v":65340925.9593997},null,"2033-04-24",{"$f":"IF(G111<CALCULADORA!$C$23,0,IF(CALCULADORA!$C$27>'TIR de Tenencia'!G111,E111,CALCULADORA!$C$33))","v":135135586470}," "," ",null,24,5,{"$f":"+IF(M111=1,N110+1,N110)","v":2033}]
[{"$f":"+Flujos!A112","v":"2030-08-24"},{"$f":"+Flujos!L112","v":13294186359.999939},{"$f":"+Flujos!M112","v":0},{"$f":"+Flujos!N112","v":65340925.9593997},{"$f":"+Flujos!O112","v":65340925.9593997},null,"2033-05-24",{"$f":"IF(G112<CALCULADORA!$C$23,0,IF(CALCULADORA!$C$27>'TIR de Tenencia'!G112,E112,CALCULADORA!$C$33))","v":135135586470}," "," ",null,24,6,2033]
[{"$f":"+Flujos!A113","v":"2030-09-24"},{"$f":"+Flujos!L113","v":13294186359.999939},{"$f":"+Flujos!M113","v":0},{"$f":"+Flujos!N113","v":65340925.9593997},{"$f":"+Flujos!O113","v":65340925.9593997},null,"2033-06-24",{"$f":"IF(G113<CALCULADORA!$C$23,0,IF(CALCULADORA!$C$27>'TIR de Tenencia'!G113,E113,CALCULADORA!$C$33))","v":135135586470}," "," ",null,24,7,2033]
[{"$f":"+Flujos!A114","v":"2030-10-24"},{"$f":"+Flujos!L114","v":13294186359.999939},{"$f":"+Flujos!M114","v":0},{"$f":"+Flujos!N114","v":65340925.9593997},{"$f":"+Flujos!O114","v":65340925.9593997},null,"2033-07-24",{"$f":"IF(G114<CALCULADORA!$C$23,0,IF(CALCULADORA!$C$27>'TIR de Tenencia'!G114,E114,CALCULADORA!$C$33))","v":135135586470}," "," ",null,24,8,2033]
[{"$f":"+Flujos!A115","v":"2030-11-24"},{"$f":"+Flujos!L115","v":13294186359.999939},{"$f":"+Flujos!M115","v":0},{"$f":"+Flujos!N115","v":65340925.9593997},{"$f":"+Flujos!O115","v":65340925.9593997},null,"2033-08-24",{"$f":"IF(G115<CALCULADORA!$C$23,0,IF(CALCULADORA!$C$27>'TIR de Tenencia'!G115,E115,CALCULADORA!$C$33))","v":135135586470}," "," ",null,24,9,2033]
[{"$f":"+Flujos!A116","v":"2030-12-24"},{"$f":"+Flujos!L116","v":13294186359.999939},{"$f":"+Flujos!M116","v":0},{"$f":"+Flujos!N116","v":65340925.9593997},{"$f":"+Flujos!O116","v":65340925.9593997},null,"2033-09-24",{"$f":"IF(G116<CALCULADORA!$C$23,0,IF(CALCULADORA!$C$27>'TIR de Tenencia'!G116,E116,CALCULADORA!$C$33))","v":135135586470}," "," ",null,24,10,2033]
[{"$f":"+Flujos!A117","v":"2031-01-24"},{"$f":"+Flujos!L117","v":12751953584.999939},{"$f":"+Flujos!M117","v":542232774.99999988},{"$f":"+Flujos!N117","v":65340925.9593997},{"$f":"+Flujos!O117","v":607573700.95939958},null,"2033-10-24",{"$f":"IF(G117<CALCULADORA!$C$23,0,IF(CALCULADORA!$C$27>'TIR de Tenencia'!G117,E117,CALCULADORA!$C$33))","v":135135586470}," "," ",null,24,11,2033]
[{"$f":"+Flujos!A118","v":"2031-02-24"},{"$f":"+Flujos!L118","v":11690626359.999939},{"$f":"+Flujos!M118","v":1061327224.9999998},{"$f":"+Flujos!N118","v":62675851.8702747},{"$f":"+Flujos!O118","v":1124003076.8702745},null,"2033-11-24",{"$f":"IF(G118<CALCULADORA!$C$23,0,IF(CALCULADORA!$C$27>'TIR de Tenencia'!G118,E118,CALCULADORA!$C$33))","v":135135586470}," "," ",null,24,12,2033]
[{"$f":"+Flujos!A119","v":"2031-03-24"},{"$f":"+Flujos!L119","v":10642653419.999939},{"$f":"+Flujos!M119","v":1047972939.9999999},{"$f":"+Flujos!N119","v":57459428.559399702},{"$f":"+Flujos!O119","v":1105432368.5593996},null,"2033-12-24",{"$f":"IF(G119<CALCULADORA!$C$23,0,IF(CALCULADORA!$C$27>'TIR de Tenencia'!G119,E119,CALCULADORA!$C$33))","v":135135586470}," "," ",null,24,1,2034]
[{"$f":"+Flujos!A120","v":"2031-04-24"},{"$f":"+Flujos!L120","v":9605426074.999939},{"$f":"+Flujos!M120","v":1037227344.9999998},{"$f":"+Flujos!N120","v":52308641.5592997},{"$f":"+Flujos!O120","v":1089535986.5592995},null,"2034-01-24",{"$f":"IF(G120<CALCULADORA!$C$23,0,IF(CALCULADORA!$C$27>'TIR de Tenencia'!G120,E120,CALCULADORA!$C$33))","v":135135586470}," "," ",null,24,2,2034]
[{"$f":"+Flujos!A121","v":"2031-05-24"},{"$f":"+Flujos!L121","v":8578032154.999939},{"$f":"+Flujos!M121","v":1027393919.9999999},{"$f":"+Flujos!N121","v":47210669.158624701},{"$f":"+Flujos!O121","v":1074604589.1586246},null,"2034-02-24",{"$f":"IF(G121<CALCULADORA!$C$23,0,IF(CALCULADORA!$C$27>'TIR de Tenencia'!G121,E121,CALCULADORA!$C$33))","v":135135586470}," "," ",null,24,3,2034]
[{"$f":"+Flujos!A122","v":"2031-06-24"},{"$f":"+Flujos!L122","v":7647383449.999939},{"$f":"+Flujos!M122","v":930648704.99999976},{"$f":"+Flujos!N122","v":42161028.041824698},{"$f":"+Flujos!O122","v":972809733.04182446},null,"2034-03-24",{"$f":"IF(G122<CALCULADORA!$C$23,0,IF(CALCULADORA!$C$27>'TIR de Tenencia'!G122,E122,CALCULADORA!$C$33))","v":135135586470}," "," ",null,24,4,2034]
[{"$f":"+Flujos!A123","v":"2031-07-24"},{"$f":"+Flujos!L123","v":6641660829.999939},{"$f":"+Flujos!M123","v":1005722619.9999998},{"$f":"+Flujos!N123","v":37586889.656749703},{"$f":"+Flujos!O123","v":1043309509.6567495},null,"2034-04-24",{"$f":"IF(G123<CALCULADORA!$C$23,0,IF(CALCULADORA!$C$27>'TIR de Tenencia'!G123,E123,CALCULADORA!$C$33))","v":135135586470}," "," ",null,24,5,2034]
[{"$f":"+Flujos!A124","v":"2031-08-24"},{"$f":"+Flujos!L124","v":5645341694.999939},{"$f":"+Flujos!M124","v":996319134.99999988},{"$f":"+Flujos!N124","v":32643762.979449701},{"$f":"+Flujos!O124","v":1028962897.9794496},null,"2034-05-24",{"$f":"IF(G124<CALCULADORA!$C$23,0,IF(CALCULADORA!$C$27>'TIR de Tenencia'!G124,E124,CALCULADORA!$C$33))","v":135135586470}," "," ",null,24,6,2034]
[{"$f":"+Flujos!A125","v":"2031-09-24"},{"$f":"+Flujos!L125","v":4658702019.999939},{"$f":"+Flujos!M125","v":986639674.99999976},{"$f":"+Flujos!N125","v":27746854.430924699},{"$f":"+Flujos!O125","v":1014386529.4309244},null,"2034-06-24",{"$f":"IF(G125<CALCULADORA!$C$23,0,IF(CALCULADORA!$C$27>'TIR de Tenencia'!G125,E125,CALCULADORA!$C$33))","v":135135586470}," "," ",null,24,7,2034]
[{"$f":"+Flujos!A126","v":"2031-10-24"},{"$f":"+Flujos!L126","v":3682142694.999939},{"$f":"+Flujos!M126","v":976559324.99999976},{"$f":"+Flujos!N126","v":22897520.428299699},{"$f":"+Flujos!O126","v":999456845.42829943},null,"2034-07-24",{"$f":"IF(G126<CALCULADORA!$C$23,0,IF(CALCULADORA!$C$27>'TIR de Tenencia'!G126,E126,CALCULADORA!$C$33))","v":135135586470}," "," ",null,24,8,2034]
[{"$f":"+Flujos!A127","v":"2031-11-24"},{"$f":"+Flujos!L127","v":2716880914.999939},{"$f":"+Flujos!M127","v":965261779.99999988},{"$f":"+Flujos!N127","v":18097731.345924702},{"$f":"+Flujos!O127","v":983359511.34592462},null,"2034-08-24",{"$f":"IF(G127<CALCULADORA!$C$23,0,IF(CALCULADORA!$C$27>'TIR de Tenencia'!G127,E127,CALCULADORA!$C$33))","v":135135586470}," "," ",null,24,9,2034]
[{"$f":"+Flujos!A128","v":"2031-12-24"},{"$f":"+Flujos!L128","v":1761147534.999939},{"$f":"+Flujos!M128","v":955733379.99999988},{"$f":"+Flujos!N128","v":13353469.697224701},{"$f":"+Flujos!O128","v":969086849.69722462},null,"2034-09-24",{"$f":"IF(G128<CALCULADORA!$C$23,0,IF(CALCULADORA!$C$27>'TIR de Tenencia'!G128,E128,CALCULADORA!$C$33))","v":135135586470}," "," ",null,24,10,2034]
[{"$f":"+Flujos!A129","v":"2032-01-24"},{"$f":"+Flujos!L129","v":816235279.9999392},{"$f":"+Flujos!M129","v":944912254.99999976},{"$f":"+Flujos!N129","v":8656040.1345246993},{"$f":"+Flujos!O129","v":953568295.13452446},null,"2034-10-24",{"$f":"IF(G129<CALCULADORA!$C$23,0,IF(CALCULADORA!$C$27>'TIR de Tenencia'!G129,E129,CALCULADORA!$C$33))","v":135135586470}," "," ",null,24,11,2034]
[{"$f":"+Flujos!A130","v":"2032-02-24"},{"$f":"+Flujos!L130","v":-6.0677528381347656E-5},{"$f":"+Flujos!M130","v":816235279.99999988},{"$f":"+Flujos!N130","v":4011796.4011997012},{"$f":"+Flujos!O130","v":820247076.40119958},null,"2034-11-24",{"$f":"IF(G130<CALCULADORA!$C$23,0,IF(CALCULADORA!$C$27>'TIR de Tenencia'!G130,E130,CALCULADORA!$C$33))","v":135135586470}," "," ",null,24,12,2034]
[{"$f":"+Flujos!A131","v":"2032-03-24"},{"$f":"+Flujos!L131","v":-6.0677528381347656E-5},{"$f":"+Flujos!M131","v":0},{"$f":"+Flujos!N131","v":-2.9823005199432374E-7},{"$f":"+Flujos!O131","v":-2.9823005199432374E-7},null,{"$f":"+DATE(N130,M130,L130)","v":"2034-12-24"},{"$f":"IF(G131<CALCULADORA!$C$23,0,IF(CALCULADORA!$C$27>'TIR de Tenencia'!G131,E131,CALCULADORA!$C$33))","v":135135586470}," "," ",null,{"$f":"+L130","v":24},{"$f":"+IF(M130=12,1,M130+1)","v":1},{"$f":"+IF(M131=1,N130+1,N130)","v":2035}]
[{"$f":"+Flujos!A132","v":"2032-04-24"},{"$f":"+Flujos!L132","v":-6.0677528381347656E-5},{"$f":"+Flujos!M132","v":0},{"$f":"+Flujos!N132","v":-2.9823005199432374E-7},{"$f":"+Flujos!O132","v":-2.9823005199432374E-7},null,"2035-01-24",{"$f":"IF(G132<CALCULADORA!$C$23,0,IF(CALCULADORA!$C$27>'TIR de Tenencia'!G132,E132,CALCULADORA!$C$33))","v":135135586470},{"$f":"+IF(H132=H131,\" \",G132)","v":" "},{"$f":"+IF(H132=H131,\" \",H132)","v":" "},null,24,2,2035]
[{"$f":"+Flujos!A133","v":"2032-05-24"},{"$f":"+Flujos!L133","v":-6.0677528381347656E-5},{"$f":"+Flujos!M133","v":0},{"$f":"+Flujos!N133","v":-2.9823005199432374E-7},{"$f":"+Flujos!O133","v":-2.9823005199432374E-7},null,"2035-02-24",{"$f":"IF(G133<CALCULADORA!$C$23,0,IF(CALCULADORA!$C$27>'TIR de Tenencia'!G133,E133,CALCULADORA!$C$33))","v":135135586470}," "," ",null,24,3,2035]
[{"$f":"+Flujos!A134","v":"2032-06-24"},{"$f":"+Flujos!L134","v":-6.0677528381347656E-5},{"$f":"+Flujos!M134","v":0},{"$f":"+Flujos!N134","v":-2.9823005199432374E-7},{"$f":"+Flujos!O134","v":-2.9823005199432374E-7},null,"2035-03-24",{"$f":"IF(G134<CALCULADORA!$C$23,0,IF(CALCULADORA!$C$27>'TIR de Tenencia'!G134,E134,CALCULADORA!$C$33))","v":135135586470}," "," ",null,24,4,2035]
[{"$f":"+Flujos!A135","v":"2032-07-24"},{"$f":"+Flujos!L135","v":-6.0677528381347656E-5},{"$f":"+Flujos!M135","v":0},{"$f":"+Flujos!N135","v":-2.9823005199432374E-7},{"$f":"+Flujos!O135","v":-2.9823005199432374E-7},null,"2035-04-24",{"$f":"IF(G135<CALCULADORA!$C$23,0,IF(CALCULADORA!$C$27>'TIR de Tenencia'!G135,E135,CALCULADORA!$C$33))","v":135135586470}," "," ",null,24,5,2035]
[{"$f":"+Flujos!A136","v":"2032-08-24"},{"$f":"+Flujos!L136","v":-6.0677528381347656E-5},{"$f":"+Flujos!M136","v":0},{"$f":"+Flujos!N136","v":-2.9823005199432374E-7},{"$f":"+Flujos!O136","v":-2.9823005199432374E-7},null,"2035-05-24",{"$f":"IF(G136<CALCULADORA!$C$23,0,IF(CALCULADORA!$C$27>'TIR de Tenencia'!G136,E136,CALCULADORA!$C$33))","v":135135586470}," "," ",null,24,6,2035]
[{"$f":"+Flujos!A137","v":"2032-09-24"},{"$f":"+Flujos!L137","v":-6.0677528381347656E-5},{"$f":"+Flujos!M137","v":0},{"$f":"+Flujos!N137","v":-2.9823005199432374E-7},{"$f":"+Flujos!O137","v":-2.9823005199432374E-7},null,"2035-06-24",{"$f":"IF(G137<CALCULADORA!$C$23,0,IF(CALCULADORA!$C$27>'TIR de Tenencia'!G137,E137,CALCULADORA!$C$33))","v":135135586470}," "," ",null,24,7,2035]
[{"$f":"+Flujos!A138","v":"2032-10-24"},{"$f":"+Flujos!L138","v":-6.0677528381347656E-5},{"$f":"+Flujos!M138","v":0},{"$f":"+Flujos!N138","v":-2.9823005199432374E-7},{"$f":"+Flujos!O138","v":-2.9823005199432374E-7},null,"2035-07-24",{"$f":"IF(G138<CALCULADORA!$C$23,0,IF(CALCULADORA!$C$27>'TIR de Tenencia'!G138,E138,CALCULADORA!$C$33))","v":135135586470}," "," ",null,24,8,2035]
[{"$f":"+Flujos!A139","v":"2032-11-24"},{"$f":"+Flujos!L139","v":-6.0677528381347656E-5},{"$f":"+Flujos!M139","v":0},{"$f":"+Flujos!N139","v":-2.9823005199432374E-7},{"$f":"+Flujos!O139","v":-2.9823005199432374E-7},null,"2035-08-24",{"$f":"IF(G139<CALCULADORA!$C$23,0,IF(CALCULADORA!$C$27>'TIR de Tenencia'!G139,E139,CALCULADORA!$C$33))","v":135135586470}," "," ",null,24,9,2035]
[{"$f":"+Flujos!A140","v":"2032-12-24"},{"$f":"+Flujos!L140","v":-6.0677528381347656E-5},{"$f":"+Flujos!M140","v":0},{"$f":"+Flujos!N140","v":-2.9823005199432374E-7},{"$f":"+Flujos!O140","v":-2.9823005199432374E-7},null,"2035-09-24",{"$f":"IF(G140<CALCULADORA!$C$23,0,IF(CALCULADORA!$C$27>'TIR de Tenencia'!G140,E140,CALCULADORA!$C$33))","v":135135586470}," "," ",null,24,10,2035]
[{"$f":"+Flujos!A141","v":"2033-01-24"},{"$f":"+Flujos!L141","v":-6.0677528381347656E-5},{"$f":"+Flujos!M141","v":0},{"$f":"+Flujos!N141","v":-2.9823005199432374E-7},{"$f":"+Flujos!O141","v":-2.9823005199432374E-7},null,"2035-10-24",{"$f":"IF(G141<CALCULADORA!$C$23,0,IF(CALCULADORA!$C$27>'TIR de Tenencia'!G141,E141,CALCULADORA!$C$33))","v":135135586470}," "," ",null,24,11,2035]
[{"$f":"+Flujos!A142","v":"2033-02-24"},{"$f":"+Flujos!L142","v":-6.0677528381347656E-5},{"$f":"+Flujos!M142","v":0},{"$f":"+Flujos!N142","v":-2.9823005199432374E-7},{"$f":"+Flujos!O142","v":-2.9823005199432374E-7},null,"2035-11-24",{"$f":"IF(G142<CALCULADORA!$C$23,0,IF(CALCULADORA!$C$27>'TIR de Tenencia'!G142,E142,CALCULADORA!$C$33))","v":135135586470}," "," ",null,24,12,2035]
[{"$f":"+Flujos!A143","v":"2033-03-24"},{"$f":"+Flujos!L143","v":-6.0677528381347656E-5},{"$f":"+Flujos!M143","v":0},{"$f":"+Flujos!N143","v":-2.9823005199432374E-7},{"$f":"+Flujos!O143","v":-2.9823005199432374E-7},null,"2035-12-24",{"$f":"IF(G143<CALCULADORA!$C$23,0,IF(CALCULADORA!$C$27>'TIR de Tenencia'!G143,E143,CALCULADORA!$C$33))","v":135135586470}," "," ",null,24,1,2036]
[{"$f":"+Flujos!A144","v":"2033-04-24"},{"$f":"+Flujos!L144","v":-6.0677528381347656E-5},{"$f":"+Flujos!M144","v":0},{"$f":"+Flujos!N144","v":-2.9823005199432374E-7},{"$f":"+Flujos!O144","v":-2.9823005199432374E-7},null,"2036-01-24",{"$f":"IF(G144<CALCULADORA!$C$23,0,IF(CALCULADORA!$C$27>'TIR de Tenencia'!G144,E144,CALCULADORA!$C$33))","v":135135586470}," "," ",null,24,2,2036]
[{"$f":"+Flujos!A145","v":"2033-05-24"},{"$f":"+Flujos!L145","v":-6.0677528381347656E-5},{"$f":"+Flujos!M145","v":0},{"$f":"+Flujos!N145","v":-2.9823005199432374E-7},{"$f":"+Flujos!O145","v":-2.9823005199432374E-7},null,"2036-02-24",{"$f":"IF(G145<CALCULADORA!$C$23,0,IF(CALCULADORA!$C$27>'TIR de Tenencia'!G145,E145,CALCULADORA!$C$33))","v":135135586470}," "," ",null,24,3,2036]
[{"$f":"+Flujos!A146","v":"2033-06-24"},{"$f":"+Flujos!L146","v":-6.0677528381347656E-5},{"$f":"+Flujos!M146","v":0},{"$f":"+Flujos!N146","v":-2.9823005199432374E-7},{"$f":"+Flujos!O146","v":-2.9823005199432374E-7},null,"2036-03-24",{"$f":"IF(G146<CALCULADORA!$C$23,0,IF(CALCULADORA!$C$27>'TIR de Tenencia'!G146,E146,CALCULADORA!$C$33))","v":135135586470}," "," ",null,24,4,2036]
[{"$f":"+Flujos!A147","v":"2033-07-24"},{"$f":"+Flujos!L147","v":-6.0677528381347656E-5},{"$f":"+Flujos!M147","v":0},{"$f":"+Flujos!N147","v":-2.9823005199432374E-7},{"$f":"+Flujos!O147","v":-2.9823005199432374E-7},null,"2036-04-24",{"$f":"IF(G147<CALCULADORA!$C$23,0,IF(CALCULADORA!$C$27>'TIR de Tenencia'!G147,E147,CALCULADORA!$C$33))","v":135135586470}," "," ",null,24,5,2036]
[{"$f":"+Flujos!A148","v":"2033-08-24"},{"$f":"+Flujos!L148","v":-6.0677528381347656E-5},{"$f":"+Flujos!M148","v":0},{"$f":"+Flujos!N148","v":-2.9823005199432374E-7},{"$f":"+Flujos!O148","v":-2.9823005199432374E-7},null,"2036-05-24",{"$f":"IF(G148<CALCULADORA!$C$23,0,IF(CALCULADORA!$C$27>'TIR de Tenencia'!G148,E148,CALCULADORA!$C$33))","v":135135586470}," "," ",null,24,6,2036]
[{"$f":"+Flujos!A149","v":"2033-09-24"},{"$f":"+Flujos!L149","v":-6.0677528381347656E-5},{"$f":"+Flujos!M149","v":0},{"$f":"+Flujos!N149","v":-2.9823005199432374E-7},{"$f":"+Flujos!O149","v":-2.9823005199432374E-7},null,"2036-06-24",{"$f":"IF(G149<CALCULADORA!$C$23,0,IF(CALCULADORA!$C$27>'TIR de Tenencia'!G149,E149,CALCULADORA!$C$33))","v":135135586470}," "," ",null,24,7,2036]
[{"$f":"+Flujos!A150","v":"2033-10-24"},{"$f":"+Flujos!L150","v":-6.0677528381347656E-5},{"$f":"+Flujos!M150","v":0},{"$f":"+Flujos!N150","v":-2.9823005199432374E-7},{"$f":"+Flujos!O150","v":-2.9823005199432374E-7},null,"2036-07-24",{"$f":"IF(G150<CALCULADORA!$C$23,0,IF(CALCULADORA!$C$27>'TIR de Tenencia'!G150,E150,CALCULADORA!$C$33))","v":135135586470}," "," ",null,24,8,2036]
[{"$f":"+Flujos!A151","v":"2033-11-24"},{"$f":"+Flujos!L151","v":-6.0677528381347656E-5},{"$f":"+Flujos!M151","v":0},{"$f":"+Flujos!N151","v":-2.9823005199432374E-7},{"$f":"+Flujos!O151","v":-2.9823005199432374E-7},null,"2036-08-24",{"$f":"IF(G151<CALCULADORA!$C$23,0,IF(CALCULADORA!$C$27>'TIR de Tenencia'!G151,E151,CALCULADORA!$C$33))","v":135135586470}," "," ",null,24,9,2036]
[{"$f":"+Flujos!A152","v":"2033-12-24"},{"$f":"+Flujos!L152","v":-6.0677528381347656E-5},{"$f":"+Flujos!M152","v":0},{"$f":"+Flujos!N152","v":-2.9823005199432374E-7},{"$f":"+Flujos!O152","v":-2.9823005199432374E-7},null,"2036-09-24",{"$f":"IF(G152<CALCULADORA!$C$23,0,IF(CALCULADORA!$C$27>'TIR de Tenencia'!G152,E152,CALCULADORA!$C$33))","v":135135586470}," "," ",null,24,10,2036]
[{"$f":"+Flujos!A153","v":"2034-01-24"},{"$f":"+Flujos!L153","v":-6.0677528381347656E-5},{"$f":"+Flujos!M153","v":0},{"$f":"+Flujos!N153","v":-2.9823005199432374E-7},{"$f":"+Flujos!O153","v":-2.9823005199432374E-7},null,"2036-10-24",{"$f":"IF(G153<CALCULADORA!$C$23,0,IF(CALCULADORA!$C$27>'TIR de Tenencia'!G153,E153,CALCULADORA!$C$33))","v":135135586470}," "," ",null,24,11,2036]
[{"$f":"+Flujos!A154","v":"2034-02-24"},{"$f":"+Flujos!L154","v":-6.0677528381347656E-5},{"$f":"+Flujos!M154","v":0},{"$f":"+Flujos!N154","v":-2.9823005199432374E-7},{"$f":"+Flujos!O154","v":-2.9823005199432374E-7},null,"2036-11-24",{"$f":"IF(G154<CALCULADORA!$C$23,0,IF(CALCULADORA!$C$27>'TIR de Tenencia'!G154,E154,CALCULADORA!$C$33))","v":135135586470}," "," ",null,24,12,2036]
[{"$f":"+Flujos!A155","v":"2034-03-24"},{"$f":"+Flujos!L155","v":-6.0677528381347656E-5},{"$f":"+Flujos!M155","v":0},{"$f":"+Flujos!N155","v":-2.9823005199432374E-7},{"$f":"+Flujos!O155","v":-2.9823005199432374E-7},null,"2036-12-24",{"$f":"IF(G155<CALCULADORA!$C$23,0,IF(CALCULADORA!$C$27>'TIR de Tenencia'!G155,E155,CALCULADORA!$C$33))","v":135135586470}," "," ",null,24,1,2037]
[{"$f":"+Flujos!A156","v":"2034-04-24"},{"$f":"+Flujos!L156","v":-6.0677528381347656E-5},{"$f":"+Flujos!M156","v":0},{"$f":"+Flujos!N156","v":-2.9823005199432374E-7},{"$f":"+Flujos!O156","v":-2.9823005199432374E-7},null,"2037-01-24",{"$f":"IF(G156<CALCULADORA!$C$23,0,IF(CALCULADORA!$C$27>'TIR de Tenencia'!G156,E156,CALCULADORA!$C$33))","v":135135586470}," "," ",null,24,2,2037]
[{"$f":"+Flujos!A157","v":"2034-05-24"},{"$f":"+Flujos!L157","v":-6.0677528381347656E-5},{"$f":"+Flujos!M157","v":0},{"$f":"+Flujos!N157","v":-2.9823005199432374E-7},{"$f":"+Flujos!O157","v":-2.9823005199432374E-7},null,"2037-02-24",{"$f":"IF(G157<CALCULADORA!$C$23,0,IF(CALCULADORA!$C$27>'TIR de Tenencia'!G157,E157,CALCULADORA!$C$33))","v":135135586470}," "," ",null,24,3,2037]
[{"$f":"+Flujos!A158","v":"2034-06-24"},{"$f":"+Flujos!L158","v":-6.0677528381347656E-5},{"$f":"+Flujos!M158","v":0},{"$f":"+Flujos!N158","v":-2.9823005199432374E-7},{"$f":"+Flujos!O158","v":-2.9823005199432374E-7},null,"2037-03-24",{"$f":"IF(G158<CALCULADORA!$C$23,0,IF(CALCULADORA!$C$27>'TIR de Tenencia'!G158,E158,CALCULADORA!$C$33))","v":135135586470}," "," ",null,24,4,2037]
[{"$f":"+Flujos!A159","v":"2034-07-24"},{"$f":"+Flujos!L159","v":-6.0677528381347656E-5},{"$f":"+Flujos!M159","v":0},{"$f":"+Flujos!N159","v":-2.9823005199432374E-7},{"$f":"+Flujos!O159","v":-2.9823005199432374E-7},null,"2037-04-24",{"$f":"IF(G159<CALCULADORA!$C$23,0,IF(CALCULADORA!$C$27>'TIR de Tenencia'!G159,E159,CALCULADORA!$C$33))","v":135135586470}," "," ",null,24,5,2037]
[{"$f":"+Flujos!A160","v":"2034-08-24"},{"$f":"+Flujos!L160","v":-6.0677528381347656E-5},{"$f":"+Flujos!M160","v":0},{"$f":"+Flujos!N160","v":-2.9823005199432374E-7},{"$f":"+Flujos!O160","v":-2.9823005199432374E-7},null,"2037-05-24",{"$f":"IF(G160<CALCULADORA!$C$23,0,IF(CALCULADORA!$C$27>'TIR de Tenencia'!G160,E160,CALCULADORA!$C$33))","v":135135586470}," "," ",null,24,6,2037]
[{"$f":"+Flujos!A161","v":"2034-09-24"},{"$f":"+Flujos!L161","v":-6.0677528381347656E-5},{"$f":"+Flujos!M161","v":0},{"$f":"+Flujos!N161","v":-2.9823005199432374E-7},{"$f":"+Flujos!O161","v":-2.9823005199432374E-7},null,"2037-06-24",{"$f":"IF(G161<CALCULADORA!$C$23,0,IF(CALCULADORA!$C$27>'TIR de Tenencia'!G161,E161,CALCULADORA!$C$33))","v":135135586470}," "," ",null,24,7,2037]
[{"$f":"+Flujos!A162","v":"2034-10-24"},{"$f":"+Flujos!L162","v":-6.0677528381347656E-5},{"$f":"+Flujos!M162","v":0},{"$f":"+Flujos!N162","v":-2.9823005199432374E-7},{"$f":"+Flujos!O162","v":-2.9823005199432374E-7},null,"2037-07-24",{"$f":"IF(G162<CALCULADORA!$C$23,0,IF(CALCULADORA!$C$27>'TIR de Tenencia'!G162,E162,CALCULADORA!$C$33))","v":135135586470}," "," ",null,24,8,2037]
[{"$f":"+Flujos!A163","v":"2034-11-24"},{"$f":"+Flujos!L163","v":-6.0677528381347656E-5},{"$f":"+Flujos!M163","v":0},{"$f":"+Flujos!N163","v":-2.9823005199432374E-7},{"$f":"+Flujos!O163","v":-2.9823005199432374E-7},null,{"$f":"+DATE(N162,M162,L162)","v":"2037-08-24"},{"$f":"IF(G163<CALCULADORA!$C$23,0,IF(CALCULADORA!$C$27>'TIR de Tenencia'!G163,E163,CALCULADORA!$C$33))","v":135135586470}," "," ",null,24,9,2037]
[{"$f":"+Flujos!A164","v":"2034-12-24"},{"$f":"+Flujos!L164","v":-6.0677528381347656E-5},{"$f":"+Flujos!M164","v":0},{"$f":"+Flujos!N164","v":-2.9823005199432374E-7},{"$f":"+Flujos!O164","v":-2.9823005199432374E-7},null,"2037-09-24",{"$f":"IF(G164<CALCULADORA!$C$23,0,IF(CALCULADORA!$C$27>'TIR de Tenencia'!G164,E164,CALCULADORA!$C$33))","v":135135586470}," "," ",null,24,10,2037]
[{"$f":"+Flujos!A165","v":"2035-01-24"},{"$f":"+Flujos!L165","v":-6.0677528381347656E-5},{"$f":"+Flujos!M165","v":0},{"$f":"+Flujos!N165","v":-2.9823005199432374E-7},{"$f":"+Flujos!O165","v":-2.9823005199432374E-7},null,"2037-10-24",{"$f":"IF(G165<CALCULADORA!$C$23,0,IF(CALCULADORA!$C$27>'TIR de Tenencia'!G165,E165,CALCULADORA!$C$33))","v":135135586470}," "," ",null,24,11,2037]
[{"$f":"+Flujos!A166","v":"2035-02-24"},{"$f":"+Flujos!L166","v":-6.0677528381347656E-5},{"$f":"+Flujos!M166","v":0},{"$f":"+Flujos!N166","v":-2.9823005199432374E-7},{"$f":"+Flujos!O166","v":-2.9823005199432374E-7},null,"2037-11-24",{"$f":"IF(G166<CALCULADORA!$C$23,0,IF(CALCULADORA!$C$27>'TIR de Tenencia'!G166,E166,CALCULADORA!$C$33))","v":135135586470}," "," ",null,24,12,2037]
[{"$f":"+Flujos!A167","v":"2035-03-24"},{"$f":"+Flujos!L167","v":-6.0677528381347656E-5},{"$f":"+Flujos!M167","v":0},{"$f":"+Flujos!N167","v":-2.9823005199432374E-7},{"$f":"+Flujos!O167","v":-2.9823005199432374E-7},null,"2037-12-24",{"$f":"IF(G167<CALCULADORA!$C$23,0,IF(CALCULADORA!$C$27>'TIR de Tenencia'!G167,E167,CALCULADORA!$C$33))","v":135135586470}," "," ",null,24,1,2038]
[{"$f":"+Flujos!A168","v":"2035-04-24"},{"$f":"+Flujos!L168","v":-6.0677528381347656E-5},{"$f":"+Flujos!M168","v":0},{"$f":"+Flujos!N168","v":-2.9823005199432374E-7},{"$f":"+Flujos!O168","v":-2.9823005199432374E-7},null,"2038-01-24",{"$f":"IF(G168<CALCULADORA!$C$23,0,IF(CALCULADORA!$C$27>'TIR de Tenencia'!G168,E168,CALCULADORA!$C$33))","v":135135586470}," "," ",null,24,2,2038]
[{"$f":"+Flujos!A169","v":"2035-05-24"},{"$f":"+Flujos!L169","v":-6.0677528381347656E-5},{"$f":"+Flujos!M169","v":0},{"$f":"+Flujos!N169","v":-2.9823005199432374E-7},{"$f":"+Flujos!O169","v":-2.9823005199432374E-7},null,"2038-02-24",{"$f":"IF(G169<CALCULADORA!$C$23,0,IF(CALCULADORA!$C$27>'TIR de Tenencia'!G169,E169,CALCULADORA!$C$33))","v":135135586470}," "," ",null,24,3,2038]
[{"$f":"+Flujos!A170","v":"2035-06-24"},{"$f":"+Flujos!L170","v":-6.0677528381347656E-5},{"$f":"+Flujos!M170","v":0},{"$f":"+Flujos!N170","v":-2.9823005199432374E-7},{"$f":"+Flujos!O170","v":-2.9823005199432374E-7},null,"2038-03-24",{"$f":"IF(G170<CALCULADORA!$C$23,0,IF(CALCULADORA!$C$27>'TIR de Tenencia'!G170,E170,CALCULADORA!$C$33))","v":135135586470}," "," ",null,24,4,2038]
[{"$f":"+Flujos!A171","v":"2035-07-24"},{"$f":"+Flujos!L171","v":-6.0677528381347656E-5},{"$f":"+Flujos!M171","v":0},{"$f":"+Flujos!N171","v":-2.9823005199432374E-7},{"$f":"+Flujos!O171","v":-2.9823005199432374E-7},null,"2038-04-24",{"$f":"IF(G171<CALCULADORA!$C$23,0,IF(CALCULADORA!$C$27>'TIR de Tenencia'!G171,E171,CALCULADORA!$C$33))","v":135135586470}," "," ",null,24,5,2038]
[{"$f":"+Flujos!A172","v":"2035-08-24"},{"$f":"+Flujos!L172","v":-6.0677528381347656E-5},{"$f":"+Flujos!M172","v":0},{"$f":"+Flujos!N172","v":-2.9823005199432374E-7},{"$f":"+Flujos!O172","v":-2.9823005199432374E-7},null,"2038-05-24",{"$f":"IF(G172<CALCULADORA!$C$23,0,IF(CALCULADORA!$C$27>'TIR de Tenencia'!G172,E172,CALCULADORA!$C$33))","v":135135586470}," "," ",null,24,6,2038]
[{"$f":"+Flujos!A173","v":"2035-09-24"},{"$f":"+Flujos!L173","v":-6.0677528381347656E-5},{"$f":"+Flujos!M173","v":0},{"$f":"+Flujos!N173","v":-2.9823005199432374E-7},{"$f":"+Flujos!O173","v":-2.9823005199432374E-7},null,"2038-06-24",{"$f":"IF(G173<CALCULADORA!$C$23,0,IF(CALCULADORA!$C$27>'TIR de Tenencia'!G173,E173,CALCULADORA!$C$33))","v":135135586470}," "," ",null,24,7,2038]
[{"$f":"+Flujos!A174","v":"2035-10-24"},{"$f":"+Flujos!L174","v":-6.0677528381347656E-5},{"$f":"+Flujos!M174","v":0},{"$f":"+Flujos!N174","v":-2.9823005199432374E-7},{"$f":"+Flujos!O174","v":-2.9823005199432374E-7},null,"2038-07-24",{"$f":"IF(G174<CALCULADORA!$C$23,0,IF(CALCULADORA!$C$27>'TIR de Tenencia'!G174,E174,CALCULADORA!$C$33))","v":135135586470}," "," ",null,24,8,2038]
[{"$f":"+Flujos!A175","v":"2035-11-24"},{"$f":"+Flujos!L175","v":-6.0677528381347656E-5},{"$f":"+Flujos!M175","v":0},{"$f":"+Flujos!N175","v":-2.9823005199432374E-7},{"$f":"+Flujos!O175","v":-2.9823005199432374E-7},null,"2038-08-24",{"$f":"IF(G175<CALCULADORA!$C$23,0,IF(CALCULADORA!$C$27>'TIR de Tenencia'!G175,E175,CALCULADORA!$C$33))","v":135135586470}," "," ",null,24,9,2038]
[{"$f":"+Flujos!A176","v":"2035-12-24"},{"$f":"+Flujos!L176","v":-6.0677528381347656E-5},{"$f":"+Flujos!M176","v":0},{"$f":"+Flujos!N176","v":-2.9823005199432374E-7},{"$f":"+Flujos!O176","v":-2.9823005199432374E-7},null,"2038-09-24",{"$f":"IF(G176<CALCULADORA!$C$23,0,IF(CALCULADORA!$C$27>'TIR de Tenencia'!G176,E176,CALCULADORA!$C$33))","v":135135586470}," "," ",null,24,10,2038]
[{"$f":"+Flujos!A177","v":"2036-01-24"},{"$f":"+Flujos!L177","v":-6.0677528381347656E-5},{"$f":"+Flujos!M177","v":0},{"$f":"+Flujos!N177","v":-2.9823005199432374E-7},{"$f":"+Flujos!O177","v":-2.9823005199432374E-7},null,"2038-10-24",{"$f":"IF(G177<CALCULADORA!$C$23,0,IF(CALCULADORA!$C$27>'TIR de Tenencia'!G177,E177,CALCULADORA!$C$33))","v":135135586470}," "," ",null,24,11,2038]
[{"$f":"+Flujos!A178","v":"2036-02-24"},{"$f":"+Flujos!L178","v":-6.0677528381347656E-5},{"$f":"+Flujos!M178","v":0},{"$f":"+Flujos!N178","v":-2.9823005199432374E-7},{"$f":"+Flujos!O178","v":-2.9823005199432374E-7},null,"2038-11-24",{"$f":"IF(G178<CALCULADORA!$C$23,0,IF(CALCULADORA!$C$27>'TIR de Tenencia'!G178,E178,CALCULADORA!$C$33))","v":135135586470}," "," ",null,24,12,2038]
[{"$f":"+Flujos!A179","v":"2036-03-24"},{"$f":"+Flujos!L179","v":-6.0677528381347656E-5},{"$f":"+Flujos!M179","v":0},{"$f":"+Flujos!N179","v":-2.9823005199432374E-7},{"$f":"+Flujos!O179","v":-2.9823005199432374E-7},null,"2038-12-24",{"$f":"IF(G179<CALCULADORA!$C$23,0,IF(CALCULADORA!$C$27>'TIR de Tenencia'!G179,E179,CALCULADORA!$C$33))","v":135135586470}," "," ",null,24,1,2039]
[{"$f":"+Flujos!A180","v":"2036-04-24"},{"$f":"+Flujos!L180","v":-6.0677528381347656E-5},{"$f":"+Flujos!M180","v":0},{"$f":"+Flujos!N180","v":-2.9823005199432374E-7},{"$f":"+Flujos!O180","v":-2.9823005199432374E-7},null,"2039-01-24",{"$f":"IF(G180<CALCULADORA!$C$23,0,IF(CALCULADORA!$C$27>'TIR de Tenencia'!G180,E180,CALCULADORA!$C$33))","v":135135586470}," "," ",null,24,2,2039]
[{"$f":"+Flujos!A181","v":"2036-05-24"},{"$f":"+Flujos!L181","v":-6.0677528381347656E-5},{"$f":"+Flujos!M181","v":0},{"$f":"+Flujos!N181","v":-2.9823005199432374E-7},{"$f":"+Flujos!O181","v":-2.9823005199432374E-7},null,"2039-02-24",{"$f":"IF(G181<CALCULADORA!$C$23,0,IF(CALCULADORA!$C$27>'TIR de Tenencia'!G181,E181,CALCULADORA!$C$33))","v":135135586470}," "," ",null,24,3,2039]
[{"$f":"+Flujos!A182","v":"2036-06-24"},{"$f":"+Flujos!L182","v":-6.0677528381347656E-5},{"$f":"+Flujos!M182","v":0},{"$f":"+Flujos!N182","v":-2.9823005199432374E-7},{"$f":"+Flujos!O182","v":-2.9823005199432374E-7},null,"2039-03-24",{"$f":"IF(G182<CALCULADORA!$C$23,0,IF(CALCULADORA!$C$27>'TIR de Tenencia'!G182,E182,CALCULADORA!$C$33))","v":135135586470}," "," ",null,24,4,2039]
[null,"Totales",{"$f":"SUM(C2:C182)","v":290499999999.99994},60339172906.470741,350839172906.47107]
[null,null,null,null,null,null,null,null,{"$f":"+IF(H184=H183,\" \",H184)","v":" "},null,{"$f":"+MONTH(A184)","v":1},{"$f":"+YEAR(A184)","v":1900}]
[null,null,null,null,null,null,null,null," ",null,1,1900]
[null,null,null,null,null,null,null,null," ",null,1,1900]
[null,null,null,null,null,null,null,null," ",null,1,1900]
[null,null,null,null,null,null,null,null," ",null,1,1900]
[null,null,null,null,null,null,null,null," ",null,1,1900]
[null,null,null,null,null,null,null,null," ",null,1,1900]
[null,null,null,null,null,null,null,null," ",null,1,1900]
[null,null,null,null,null,null,null,null," ",null,1,1900]
[null,null,null,null,null,null,null,null," ",null,1,1900]
[null,null,null,null,null,null,null,null," ",null,1,1900]
[null,null,null,null,null,null,null,null," ",null,1,1900]
[null,null,null,null,null,null,null,null," ",null,1,1900]
[null,null,null,null,null,null,null,null," ",null,1,1900]
[null,null,null,null,null,null,null,null," ",null,1,1900]
[null,null,null,null,null,null,null,null," ",null,1,1900]
[null,null,null,null,null,null,null,null," ",null,1,1900]
[null,null,null,null,null,null,null,null," ",null,1,1900]
[null,null,null,null,null,null,null,null," ",null,1,1900]
[null,null,null,null,null,null,null,null," ",null,1,1900]
[null,null,null,null,null,null,null,null," ",null,1,1900]
[null,null,null,null,null,null,null,null," ",null,1,1900]
[null,null,null,null,null,null,null,null," ",null,1,1900]
[null,null,null,null,null,null,null,null," ",null,1,1900]
[null,null,null,null,null,null,null,null," ",null,1,1900]
[null,null,null,null,null,null,null,null," ",null,1,1900]
[null,null,null,null,null,null,null,null," ",null,1,1900]
[null,null,null,null,null,null,null,null," ",null,1,1900]
[null,null,null,null,null,null,null,null," ",null,1,1900]
[null,null,null,null,null,null,null,null," ",null,1,1900]
[null,null,null,null,null,null,null,null," ",null,1,1900]
[null,null,null,null,null,null,null,null," ",null,1,1900]
[null,null,null,null,null,null,null,null," ",null,1,1900]
[null,null,null,null,null,null,null,null," ",null,1,1900]
[null,null,null,null,null,null,null,null," ",null,1,1900]
[null,null,null,null,null,null,null,null," ",null,1,1900]
[null,null,null,null,null,null,null,null," ",null,1,1900]
[null,null,null,null,null,null,null,null," ",null,1,1900]
[null,null,null,null,null,null,null,null," ",null,1,1900]
[null,null,null,null,null,null,null,null," ",null,1,1900]
[null,null,null,null,null,null,null,null," ",null,1,1900]
[null,null,null,null,null,null,null,null," ",null,1,1900]
[null,null,null,null,null,null,null,null," ",null,1,1900]
[null,null,null,null,null,null,null,null," ",null,1,1900]
[null,null,null,null,null,null,null,null," ",null,1,1900]
[null,null,null,null,null,null,null,null," ",null,1,1900]
[null,null,null,null,null,null,null,null," ",null,1,1900]
[null,null,null,null,null,null,null,null," ",null,1,1900]
[null,null,null,null,null,null,null,null," ",null,1,1900]
[null,null,null,null,null,null,null,null," ",null,1,1900]
[null,null,null,null,null,null,null,null," ",null,1,1900]
[null,null,null,null,null,null,null,null," ",null,1,1900]
[null,null,null,null,null,null,null,null," ",null,1,1900]
[null,null,null,null,null,null,null,null," ",null,1,1900]
[null,null,null,null,null,null,null,null," ",null,1,1900]
[null,null,null,null,null,null,null,null," ",null,1,1900]
[null,null,null,null,null,null,null,null," ",null,1,1900]
[null,null,null,null,null,null,null,null," ",null,1,1900]
[null,null,null,null,null,null,null,null," ",null,1,1900]
[null,null,null,null,null,null,null,null," ",null,1,1900]
[null,null,null,null,null,null,null,null," ",null,1,1900]
[null,null,null,null,null,null,null,null," ",null,1,1900]
[null,null,null,null,null,null,null,null," ",null,1,1900]
[null,null,null,null,null,null,null,null," ",null,1,1900]
[null,null,null,null,null,null,null,null,{"$f":"+IF(H248=H247,\" \",H248)","v":" "},null,{"$f":"+MONTH(A248)","v":1},{"$f":"+YEAR(A248)","v":1900}]
[null,null,null,null,null,null,null,null," ",null,1,1900]
[null,null,null,null,null,null,null,null," ",null,1,1900]
[null,null,null,null,null,null,null,null," ",null,1,1900]
[null,null,null,null,null,null,null,null," ",null,1,1900]
[null,null,null,null,null,null,null,null," ",null,1,1900]
[null,null,null,null,null,null,null,null," ",null,1,1900]
[null,null,null,null,null,null,null,null," ",null,1,1900]
[null,null,null,null,null,null,null,null," ",null,1,1900]
[null,null,null,null,null,null,null,null," ",null,1,1900]
[null,null,null,null,null,null,null,null," ",null,1,1900]
[null,null,null,null,null,null,null,null," ",null,1,1900]
[null,null,null,null,null,null,null,null," ",null,1,1900]
[null,null,null,null,null,null,null,null," ",null,1,1900]
[null,null,null,null,null,null,null,null," ",null,1,1900]
[null,null,null,null,null,null,null,null," ",null,1,1900]
[null,null,null,null,null,null,null,null," ",null,1,1900]
[null,null,null,null,null,null,null,null," ",null,1,1900]
[null,null,null,null,null,null,null,null," ",null,1,1900]
[null,null,null,null,null,null,null,null," ",null,1,1900]
[null,null,null,null,null,null,null,null," ",null,1,1900]
[null,null,null,null,null,null,null,null," ",null,1,1900]
[null,null,null,null,null,null,null,null," ",null,1,1900]
[null,null,null,null,null,null,null,null," ",null,1,1900]
[null,null,null,null,null,null,null,null," ",null,1,1900]
[null,null,null,null,null,null,null,null," ",null,1,1900]
[null,null,null,null,null,null,null,null," ",null,1,1900]
[null,null,null,null,null,null,null,null," ",null,1,1900]
[null,null,null,null,null,null,null,null," ",null,1,1900]
[null,null,null,null,null,null,null,null," ",null,1,1900]
[null,null,null,null,null,null,null,null," ",null,1,1900]
[null,null,null,null,null,null,null,null," ",null,1,1900]
[null,null,null,null,null,null,null,null," ",null,1,1900]
[null,null,null,null,null,null,null,null," ",null,1,1900]
[null,null,null,null,null,null,null,null," ",null,1,1900]
[null,null,null,null,null,null,null,null," ",null,1,1900]
[null,null,null,null,null,null,null,null," ",null,1,1900]
[null,null,null,null,null,null,null,null," ",null,1,1900]
[null,null,null,null,null,null,null,null," ",null,1,1900]
[null,null,null,null,null,null,null,null," ",null,1,1900]
[null,null,null,null,null,null,null,null," ",null,1,1900]
[null,null,null,null,null,null,null,null," ",null,1,1900]
[null,null,null,null,null,null,null,null," ",null,1,1900]
[null,null,null,null,null,null,null,null," ",null,1,1900]
[null,null,null,null,null,null,null,null," ",null,1,1900]
[null,null,null,null,null,null,null,null," ",null,1,1900]
[null,null,null,null,null,null,null,null," ",null,1,1900]
[null,null,null,null,null,null,null,null," ",null,1,1900]
[null,null,null,null,null,null,null,null," ",null,1,1900]
[null,null,null,null,null,null,null,null," ",null,1,1900]
[null,null,null,null,null,null,null,null," ",null,1,1900]
[null,null,null,null,null,null,null,null," ",null,1,1900]
[null,null,null,null,null,null,null,null," ",null,1,1900]
[null,null,null,null,null,null,null,null," ",null,1,1900]
[null,null,null,null,null,null,null,null," ",null,1,1900]
[null,null,null,null,null,null,null,null," ",null,1,1900]
[null,null,null,null,null,null,null,null," ",null,1,1900]
[null,null,null,null,null,null,null,null," ",null,1,1900]
[null,null,null,null,null,null,null,null," ",null,1,1900]
[null,null,null,null,null,null,null,null," ",null,1,1900]
[null,null,null,null,null,null,null,null," ",null,1,1900]
[null,null,null,null,null,null,null,null," ",null,1,1900]
[null,null,null,null,null,null,null,null," ",null,1,1900]
[null,null,null,null,null,null,null,null," ",null,1,1900]
[null,null,null,null,null,null,null,null,{"$f":"+IF(H312=H311,\" \",H312)","v":" "},null,{"$f":"+MONTH(A312)","v":1},{"$f":"+YEAR(A312)","v":1900}]
[null,null,null,null,null,null,null,null," ",null,1,1900]
[null,null,null,null,null,null,null,null," ",null,1,1900]
[null,null,null,null,null,null,null,null," ",null,1,1900]
[null,null,null,null,null,null,null,null," ",null,1,1900]
[null,null,null,null,null,null,null,null," ",null,1,1900]
[null,null,null,null,null,null,null,null," ",null,1,1900]
[null,null,null,null,null,null,null,null," ",null,1,1900]
[null,null,null,null,null,null,null,null," ",null,1,1900]
[null,null,null,null,null,null,null,null," ",null,1,1900]
[null,null,null,null,null,null,null,null," ",null,1,1900]
[null,null,null,null,null,null,null,null," ",null,1,1900]
[null,null,null,null,null,null,null,null," ",null,1,1900]
[null,null,null,null,null,null,null,null," ",null,1,1900]
[null,null,null,null,null,null,null,null," ",null,1,1900]
[null,null,null,null,null,null,null,null," ",null,1,1900]
[null,null,null,null,null,null,null,null," ",null,1,1900]
[null,null,null,null,null,null,null,null," ",null,1,1900]
[null,null,null,null,null,null,null,null," ",null,1,1900]
[null,null,null,null,null,null,null,null," ",null,1,1900]
[null,null,null,null,null,null,null,null," ",null,1,1900]
[null,null,null,null,null,null,null,null," ",null,1,1900]
[null,null,null,null,null,null,null,null," ",null,1,1900]
[null,null,null,null,null,null,null,null," ",null,1,1900]
[null,null,null,null,null,null,null,null," ",null,1,1900]
[null,null,null,null,null,null,null,null," ",null,1,1900]
[null,null,null,null,null,null,null,null," ",null,1,1900]
[null,null,null,null,null,null,null,null," ",null,1,1900]
[null,null,null,null,null,null,null,null," ",null,1,1900]
[null,null,null,null,null,null,null,null," ",null,1,1900]
[null,null,null,null,null,null,null,null," ",null,1,1900]
[null,null,null,null,null,null,null,null," ",null,1,1900]
[null,null,null,null,null,null,null,null," ",null,1,1900]
[null,null,null,null,null,null,null,null," ",null,1,1900]
[null,null,null,null,null,null,null,null," ",null,1,1900]
[null,null,null,null,null,null,null,null," ",null,1,1900]
[null,null,null,null,null,null,null,null," ",null,1,1900]
[null,null,null,null,null,null,null,null," ",null,1,1900]
[null,null,null,null,null,null,null,null," ",null,1,1900]
[null,null,null,null,null,null,null,null," ",null,1,1900]
[null,null,null,null,null,null,null,null," ",null,1,1900]
[null,null,null,null,null,null,null,null," ",null,1,1900]
[null,null,null,null,null,null,null,null," ",null,1,1900]
[null,null,null,null,null,null,null,null," ",null,1,1900]
[null,null,null,null,null,null,null,null," ",null,1,1900]
[null,null,null,null,null,null,null,null," ",null,1,1900]
[null,null,null,null,null,null,null,null," ",null,1,1900]
[null,null,null,null,null,null,null,null," ",null,1,1900]
[null,null,null,null,null,null,null,null," ",null,1,1900]
[null,null,null,null,null,null,null,null," ",null,1,1900]
[null,null,null,null,null,null,null,null," ",null,1,1900]
[null,null,null,null,null,null,null,null," ",null,1,1900]
[null,null,null,null,null,null,null,null," ",null,1,1900]
[null,null,null,null,null,null,null,null," ",null,1,1900]
[null,null,null,null,null,null,null,null," ",null,1,1900]
[null,null,null,null,null,null,null,null," ",null,1,1900]
[null,null,null,null,null,null,null,null," ",null,1,1900]
[null,null,null,null,null,null,null,null," ",null,1,1900]
[null,null,null,null,null,null,null,null," ",null,1,1900]
[null,null,null,null,null,null,null,null," ",null,1,1900]
[null,null,null,null,null,null,null,null," ",null,1,1900]
[null,null,null,null,null,null,null,null," ",null,1,1900]
[null,null,null,null,null,null,null,null," ",null,1,1900]
[null,null,null,null,null,null,null,null," ",null,1,1900]
[null,null,null,null,null,null,null,null,{"$f":"+IF(H376=H375,\" \",H376)","v":" "},null,{"$f":"+MONTH(A376)","v":1},{"$f":"+YEAR(A376)","v":1900}]
[null,null,null,null,null,null,null,null," ",null,1,1900]
[null,null,null,null,null,null,null,null," ",null,1,1900]
[null,null,null,null,null,null,null,null," ",null,1,1900]
[null,null,null,null,null,null,null,null," ",null,1,1900]
[null,null,null,null,null,null,null,null," ",null,1,1900]
[null,null,null,null,null,null,null,null," ",null,1,1900]
[null,null,null,null,null,null,null,null," ",null,1,1900]
[null,null,null,null,null,null,null,null," ",null,1,1900]
[null,null,null,null,null,null,null,null," ",null,1,1900]
[null,null,null,null,null,null,null,null," ",null,1,1900]
[null,null,null,null,null,null,null,null," ",null,1,1900]
[null,null,null,null,null,null,null,null," ",null,1,1900]
[null,null,null,null,null,null,null,null," ",null,1,1900]
[null,null,null,null,null,null,null,null," ",null,1,1900]
[null,null,null,null,null,null,null,null," ",null,1,1900]
[null,null,null,null,null,null,null,null," ",null,1,1900]
[null,null,null,null,null,null,null,null," ",null,1,1900]
[null,null,null,null,null,null,null,null," ",null,1,1900]
[null,null,null,null,null,null,null,null," ",null,1,1900]
[null,null,null,null,null,null,null,null," ",null,1,1900]
[null,null,null,null,null,null,null,null," ",null,1,1900]
[null,null,null,null,null,null,null,null," ",null,1,1900]
[null,null,null,null,null,null,null,null," ",null,1,1900]
[null,null,null,null,null,null,null,null," ",null,1,1900]
[null,null,null,null,null,null,null,null," ",null,1,1900]
[null,null,null,null,null,null,null,null," ",null,1,1900]
[null,null,null,null,null,null,null,null," ",null,1,1900]
[null,null,null,null,null,null,null,null," ",null,1,1900]
[null,null,null,null,null,null,null,null," ",null,1,1900]
[null,null,null,null,null,null,null,null," ",null,1,1900]
[null,null,null,null,null,null,null,null," ",null,1,1900]
[null,null,null,null,null,null,null,null," ",null,1,1900]
[null,null,null,null,null,null,null,null," ",null,1,1900]
[null,null,null,null,null,null,null,null," ",null,1,1900]
[null,null,null,null,null,null,null,null," ",null,1,1900]
[null,null,null,null,null,null,null,null," ",null,1,1900]
[null,null,null,null,null,null,null,null," ",null,1,1900]
[null,null,null,null,null,null,null,null," ",null,1,1900]
[null,null,null,null,null,null,null,null," ",null,1,1900]
[null,null,null,null,null,null,null,null," ",null,1,1900]
[null,null,null,null,null,null,null,null," ",null,1,1900]
[null,null,null,null,null,null,null,null," ",null,1,1900]
[null,null,null,null,null,null,null,null," ",null,1,1900]
[null,null,null,null,null,null,null,null," ",null,1,1900]
[null,null,null,null,null,null,null,null," ",null,1,1900]
[null,null,null,null,null,null,null,null," ",null,1,1900]
[null,null,null,null,null,null,null,null," ",null,1,1900]
[null,null,null,null,null,null,null,null," ",null,1,1900]
[null,null,null,null,null,null,null,null," ",null,1,1900]
[null,null,null,null,null,null,null,null," ",null,1,1900]
[null,null,null,null,null,null,null,null," ",null,1,1900]
[null,null,null,null,null,null,null,null," ",null,1,1900]
[null,null,null,null,null,null,null,null," ",null,1,1900]
[null,null,null,null,null,null,null,null," ",null,1,1900]
[null,null,null,null,null,null,null,null," ",null,1,1900]
[null,null,null,null,null,null,null,null," ",null,1,1900]
[null,null,null,null,null,null,null,null," ",null,1,1900]
[null,null,null,null,null,null,null,null," ",null,1,1900]
[null,null,null,null,null,null,null,null," ",null,1,1900]
[null,null,null,null,null,null,null,null," ",null,1,1900]
[null,null,null,null,null,null,null,null," ",null,1,1900]
[null,null,null,null,null,null,null,null," ",null,1,1900]
[null,null,null,null,null,null,null,null," ",null,1,1900]
[null,null,null,null,null,null,null,null,{"$f":"+IF(H440=H439,\" \",H440)","v":" "},null,{"$f":"+MONTH(A440)","v":1},{"$f":"+YEAR(A440)","v":1900}]
[null,null,null,null,null,null,null,null," ",null,1,1900]
[null,null,null,null,null,null,null,null," ",null,1,1900]
[null,null,null,null,null,null,null,null," ",null,1,1900]
[null,null,null,null,null,null,null,null," ",null,1,1900]
[null,null,null,null,null,null,null,null," ",null,1,1900]
[null,null,null,null,null,null,null,null," ",null,1,1900]
[null,null,null,null,null,null,null,null," ",null,1,1900]
[null,null,null,null,null,null,null,null," ",null,1,1900]
[null,null,null,null,null,null,null,null," ",null,1,1900]
[null,null,null,null,null,null,null,null," ",null,1,1900]
[null,null,null,null,null,null,null,null," ",null,1,1900]
[null,null,null,null,null,null,null,null," ",null,1,1900]
[null,null,null,null,null,null,null,null," ",null,1,1900]
[null,null,null,null,null,null,null,null," ",null,1,1900]
[null,null,null,null,null,null,null,null," ",null,1,1900]
[null,null,null,null,null,null,null,null," ",null,1,1900]
[null,null,null,null,null,null,null,null," ",null,1,1900]
[null,null,null,null,null,null,null,null," ",null,1,1900]
[null,null,null,null,null,null,null,null," ",null,1,1900]
[null,null,null,null,null,null,null,null," ",null,1,1900]
[null,null,null,null,null,null,null,null," ",null,1,1900]
[null,null,null,null,null,null,null,null," ",null,1,1900]
[null,null,null,null,null,null,null,null," ",null,1,1900]
[null,null,null,null,null,null,null,null," ",null,1,1900]
[null,null,null,null,null,null,null,null," ",null,1,1900]
[null,null,null,null,null,null,null,null," ",null,1,1900]
[null,null,null,null,null,null,null,null," ",null,1,1900]
[null,null,null,null,null,null,null,null," ",null,1,1900]
[null,null,null,null,null,null,null,null," ",null,1,1900]
[null,null,null,null,null,null,null,null," ",null,1,1900]
[null,null,null,null,null,null,null,null," ",null,1,1900]
[null,null,null,null,null,null,null,null," ",null,1,1900]
[null,null,null,null,null,null,null,null," ",null,1,1900]
[null,null,null,null,null,null,null,null," ",null,1,1900]
[null,null,null,null,null,null,null,null," ",null,1,1900]
[null,null,null,null,null,null,null,null," ",null,1,1900]
[null,null,null,null,null,null,null,null," ",null,1,1900]
[null,null,null,null,null,null,null,null," ",null,1,1900]
[null,null,null,null,null,null,null,null," ",null,1,1900]
[null,null,null,null,null,null,null,null," ",null,1,1900]
[null,null,null,null,null,null,null,null," ",null,1,1900]
[null,null,null,null,null,null,null,null," ",null,1,1900]
[null,null,null,null,null,null,null,null," ",null,1,1900]
[null,null,null,null,null,null,null,null," ",null,1,1900]
[null,null,null,null,null,null,null,null," ",null,1,1900]
[null,null,null,null,null,null,null,null," ",null,1,1900]
[null,null,null,null,null,null,null,null," ",null,1,1900]
[null,null,null,null,null,null,null,null," ",null,1,1900]
[null,null,null,null,null,null,null,null," ",null,1,1900]
[null,null,null,null,null,null,null,null," ",null,1,1900]
[null,null,null,null,null,null,null,null," ",null,1,1900]
[null,null,null,null,null,null,null,null," ",null,1,1900]
[null,null,null,null,null,null,null,null," ",null,1,1900]
[null,null,null,null,null,null,null,null," ",null,1,1900]
[null,null,null,null,null,null,null,null," ",null,1,1900]
[null,null,null,null,null,null,null,null," ",null,1,1900]
[null,null,null,null,null,null,null,null," ",null,1,1900]
[null,null,null,null,null,null,null,null," ",null,1,1900]
[null,null,null,null,null,null,null,null," ",null,1,1900]
[null,null,null,null,null,null,null,null," ",null,1,1900]
[null,null,null,null,null,null,null,null," ",null,1,1900]
[null,null,null,null,null,null,null,null," ",null,1,1900]
[null,null,null,null,null,null,null,null," ",null,1,1900]
[null,null,null,null,null,null,null,null,{"$f":"+IF(H504=H503,\" \",H504)","v":" "},null,{"$f":"+MONTH(A504)","v":1},{"$f":"+YEAR(A504)","v":1900}]
[null,null,null,null,null,null,null,null," ",null,1,1900]
[null,null,null,null,null,null,null,null," ",null,1,1900]
[null,null,null,null,null,null,null,null," ",null,1,1900]
[null,null,null,null,null,null,null,null," ",null,1,1900]
[null,null,null,null,null,null,null,null," ",null,1,1900]
[null,null,null,null,null,null,null,null," ",null,1,1900]
[null,null,null,null,null,null,null,null," ",null,1,1900]
[null,null,null,null,null,null,null,null," ",null,1,1900]
[null,null,null,null,null,null,null,null," ",null,1,1900]
[null,null,null,null,null,null,null,null," ",null,1,1900]
[null,null,null,null,null,null,null,null," ",null,1,1900]
[null,null,null,null,null,null,null,null," ",null,1,1900]
[null,null,null,null,null,null,null,null," ",null,1,1900]
[null,null,null,null,null,null,null,null," ",null,1,1900]
[null,null,null,null,null,null,null,null," ",null,1,1900]
[null,null,null,null,null,null,null,null," ",null,1,1900]
[null,null,null,null,null,null,null,null," ",null,1,1900]
[null,null,null,null,null,null,null,null," ",null,1,1900]
[null,null,null,null,null,null,null,null," ",null,1,1900]
[null,null,null,null,null,null,null,null," ",null,1,1900]
[null,null,null,null,null,null,null,null," ",null,1,1900]
[null,null,null,null,null,null,null,null," ",null,1,1900]
[null,null,null,null,null,null,null,null," ",null,1,1900]
[null,null,null,null,null,null,null,null," ",null,1,1900]
[null,null,null,null,null,null,null,null," ",null,1,1900]
[null,null,null,null,null,null,null,null," ",null,1,1900]
[null,null,null,null,null,null,null,null," ",null,1,1900]
[null,null,null,null,null,null,null,null," ",null,1,1900]
[null,null,null,null,null,null,null,null," ",null,1,1900]
[null,null,null,null,null,null,null,null," ",null,1,1900]
[null,null,null,null,null,null,null,null," ",null,1,1900]
[null,null,null,null,null,null,null,null," ",null,1,1900]
[null,null,null,null,null,null,null,null," ",null,1,1900]
[null,null,null,null,null,null,null,null," ",null,1,1900]
[null,null,null,null,null,null,null,null," ",null,1,1900]
[null,null,null,null,null,null,null,null," ",null,1,1900]
[null,null,null,null,null,null,null,null," ",null,1,1900]
[null,null,null,null,null,null,null,null," ",null,1,1900]
[null,null,null,null,null,null,null,null," ",null,1,1900]
[null,null,null,null,null,null,null,null," ",null,1,1900]
[null,null,null,null,null,null,null,null," ",null,1,1900]
[null,null,null,null,null,null,null,null," ",null,1,1900]
[null,null,null,null,null,null,null,null," ",null,1,1900]
[null,null,null,null,null,null,null,null," ",null,1,1900]
[null,null,null,null,null,null,null,null," ",null,1,1900]
[null,null,null,null,null,null,null,null," ",null,1,1900]
[null,null,null,null,null,null,null,null," ",null,1,1900]
[null,null,null,null,null,null,null,null," ",null,1,1900]
[null,null,null,null,null,null,null,null," ",null,1,1900]
[null,null,null,null,null,null,null,null," ",null,1,1900]
[null,null,null,null,null,null,null,null," ",null,1,1900]
[null,null,null,null,null,null,null,null," ",null,1,1900]
[null,null,null,null,null,null,null,null," ",null,1,1900]
[null,null,null,null,null,null,null,null," ",null,1,1900]
[null,null,null,null,null,null,null,null," ",null,1,1900]
[null,null,null,null,null,null,null,null," ",null,1,1900]
[null,null,null,null,null,null,null,null," ",null,1,1900]
[null,null,null,null,null,null,null,null," ",null,1,1900]
[null,null,null,null,null,null,null,null," ",null,1,1900]
[null,null,null,null,null,null,null,null," ",null,1,1900]
[null,null,null,null,null,null,null,null," ",null,1,1900]
[null,null,null,null,null,null,null,null," ",null,1,1900]
[null,null,null,null,null,null,null,null," ",null,1,1900]
[null,null,null,null,null,null,null,null,{"$f":"+IF(H568=H567,\" \",H568)","v":" "},null,{"$f":"+MONTH(A568)","v":1},{"$f":"+YEAR(A568)","v":1900}]
[null,null,null,null,null,null,null,null," ",null,1,1900]
[null,null,null,null,null,null,null,null," ",null,1,1900]
[null,null,null,null,null,null,null,null," ",null,1,1900]
[null,null,null,null,null,null,null,null," ",null,1,1900]
[null,null,null,null,null,null,null,null," ",null,1,1900]
[null,null,null,null,null,null,null,null," ",null,1,1900]
[null,null,null,null,null,null,null,null," ",null,1,1900]
[null,null,null,null,null,null,null,null," ",null,1,1900]
[null,null,null,null,null,null,null,null," ",null,1,1900]
[null,null,null,null,null,null,null,null," ",null,1,1900]
[null,null,null,null,null,null,null,null," ",null,1,1900]
[null,null,null,null,null,null,null,null," ",null,1,1900]
[null,null,null,null,null,null,null,null," ",null,1,1900]
[null,null,null,null,null,null,null,null," ",null,1,1900]
[null,null,null,null,null,null,null,null," ",null,1,1900]
[null,null,null,null,null,null,null,null," ",null,1,1900]
[null,null,null,null,null,null,null,null," ",null,1,1900]
[null,null,null,null,null,null,null,null," ",null,1,1900]
[null,null,null,null,null,null,null,null," ",null,1,1900]
[null,null,null,null,null,null,null,null," ",null,1,1900]
[null,null,null,null,null,null,null,null," ",null,1,1900]
[null,null,null,null,null,null,null,null," ",null,1,1900]
[null,null,null,null,null,null,null,null," ",null,1,1900]
[null,null,null,null,null,null,null,null," ",null,1,1900]
[null,null,null,null,null,null,null,null," ",null,1,1900]
[null,null,null,null,null,null,null,null," ",null,1,1900]
[null,null,null,null,null,null,null,null," ",null,1,1900]
[null,null,null,null,null,null,null,null," ",null,1,1900]
[null,null,null,null,null,null,null,null," ",null,1,1900]
[null,null,null,null,null,null,null,null," ",null,1,1900]
[null,null,null,null,null,null,null,null," ",null,1,1900]
[null,null,null,null,null,null,null,null," ",null,1,1900]
[null,null,null,null,null,null,null,null," ",null,1,1900]
[null,null,null,null,null,null,null,null," ",null,1,1900]
[null,null,null,null,null,null,null,null," ",null,1,1900]
[null,null,null,null,null,null,null,null," ",null,1,1900]
[null,null,null,null,null,null,null,null," ",null,1,1900]
[null,null,null,null,null,null,null,null," ",null,1,1900]
[null,null,null,null,null,null,null,null," ",null,1,1900]
[null,null,null,null,null,null,null,null," ",null,1,1900]
[null,null,null,null,null,null,null,null," ",null,1,1900]
[null,null,null,null,null,null,null,null," ",null,1,1900]
[null,null,null,null,null,null,null,null," ",null,1,1900]
[null,null,null,null,null,null,null,null," ",null,1,1900]
[null,null,null,null,null,null,null,null," ",null,1,1900]
[null,null,null,null,null,null,null,null," ",null,1,1900]
[null,null,null,null,null,null,null,null," ",null,1,1900]
[null,null,null,null,null,null,null,null," ",null,1,1900]
[null,null,null,null,null,null,null,null," ",null,1,1900]
[null,null,null,null,null,null,null,null," ",null,1,1900]
[null,null,null,null,null,null,null,null," ",null,1,1900]
[null,null,null,null,null,null,null,null," ",null,1,1900]
[null,null,null,null,null,null,null,null," ",null,1,1900]
[null,null,null,null,null,null,null,null," ",null,1,1900]
[null,null,null,null,null,null,null,null," ",null,1,1900]
[null,null,null,null,null,null,null,null," ",null,1,1900]
[null,null,null,null,null,null,null,null," ",null,1,1900]
[null,null,null,null,null,null,null,null," ",null,1,1900]
[null,null,null,null,null,null,null,null," ",null,1,1900]
[null,null,null,null,null,null,null,null," ",null,1,1900]
[null,null,null,null,null,null,null,null," ",null,1,1900]
[null,null,null,null,null,null,null,null," ",null,1,1900]
[null,null,null,null,null,null,null,null," ",null,1,1900]
[null,null,null,null,null,null,null,null,{"$f":"+IF(H632=H631,\" \",H632)","v":" "},null,{"$f":"+MONTH(A632)","v":1},{"$f":"+YEAR(A632)","v":1900}]
[null,null,null,null,null,null,null,null," ",null,1,1900]
[null,null,null,null,null,null,null,null," ",null,1,1900]
[null,null,null,null,null,null,null,null," ",null,1,1900]
[null,null,null,null,null,null,null,null," ",null,1,1900]
[null,null,null,null,null,null,null,null," ",null,1,1900]
[null,null,null,null,null,null,null,null," ",null,1,1900]
[null,null,null,null,null,null,null,null," ",null,1,1900]
[null,null,null,null,null,null,null,null," ",null,1,1900]
[null,null,null,null,null,null,null,null," ",null,1,1900]
[null,null,null,null,null,null,null,null," ",null,1,1900]
[null,null,null,null,null,null,null,null," ",null,1,1900]
[null,null,null,null,null,null,null,null," ",null,1,1900]
[null,null,null,null,null,null,null,null," ",null,1,1900]
[null,null,null,null,null,null,null,null," ",null,1,1900]
[null,null,null,null,null,null,null,null," ",null,1,1900]
[null,null,null,null,null,null,null,null," ",null,1,1900]
[null,null,null,null,null,null,null,null," ",null,1,1900]
[null,null,null,null,null,null,null,null," ",null,1,1900]
[null,null,null,null,null,null,null,null," ",null,1,1900]
[null,null,null,null,null,null,null,null," ",null,1,1900]
[null,null,null,null,null,null,null,null," ",null,1,1900]
[null,null,null,null,null,null,null,null," ",null,1,1900]
[null,null,null,null,null,null,null,null," ",null,1,1900]
[null,null,null,null,null,null,null,null," ",null,1,1900]
[null,null,null,null,null,null,null,null," ",null,1,1900]
[null,null,null,null,null,null,null,null," ",null,1,1900]
[null,null,null,null,null,null,null,null," ",null,1,1900]
[null,null,null,null,null,null,null,null," ",null,1,1900]
[null,null,null,null,null,null,null,null," ",null,1,1900]
[null,null,null,null,null,null,null,null," ",null,1,1900]
[null,null,null,null,null,null,null,null," ",null,1,1900]
[null,null,null,null,null,null,null,null," ",null,1,1900]
[null,null,null,null,null,null,null,null," ",null,1,1900]
[null,null,null,null,null,null,null,null," ",null,1,1900]
[null,null,null,null,null,null,null,null," ",null,1,1900]
[null,null,null,null,null,null,null,null," ",null,1,1900]
[null,null,null,null,null,null,null,null," ",null,1,1900]
[null,null,null,null,null,null,null,null," ",null,1,1900]
[null,null,null,null,null,null,null,null," ",null,1,1900]
[null,null,null,null,null,null,null,null," ",null,1,1900]
[null,null,null,null,null,null,null,null," ",null,1,1900]
[null,null,null,null,null,null,null,null," ",null,1,1900]
[null,null,null,null,null,null,null,null," ",null,1,1900]
[null,null,null,null,null,null,null,null," ",null,1,1900]
[null,null,null,null,null,null,null,null," ",null,1,1900]
[null,null,null,null,null,null,null,null," ",null,1,1900]
[null,null,null,null,null,null,null,null," ",null,1,1900]
[null,null,null,null,null,null,null,null," ",null,1,1900]
[null,null,null,null,null,null,null,null," ",null,1,1900]
[null,null,null,null,null,null,null,null," ",null,1,1900]
[null,null,null,null,null,null,null,null," ",null,1,1900]
[null,null,null,null,null,null,null,null," ",null,1,1900]
[null,null,null,null,null,null,null,null," ",null,1,1900]
[null,null,null,null,null,null,null,null," ",null,1,1900]
[null,null,null,null,null,null,null,null," ",null,1,1900]
[null,null,null,null,null,null,null,null," ",null,1,1900]
[null,null,null,null,null,null,null,null," ",null,1,1900]
[null,null,null,null,null,null,null,null," ",null,1,1900]
[null,null,null,null,null,null,null,null," ",null,1,1900]
[null,null,null,null,null,null,null,null," ",null,1,1900]
[null,null,null,null,null,null,null,null," ",null,1,1900]
[null,null,null,null,null,null,null,null," ",null,1,1900]
[null,null,null,null,null,null,null,null," ",null,1,1900]
[null,null,null,null,null,null,null,null,{"$f":"+IF(H696=H695,\" \",H696)","v":" "},null,{"$f":"+MONTH(A696)","v":1},{"$f":"+YEAR(A696)","v":1900}]
[null,null,null,null,null,null,null,null," ",null,1,1900]
[null,null,null,null,null,null,null,null," ",null,1,1900]
[null,null,null,null,null,null,null,null," ",null,1,1900]
[null,null,null,null,null,null,null,null," ",null,1,1900]
[null,null,null,null,null,null,null,null," ",null,1,1900]
[null,null,null,null,null,null,null,null," ",null,1,1900]
[null,null,null,null,null,null,null,null," ",null,1,1900]
[null,null,null,null,null,null,null,null," ",null,1,1900]
[null,null,null,null,null,null,null,null," ",null,1,1900]
[null,null,null,null,null,null,null,null," ",null,1,1900]
[null,null,null,null,null,null,null,null," ",null,1,1900]
[null,null,null,null,null,null,null,null," ",null,1,1900]
[null,null,null,null,null,null,null,null," ",null,1,1900]
[null,null,null,null,null,null,null,null," ",null,1,1900]
[null,null,null,null,null,null,null,null," ",null,1,1900]
[null,null,null,null,null,null,null,null," ",null,1,1900]
[null,null,null,null,null,null,null,null," ",null,1,1900]
[null,null,null,null,null,null,null,null," ",null,1,1900]
[null,null,null,null,null,null,null,null," ",null,1,1900]
[null,null,null,null,null,null,null,null," ",null,1,1900]
[null,null,null,null,null,null,null,null," ",null,1,1900]
[null,null,null,null,null,null,null,null," ",null,1,1900]
[null,null,null,null,null,null,null,null," ",null,1,1900]
[null,null,null,null,null,null,null,null," ",null,1,1900]
[null,null,null,null,null,null,null,null," ",null,1,1900]
[null,null,null,null,null,null,null,null," ",null,1,1900]
[null,null,null,null,null,null,null,null," ",null,1,1900]
[null,null,null,null,null,null,null,null," ",null,1,1900]
[null,null,null,null,null,null,null,null," ",null,1,1900]
[null,null,null,null,null,null,null,null," ",null,1,1900]
[null,null,null,null,null,null,null,null," ",null,1,1900]
[null,null,null,null,null,null,null,null," ",null,1,1900]
[null,null,null,null,null,null,null,null," ",null,1,1900]
[null,null,null,null,null,null,null,null," ",null,1,1900]
[null,null,null,null,null,null,null,null," ",null,1,1900]
[null,null,null,null,null,null,null,null," ",null,1,1900]
[null,null,null,null,null,null,null,null," ",null,1,1900]
[null,null,null,null,null,null,null,null," ",null,1,1900]
[null,null,null,null,null,null,null,null," ",null,1,1900]
[null,null,null,null,null,null,null,null," ",null,1,1900]
[null,null,null,null,null,null,null,null," ",null,1,1900]
[null,null,null,null,null,null,null,null," ",null,1,1900]
[null,null,null,null,null,null,null,null," ",null,1,1900]
[null,null,null,null,null,null,null,null," ",null,1,1900]
[null,null,null,null,null,null,null,null," ",null,1,1900]
[null,null,null,null,null,null,null,null," ",null,1,1900]
[null,null,null,null,null,null,null,null," ",null,1,1900]
[null,null,null,null,null,null,null,null," ",null,1,1900]
[null,null,null,null,null,null,null,null," ",null,1,1900]
[null,null,null,null,null,null,null,null," ",null,1,1900]
[null,null,null,null,null,null,null,null," ",null,1,1900]
[null,null,null,null,null,null,null,null," ",null,1,1900]
[null,null,null,null,null,null,null,null," ",null,1,1900]
[null,null,null,null,null,null,null,null," ",null,1,1900]
[null,null,null,null,null,null,null,null," ",null,1,1900]
[null,null,null,null,null,null,null,null," ",null,1,1900]
[null,null,null,null,null,null,null,null," ",null,1,1900]
[null,null,null,null,null,null,null,null," ",null,1,1900]
[null,null,null,null,null,null,null,null," ",null,1,1900]
[null,null,null,null,null,null,null,null," ",null,1,1900]
[null,null,null,null,null,null,null,null," ",null,1,1900]
[null,null,null,null,null,null,null,null," ",null,1,1900]
[null,null,null,null,null,null,null,null," ",null,1,1900]
[null,null,null,null,null,null,null,null,{"$f":"+IF(H760=H759,\" \",H760)","v":" "},null,{"$f":"+MONTH(A760)","v":1},{"$f":"+YEAR(A760)","v":1900}]
[null,null,null,null,null,null,null,null," ",null,1,1900]
[null,null,null,null,null,null,null,null," ",null,1,1900]
[null,null,null,null,null,null,null,null," ",null,1,1900]
[null,null,null,null,null,null,null,null," ",null,1,1900]
[null,null,null,null,null,null,null,null," ",null,1,1900]
[null,null,null,null,null,null,null,null," ",null,1,1900]
[null,null,null,null,null,null,null,null," ",null,1,1900]
[null,null,null,null,null,null,null,null," ",null,1,1900]
[null,null,null,null,null,null,null,null," ",null,1,1900]
[null,null,null,null,null,null,null,null," ",null,1,1900]
[null,null,null,null,null,null,null,null," ",null,1,1900]
[null,null,null,null,null,null,null,null," ",null,1,1900]
[null,null,null,null,null,null,null,null," ",null,1,1900]
[null,null,null,null,null,null,null,null," ",null,1,1900]
[null,null,null,null,null,null,null,null," ",null,1,1900]
[null,null,null,null,null,null,null,null," ",null,1,1900]
[null,null,null,null,null,null,null,null," ",null,1,1900]
[null,null,null,null,null,null,null,null," ",null,1,1900]
[null,null,null,null,null,null,null,null," ",null,1,1900]
[null,null,null,null,null,null,null,null," ",null,1,1900]
[null,null,null,null,null,null,null,null," ",null,1,1900]
[null,null,null,null,null,null,null,null," ",null,1,1900]
[null,null,null,null,null,null,null,null," ",null,1,1900]
[null,null,null,null,null,null,null,null," ",null,1,1900]
[null,null,null,null,null,null,null,null," ",null,1,1900]
[null,null,null,null,null,null,null,null," ",null,1,1900]
[null,null,null,null,null,null,null,null," ",null,1,1900]
[null,null,null,null,null,null,null,null," ",null,1,1900]
[null,null,null,null,null,null,null,null," ",null,1,1900]
[null,null,null,null,null,null,null,null," ",null,1,1900]
[null,null,null,null,null,null,null,null," ",null,1,1900]
[null,null,null,null,null,null,null,null," ",null,1,1900]
[null,null,null,null,null,null,null,null," ",null,1,1900]
[null,null,null,null,null,null,null,null," ",null,1,1900]
[null,null,null,null,null,null,null,null," ",null,1,1900]
[null,null,null,null,null,null,null,null," ",null,1,1900]
[null,null,null,null,null,null,null,null," ",null,1,1900]
[null,null,null,null,null,null,null,null," ",null,1,1900]
[null,null,null,null,null,null,null,null," ",null,1,1900]
[null,null,null,null,null,null,null,null," ",null,1,1900]
[null,null,null,null,null,null,null,null," ",null,1,1900]
[null,null,null,null,null,null,null,null," ",null,1,1900]
[null,null,null,null,null,null,null,null," ",null,1,1900]
[null,null,null,null,null,null,null,null," ",null,1,1900]
[null,null,null,null,null,null,null,null," ",null,1,1900]
[null,null,null,null,null,null,null,null," ",null,1,1900]
[null,null,null,null,null,null,null,null," ",null,1,1900]
[null,null,null,null,null,null,null,null," ",null,1,1900]
[null,null,null,null,null,null,null,null," ",null,1,1900]
[null,null,null,null,null,null,null,null," ",null,1,1900]
[null,null,null,null,null,null,null,null," ",null,1,1900]
[null,null,null,null,null,null,null,null," ",null,1,1900]
[null,null,null,null,null,null,null,null," ",null,1,1900]
[null,null,null,null,null,null,null,null," ",null,1,1900]
[null,null,null,null,null,null,null,null," ",null,1,1900]
[null,null,null,null,null,null,null,null," ",null,1,1900]
[null,null,null,null,null,null,null,null," ",null,1,1900]
[null,null,null,null,null,null,null,null," ",null,1,1900]
[null,null,null,null,null,null,null,null," ",null,1,1900]
[null,null,null,null,null,null,null,null," ",null,1,1900]
[null,null,null,null,null,null,null,null," ",null,1,1900]
[null,null,null,null,null,null,null,null," ",null,1,1900]
[null,null,null,null,null,null,null,null," ",null,1,1900]
[null,null,null,null,null,null,null,null,{"$f":"+IF(H824=H823,\" \",H824)","v":" "},null,{"$f":"+MONTH(A824)","v":1},{"$f":"+YEAR(A824)","v":1900}]
[null,null,null,null,null,null,null,null," ",null,1,1900]
[null,null,null,null,null,null,null,null," ",null,1,1900]
[null,null,null,null,null,null,null,null," ",null,1,1900]
[null,null,null,null,null,null,null,null," ",null,1,1900]
[null,null,null,null,null,null,null,null," ",null,1,1900]
[null,null,null,null,null,null,null,null," ",null,1,1900]
[null,null,null,null,null,null,null,null," ",null,1,1900]
[null,null,null,null,null,null,null,null," ",null,1,1900]
[null,null,null,null,null,null,null,null," ",null,1,1900]
[null,null,null,null,null,null,null,null," ",null,1,1900]
[null,null,null,null,null,null,null,null," ",null,1,1900]
[null,null,null,null,null,null,null,null," ",null,1,1900]
[null,null,null,null,null,null,null,null," ",null,1,1900]
[null,null,null,null,null,null,null,null," ",null,1,1900]
[null,null,null,null,null,null,null,null," ",null,1,1900]
[null,null,null,null,null,null,null,null," ",null,1,1900]
[null,null,null,null,null,null,null,null," ",null,1,1900]
[null,null,null,null,null,null,null,null," ",null,1,1900]
[null,null,null,null,null,null,null,null," ",null,1,1900]
[null,null,null,null,null,null,null,null," ",null,1,1900]
[null,null,null,null,null,null,null,null," ",null,1,1900]
[null,null,null,null,null,null,null,null," ",null,1,1900]
[null,null,null,null,null,null,null,null," ",null,1,1900]
[null,null,null,null,null,null,null,null," ",null,1,1900]
[null,null,null,null,null,null,null,null," ",null,1,1900]
[null,null,null,null,null,null,null,null," ",null,1,1900]
[null,null,null,null,null,null,null,null," ",null,1,1900]
[null,null,null,null,null,null,null,null," ",null,1,1900]
[null,null,null,null,null,null,null,null," ",null,1,1900]
[null,null,null,null,null,null,null,null," ",null,1,1900]
[null,null,null,null,null,null,null,null," ",null,1,1900]
[null,null,null,null,null,null,null,null," ",null,1,1900]
[null,null,null,null,null,null,null,null," ",null,1,1900]
[null,null,null,null,null,null,null,null," ",null,1,1900]
[null,null,null,null,null,null,null,null," ",null,1,1900]
[null,null,null,null,null,null,null,null," ",null,1,1900]
[null,null,null,null,null,null,null,null," ",null,1,1900]
[null,null,null,null,null,null,null,null," ",null,1,1900]
[null,null,null,null,null,null,null,null," ",null,1,1900]
[null,null,null,null,null,null,null,null," ",null,1,1900]
[null,null,null,null,null,null,null,null," ",null,1,1900]
[null,null,null,null,null,null,null,null," ",null,1,1900]
[null,null,null,null,null,null,null,null," ",null,1,1900]
[null,null,null,null,null,null,null,null," ",null,1,1900]
[null,null,null,null,null,null,null,null," ",null,1,1900]
[null,null,null,null,null,null,null,null," ",null,1,1900]
[null,null,null,null,null,null,null,null," ",null,1,1900]
[null,null,null,null,null,null,null,null," ",null,1,1900]
[null,null,null,null,null,null,null,null," ",null,1,1900]
[null,null,null,null,null,null,null,null," ",null,1,1900]
[null,null,null,null,null,null,null,null," ",null,1,1900]
[null,null,null,null,null,null,null,null," ",null,1,1900]
[null,null,null,null,null,null,null,null," ",null,1,1900]
[null,null,null,null,null,null,null,null," ",null,1,1900]
[null,null,null,null,null,null,null,null," ",null,1,1900]
[null,null,null,null,null,null,null,null," ",null,1,1900]
[null,null,null,null,null,null,null,null," ",null,1,1900]
[null,null,null,null,null,null,null,null," ",null,1,1900]
[null,null,null,null,null,null,null,null," ",null,1,1900]
[null,null,null,null,null,null,null,null," ",null,1,1900]
[null,null,null,null,null,null,null,null," ",null,1,1900]
[null,null,null,null,null,null,null,null," ",null,1,1900]
[null,null,null,null,null,null,null,null," ",null,1,1900]
[null,null,null,null,null,null,null,null,{"$f":"+IF(H888=H887,\" \",H888)","v":" "},null,{"$f":"+MONTH(A888)","v":1},{"$f":"+YEAR(A888)","v":1900}]
[null,null,null,null,null,null,null,null," ",null,1,1900]
[null,null,null,null,null,null,null,null," ",null,1,1900]
[null,null,null,null,null,null,null,null," ",null,1,1900]
[null,null,null,null,null,null,null,null," ",null,1,1900]
[null,null,null,null,null,null,null,null," ",null,1,1900]
[null,null,null,null,null,null,null,null," ",null,1,1900]
[null,null,null,null,null,null,null,null," ",null,1,1900]
[null,null,null,null,null,null,null,null," ",null,1,1900]
[null,null,null,null,null,null,null,null," ",null,1,1900]
[null,null,null,null,null,null,null,null," ",null,1,1900]
[null,null,null,null,null,null,null,null," ",null,1,1900]
[null,null,null,null,null,null,null,null," ",null,1,1900]
[null,null,null,null,null,null,null,null," ",null,1,1900]
[null,null,null,null,null,null,null,null," ",null,1,1900]
[null,null,null,null,null,null,null,null," ",null,1,1900]
[null,null,null,null,null,null,null,null," ",null,1,1900]
[null,null,null,null,null,null,null,null," ",null,1,1900]
[null,null,null,null,null,null,null,null," ",null,1,1900]
[null,null,null,null,null,null,null,null," ",null,1,1900]
[null,null,null,null,null,null,null,null," ",null,1,1900]
[null,null,null,null,null,null,null,null," ",null,1,1900]
[null,null,null,null,null,null,null,null," ",null,1,1900]
[null,null,null,null,null,null,null,null," ",null,1,1900]
[null,null,null,null,null,null,null,null," ",null,1,1900]
[null,null,null,null,null,null,null,null," ",null,1,1900]
[null,null,null,null,null,null,null,null," ",null,1,1900]
[null,null,null,null,null,null,null,null," ",null,1,1900]
[null,null,null,null,null,null,null,null," ",null,1,1900]
[null,null,null,null,null,null,null,null," ",null,1,1900]
[null,null,null,null,null,null,null,null," ",null,1,1900]
[null,null,null,null,null,null,null,null," ",null,1,1900]
[null,null,null,null,null,null,null,null," ",null,1,1900]
[null,null,null,null,null,null,null,null," ",null,1,1900]
[null,null,null,null,null,null,null,null," ",null,1,1900]
[null,null,null,null,null,null,null,null," ",null,1,1900]
[null,null,null,null,null,null,null,null," ",null,1,1900]
[null,null,null,null,null,null,null,null," ",null,1,1900]
[null,null,null,null,null,null,null,null," ",null,1,1900]
[null,null,null,null,null,null,null,null," ",null,1,1900]
[null,null,null,null,null,null,null,null," ",null,1,1900]
[null,null,null,null,null,null,null,null," ",null,1,1900]
[null,null,null,null,null,null,null,null," ",null,1,1900]
[null,null,null,null,null,null,null,null," ",null,1,1900]
[null,null,null,null,null,null,null,null," ",null,1,1900]
[null,null,null,null,null,null,null,null," ",null,1,1900]
[null,null,null,null,null,null,null,null," ",null,1,1900]
[null,null,null,null,null,null,null,null," ",null,1,1900]
[null,null,null,null,null,null,null,null," ",null,1,1900]
[null,null,null,null,null,null,null,null," ",null,1,1900]
[null,null,null,null,null,null,null,null," ",null,1,1900]
[null,null,null,null,null,null,null,null," ",null,1,1900]
[null,null,null,null,null,null,null,null," ",null,1,1900]
[null,null,null,null,null,null,null,null," ",null,1,1900]
[null,null,null,null,null,null,null,null," ",null,1,1900]
[null,null,null,null,null,null,null,null," ",null,1,1900]
[null,null,null,null,null,null,null,null," ",null,1,1900]
[null,null,null,null,null,null,null,null," ",null,1,1900]
[null,null,null,null,null,null,null,null," ",null,1,1900]
[null,null,null,null,null,null,null,null," ",null,1,1900]
[null,null,null,null,null,null,null,null," ",null,1,1900]
[null,null,null,null,null,null,null,null," ",null,1,1900]
[null,null,null,null,null,null,null,null," ",null,1,1900]
[null,null,null,null,null,null,null,null," ",null,1,1900]
[null,null,null,null,null,null,null,null,{"$f":"+IF(H952=H951,\" \",H952)","v":" "},null,{"$f":"+MONTH(A952)","v":1},{"$f":"+YEAR(A952)","v":1900}]
[null,null,null,null,null,null,null,null," ",null,1,1900]
[null,null,null,null,null,null,null,null," ",null,1,1900]
[null,null,null,null,null,null,null,null," ",null,1,1900]
[null,null,null,null,null,null,null,null," ",null,1,1900]
[null,null,null,null,null,null,null,null," ",null,1,1900]
[null,null,null,null,null,null,null,null," ",null,1,1900]
[null,null,null,null,null,null,null,null," ",null,1,1900]
[null,null,null,null,null,null,null,null," ",null,1,1900]
[null,null,null,null,null,null,null,null," ",null,1,1900]
[null,null,null,null,null,null,null,null," ",null,1,1900]
[null,null,null,null,null,null,null,null," ",null,1,1900]
[null,null,null,null,null,null,null,null," ",null,1,1900]
[null,null,null,null,null,null,null,null," ",null,1,1900]
[null,null,null,null,null,null,null,null," ",null,1,1900]
[null,null,null,null,null,null,null,null," ",null,1,1900]
[null,null,null,null,null,null,null,null," ",null,1,1900]
[null,null,null,null,null,null,null,null," ",null,1,1900]
[null,null,null,null,null,null,null,null," ",null,1,1900]
[null,null,null,null,null,null,null,null," ",null,1,1900]
[null,null,null,null,null,null,null,null," ",null,1,1900]
[null,null,null,null,null,null,null,null," ",null,1,1900]
[null,null,null,null,null,null,null,null," ",null,1,1900]
[null,null,null,null,null,null,null,null," ",null,1,1900]
[null,null,null,null,null,null,null,null," ",null,1,1900]
[null,null,null,null,null,null,null,null," ",null,1,1900]
[null,null,null,null,null,null,null,null," ",null,1,1900]
[null,null,null,null,null,null,null,null," ",null,1,1900]
[null,null,null,null,null,null,null,null," ",null,1,1900]
[null,null,null,null,null,null,null,null," ",null,1,1900]
[null,null,null,null,null,null,null,null," ",null,1,1900]
[null,null,null,null,null,null,null,null," ",null,1,1900]
[null,null,null,null,null,null,null,null," ",null,1,1900]
[null,null,null,null,null,null,null,null," ",null,1,1900]
[null,null,null,null,null,null,null,null," ",null,1,1900]
[null,null,null,null,null,null,null,null," ",null,1,1900]
[null,null,null,null,null,null,null,null," ",null,1,1900]
[null,null,null,null,null,null,null,null," ",null,1,1900]
[null,null,null,null,null,null,null,null," ",null,1,1900]
[null,null,null,null,null,null,null,null," ",null,1,1900]
[null,null,null,null,null,null,null,null," ",null,1,1900]
[null,null,null,null,null,null,null,null," ",null,1,1900]
[null,null,null,null,null,null,null,null," ",null,1,1900]
[null,null,null,null,null,null,null,null," ",null,1,1900]
[null,null,null,null,null,null,null,null," ",null,1,1900]
[null,null,null,null,null,null,null,null," ",null,1,1900]
[null,null,null,null,null,null,null,null," ",null,1,1900]
[null,null,null,null,null,null,null,null," ",null,1,1900]
[null,null,null,null,null,null,null,null," ",null,1,1900]
[null,null,null,null,null,null,null,null," ",null,1,1900]
[null,null,null,null,null,null,null,null," ",null,1,1900]
[null,null,null,null,null,null,null,null," ",null,1,1900]
[null,null,null,null,null,null,null,null," ",null,1,1900]
[null,null,null,null,null,null,null,null," ",null,1,1900]
[null,null,null,null,null,null,null,null," ",null,1,1900]
[null,null,null,null,null,null,null,null," ",null,1,1900]
[null,null,null,null,null,null,null,null," ",null,1,1900]
[null,null,null,null,null,null,null,null," ",null,1,1900]
[null,null,null,null,null,null,null,null," ",null,1,1900]
[null,null,null,null,null,null,null,null," ",null,1,1900]
[null,null,null,null,null,null,null,null," ",null,1,1900]
[null,null,null,null,null,null,null,null," ",null,1,1900]
[null,null,null,null,null,null,null,null," ",null,1,1900]
[null,null,null,null,null,null,null,null," ",null,1,1900]
[null,null,null,null,null,null,null,null,{"$f":"+IF(H1016=H1015,\" \",H1016)","v":" "},null,{"$f":"+MONTH(A1016)","v":1},{"$f":"+YEAR(A1016)","v":1900}]
[null,null,null,null,null,null,null,null," ",null,1,1900]
[null,null,null,null,null,null,null,null," ",null,1,1900]
[null,null,null,null,null,null,null,null," ",null,1,1900]
[null,null,null,null,null,null,null,null," ",null,1,1900]
[null,null,null,null,null,null,null,null," ",null,1,1900]
[null,null,null,null,null,null,null,null," ",null,1,1900]
[null,null,null,null,null,null,null,null," ",null,1,1900]
[null,null,null,null,null,null,null,null," ",null,1,1900]
[null,null,null,null,null,null,null,null," ",null,1,1900]
[null,null,null,null,null,null,null,null," ",null,1,1900]
[null,null,null,null,null,null,null,null," ",null,1,1900]
[null,null,null,null,null,null,null,null," ",null,1,1900]
[null,null,null,null,null,null,null,null," ",null,1,1900]
[null,null,null,null,null,null,null,null," ",null,1,1900]
[null,null,null,null,null,null,null,null," ",null,1,1900]
[null,null,null,null,null,null,null,null," ",null,1,1900]
[null,null,null,null,null,null,null,null," ",null,1,1900]
[null,null,null,null,null,null,null,null," ",null,1,1900]
[null,null,null,null,null,null,null,null," ",null,1,1900]
[null,null,null,null,null,null,null,null," ",null,1,1900]
[null,null,null,null,null,null,null,null," ",null,1,1900]
[null,null,null,null,null,null,null,null," ",null,1,1900]
[null,null,null,null,null,null,null,null," ",null,1,1900]
[null,null,null,null,null,null,null,null," ",null,1,1900]
[null,null,null,null,null,null,null,null," ",null,1,1900]
[null,null,null,null,null,null,null,null," ",null,1,1900]
[null,null,null,null,null,null,null,null," ",null,1,1900]
[null,null,null,null,null,null,null,null," ",null,1,1900]
[null,null,null,null,null,null,null,null," ",null,1,1900]
[null,null,null,null,null,null,null,null," ",null,1,1900]
[null,null,null,null,null,null,null,null," ",null,1,1900]
[null,null,null,null,null,null,null,null," ",null,1,1900]
[null,null,null,null,null,null,null,null," ",null,1,1900]
[null,null,null,null,null,null,null,null," ",null,1,1900]
[null,null,null,null,null,null,null,null," ",null,1,1900]
[null,null,null,null,null,null,null,null," ",null,1,1900]
[null,null,null,null,null,null,null,null," ",null,1,1900]
[null,null,null,null,null,null,null,null," ",null,1,1900]
[null,null,null,null,null,null,null,null," ",null,1,1900]
[null,null,null,null,null,null,null,null," ",null,1,1900]
[null,null,null,null,null,null,null,null," ",null,1,1900]
[null,null,null,null,null,null,null,null," ",null,1,1900]
[null,null,null,null,null,null,null,null," ",null,1,1900]
[null,null,null,null,null,null,null,null," ",null,1,1900]
[null,null,null,null,null,null,null,null," ",null,1,1900]
[null,null,null,null,null,null,null,null," ",null,1,1900]
[null,null,null,null,null,null,null,null," ",null,1,1900]
[null,null,null,null,null,null,null,null," ",null,1,1900]
[null,null,null,null,null,null,null,null," ",null,1,1900]
[null,null,null,null,null,null,null,null," ",null,1,1900]
[null,null,null,null,null,null,null,null," ",null,1,1900]
[null,null,null,null,null,null,null,null," ",null,1,1900]
[null,null,null,null,null,null,null,null," ",null,1,1900]
[null,null,null,null,null,null,null,null," ",null,1,1900]
[null,null,null,null,null,null,null,null," ",null,1,1900]
[null,null,null,null,null,null,null,null," ",null,1,1900]
[null,null,null,null,null,null,null,null," ",null,1,1900]
[null,null,null,null,null,null,null,null," ",null,1,1900]
[null,null,null,null,null,null,null,null," ",null,1,1900]
[null,null,null,null,null,null,null,null," ",null,1,1900]
[null,null,null,null,null,null,null,null," ",null,1,1900]
[null,null,null,null,null,null,null,null," ",null,1,1900]
[null,null,null,null,null,null,null,null," ",null,1,1900]
[null,null,null,null,null,null,null,null,{"$f":"+IF(H1080=H1079,\" \",H1080)","v":" "},null,{"$f":"+MONTH(A1080)","v":1},{"$f":"+YEAR(A1080)","v":1900}]
[null,null,null,null,null,null,null,null," ",null,1,1900]
[null,null,null,null,null,null,null,null," ",null,1,1900]
[null,null,null,null,null,null,null,null," ",null,1,1900]
[null,null,null,null,null,null,null,null," ",null,1,1900]
[null,null,null,null,null,null,null,null," ",null,1,1900]
[null,null,null,null,null,null,null,null," ",null,1,1900]
[null,null,null,null,null,null,null,null," ",null,1,1900]
[null,null,null,null,null,null,null,null," ",null,1,1900]
[null,null,null,null,null,null,null,null," ",null,1,1900]
[null,null,null,null,null,null,null,null," ",null,1,1900]
[null,null,null,null,null,null,null,null," ",null,1,1900]
[null,null,null,null,null,null,null,null," ",null,1,1900]
[null,null,null,null,null,null,null,null," ",null,1,1900]
[null,null,null,null,null,null,null,null," ",null,1,1900]
[null,null,null,null,null,null,null,null," ",null,1,1900]
[null,null,null,null,null,null,null,null," ",null,1,1900]
[null,null,null,null,null,null,null,null," ",null,1,1900]
[null,null,null,null,null,null,null,null," ",null,1,1900]
[null,null,null,null,null,null,null,null," ",null,1,1900]
[null,null,null,null,null,null,null,null," ",null,1,1900]
[null,null,null,null,null,null,null,null," ",null,1,1900]
[null,null,null,null,null,null,null,null," ",null,1,1900]
[null,null,null,null,null,null,null,null," ",null,1,1900]
[null,null,null,null,null,null,null,null," ",null,1,1900]
[null,null,null,null,null,null,null,null," ",null,1,1900]
[null,null,null,null,null,null,null,null," ",null,1,1900]
[null,null,null,null,null,null,null,null," ",null,1,1900]
[null,null,null,null,null,null,null,null," ",null,1,1900]
[null,null,null,null,null,null,null,null," ",null,1,1900]
[null,null,null,null,null,null,null,null," ",null,1,1900]
[null,null,null,null,null,null,null,null," ",null,1,1900]
[null,null,null,null,null,null,null,null," ",null,1,1900]
[null,null,null,null,null,null,null,null," ",null,1,1900]
[null,null,null,null,null,null,null,null," ",null,1,1900]
[null,null,null,null,null,null,null,null," ",null,1,1900]
[null,null,null,null,null,null,null,null," ",null,1,1900]
[null,null,null,null,null,null,null,null," ",null,1,1900]
[null,null,null,null,null,null,null,null," ",null,1,1900]
[null,null,null,null,null,null,null,null," ",null,1,1900]
[null,null,null,null,null,null,null,null," ",null,1,1900]
[null,null,null,null,null,null,null,null," ",null,1,1900]
[null,null,null,null,null,null,null,null," ",null,1,1900]
[null,null,null,null,null,null,null,null," ",null,1,1900]
[null,null,null,null,null,null,null,null," ",null,1,1900]
[null,null,null,null,null,null,null,null," ",null,1,1900]
[null,null,null,null,null,null,null,null," ",null,1,1900]
[null,null,null,null,null,null,null,null," ",null,1,1900]
[null,null,null,null,null,null,null,null," ",null,1,1900]
[null,null,null,null,null,null,null,null," ",null,1,1900]
[null,null,null,null,null,null,null,null," ",null,1,1900]
[null,null,null,null,null,null,null,null," ",null,1,1900]
[null,null,null,null,null,null,null,null," ",null,1,1900]
[null,null,null,null,null,null,null,null," ",null,1,1900]
[null,null,null,null,null,null,null,null," ",null,1,1900]
[null,null,null,null,null,null,null,null," ",null,1,1900]
[null,null,null,null,null,null,null,null," ",null,1,1900]
[null,null,null,null,null,null,null,null," ",null,1,1900]
[null,null,null,null,null,null,null,null," ",null,1,1900]
[null,null,null,null,null,null,null,null," ",null,1,1900]
[null,null,null,null,null,null,null,null," ",null,1,1900]
[null,null,null,null,null,null,null,null," ",null,1,1900]
[null,null,null,null,null,null,null,null," ",null,1,1900]
[null,null,null,null,null,null,null,null," ",null,1,1900]
[null,null,null,null,null,null,null,null,{"$f":"+IF(H1144=H1143,\" \",H1144)","v":" "},null,{"$f":"+MONTH(A1144)","v":1},{"$f":"+YEAR(A1144)","v":1900}]
[null,null,null,null,null,null,null,null," ",null,1,1900]
[null,null,null,null,null,null,null,null," ",null,1,1900]
[null,null,null,null,null,null,null,null," ",null,1,1900]
[null,null,null,null,null,null,null,null," ",null,1,1900]
[null,null,null,null,null,null,null,null," ",null,1,1900]
[null,null,null,null,null,null,null,null," ",null,1,1900]
[null,null,null,null,null,null,null,null," ",null,1,1900]
[null,null,null,null,null,null,null,null," ",null,1,1900]
[null,null,null,null,null,null,null,null," ",null,1,1900]
[null,null,null,null,null,null,null,null," ",null,1,1900]
[null,null,null,null,null,null,null,null," ",null,1,1900]
[null,null,null,null,null,null,null,null," ",null,1,1900]
[null,null,null,null,null,null,null,null," ",null,1,1900]
[null,null,null,null,null,null,null,null," ",null,1,1900]
[null,null,null,null,null,null,null,null," ",null,1,1900]
[null,null,null,null,null,null,null,null," ",null,1,1900]
[null,null,null,null,null,null,null,null," ",null,1,1900]
[null,null,null,null,null,null,null,null," ",null,1,1900]
[null,null,null,null,null,null,null,null," ",null,1,1900]
[null,null,null,null,null,null,null,null," ",null,1,1900]
[null,null,null,null,null,null,null,null," ",null,1,1900]
[null,null,null,null,null,null,null,null," ",null,1,1900]
[null,null,null,null,null,null,null,null," ",null,1,1900]
[null,null,null,null,null,null,null,null," ",null,1,1900]
[null,null,null,null,null,null,null,null," ",null,1,1900]
[null,null,null,null,null,null,null,null," ",null,1,1900]
[null,null,null,null,null,null,null,null," ",null,1,1900]
[null,null,null,null,null,null,null,null," ",null,1,1900]
[null,null,null,null,null,null,null,null," ",null,1,1900]
[null,null,null,null,null,null,null,null," ",null,1,1900]
[null,null,null,null,null,null,null,null," ",null,1,1900]
[null,null,null,null,null,null,null,null," ",null,1,1900]
[null,null,null,null,null,null,null,null," ",null,1,1900]
[null,null,null,null,null,null,null,null," ",null,1,1900]
[null,null,null,null,null,null,null,null," ",null,1,1900]
[null,null,null,null,null,null,null,null," ",null,1,1900]
[null,null,null,null,null,null,null,null," ",null,1,1900]
[null,null,null,null,null,null,null,null," ",null,1,1900]
[null,null,null,null,null,null,null,null," ",null,1,1900]
[null,null,null,null,null,null,null,null," ",null,1,1900]
[null,null,null,null,null,null,null,null," ",null,1,1900]
[null,null,null,null,null,null,null,null," ",null,1,1900]
[null,null,null,null,null,null,null,null," ",null,1,1900]
[null,null,null,null,null,null,null,null," ",null,1,1900]
[null,null,null,null,null,null,null,null," ",null,1,1900]
[null,null,null,null,null,null,null,null," ",null,1,1900]
[null,null,null,null,null,null,null,null," ",null,1,1900]
[null,null,null,null,null,null,null,null," ",null,1,1900]
[null,null,null,null,null,null,null,null," ",null,1,1900]
[null,null,null,null,null,null,null,null," ",null,1,1900]
[null,null,null,null,null,null,null,null," ",null,1,1900]
[null,null,null,null,null,null,null,null," ",null,1,1900]
[null,null,null,null,null,null,null,null," ",null,1,1900]
[null,null,null,null,null,null,null,null," ",null,1,1900]
[null,null,null,null,null,null,null,null," ",null,1,1900]
[null,null,null,null,null,null,null,null," ",null,1,1900]
[null,null,null,null,null,null,null,null," ",null,1,1900]
[null,null,null,null,null,null,null,null," ",null,1,1900]
[null,null,null,null,null,null,null,null," ",null,1,1900]
[null,null,null,null,null,null,null,null," ",null,1,1900]
[null,null,null,null,null,null,null,null," ",null,1,1900]
[null,null,null,null,null,null,null,null," ",null,1,1900]
[null,null,null,null,null,null,null,null," ",null,1,1900]
[null,null,null,null,null,null,null,null,{"$f":"+IF(H1208=H1207,\" \",H1208)","v":" "},null,{"$f":"+MONTH(A1208)","v":1},{"$f":"+YEAR(A1208)","v":1900}]
[null,null,null,null,null,null,null,null," ",null,1,1900]
[null,null,null,null,null,null,null,null," ",null,1,1900]
[null,null,null,null,null,null,null,null," ",null,1,1900]
[null,null,null,null,null,null,null,null," ",null,1,1900]
[null,null,null,null,null,null,null,null," ",null,1,1900]
[null,null,null,null,null,null,null,null," ",null,1,1900]
[null,null,null,null,null,null,null,null," ",null,1,1900]
[null,null,null,null,null,null,null,null," ",null,1,1900]
[null,null,null,null,null,null,null,null," ",null,1,1900]
[null,null,null,null,null,null,null,null," ",null,1,1900]
[null,null,null,null,null,null,null,null," ",null,1,1900]
[null,null,null,null,null,null,null,null," ",null,1,1900]
[null,null,null,null,null,null,null,null," ",null,1,1900]
[null,null,null,null,null,null,null,null," ",null,1,1900]
[null,null,null,null,null,null,null,null," ",null,1,1900]
[null,null,null,null,null,null,null,null," ",null,1,1900]
[null,null,null,null,null,null,null,null," ",null,1,1900]
[null,null,null,null,null,null,null,null," ",null,1,1900]
[null,null,null,null,null,null,null,null," ",null,1,1900]
[null,null,null,null,null,null,null,null," ",null,1,1900]
[null,null,null,null,null,null,null,null," ",null,1,1900]
[null,null,null,null,null,null,null,null," ",null,1,1900]
[null,null,null,null,null,null,null,null," ",null,1,1900]
[null,null,null,null,null,null,null,null," ",null,1,1900]
[null,null,null,null,null,null,null,null," ",null,1,1900]
[null,null,null,null,null,null,null,null," ",null,1,1900]
[null,null,null,null,null,null,null,null," ",null,1,1900]
[null,null,null,null,null,null,null,null," ",null,1,1900]
[null,null,null,null,null,null,null,null," ",null,1,1900]
[null,null,null,null,null,null,null,null," ",null,1,1900]
[null,null,null,null,null,null,null,null," ",null,1,1900]
[null,null,null,null,null,null,null,null," ",null,1,1900]
[null,null,null,null,null,null,null,null," ",null,1,1900]
[null,null,null,null,null,null,null,null," ",null,1,1900]
[null,null,null,null,null,null,null,null," ",null,1,1900]
[null,null,null,null,null,null,null,null," ",null,1,1900]
[null,null,null,null,null,null,null,null," ",null,1,1900]
[null,null,null,null,null,null,null,null," ",null,1,1900]
[null,null,null,null,null,null,null,null," ",null,1,1900]
[null,null,null,null,null,null,null,null," ",null,1,1900]
[null,null,null,null,null,null,null,null," ",null,1,1900]
[null,null,null,null,null,null,null,null," ",null,1,1900]
[null,null,null,null,null,null,null,null," ",null,1,1900]
[null,null,null,null,null,null,null,null," ",null,1,1900]
[null,null,null,null,null,null,null,null," ",null,1,1900]
[null,null,null,null,null,null,null,null," ",null,1,1900]
[null,null,null,null,null,null,null,null," ",null,1,1900]
[null,null,null,null,null,null,null,null," ",null,1,1900]
[null,null,null,null,null,null,null,null," ",null,1,1900]
[null,null,null,null,null,null,null,null," ",null,1,1900]
[null,null,null,null,null,null,null,null," ",null,1,1900]
[null,null,null,null,null,null,null,null," ",null,1,1900]
[null,null,null,null,null,null,null,null," ",null,1,1900]
[null,null,null,null,null,null,null,null," ",null,1,1900]
[null,null,null,null,null,null,null,null," ",null,1,1900]
[null,null,null,null,null,null,null,null," ",null,1,1900]
[null,null,null,null,null,null,null,null," ",null,1,1900]
[null,null,null,null,null,null,null,null," ",null,1,1900]
[null,null,null,null,null,null,null,null," ",null,1,1900]
[null,null,null,null,null,null,null,null," ",null,1,1900]
[null,null,null,null,null,null,null,null," ",null,1,1900]
[null,null,null,null,null,null,null,null," ",null,1,1900]
[null,null,null,null,null,null,null,null," ",null,1,1900]
[null,null,null,null,null,null,null,null,{"$f":"+IF(H1272=H1271,\" \",H1272)","v":" "},null,{"$f":"+MONTH(A1272)","v":1},{"$f":"+YEAR(A1272)","v":1900}]
[null,null,null,null,null,null,null,null," ",null,1,1900]
[null,null,null,null,null,null,null,null," ",null,1,1900]
[null,null,null,null,null,null,null,null," ",null,1,1900]
[null,null,null,null,null,null,null,null," ",null,1,1900]
[null,null,null,null,null,null,null,null," ",null,1,1900]
[null,null,null,null,null,null,null,null," ",null,1,1900]
[null,null,null,null,null,null,null,null," ",null,1,1900]
[null,null,null,null,null,null,null,null," ",null,1,1900]
[null,null,null,null,null,null,null,null," ",null,1,1900]
[null,null,null,null,null,null,null,null," ",null,1,1900]
[null,null,null,null,null,null,null,null," ",null,1,1900]
[null,null,null,null,null,null,null,null," ",null,1,1900]
[null,null,null,null,null,null,null,null," ",null,1,1900]
[null,null,null,null,null,null,null,null," ",null,1,1900]
[null,null,null,null,null,null,null,null," ",null,1,1900]
[null,null,null,null,null,null,null,null," ",null,1,1900]
[null,null,null,null,null,null,null,null," ",null,1,1900]
[null,null,null,null,null,null,null,null," ",null,1,1900]
[null,null,null,null,null,null,null,null," ",null,1,1900]
[null,null,null,null,null,null,null,null," ",null,1,1900]
[null,null,null,null,null,null,null,null," ",null,1,1900]
[null,null,null,null,null,null,null,null," ",null,1,1900]
[null,null,null,null,null,null,null,null," ",null,1,1900]
[null,null,null,null,null,null,null,null," ",null,1,1900]
[null,null,null,null,null,null,null,null," ",null,1,1900]
[null,null,null,null,null,null,null,null," ",null,1,1900]
[null,null,null,null,null,null,null,null," ",null,1,1900]
[null,null,null,null,null,null,null,null," ",null,1,1900]
[null,null,null,null,null,null,null,null," ",null,1,1900]
[null,null,null,null,null,null,null,null," ",null,1,1900]
[null,null,null,null,null,null,null,null," ",null,1,1900]
[null,null,null,null,null,null,null,null," ",null,1,1900]
[null,null,null,null,null,null,null,null," ",null,1,1900]
[null,null,null,null,null,null,null,null," ",null,1,1900]
[null,null,null,null,null,null,null,null," ",null,1,1900]
[null,null,null,null,null,null,null,null," ",null,1,1900]
[null,null,null,null,null,null,null,null," ",null,1,1900]
[null,null,null,null,null,null,null,null," ",null,1,1900]
[null,null,null,null,null,null,null,null," ",null,1,1900]
[null,null,null,null,null,null,null,null," ",null,1,1900]
[null,null,null,null,null,null,null,null," ",null,1,1900]
[null,null,null,null,null,null,null,null," ",null,1,1900]
[null,null,null,null,null,null,null,null," ",null,1,1900]
[null,null,null,null,null,null,null,null," ",null,1,1900]
[null,null,null,null,null,null,null,null," ",null,1,1900]
[null,null,null,null,null,null,null,null," ",null,1,1900]
[null,null,null,null,null,null,null,null," ",null,1,1900]
[null,null,null,null,null,null,null,null," ",null,1,1900]
[null,null,null,null,null,null,null,null," ",null,1,1900]
[null,null,null,null,null,null,null,null," ",null,1,1900]
[null,null,null,null,null,null,null,null," ",null,1,1900]
[null,null,null,null,null,null,null,null," ",null,1,1900]
[null,null,null,null,null,null,null,null," ",null,1,1900]
[null,null,null,null,null,null,null,null," ",null,1,1900]
[null,null,null,null,null,null,null,null," ",null,1,1900]
[null,null,null,null,null,null,null,null," ",null,1,1900]
[null,null,null,null,null,null,null,null," ",null,1,1900]
[null,null,null,null,null,null,null,null," ",null,1,1900]
[null,null,null,null,null,null,null,null," ",null,1,1900]
[null,null,null,null,null,null,null,null," ",null,1,1900]
[null,null,null,null,null,null,null,null," ",null,1,1900]
[null,null,null,null,null,null,null,null," ",null,1,1900]
[null,null,null,null,null,null,null,null," ",null,1,1900]
[null,null,null,null,null,null,null,null,{"$f":"+IF(H1336=H1335,\" \",H1336)","v":" "},null,{"$f":"+MONTH(A1336)","v":1},{"$f":"+YEAR(A1336)","v":1900}]
[null,null,null,null,null,null,null,null," ",null,1,1900]
[null,null,null,null,null,null,null,null," ",null,1,1900]
[null,null,null,null,null,null,null,null," ",null,1,1900]
[null,null,null,null,null,null,null,null," ",null,1,1900]
[null,null,null,null,null,null,null,null," ",null,1,1900]
[null,null,null,null,null,null,null,null," ",null,1,1900]
[null,null,null,null,null,null,null,null," ",null,1,1900]
[null,null,null,null,null,null,null,null," ",null,1,1900]
[null,null,null,null,null,null,null,null," ",null,1,1900]
[null,null,null,null,null,null,null,null," ",null,1,1900]
[null,null,null,null,null,null,null,null," ",null,1,1900]
[null,null,null,null,null,null,null,null," ",null,1,1900]
[null,null,null,null,null,null,null,null," ",null,1,1900]
[null,null,null,null,null,null,null,null," ",null,1,1900]
[null,null,null,null,null,null,null,null," ",null,1,1900]
[null,null,null,null,null,null,null,null," ",null,1,1900]
[null,null,null,null,null,null,null,null," ",null,1,1900]
[null,null,null,null,null,null,null,null," ",null,1,1900]
[null,null,null,null,null,null,null,null," ",null,1,1900]
[null,null,null,null,null,null,null,null," ",null,1,1900]
[null,null,null,null,null,null,null,null," ",null,1,1900]
[null,null,null,null,null,null,null,null," ",null,1,1900]
[null,null,null,null,null,null,null,null," ",null,1,1900]
[null,null,null,null,null,null,null,null," ",null,1,1900]
[null,null,null,null,null,null,null,null," ",null,1,1900]
[null,null,null,null,null,null,null,null," ",null,1,1900]
[null,null,null,null,null,null,null,null," ",null,1,1900]
[null,null,null,null,null,null,null,null," ",null,1,1900]
[null,null,null,null,null,null,null,null," ",null,1,1900]
[null,null,null,null,null,null,null,null," ",null,1,1900]
[null,null,null,null,null,null,null,null," ",null,1,1900]
[null,null,null,null,null,null,null,null," ",null,1,1900]
[null,null,null,null,null,null,null,null," ",null,1,1900]
[null,null,null,null,null,null,null,null," ",null,1,1900]
[null,null,null,null,null,null,null,null," ",null,1,1900]
[null,null,null,null,null,null,null,null," ",null,1,1900]
[null,null,null,null,null,null,null,null," ",null,1,1900]
[null,null,null,null,null,null,null,null," ",null,1,1900]
[null,null,null,null,null,null,null,null," ",null,1,1900]
[null,null,null,null,null,null,null,null," ",null,1,1900]
[null,null,null,null,null,null,null,null," ",null,1,1900]
[null,null,null,null,null,null,null,null," ",null,1,1900]
[null,null,null,null,null,null,null,null," ",null,1,1900]
[null,null,null,null,null,null,null,null," ",null,1,1900]
[null,null,null,null,null,null,null,null," ",null,1,1900]
[null,null,null,null,null,null,null,null," ",null,1,1900]
[null,null,null,null,null,null,null,null," ",null,1,1900]
[null,null,null,null,null,null,null,null," ",null,1,1900]
[null,null,null,null,null,null,null,null," ",null,1,1900]
[null,null,null,null,null,null,null,null," ",null,1,1900]
[null,null,null,null,null,null,null,null," ",null,1,1900]
[null,null,null,null,null,null,null,null," ",null,1,1900]
[null,null,null,null,null,null,null,null," ",null,1,1900]
[null,null,null,null,null,null,null,null," ",null,1,1900]
[null,null,null,null,null,null,null,null," ",null,1,1900]
[null,null,null,null,null,null,null,null," ",null,1,1900]
[null,null,null,null,null,null,null,null," ",null,1,1900]
[null,null,null,null,null,null,null,null," ",null,1,1900]
[null,null,null,null,null,null,null,null," ",null,1,1900]
[null,null,null,null,null,null,null,null," ",null,1,1900]
[null,null,null,null,null,null,null,null," ",null,1,1900]
[null,null,null,null,null,null,null,null," ",null,1,1900]
[null,null,null,null,null,null,null,null," ",null,1,1900]
[null,null,null,null,null,null,null,null,{"$f":"+IF(H1400=H1399,\" \",H1400)","v":" "},null,{"$f":"+MONTH(A1400)","v":1},{"$f":"+YEAR(A1400)","v":1900}]
[null,null,null,null,null,null,null,null," ",null,1,1900]
[null,null,null,null,null,null,null,null," ",null,1,1900]
[null,null,null,null,null,null,null,null," ",null,1,1900]
[null,null,null,null,null,null,null,null," ",null,1,1900]
[null,null,null,null,null,null,null,null," ",null,1,1900]
[null,null,null,null,null,null,null,null," ",null,1,1900]
[null,null,null,null,null,null,null,null," ",null,1,1900]
[null,null,null,null,null,null,null,null," ",null,1,1900]
[null,null,null,null,null,null,null,null," ",null,1,1900]
[null,null,null,null,null,null,null,null," ",null,1,1900]
[null,null,null,null,null,null,null,null," ",null,1,1900]
[null,null,null,null,null,null,null,null," ",null,1,1900]
[null,null,null,null,null,null,null,null," ",null,1,1900]
[null,null,null,null,null,null,null,null," ",null,1,1900]
[null,null,null,null,null,null,null,null," ",null,1,1900]
[null,null,null,null,null,null,null,null," ",null,1,1900]
[null,null,null,null,null,null,null,null," ",null,1,1900]
[null,null,null,null,null,null,null,null," ",null,1,1900]
[null,null,null,null,null,null,null,null," ",null,1,1900]
[null,null,null,null,null,null,null,null," ",null,1,1900]
[null,null,null,null,null,null,null,null," ",null,1,1900]
[null,null,null,null,null,null,null,null," ",null,1,1900]
[null,null,null,null,null,null,null,null," ",null,1,1900]
[null,null,null,null,null,null,null,null," ",null,1,1900]
[null,null,null,null,null,null,null,null," ",null,1,1900]
[null,null,null,null,null,null,null,null," ",null,1,1900]
[null,null,null,null,null,null,null,null," ",null,1,1900]
[null,null,null,null,null,null,null,null," ",null,1,1900]
[null,null,null,null,null,null,null,null," ",null,1,1900]
[null,null,null,null,null,null,null,null," ",null,1,1900]
[null,null,null,null,null,null,null,null," ",null,1,1900]
[null,null,null,null,null,null,null,null," ",null,1,1900]
[null,null,null,null,null,null,null,null," ",null,1,1900]
[null,null,null,null,null,null,null,null," ",null,1,1900]
[null,null,null,null,null,null,null,null," ",null,1,1900]
[null,null,null,null,null,null,null,null," ",null,1,1900]
[null,null,null,null,null,null,null,null," ",null,1,1900]
[null,null,null,null,null,null,null,null," ",null,1,1900]
[null,null,null,null,null,null,null,null," ",null,1,1900]
[null,null,null,null,null,null,null,null," ",null,1,1900]
[null,null,null,null,null,null,null,null," ",null,1,1900]
[null,null,null,null,null,null,null,null," ",null,1,1900]
[null,null,null,null,null,null,null,null," ",null,1,1900]
[null,null,null,null,null,null,null,null," ",null,1,1900]
[null,null,null,null,null,null,null,null," ",null,1,1900]
[null,null,null,null,null,null,null,null," ",null,1,1900]
[null,null,null,null,null,null,null,null," ",null,1,1900]
[null,null,null,null,null,null,null,null," ",null,1,1900]
[null,null,null,null,null,null,null,null," ",null,1,1900]
[null,null,null,null,null,null,null,null," ",null,1,1900]
[null,null,null,null,null,null,null,null," ",null,1,1900]
[null,null,null,null,null,null,null,null," ",null,1,1900]
[null,null,null,null,null,null,null,null," ",null,1,1900]
[null,null,null,null,null,null,null,null," ",null,1,1900]
[null,null,null,null,null,null,null,null," ",null,1,1900]
[null,null,null,null,null,null,null,null," ",null,1,1900]
[null,null,null,null,null,null,null,null," ",null,1,1900]
[null,null,null,null,null,null,null,null," ",null,1,1900]
[null,null,null,null,null,null,null,null," ",null,1,1900]
[null,null,null,null,null,null,null,null," ",null,1,1900]
[null,null,null,null,null,null,null,null," ",null,1,1900]
[null,null,null,null,null,null,null,null," ",null,1,1900]
[null,null,null,null,null,null,null,null," ",null,1,1900]
[null,null,null,null,null,null,null,null,{"$f":"+IF(H1464=H1463,\" \",H1464)","v":" "},null,{"$f":"+MONTH(A1464)","v":1},{"$f":"+YEAR(A1464)","v":1900}]
[null,null,null,null,null,null,null,null," ",null,1,1900]
[null,null,null,null,null,null,null,null," ",null,1,1900]
[null,null,null,null,null,null,null,null," ",null,1,1900]
[null,null,null,null,null,null,null,null," ",null,1,1900]
[null,null,null,null,null,null,null,null," ",null,1,1900]
[null,null,null,null,null,null,null,null," ",null,1,1900]
[null,null,null,null,null,null,null,null," ",null,1,1900]
[null,null,null,null,null,null,null,null," ",null,1,1900]
[null,null,null,null,null,null,null,null," ",null,1,1900]
[null,null,null,null,null,null,null,null," ",null,1,1900]
[null,null,null,null,null,null,null,null," ",null,1,1900]
[null,null,null,null,null,null,null,null," ",null,1,1900]
[null,null,null,null,null,null,null,null," ",null,1,1900]
[null,null,null,null,null,null,null,null," ",null,1,1900]
[null,null,null,null,null,null,null,null," ",null,1,1900]
[null,null,null,null,null,null,null,null," ",null,1,1900]
[null,null,null,null,null,null,null,null," ",null,1,1900]
[null,null,null,null,null,null,null,null," ",null,1,1900]
[null,null,null,null,null,null,null,null," ",null,1,1900]
[null,null,null,null,null,null,null,null," ",null,1,1900]
[null,null,null,null,null,null,null,null," ",null,1,1900]
[null,null,null,null,null,null,null,null," ",null,1,1900]
[null,null,null,null,null,null,null,null," ",null,1,1900]
[null,null,null,null,null,null,null,null," ",null,1,1900]
[null,null,null,null,null,null,null,null," ",null,1,1900]
[null,null,null,null,null,null,null,null," ",null,1,1900]
[null,null,null,null,null,null,null,null," ",null,1,1900]
[null,null,null,null,null,null,null,null," ",null,1,1900]
[null,null,null,null,null,null,null,null," ",null,1,1900]
[null,null,null,null,null,null,null,null," ",null,1,1900]
[null,null,null,null,null,null,null,null," ",null,1,1900]
[null,null,null,null,null,null,null,null," ",null,1,1900]
[null,null,null,null,null,null,null,null," ",null,1,1900]
[null,null,null,null,null,null,null,null," ",null,1,1900]
[null,null,null,null,null,null,null,null," ",null,1,1900]
[null,null,null,null,null,null,null,null," ",null,1,1900]
[null,null,null,null,null,null,null,null," ",null,1,1900]
[null,null,null,null,null,null,null,null," ",null,1,1900]
[null,null,null,null,null,null,null,null," ",null,1,1900]
[null,null,null,null,null,null,null,null," ",null,1,1900]
[null,null,null,null,null,null,null,null," ",null,1,1900]
[null,null,null,null,null,null,null,null," ",null,1,1900]
[null,null,null,null,null,null,null,null," ",null,1,1900]
[null,null,null,null,null,null,null,null," ",null,1,1900]
[null,null,null,null,null,null,null,null," ",null,1,1900]
[null,null,null,null,null,null,null,null," ",null,1,1900]
[null,null,null,null,null,null,null,null," ",null,1,1900]
[null,null,null,null,null,null,null,null," ",null,1,1900]
[null,null,null,null,null,null,null,null," ",null,1,1900]
[null,null,null,null,null,null,null,null," ",null,1,1900]
[null,null,null,null,null,null,null,null," ",null,1,1900]
[null,null,null,null,null,null,null,null," ",null,1,1900]
[null,null,null,null,null,null,null,null," ",null,1,1900]
[null,null,null,null,null,null,null,null," ",null,1,1900]
[null,null,null,null,null,null,null,null," ",null,1,1900]
[null,null,null,null,null,null,null,null," ",null,1,1900]
[null,null,null,null,null,null,null,null," ",null,1,1900]
[null,null,null,null,null,null,null,null," ",null,1,1900]
[null,null,null,null,null,null,null,null," ",null,1,1900]
[null,null,null,null,null,null,null,null," ",null,1,1900]
[null,null,null,null,null,null,null,null," ",null,1,1900]
[null,null,null,null,null,null,null,null," ",null,1,1900]
[null,null,null,null,null,null,null,null," ",null,1,1900]
[null,null,null,null,null,null,null,null,{"$f":"+IF(H1528=H1527,\" \",H1528)","v":" "},null,{"$f":"+MONTH(A1528)","v":1},{"$f":"+YEAR(A1528)","v":1900}]
[null,null,null,null,null,null,null,null," ",null,1,1900]
[null,null,null,null,null,null,null,null," ",null,1,1900]
[null,null,null,null,null,null,null,null," ",null,1,1900]
[null,null,null,null,null,null,null,null," ",null,1,1900]
[null,null,null,null,null,null,null,null," ",null,1,1900]
[null,null,null,null,null,null,null,null," ",null,1,1900]
[null,null,null,null,null,null,null,null," ",null,1,1900]
[null,null,null,null,null,null,null,null," ",null,1,1900]
[null,null,null,null,null,null,null,null," ",null,1,1900]
[null,null,null,null,null,null,null,null," ",null,1,1900]
[null,null,null,null,null,null,null,null," ",null,1,1900]
[null,null,null,null,null,null,null,null," ",null,1,1900]
[null,null,null,null,null,null,null,null," ",null,1,1900]
[null,null,null,null,null,null,null,null," ",null,1,1900]
[null,null,null,null,null,null,null,null," ",null,1,1900]
[null,null,null,null,null,null,null,null," ",null,1,1900]
[null,null,null,null,null,null,null,null," ",null,1,1900]
[null,null,null,null,null,null,null,null," ",null,1,1900]
[null,null,null,null,null,null,null,null," ",null,1,1900]
[null,null,null,null,null,null,null,null," ",null,1,1900]
[null,null,null,null,null,null,null,null," ",null,1,1900]
[null,null,null,null,null,null,null,null," ",null,1,1900]
[null,null,null,null,null,null,null,null," ",null,1,1900]
[null,null,null,null,null,null,null,null," ",null,1,1900]
[null,null,null,null,null,null,null,null," ",null,1,1900]
[null,null,null,null,null,null,null,null," ",null,1,1900]
[null,null,null,null,null,null,null,null," ",null,1,1900]
[null,null,null,null,null,null,null,null," ",null,1,1900]
[null,null,null,null,null,null,null,null," ",null,1,1900]
[null,null,null,null,null,null,null,null," ",null,1,1900]
[null,null,null,null,null,null,null,null," ",null,1,1900]
[null,null,null,null,null,null,null,null," ",null,1,1900]
[null,null,null,null,null,null,null,null," ",null,1,1900]
[null,null,null,null,null,null,null,null," ",null,1,1900]
[null,null,null,null,null,null,null,null," ",null,1,1900]
[null,null,null,null,null,null,null,null," ",null,1,1900]
[null,null,null,null,null,null,null,null," ",null,1,1900]
[null,null,null,null,null,null,null,null," ",null,1,1900]
[null,null,null,null,null,null,null,null," ",null,1,1900]
[null,null,null,null,null,null,null,null," ",null,1,1900]
[null,null,null,null,null,null,null,null," ",null,1,1900]
[null,null,null,null,null,null,null,null," ",null,1,1900]
[null,null,null,null,null,null,null,null," ",null,1,1900]
[null,null,null,null,null,null,null,null," ",null,1,1900]
[null,null,null,null,null,null,null,null," ",null,1,1900]
[null,null,null,null,null,null,null,null," ",null,1,1900]
[null,null,null,null,null,null,null,null," ",null,1,1900]
[null,null,null,null,null,null,null,null," ",null,1,1900]
[null,null,null,null,null,null,null,null," ",null,1,1900]
[null,null,null,null,null,null,null,null," ",null,1,1900]
[null,null,null,null,null,null,null,null," ",null,1,1900]
[null,null,null,null,null,null,null,null," ",null,1,1900]
[null,null,null,null,null,null,null,null," ",null,1,1900]
[null,null,null,null,null,null,null,null," ",null,1,1900]
[null,null,null,null,null,null,null,null," ",null,1,1900]
[null,null,null,null,null,null,null,null," ",null,1,1900]
[null,null,null,null,null,null,null,null," ",null,1,1900]
[null,null,null,null,null,null,null,null," ",null,1,1900]
[null,null,null,null,null,null,null,null," ",null,1,1900]
[null,null,null,null,null,null,null,null," ",null,1,1900]
[null,null,null,null,null,null,null,null," ",null,1,1900]
[null,null,null,null,null,null,null,null," ",null,1,1900]
[null,null,null,null,null,null,null,null," ",null,1,1900]
[null,null,null,null,null,null,null,null,{"$f":"+IF(H1592=H1591,\" \",H1592)","v":" "},null,{"$f":"+MONTH(A1592)","v":1},{"$f":"+YEAR(A1592)","v":1900}]
[null,null,null,null,null,null,null,null," ",null,1,1900]
[null,null,null,null,null,null,null,null," ",null,1,1900]
[null,null,null,null,null,null,null,null," ",null,1,1900]
[null,null,null,null,null,null,null,null," ",null,1,1900]
[null,null,null,null,null,null,null,null," ",null,1,1900]
[null,null,null,null,null,null,null,null," ",null,1,1900]
[null,null,null,null,null,null,null,null," ",null,1,1900]
[null,null,null,null,null,null,null,null," ",null,1,1900]
[null,null,null,null,null,null,null,null," ",null,1,1900]
[null,null,null,null,null,null,null,null," ",null,1,1900]
[null,null,null,null,null,null,null,null," ",null,1,1900]
[null,null,null,null,null,null,null,null," ",null,1,1900]
[null,null,null,null,null,null,null,null," ",null,1,1900]
[null,null,null,null,null,null,null,null," ",null,1,1900]
[null,null,null,null,null,null,null,null," ",null,1,1900]
[null,null,null,null,null,null,null,null," ",null,1,1900]
[null,null,null,null,null,null,null,null," ",null,1,1900]
[null,null,null,null,null,null,null,null," ",null,1,1900]
[null,null,null,null,null,null,null,null," ",null,1,1900]
[null,null,null,null,null,null,null,null," ",null,1,1900]
[null,null,null,null,null,null,null,null," ",null,1,1900]
[null,null,null,null,null,null,null,null," ",null,1,1900]
[null,null,null,null,null,null,null,null," ",null,1,1900]
[null,null,null,null,null,null,null,null," ",null,1,1900]
[null,null,null,null,null,null,null,null," ",null,1,1900]
[null,null,null,null,null,null,null,null," ",null,1,1900]
[null,null,null,null,null,null,null,null," ",null,1,1900]
[null,null,null,null,null,null,null,null," ",null,1,1900]
[null,null,null,null,null,null,null,null," ",null,1,1900]
[null,null,null,null,null,null,null,null," ",null,1,1900]
[null,null,null,null,null,null,null,null," ",null,1,1900]
[null,null,null,null,null,null,null,null," ",null,1,1900]
[null,null,null,null,null,null,null,null," ",null,1,1900]
[null,null,null,null,null,null,null,null," ",null,1,1900]
[null,null,null,null,null,null,null,null," ",null,1,1900]
[null,null,null,null,null,null,null,null," ",null,1,1900]
[null,null,null,null,null,null,null,null," ",null,1,1900]
[null,null,null,null,null,null,null,null," ",null,1,1900]
[null,null,null,null,null,null,null,null," ",null,1,1900]
[null,null,null,null,null,null,null,null," ",null,1,1900]
[null,null,null,null,null,null,null,null," ",null,1,1900]
[null,null,null,null,null,null,null,null," ",null,1,1900]
[null,null,null,null,null,null,null,null," ",null,1,1900]
[null,null,null,null,null,null,null,null," ",null,1,1900]
[null,null,null,null,null,null,null,null," ",null,1,1900]
[null,null,null,null,null,null,null,null," ",null,1,1900]
[null,null,null,null,null,null,null,null," ",null,1,1900]
[null,null,null,null,null,null,null,null," ",null,1,1900]
[null,null,null,null,null,null,null,null," ",null,1,1900]
[null,null,null,null,null,null,null,null," ",null,1,1900]
[null,null,null,null,null,null,null,null," ",null,1,1900]
[null,null,null,null,null,null,null,null," ",null,1,1900]
[null,null,null,null,null,null,null,null," ",null,1,1900]
[null,null,null,null,null,null,null,null," ",null,1,1900]
[null,null,null,null,null,null,null,null," ",null,1,1900]
[null,null,null,null,null,null,null,null," ",null,1,1900]
[null,null,null,null,null,null,null,null," ",null,1,1900]
[null,null,null,null,null,null,null,null," ",null,1,1900]
[null,null,null,null,null,null,null,null," ",null,1,1900]
[null,null,null,null,null,null,null,null," ",null,1,1900]
[null,null,null,null,null,null,null,null," ",null,1,1900]
[null,null,null,null,null,null,null,null," ",null,1,1900]
[null,null,null,null,null,null,null,null," ",null,1,1900]
[null,null,null,null,null,null,null,null,{"$f":"+IF(H1656=H1655,\" \",H1656)","v":" "},null,{"$f":"+MONTH(A1656)","v":1},{"$f":"+YEAR(A1656)","v":1900}]
[null,null,null,null,null,null,null,null," ",null,1,1900]
[null,null,null,null,null,null,null,null," ",null,1,1900]
[null,null,null,null,null,null,null,null," ",null,1,1900]
[null,null,null,null,null,null,null,null," ",null,1,1900]
[null,null,null,null,null,null,null,null," ",null,1,1900]
[null,null,null,null,null,null,null,null," ",null,1,1900]
[null,null,null,null,null,null,null,null," ",null,1,1900]
[null,null,null,null,null,null,null,null," ",null,1,1900]
[null,null,null,null,null,null,null,null," ",null,1,1900]
[null,null,null,null,null,null,null,null," ",null,1,1900]
[null,null,null,null,null,null,null,null," ",null,1,1900]
[null,null,null,null,null,null,null,null," ",null,1,1900]
[null,null,null,null,null,null,null,null," ",null,1,1900]
[null,null,null,null,null,null,null,null," ",null,1,1900]
[null,null,null,null,null,null,null,null," ",null,1,1900]
[null,null,null,null,null,null,null,null," ",null,1,1900]
[null,null,null,null,null,null,null,null," ",null,1,1900]
[null,null,null,null,null,null,null,null," ",null,1,1900]
[null,null,null,null,null,null,null,null," ",null,1,1900]
[null,null,null,null,null,null,null,null," ",null,1,1900]
[null,null,null,null,null,null,null,null," ",null,1,1900]
[null,null,null,null,null,null,null,null," ",null,1,1900]
[null,null,null,null,null,null,null,null," ",null,1,1900]
[null,null,null,null,null,null,null,null," ",null,1,1900]
[null,null,null,null,null,null,null,null," ",null,1,1900]
[null,null,null,null,null,null,null,null," ",null,1,1900]
[null,null,null,null,null,null,null,null," ",null,1,1900]
[null,null,null,null,null,null,null,null," ",null,1,1900]
[null,null,null,null,null,null,null,null," ",null,1,1900]
[null,null,null,null,null,null,null,null," ",null,1,1900]
[null,null,null,null,null,null,null,null," ",null,1,1900]
[null,null,null,null,null,null,null,null," ",null,1,1900]
[null,null,null,null,null,null,null,null," ",null,1,1900]
[null,null,null,null,null,null,null,null," ",null,1,1900]
[null,null,null,null,null,null,null,null," ",null,1,1900]
[null,null,null,null,null,null,null,null," ",null,1,1900]
[null,null,null,null,null,null,null,null," ",null,1,1900]
[null,null,null,null,null,null,null,null," ",null,1,1900]
[null,null,null,null,null,null,null,null," ",null,1,1900]
[null,null,null,null,null,null,null,null," ",null,1,1900]
[null,null,null,null,null,null,null,null," ",null,1,1900]
[null,null,null,null,null,null,null,null," ",null,1,1900]
[null,null,null,null,null,null,null,null," ",null,1,1900]
[null,null,null,null,null,null,null,null," ",null,1,1900]
[null,null,null,null,null,null,null,null," ",null,1,1900]
[null,null,null,null,null,null,null,null," ",null,1,1900]
[null,null,null,null,null,null,null,null," ",null,1,1900]
[null,null,null,null,null,null,null,null," ",null,1,1900]
[null,null,null,null,null,null,null,null," ",null,1,1900]
[null,null,null,null,null,null,null,null," ",null,1,1900]
[null,null,null,null,null,null,null,null," ",null,1,1900]
[null,null,null,null,null,null,null,null," ",null,1,1900]
[null,null,null,null,null,null,null,null," ",null,1,1900]
[null,null,null,null,null,null,null,null," ",null,1,1900]
[null,null,null,null,null,null,null,null," ",null,1,1900]
[null,null,null,null,null,null,null,null," ",null,1,1900]
[null,null,null,null,null,null,null,null," ",null,1,1900]
[null,null,null,null,null,null,null,null," ",null,1,1900]
[null,null,null,null,null,null,null,null," ",null,1,1900]
[null,null,null,null,null,null,null,null," ",null,1,1900]
[null,null,null,null,null,null,null,null," ",null,1,1900]
[null,null,null,null,null,null,null,null," ",null,1,1900]
[null,null,null,null,null,null,null,null," ",null,1,1900]
[null,null,null,null,null,null,null,null,{"$f":"+IF(H1720=H1719,\" \",H1720)","v":" "},null,{"$f":"+MONTH(A1720)","v":1},{"$f":"+YEAR(A1720)","v":1900}]
[null,null,null,null,null,null,null,null," ",null,1,1900]
[null,null,null,null,null,null,null,null," ",null,1,1900]
[null,null,null,null,null,null,null,null," ",null,1,1900]
[null,null,null,null,null,null,null,null," ",null,1,1900]
[null,null,null,null,null,null,null,null," ",null,1,1900]
[null,null,null,null,null,null,null,null," ",null,1,1900]
[null,null,null,null,null,null,null,null," ",null,1,1900]
[null,null,null,null,null,null,null,null," ",null,1,1900]
[null,null,null,null,null,null,null,null," ",null,1,1900]
[null,null,null,null,null,null,null,null," ",null,1,1900]
[null,null,null,null,null,null,null,null," ",null,1,1900]
[null,null,null,null,null,null,null,null," ",null,1,1900]
[null,null,null,null,null,null,null,null," ",null,1,1900]
[null,null,null,null,null,null,null,null," ",null,1,1900]
[null,null,null,null,null,null,null,null," ",null,1,1900]
[null,null,null,null,null,null,null,null," ",null,1,1900]
[null,null,null,null,null,null,null,null," ",null,1,1900]
[null,null,null,null,null,null,null,null," ",null,1,1900]
[null,null,null,null,null,null,null,null," ",null,1,1900]
[null,null,null,null,null,null,null,null," ",null,1,1900]
[null,null,null,null,null,null,null,null," ",null,1,1900]
[null,null,null,null,null,null,null,null," ",null,1,1900]
[null,null,null,null,null,null,null,null," ",null,1,1900]
[null,null,null,null,null,null,null,null," ",null,1,1900]
[null,null,null,null,null,null,null,null," ",null,1,1900]
[null,null,null,null,null,null,null,null," ",null,1,1900]
[null,null,null,null,null,null,null,null," ",null,1,1900]
[null,null,null,null,null,null,null,null," ",null,1,1900]
[null,null,null,null,null,null,null,null," ",null,1,1900]
[null,null,null,null,null,null,null,null," ",null,1,1900]
[null,null,null,null,null,null,null,null," ",null,1,1900]
[null,null,null,null,null,null,null,null," ",null,1,1900]
[null,null,null,null,null,null,null,null," ",null,1,1900]
[null,null,null,null,null,null,null,null," ",null,1,1900]
[null,null,null,null,null,null,null,null," ",null,1,1900]
[null,null,null,null,null,null,null,null," ",null,1,1900]
[null,null,null,null,null,null,null,null," ",null,1,1900]
[null,null,null,null,null,null,null,null," ",null,1,1900]
[null,null,null,null,null,null,null,null," ",null,1,1900]
[null,null,null,null,null,null,null,null," ",null,1,1900]
[null,null,null,null,null,null,null,null," ",null,1,1900]
[null,null,null,null,null,null,null,null," ",null,1,1900]
[null,null,null,null,null,null,null,null," ",null,1,1900]
[null,null,null,null,null,null,null,null," ",null,1,1900]
[null,null,null,null,null,null,null,null," ",null,1,1900]
[null,null,null,null,null,null,null,null," ",null,1,1900]
[null,null,null,null,null,null,null,null," ",null,1,1900]
[null,null,null,null,null,null,null,null," ",null,1,1900]
[null,null,null,null,null,null,null,null," ",null,1,1900]
[null,null,null,null,null,null,null,null," ",null,1,1900]
[null,null,null,null,null,null,null,null," ",null,1,1900]
[null,null,null,null,null,null,null,null," ",null,1,1900]
[null,null,null,null,null,null,null,null," ",null,1,1900]
[null,null,null,null,null,null,null,null," ",null,1,1900]
[null,null,null,null,null,null,null,null," ",null,1,1900]
[null,null,null,null,null,null,null,null," ",null,1,1900]
[null,null,null,null,null,null,null,null," ",null,1,1900]
[null,null,null,null,null,null,null,null," ",null,1,1900]
[null,null,null,null,null,null,null,null," ",null,1,1900]
[null,null,null,null,null,null,null,null," ",null,1,1900]
[null,null,null,null,null,null,null,null," ",null,1,1900]
[null,null,null,null,null,null,null,null," ",null,1,1900]
[null,null,null,null,null,null,null,null," ",null,1,1900]
[null,null,null,null,null,null,null,null,{"$f":"+IF(H1784=H1783,\" \",H1784)","v":" "},null,{"$f":"+MONTH(A1784)","v":1},{"$f":"+YEAR(A1784)","v":1900}]
[null,null,null,null,null,null,null,null," ",null,1,1900]
[null,null,null,null,null,null,null,null," ",null,1,1900]
[null,null,null,null,null,null,null,null," ",null,1,1900]
[null,null,null,null,null,null,null,null," ",null,1,1900]
[null,null,null,null,null,null,null,null," ",null,1,1900]
[null,null,null,null,null,null,null,null," ",null,1,1900]
[null,null,null,null,null,null,null,null," ",null,1,1900]
[null,null,null,null,null,null,null,null," ",null,1,1900]
[null,null,null,null,null,null,null,null," ",null,1,1900]
[null,null,null,null,null,null,null,null," ",null,1,1900]
[null,null,null,null,null,null,null,null," ",null,1,1900]
[null,null,null,null,null,null,null,null," ",null,1,1900]
[null,null,null,null,null,null,null,null," ",null,1,1900]
[null,null,null,null,null,null,null,null," ",null,1,1900]
[null,null,null,null,null,null,null,null," ",null,1,1900]
[null,null,null,null,null,null,null,null," ",null,1,1900]
[null,null,null,null,null,null,null,null," ",null,1,1900]
[null,null,null,null,null,null,null,null," ",null,1,1900]
[null,null,null,null,null,null,null,null," ",null,1,1900]
[null,null,null,null,null,null,null,null," ",null,1,1900]
[null,null,null,null,null,null,null,null," ",null,1,1900]
[null,null,null,null,null,null,null,null," ",null,1,1900]
[null,null,null,null,null,null,null,null," ",null,1,1900]
[null,null,null,null,null,null,null,null," ",null,1,1900]
[null,null,null,null,null,null,null,null," ",null,1,1900]
[null,null,null,null,null,null,null,null," ",null,1,1900]
[null,null,null,null,null,null,null,null," ",null,1,1900]
[null,null,null,null,null,null,null,null," ",null,1,1900]
[null,null,null,null,null,null,null,null," ",null,1,1900]
[null,null,null,null,null,null,null,null," ",null,1,1900]
[null,null,null,null,null,null,null,null," ",null,1,1900]
[null,null,null,null,null,null,null,null," ",null,1,1900]
[null,null,null,null,null,null,null,null," ",null,1,1900]
[null,null,null,null,null,null,null,null," ",null,1,1900]
[null,null,null,null,null,null,null,null," ",null,1,1900]
[null,null,null,null,null,null,null,null," ",null,1,1900]
[null,null,null,null,null,null,null,null," ",null,1,1900]
[null,null,null,null,null,null,null,null," ",null,1,1900]
[null,null,null,null,null,null,null,null," ",null,1,1900]
[null,null,null,null,null,null,null,null," ",null,1,1900]
[null,null,null,null,null,null,null,null," ",null,1,1900]
[null,null,null,null,null,null,null,null," ",null,1,1900]
[null,null,null,null,null,null,null,null," ",null,1,1900]
[null,null,null,null,null,null,null,null," ",null,1,1900]
[null,null,null,null,null,null,null,null," ",null,1,1900]
[null,null,null,null,null,null,null,null," ",null,1,1900]
[null,null,null,null,null,null,null,null," ",null,1,1900]
[null,null,null,null,null,null,null,null," ",null,1,1900]
[null,null,null,null,null,null,null,null," ",null,1,1900]
[null,null,null,null,null,null,null,null," ",null,1,1900]
[null,null,null,null,null,null,null,null," ",null,1,1900]
[null,null,null,null,null,null,null,null," ",null,1,1900]
[null,null,null,null,null,null,null,null," ",null,1,1900]
[null,null,null,null,null,null,null,null," ",null,1,1900]
[null,null,null,null,null,null,null,null," ",null,1,1900]
[null,null,null,null,null,null,null,null," ",null,1,1900]
[null,null,null,null,null,null,null,null," ",null,1,1900]
[null,null,null,null,null,null,null,null," ",null,1,1900]
[null,null,null,null,null,null,null,null," ",null,1,1900]
[null,null,null,null,null,null,null,null," ",null,1,1900]
[null,null,null,null,null,null,null,null," ",null,1,1900]
[null,null,null,null,null,null,null,null," ",null,1,1900]
[null,null,null,null,null,null,null,null," ",null,1,1900]
[null,null,null,null,null,null,null,null,{"$f":"+IF(H1848=H1847,\" \",H1848)","v":" "},null,{"$f":"+MONTH(A1848)","v":1},{"$f":"+YEAR(A1848)","v":1900}]
[null,null,null,null,null,null,null,null," ",null,1,1900]
[null,null,null,null,null,null,null,null," ",null,1,1900]
[null,null,null,null,null,null,null,null," ",null,1,1900]
[null,null,null,null,null,null,null,null," ",null,1,1900]
[null,null,null,null,null,null,null,null," ",null,1,1900]
[null,null,null,null,null,null,null,null," ",null,1,1900]
[null,null,null,null,null,null,null,null," ",null,1,1900]
[null,null,null,null,null,null,null,null," ",null,1,1900]
[null,null,null,null,null,null,null,null," ",null,1,1900]
[null,null,null,null,null,null,null,null," ",null,1,1900]
[null,null,null,null,null,null,null,null," ",null,1,1900]
[null,null,null,null,null,null,null,null," ",null,1,1900]
[null,null,null,null,null,null,null,null," ",null,1,1900]
[null,null,null,null,null,null,null,null," ",null,1,1900]
[null,null,null,null,null,null,null,null," ",null,1,1900]
[null,null,null,null,null,null,null,null," ",null,1,1900]
[null,null,null,null,null,null,null,null," ",null,1,1900]
[null,null,null,null,null,null,null,null," ",null,1,1900]
[null,null,null,null,null,null,null,null," ",null,1,1900]
[null,null,null,null,null,null,null,null," ",null,1,1900]
[null,null,null,null,null,null,null,null," ",null,1,1900]
[null,null,null,null,null,null,null,null," ",null,1,1900]
[null,null,null,null,null,null,null,null," ",null,1,1900]
[null,null,null,null,null,null,null,null," ",null,1,1900]
[null,null,null,null,null,null,null,null," ",null,1,1900]
[null,null,null,null,null,null,null,null," ",null,1,1900]
[null,null,null,null,null,null,null,null," ",null,1,1900]
[null,null,null,null,null,null,null,null," ",null,1,1900]
[null,null,null,null,null,null,null,null," ",null,1,1900]
[null,null,null,null,null,null,null,null," ",null,1,1900]
[null,null,null,null,null,null,null,null," ",null,1,1900]
[null,null,null,null,null,null,null,null," ",null,1,1900]
[null,null,null,null,null,null,null,null," ",null,1,1900]
[null,null,null,null,null,null,null,null," ",null,1,1900]
[null,null,null,null,null,null,null,null," ",null,1,1900]
[null,null,null,null,null,null,null,null," ",null,1,1900]
[null,null,null,null,null,null,null,null," ",null,1,1900]
[null,null,null,null,null,null,null,null," ",null,1,1900]
[null,null,null,null,null,null,null,null," ",null,1,1900]
[null,null,null,null,null,null,null,null," ",null,1,1900]
[null,null,null,null,null,null,null,null," ",null,1,1900]
[null,null,null,null,null,null,null,null," ",null,1,1900]
[null,null,null,null,null,null,null,null," ",null,1,1900]
[null,null,null,null,null,null,null,null," ",null,1,1900]
[null,null,null,null,null,null,null,null," ",null,1,1900]
[null,null,null,null,null,null,null,null," ",null,1,1900]
[null,null,null,null,null,null,null,null," ",null,1,1900]
[null,null,null,null,null,null,null,null," ",null,1,1900]
[null,null,null,null,null,null,null,null," ",null,1,1900]
[null,null,null,null,null,null,null,null," ",null,1,1900]
[null,null,null,null,null,null,null,null," ",null,1,1900]
[null,null,null,null,null,null,null,null," ",null,1,1900]
[null,null,null,null,null,null,null,null," ",null,1,1900]
[null,null,null,null,null,null,null,null," ",null,1,1900]
[null,null,null,null,null,null,null,null," ",null,1,1900]
[null,null,null,null,null,null,null,null," ",null,1,1900]
[null,null,null,null,null,null,null,null," ",null,1,1900]
[null,null,null,null,null,null,null,null," ",null,1,1900]
[null,null,null,null,null,null,null,null," ",null,1,1900]
[null,null,null,null,null,null,null,null," ",null,1,1900]
[null,null,null,null,null,null,null,null," ",null,1,1900]
[null,null,null,null,null,null,null,null," ",null,1,1900]
[null,null,null,null,null,null,null,null," ",null,1,1900]
[null,null,null,null,null,null,null,null,{"$f":"+IF(H1912=H1911,\" \",H1912)","v":" "},null,{"$f":"+MONTH(A1912)","v":1},{"$f":"+YEAR(A1912)","v":1900}]
[null,null,null,null,null,null,null,null," ",null,1,1900]
[null,null,null,null,null,null,null,null," ",null,1,1900]
[null,null,null,null,null,null,null,null," ",null,1,1900]
[null,null,null,null,null,null,null,null," ",null,1,1900]
[null,null,null,null,null,null,null,null," ",null,1,1900]
[null,null,null,null,null,null,null,null," ",null,1,1900]
[null,null,null,null,null,null,null,null," ",null,1,1900]
[null,null,null,null,null,null,null,null," ",null,1,1900]
[null,null,null,null,null,null,null,null," ",null,1,1900]
[null,null,null,null,null,null,null,null," ",null,1,1900]
[null,null,null,null,null,null,null,null," ",null,1,1900]
[null,null,null,null,null,null,null,null," ",null,1,1900]
[null,null,null,null,null,null,null,null," ",null,1,1900]
[null,null,null,null,null,null,null,null," ",null,1,1900]
[null,null,null,null,null,null,null,null," ",null,1,1900]
[null,null,null,null,null,null,null,null," ",null,1,1900]
[null,null,null,null,null,null,null,null," ",null,1,1900]
[null,null,null,null,null,null,null,null," ",null,1,1900]
[null,null,null,null,null,null,null,null," ",null,1,1900]
[null,null,null,null,null,null,null,null," ",null,1,1900]
[null,null,null,null,null,null,null,null," ",null,1,1900]
[null,null,null,null,null,null,null,null," ",null,1,1900]
[null,null,null,null,null,null,null,null," ",null,1,1900]
[null,null,null,null,null,null,null,null," ",null,1,1900]
[null,null,null,null,null,null,null,null," ",null,1,1900]
[null,null,null,null,null,null,null,null," ",null,1,1900]
[null,null,null,null,null,null,null,null," ",null,1,1900]
[null,null,null,null,null,null,null,null," ",null,1,1900]
[null,null,null,null,null,null,null,null," ",null,1,1900]
[null,null,null,null,null,null,null,null," ",null,1,1900]
[null,null,null,null,null,null,null,null," ",null,1,1900]
[null,null,null,null,null,null,null,null," ",null,1,1900]
[null,null,null,null,null,null,null,null," ",null,1,1900]
[null,null,null,null,null,null,null,null," ",null,1,1900]
[null,null,null,null,null,null,null,null," ",null,1,1900]
[null,null,null,null,null,null,null,null," ",null,1,1900]
[null,null,null,null,null,null,null,null," ",null,1,1900]
[null,null,null,null,null,null,null,null," ",null,1,1900]
[null,null,null,null,null,null,null,null," ",null,1,1900]
[null,null,null,null,null,null,null,null," ",null,1,1900]
[null,null,null,null,null,null,null,null," ",null,1,1900]
[null,null,null,null,null,null,null,null," ",null,1,1900]
[null,null,null,null,null,null,null,null," ",null,1,1900]
[null,null,null,null,null,null,null,null," ",null,1,1900]
[null,null,null,null,null,null,null,null," ",null,1,1900]
[null,null,null,null,null,null,null,null," ",null,1,1900]
[null,null,null,null,null,null,null,null," ",null,1,1900]
[null,null,null,null,null,null,null,null," ",null,1,1900]
[null,null,null,null,null,null,null,null," ",null,1,1900]
[null,null,null,null,null,null,null,null," ",null,1,1900]
[null,null,null,null,null,null,null,null," ",null,1,1900]
[null,null,null,null,null,null,null,null," ",null,1,1900]
[null,null,null,null,null,null,null,null," ",null,1,1900]
[null,null,null,null,null,null,null,null," ",null,1,1900]
[null,null,null,null,null,null,null,null," ",null,1,1900]
[null,null,null,null,null,null,null,null," ",null,1,1900]
[null,null,null,null,null,null,null,null," ",null,1,1900]
[null,null,null,null,null,null,null,null," ",null,1,1900]
[null,null,null,null,null,null,null,null," ",null,1,1900]
[null,null,null,null,null,null,null,null," ",null,1,1900]
[null,null,null,null,null,null,null,null," ",null,1,1900]
[null,null,null,null,null,null,null,null," ",null,1,1900]
[null,null,null,null,null,null,null,null," ",null,1,1900]
[null,null,null,null,null,null,null,null,{"$f":"+IF(H1976=H1975,\" \",H1976)","v":" "},null,{"$f":"+MONTH(A1976)","v":1},{"$f":"+YEAR(A1976)","v":1900}]
[null,null,null,null,null,null,null,null," ",null,1,1900]
[null,null,null,null,null,null,null,null," ",null,1,1900]
[null,null,null,null,null,null,null,null," ",null,1,1900]
[null,null,null,null,null,null,null,null," ",null,1,1900]
[null,null,null,null,null,null,null,null," ",null,1,1900]
[null,null,null,null,null,null,null,null," ",null,1,1900]
[null,null,null,null,null,null,null,null," ",null,1,1900]
[null,null,null,null,null,null,null,null," ",null,1,1900]
[null,null,null,null,null,null,null,null," ",null,1,1900]
[null,null,null,null,null,null,null,null," ",null,1,1900]
[null,null,null,null,null,null,null,null," ",null,1,1900]
[null,null,null,null,null,null,null,null," ",null,1,1900]
[null,null,null,null,null,null,null,null," ",null,1,1900]
[null,null,null,null,null,null,null,null," ",null,1,1900]
[null,null,null,null,null,null,null,null," ",null,1,1900]
[null,null,null,null,null,null,null,null," ",null,1,1900]
[null,null,null,null,null,null,null,null," ",null,1,1900]
[null,null,null,null,null,null,null,null," ",null,1,1900]
[null,null,null,null,null,null,null,null," ",null,1,1900]
[null,null,null,null,null,null,null,null," ",null,1,1900]
[null,null,null,null,null,null,null,null," ",null,1,1900]
[null,null,null,null,null,null,null,null," ",null,1,1900]
[null,null,null,null,null,null,null,null," ",null,1,1900]
[null,null,null,null,null,null,null,null," ",null,1,1900]
[null,null,null,null,null,null,null,null," ",null,1,1900]
[null,null,null,null,null,null,null,null," ",null,1,1900]
[null,null,null,null,null,null,null,null," ",null,1,1900]
[null,null,null,null,null,null,null,null," ",null,1,1900]
[null,null,null,null,null,null,null,null," ",null,1,1900]
[null,null,null,null,null,null,null,null," ",null,1,1900]
[null,null,null,null,null,null,null,null," ",null,1,1900]
[null,null,null,null,null,null,null,null," ",null,1,1900]
[null,null,null,null,null,null,null,null," ",null,1,1900]
[null,null,null,null,null,null,null,null," ",null,1,1900]
[null,null,null,null,null,null,null,null," ",null,1,1900]
[null,null,null,null,null,null,null,null," ",null,1,1900]
[null,null,null,null,null,null,null,null," ",null,1,1900]
[null,null,null,null,null,null,null,null," ",null,1,1900]
[null,null,null,null,null,null,null,null," ",null,1,1900]
[null,null,null,null,null,null,null,null," ",null,1,1900]
[null,null,null,null,null,null,null,null," ",null,1,1900]
[null,null,null,null,null,null,null,null," ",null,1,1900]
[null,null,null,null,null,null,null,null," ",null,1,1900]
[null,null,null,null,null,null,null,null," ",null,1,1900]
[null,null,null,null,null,null,null,null," ",null,1,1900]
[null,null,null,null,null,null,null,null," ",null,1,1900]
[null,null,null,null,null,null,null,null," ",null,1,1900]
[null,null,null,null,null,null,null,null," ",null,1,1900]
[null,null,null,null,null,null,null,null," ",null,1,1900]
[null,null,null,null,null,null,null,null," ",null,1,1900]
[null,null,null,null,null,null,null,null," ",null,1,1900]
[null,null,null,null,null,null,null,null," ",null,1,1900]
[null,null,null,null,null,null,null,null," ",null,1,1900]
[null,null,null,null,null,null,null,null," ",null,1,1900]
[null,null,null,null,null,null,null,null," ",null,1,1900]
[null,null,null,null,null,null,null,null," ",null,1,1900]
[null,null,null,null,null,null,null,null," ",null,1,1900]
[null,null,null,null,null,null,null,null," ",null,1,1900]
[null,null,null,null,null,null,null,null," ",null,1,1900]
[null,null,null,null,null,null,null,null," ",null,1,1900]
[null,null,null,null,null,null,null,null," ",null,1,1900]
[null,null,null,null,null,null,null,null," ",null,1,1900]
[null,null,null,null,null,null,null,null," ",null,1,1900]
[null,null,null,null,null,null,null,null," ",null,1,1900]
[null,null,null,null,null,null,null,null," ",null,1,1900]
[null,null,null,null,null,null,null,null," ",null,1,1900]
[null,null,null,null,null,null,null,null," ",null,1,1900]
[null,null,null,null,null,null,null,null," ",null,1,1900]
[null,null,null,null,null,null,null,null," ",null,1,1900]
[null,null,null,null,null,null,null,null," ",null,1,1900]
[null,null,null,null,null,null,null,null," ",null,1,1900]
[null,null,null,null,null,null,null,null," ",null,1,1900]
[null,null,null,null,null,null,null,null," ",null,1,1900]
[null,null,null,null,null,null,null,null," ",null,1,1900]
[null,null,null,null,null,null,null,null," ",null,1,1900]
[null,null,null,null,null,null,null,null," ",null,1,1900]
[null,null,null,null,null,null,null,null," ",null,1,1900]
[null,null,null,null,null,null,null,null," ",null,1,1900]
[null,null,null,null,null,null,null,null," ",null,1,1900]
[null,null,null,null,null,null,null,null," ",null,1,1900]
[null,null,null,null,null,null,null,null," ",null,1,1900]
[null,null,null,null,null,null,null,null," ",null,1,1900]
[null,null,null,null,null,null,null,null," ",null,1,1900]
[null,null,null,null,null,null,null,null," ",null,1,1900]
[null,null,null,null,null,null,null,null," ",null,1,1900]
[null,null,null,null,null,null,null,null," ",null,1,1900]
[null,null,null,null,null,null,null,null," ",null,1,1900]
[null,null,null,null,null,null,null,null," ",null,1,1900]
[null,null,null,null,null,null,null,null," ",null,1,1900]
[null,null,null,null,null,null,null,null," ",null,1,1900]
[null,null,null,null,null,null,null,null," ",null,1,1900]
[null,null,null,null,null,null,null,null," ",null,1,1900]
[null,null,null,null,null,null,null,null," ",null,1,1900]
[null,null,null,null,null,null,null,null," ",null,1,1900]
[null,null,null,null,null,null,null,null," ",null,1,1900]
[null,null,null,null,null,null,null,null," ",null,1,1900]
[null,null,null,null,null,null,null,null," ",null,1,1900]
[null,null,null,null,null,null,null,null," ",null,1,1900]
[null,null,null,null,null,null,null,null," ",null,1,1900]
[null,null,null,null,null,null,null,null," ",null,1,1900]
[null,null,null,null,null,null,null,null," ",null,1,1900]
[null,null,null,null,null,null,null,null," ",null,1,1900]
[null,null,null,null,null,null,null,null," ",null,1,1900]
[null,null,null,null,null,null,null,null," ",null,1,1900]
[null,null,null,null,null,null,null,null," ",null,1,1900]
[null,null,null,null,null,null,null,null," ",null,1,1900]
[null,null,null,null,null,null,null,null," ",null,1,1900]
[null,null,null,null,null,null,null,null," ",null,1,1900]
[null,null,null,null,null,null,null,null," ",null,1,1900]
[null,null,null,null,null,null,null,null," ",null,1,1900]
[null,null,null,null,null,null,null,null," ",null,1,1900]
[null,null,null,null,null,null,null,null," ",null,1,1900]
[null,null,null,null,null,null,null,null," ",null,1,1900]
[null,null,null,null,null,null,null,null," ",null,1,1900]
[null,null,null,null,null,null,null,null,{"$f":"+IF(H4856=H4855,\" \",H4856)","v":" "},null,{"$f":"+MONTH(A4856)","v":1},{"$f":"+YEAR(A4856)","v":1900}]
[null,null,null,null,null,null,null,null," ",null,1,1900]
[null,null,null,null,null,null,null,null," ",null,1,1900]
[null,null,null,null,null,null,null,null," ",null,1,1900]
[null,null,null,null,null,null,null,null," ",null,1,1900]
[null,null,null,null,null,null,null,null," ",null,1,1900]
[null,null,null,null,null,null,null,null," ",null,1,1900]
[null,null,null,null,null,null,null,null," ",null,1,1900]
[null,null,null,null,null,null,null,null," ",null,1,1900]
[null,null,null,null,null,null,null,null," ",null,1,1900]
[null,null,null,null,null,null,null,null," ",null,1,1900]
[null,null,null,null,null,null,null,null," ",null,1,1900]
[null,null,null,null,null,null,null,null," ",null,1,1900]
[null,null,null,null,null,null,null,null," ",null,1,1900]
[null,null,null,null,null,null,null,null," ",null,1,1900]
[null,null,null,null,null,null,null,null," ",null,1,1900]
[null,null,null,null,null,null,null,null," ",null,1,1900]
[null,null,null,null,null,null,null,null," ",null,1,1900]
[null,null,null,null,null,null,null,null," ",null,1,1900]
[null,null,null,null,null,null,null,null," ",null,1,1900]
[null,null,null,null,null,null,null,null," ",null,1,1900]
[null,null,null,null,null,null,null,null," ",null,1,1900]
[null,null,null,null,null,null,null,null,{"$f":"+IF(H5560=H5559,\" \",H5560)","v":" "},null,{"$f":"+MONTH(A5560)","v":1},{"$f":"+YEAR(A5560)","v":1900}]
[null,null,null,null,null,null,null,null," ",null,1,1900]
[null,null,null,null,null,null,null,null," ",null,1,1900]
[null,null,null,null,null,null,null,null," ",null,1,1900]
[null,null,null,null,null,null,null,null," ",null,1,1900]
[null,null,null,null,null,null,null,null," ",null,1,1900]
[null,null,null,null,null,null,null,null," ",null,1,1900]
[null,null,null,null,null,null,null,null," ",null,1,1900]
[null,null,null,null,null,null,null,null," ",null,1,1900]
[null,null,null,null,null,null,null,null,{"$f":"+IF(H5816=H5815,\" \",H5816)","v":" "},null,{"$f":"+MONTH(A5816)","v":1},{"$f":"+YEAR(A5816)","v":1900}]
[null,null,null,null,null,null,null,null," ",null,1,1900]
[null,null,null,null,null,null,null,null," ",null,1,1900]
[null,null,null,null,null,null,null,null," ",null,1,1900]
[null,null,null,null,null,null,null,null," ",null,1,1900]
[null,null,null,null,null,null,null,null," ",null,1,1900]
[null,null,null,null,null,null,null,null," ",null,1,1900]
[null,null,null,null,null,null,null,null," ",null,1,1900]
[null,null,null,null,null,null,null,null," ",null,1,1900]
[null,null,null,null,null,null,null,null," ",null,1,1900]
[null,null,null,null,null,null,null,null," ",null,1,1900]
[null,null,null,null,null,null,null,null," ",null,1,1900]
[null,null,null,null,null,null,null,null," ",null,1,1900]
[null,null,null,null,null,null,null,null," ",null,1,1900]
[null,null,null,null,null,null,null,null," ",null,1,1900]
[null,null,null,null,null,null,null,null," ",null,1,1900]
[null,null,null,null,null,null,null,null," ",null,1,1900]
[null,null,null,null,null,null,null,null," ",null,1,1900]
[null,null,null,null,null,null,null,null," ",null,1,1900]
[null,null,null,null,null,null,null,null," ",null,1,1900]
[null,null,null,null,null,null,null,null," ",null,1,1900]
[null,null,null,null,null,null,null,null," ",null,1,1900]
[null,null,null,null,null,null,null,null," ",null,1,1900]
[null,null,null,null,null,null,null,null," ",null,1,1900]
[null,null,null,null,null,null,null,null,{"$f":"+IF(H6584=H6583,\" \",H6584)","v":" "},null,{"$f":"+MONTH(A6584)","v":1},{"$f":"+YEAR(A6584)","v":1900}]
[null,null,null,null,null,null,null,null," ",null,1,1900]
[null,null,null,null,null,null,null,null," ",null,1,1900]
[null,null,null,null,null,null,null,null," ",null,1,1900]
[null,null,null,null,null,null,null,null," ",null,1,1900]
[null,null,null,null,null,null,null,null," ",null,1,1900]
[null,null,null,null,null,null,null,null," ",null,1,1900]
[null,null,null,null,null,null,null,null," ",null,1,1900]
[null,null,null,null,null,null,null,null," ",null,1,1900]
[null,null,null,null,null,null,null,null," ",null,1,1900]
[null,null,null,null,null,null,null,null," ",null,1,1900]
[null,null,null,null,null,null,null,null," ",null,1,1900]
[null,null,null,null,null,null,null,null," ",null,1,1900]
[null,null,null,null,null,null,null,null," ",null,1,1900]
[null,null,null,null,null,null,null,null," ",null,1,1900]
[null,null,null,null,null,null,null,null," ",null,1,1900]
[null,null,null,null,null,null,null,null," ",null,1,1900]
[null,null,null,null,null,null,null,null," ",null,1,1900]
[null,null,null,null,null,null,null,null," ",null,1,1900]
[null,null,null,null,null,null,null,null," ",null,1,1900]
[null,null,null,null,null,null,null,null," ",null,1,1900]
[null,null,null,null,null,null,null,null," ",null,1,1900]
[null,null,null,null,null,null,null,null," ",null,1,1900]
[null,null,null,null,null,null,null,null," ",null,1,1900]
[null,null,null,null,null,null,null,null," ",null,1,1900]
[null,null,null,null,null,null,null,null," ",null,1,1900]
[null,null,null,null,null,null,null,null," ",null,1,1900]
[null,null,null,null,null,null,null,null," ",null,1,1900]
[null,null,null,null,null,null,null,null," ",null,1,1900]
[null,null,null,null,null,null,null,null," ",null,1,1900]
[null,null,null,null,null,null,null,null," ",null,1,1900]
[null,null,null,null,null,null,null,null," ",null,1,1900]
[null,null,null,null,null,null,null,null," ",null,1,1900]
[null,null,null,null,null,null,null,null," ",null,1,1900]
[null,null,null,null,null,null,null,null," ",null,1,1900]
[null,null,null,null,null,null,null,null," ",null,1,1900]
[null,null,null,null,null,null,null,null," ",null,1,1900]
[null,null,null,null,null,null,null,null," ",null,1,1900]
[null,null,null,null,null,null,null,null," ",null,1,1900]
[null,null,null,null,null,null,null,null," ",null,1,1900]
[null,null,null,null,null,null,null,null," ",null,1,1900]
[null,null,null,null,null,null,null,null," ",null,1,1900]
[null,null,null,null,null,null,null,null," ",null,1,1900]
[null,null,null,null,null,null,null,null," ",null,1,1900]
[null,null,null,null,null,null,null,null," ",null,1,1900]
[null,null,null,null,null,null,null,null," ",null,1,1900]
[null,null,null,null,null,null,null,null," ",null,1,1900]
[null,null,null,null,null,null,null,null," ",null,1,1900]
[null,null,null,null,null,null,null,null," ",null,1,1900]
[null,null,null,null,null,null,null,null," ",null,1,1900]
[null,null,null,null,null,null,null,null," ",null,1,1900]
[null,null,null,null,null,null,null,null," ",null,1,1900]
[null,null,null,null,null,null,null,null," ",null,1,1900]
[null,null,null,null,null,null,null,null," ",null,1,1900]
[null,null,null,null,null,null,null,null," ",null,1,1900]
[null,null,null,null,null,null,null,null," ",null,1,1900]
[null,null,null,null,null,null,null,null," ",null,1,1900]
[null,null,null,null,null,null,null,null," ",null,1,1900]
[null,null,null,null,null,null,null,null," ",null,1,1900]
[null,null,null,null,null,null,null,null," ",null,1,1900]
[null,null,null,null,null,null,null,null," ",null,1,1900]
[null,null,null,null,null,null,null,null," ",null,1,1900]
[null,null,null,null,null,null,null,null," ",null,1,1900]
[null,null,null,null,null,null,null,null," ",null,1,1900]
[null,null,null,null,null,null,null,null," ",null,1,1900]
[null,null,null,null,null,null,null,null," ",null,1,1900]
[null,null,null,null,null,null,null,null," ",null,1,1900]
[null,null,null,null,null,null,null,null," ",null,1,1900]
[null,null,null,null,null,null,null,null," ",null,1,1900]
[null,null,null,null,null,null,null,null,{"$f":"+IF(H8760=H8759,\" \",H8760)","v":" "},null,{"$f":"+MONTH(A8760)","v":1},{"$f":"+YEAR(A8760)","v":1900}]
[null,null,null,null,null,null,null,null," ",null,1,1900]
[null,null,null,null,null,null,null,null," ",null,1,1900]
[null,null,null,null,null,null,null,null," ",null,1,1900]
[null,null,null,null,null,null,null,null," ",null,1,1900]
[null,null,null,null,null,null,null,null," ",null,1,1900]
[null,null,null,null,null,null,null,null," ",null,1,1900]
[null,null,null,null,null,null,null,null," ",null,1,1900]
[null,null,null,null,null,null,null,null," ",null,1,1900]
[null,null,null,null,null,null,null,null," ",null,1,1900]
[null,null,null,null,null,null,null,null," ",null,1,1900]
[null,null,null,null,null,null,null,null," ",null,1,1900]
[null,null,null,null,null,null,null,null," ",null,1,1900]
[null,null,null,null,null,null,null,null," ",null,1,1900]
[null,null,null,null,null,null,null,null," ",null,1,1900]
[null,null,null,null,null,null,null,null," ",null,1,1900]
[null,null,null,null,null,null,null,null," ",null,1,1900]
[null,null,null,null,null,null,null,null," ",null,1,1900]
[null,null,null,null,null,null,null,null," ",null,1,1900]
[null,null,null,null,null,null,null,null," ",null,1,1900]
[null,null,null,null,null,null,null,null," ",null,1,1900]
[null,null,null,null,null,null,null,null," ",null,1,1900]
[null,null,null,null,null,null,null,null," ",null,1,1900]
[null,null,null,null,null,null,null,null," ",null,1,1900]
[null,null,null,null,null,null,null,null," ",null,1,1900]
[null,null,null,null,null,null,null,null," ",null,1,1900]
[null,null,null,null,null,null,null,null,{"$f":"+IF(H9592=H9591,\" \",H9592)","v":" "},null,{"$f":"+MONTH(A9592)","v":1},{"$f":"+YEAR(A9592)","v":1900}]
[null,null,null,null,null,null,null,null," ",null,1,1900]
[null,null,null,null,null,null,null,null," ",null,1,1900]
[null,null,null,null,null,null,null,null," ",null,1,1900]
[null,null,null,null,null,null,null,null," ",null,1,1900]
[null,null,null,null,null,null,null,null," ",null,1,1900]
[null,null,null,null,null,null,null,null," ",null,1,1900]
[null,null,null,null,null,null,null,null," ",null,1,1900]
[null,null,null,null,null,null,null,null," ",null,1,1900]
[null,null,null,null,null,null,null,null," ",null,1,1900]
[null,null,null,null,null,null,null,null," ",null,1,1900]
[null,null,null,null,null,null,null,null," ",null,1,1900]
[null,null,null,null,null,null,null,null," ",null,1,1900]
[null,null,null,null,null,null,null,null," ",null,1,1900]
[null,null,null,null,null,null,null,null," ",null,1,1900]
[null,null,null,null,null,null,null,null," ",null,1,1900]
[null,null,null,null,null,null,null,null," ",null,1,1900]
[null,null,null,null,null,null,null,null," ",null,1,1900]
[null,null,null,null,null,null,null,null," ",null,1,1900]
[null,null,null,null,null,null,null,null," ",null,1,1900]
[null,null,null,null,null,null,null,null," ",null,1,1900]
[null,null,null,null,null,null,null,null," ",null,1,1900]
[null,null,null,null,null,null,null,null," ",null,1,1900]
[null,null,null,null,null,null,null,null," ",null,1,1900]
[null,null,null,null,null,null,null,null," ",null,1,1900]
[null,null,null,null,null,null,null,null," ",null,1,1900]
[null,null,null,null,null,null,null,null," ",null,1,1900]
[null,null,null,null,null,null,null,null," ",null,1,1900]
[null,null,null,null,null,null,null,null," ",null,1,1900]
[null,null,null,null,null,null,null,null," ",null,1,1900]
[null,null,null,null,null,null,null,null," ",null,1,1900]
[null,null,null,null,null,null,null,null," ",null,1,1900]
[null,null,null,null,null,null,null,null," ",null,1,1900]
[null,null,null,null,null,null,null,null,{"$f":"+IF(H10616=H10615,\" \",H10616)","v":" "},null,{"$f":"+MONTH(A10616)","v":1},{"$f":"+YEAR(A10616)","v":1900}]
[null,null,null,null,null,null,null,null," ",null,1,1900]
[null,null,null,null,null,null,null,null," ",null,1,1900]
[null,null,null,null,null,null,null,null," ",null,1,1900]
[null,null,null,null,null,null,null,null," ",null,1,1900]
[null,null,null,null,null,null,null,null," ",null,1,1900]
[null,null,null,null,null,null,null,null," ",null,1,1900]
[null,null,null,null,null,null,null,null," ",null,1,1900]
[null,null,null,null,null,null,null,null," ",null,1,1900]
[null,null,null,null,null,null,null,null," ",null,1,1900]
[null,null,null,null,null,null,null,null," ",null,1,1900]
[null,null,null,null,null,null,null,null," ",null,1,1900]
[null,null,null,null,null,null,null,null," ",null,1,1900]
[null,null,null,null,null,null,null,null," ",null,1,1900]
[null,null,null,null,null,null,null,null," ",null,1,1900]
[null,null,null,null,null,null,null,null," ",null,1,1900]
[null,null,null,null,null,null,null,null," ",null,1,1900]
[null,null,null,null,null,null,null,null," ",null,1,1900]
[null,null,null,null,null,null,null,null," ",null,1,1900]
[null,null,null,null,null,null,null,null," ",null,1,1900]
[null,null,null,null,null,null,null,null," ",null,1,1900]
[null,null,null,null,null,null,null,null," ",null,1,1900]
[null,null,null,null,null,null,null,null," ",null,1,1900]
[null,null,null,null,null,null,null,null," ",null,1,1900]
[null,null,null,null,null,null,null,null," ",null,1,1900]
[null,null,null,null,null,null,null,null," ",null,1,1900]
[null,null,null,null,null,null,null,null," ",null,1,1900]
[null,null,null,null,null,null,null,null," ",null,1,1900]
[null,null,null,null,null,null,null,null," ",null,1,1900]
[null,null,null,null,null,null,null,null," ",null,1,1900]
[null,null,null,null,null,null,null,null," ",null,1,1900]
[null,null,null,null,null,null,null,null," ",null,1,1900]
[null,null,null,null,null,null,null,null," ",null,1,1900]
[null,null,null,null,null,null,null,null," ",null,1,1900]
[null,null,null,null,null,null,null,null," ",null,1,1900]
[null,null,null,null,null,null,null,null," ",null,1,1900]
[null,null,null,null,null,null,null,null," ",null,1,1900]
[null,null,null,null,null,null,null,null," ",null,1,1900]
[null,null,null,null,null,null,null,null," ",null,1,1900]
[null,null,null,null,null,null,null,null," ",null,1,1900]
[null,null,null,null,null,null,null,null," ",null,1,1900]
[null,null,null,null,null,null,null,null," ",null,1,1900]
[null,null,null,null,null,null,null,null," ",null,1,1900]
[null,null,null,null,null,null,null,null," ",null,1,1900]
[null,null,null,null,null,null,null,null," ",null,1,1900]
[null,null,null,null,null,null,null,null," ",null,1,1900]
[null,null,null,null,null,null,null,null," ",null,1,1900]
[null,null,null,null,null,null,null,null," ",null,1,1900]
[null,null,null,null,null,null,null,null," ",null,1,1900]
[null,null,null,null,null,null,null,null," ",null,1,1900]
[null,null,null,null,null,null,null,null," ",null,1,1900]
[null,null,null,null,null,null,null,null," ",null,1,1900]
[null,null,null,null,null,null,null,null," ",null,1,1900]
[null,null,null,null,null,null,null,null," ",null,1,1900]
[null,null,null,null,null,null,null,null," ",null,1,1900]
[null,null,null,null,null,null,null,null," ",null,1,1900]
[null,null,null,null,null,null,null,null," ",null,1,1900]
[null,null,null,null,null,null,null,null," ",null,1,1900]
[null,null,null,null,null,null,null,null," ",null,1,1900]
[null,null,null,null,null,null,null,null," ",null,1,1900]
[null,null,null,null,null,null,null,null," ",null,1,1900]
[null,null,null,null,null,null,null,null," ",null,1,1900]
[null,null,null,null,null,null,null,null," ",null,1,1900]
[null,null,null,null,null,null,null,null," ",null,1,1900]
[null,null,null,null,null,null,null,null," ",null,1,1900]
[null,null,null,null,null,null,null,null," ",null,1,1900]
[null,null,null,null,null,null,null,null," ",null,1,1900]
[null,null,null,null,null,null,null,null," ",null,1,1900]
[null,null,null,null,null,null,null,null," ",null,1,1900]
[null,null,null,null,null,null,null,null," ",null,1,1900]
[null,null,null,null,null,null,null,null," ",null,1,1900]
[null,null,null,null,null,null,null,null," ",null,1,1900]
[null,null,null,null,null,null,null,null," ",null,1,1900]
[null,null,null,null,null,null,null,null," ",null,1,1900]
[null,null,null,null,null,null,null,null," ",null,1,1900]
[null,null,null,null,null,null,null,null," ",null,1,1900]
[null,null,null,null,null,null,null,null," ",null,1,1900]
[null,null,null,null,null,null,null,null," ",null,1,1900]
[null,null,null,null,null,null,null,null," ",null,1,1900]
[null,null,null,null,null,null,null,null," ",null,1,1900]
[null,null,null,null,null,null,null,null," ",null,1,1900]
[null,null,null,null,null,null,null,null," ",null,1,1900]
[null,null,null,null,null,null,null,null," ",null,1,1900]
[null,null,null,null,null,null,null,null," ",null,1,1900]
[null,null,null,null,null,null,null,null," ",null,1,1900]
[null,null,null,null,null,null,null,null," ",null,1,1900]
[null,null,null,null,null,null,null,null," ",null,1,1900]
[null,null,null,null,null,null,null,null," ",null,1,1900]
[null,null,null,null,null,null,null,null," ",null,1,1900]
[null,null,null,null,null,null,null,null," ",null,1,1900]
[null,null,null,null,null,null,null,null," ",null,1,1900]
[null,null,null,null,null,null,null,null," ",null,1,1900]
[null,null,null,null,null,null,null,null," ",null,1,1900]
[null,null,null,null,null,null,null,null," ",null,1,1900]
[null,null,null,null,null,null,null,null," ",null,1,1900]
[null,null,null,null,null,null,null,null," ",null,1,1900]
[null,null,null,null,null,null,null,null," ",null,1,1900]
[null,null,null,null,null,null,null,null," ",null,1,1900]
[null,null,null,null,null,null,null,null," ",null,1,1900]
[null,null,null,null,null,null,null,null," ",null,1,1900]
[null,null,null,null,null,null,null,null," ",null,1,1900]
[null,null,null,null,null,null,null,null," ",null,1,1900]
[null,null,null,null,null,null,null,null," ",null,1,1900]
[null,null,null,null,null,null,null,null," ",null,1,1900]
[null,null,null,null,null,null,null,null," ",null,1,1900]
[null,null,null,null,null,null,null,null," ",null,1,1900]
[null,null,null,null,null,null,null,null," ",null,1,1900]
[null,null,null,null,null,null,null,null," ",null,1,1900]
[null,null,null,null,null,null,null,null," ",null,1,1900]
[null,null,null,null,null,null,null,null," ",null,1,1900]
[null,null,null,null,null,null,null,null," ",null,1,1900]
[null,null,null,null,null,null,null,null," ",null,1,1900]
[null,null,null,null,null,null,null,null," ",null,1,1900]
[null,null,null,null,null,null,null,null," ",null,1,1900]
[null,null,null,null,null,null,null,null," ",null,1,1900]
[null,null,null,null,null,null,null,null," ",null,1,1900]
[null,null,null,null,null,null,null,null," ",null,1,1900]
[null,null,null,null,null,null,null,null," ",null,1,1900]
[null,null,null,null,null,null,null,null," ",null,1,1900]
[null,null,null,null,null,null,null,null," ",null,1,1900]
[null,null,null,null,null,null,null,null," ",null,1,1900]
[null,null,null,null,null,null,null,null," ",null,1,1900]
[null,null,null,null,null,null,null,null," ",null,1,1900]
[null,null,null,null,null,null,null,null," ",null,1,1900]
[null,null,null,null,null,null,null,null," ",null,1,1900]
[null,null,null,null,null,null,null,null," ",null,1,1900]
[null,null,null,null,null,null,null,null," ",null,1,1900]
[null,null,null,null,null,null,null,null," ",null,1,1900]
[null,null,null,null,null,null,null,null," ",null,1,1900]
[null,null,null,null,null,null,null,null," ",null,1,1900]
[null,null,null,null,null,null,null,null," ",null,1,1900]
[null,null,null,null,null,null,null,null," ",null,1,1900]
[null,null,null,null,null,null,null,null," ",null,1,1900]
[null,null,null,null,null,null,null,null," ",null,1,1900]
[null,null,null,null,null,null,null,null," ",null,1,1900]
[null,null,null,null,null,null,null,null," ",null,1,1900]
[null,null,null,null,null,null,null,null," ",null,1,1900]
[null,null,null,null,null,null,null,null," ",null,1,1900]
[null,null,null,null,null,null,null,null," ",null,1,1900]
[null,null,null,null,null,null,null,null," ",null,1,1900]
[null,null,null,null,null,null,null,null," ",null,1,1900]
[null,null,null,null,null,null,null,null," ",null,1,1900]
[null,null,null,null,null,null,null,null," ",null,1,1900]
[null,null,null,null,null,null,null,null," ",null,1,1900]
[null,null,null,null,null,null,null,null,{"$f":"+IF(H15160=H15159,\" \",H15160)","v":" "},null,{"$f":"+MONTH(A15160)","v":1},{"$f":"+YEAR(A15160)","v":1900}]
[null,null,null,null,null,null,null,null," ",null,1,1900]
[null,null,null,null,null,null,null,null," ",null,1,1900]
[null,null,null,null,null,null,null,null," ",null,1,1900]
[null,null,null,null,null,null,null,null," ",null,1,1900]
[null,null,null,null,null,null,null,null," ",null,1,1900]
[null,null,null,null,null,null,null,null," ",null,1,1900]
[null,null,null,null,null,null,null,null," ",null,1,1900]
[null,null,null,null,null,null,null,null," ",null,1,1900]
[null,null,null,null,null,null,null,null," ",null,1,1900]
[null,null,null,null,null,null,null,null," ",null,1,1900]
[null,null,null,null,null,null,null,null," ",null,1,1900]
[null,null,null,null,null,null,null,null," ",null,1,1900]
[null,null,null,null,null,null,null,null," ",null,1,1900]
[null,null,null,null,null,null,null,null," ",null,1,1900]
[null,null,null,null,null,null,null,null," ",null,1,1900]
[null,null,null,null,null,null,null,null," ",null,1,1900]
[null,null,null,null,null,null,null,null," ",null,1,1900]
[null,null,null,null,null,null,null,null," ",null,1,1900]
[null,null,null,null,null,null,null,null," ",null,1,1900]
[null,null,null,null,null,null,null,null," ",null,1,1900]
[null,null,null,null,null,null,null,null," ",null,1,1900]
[null,null,null,null,null,null,null,null," ",null,1,1900]
[null,null,null,null,null,null,null,null," ",null,1,1900]
[null,null,null,null,null,null,null,null," ",null,1,1900]
[null,null,null,null,null,null,null,null," ",null,1,1900]
[null,null,null,null,null,null,null,null," ",null,1,1900]
[null,null,null,null,null,null,null,null," ",null,1,1900]
[null,null,null,null,null,null,null,null," ",null,1,1900]
[null,null,null,null,null,null,null,null," ",null,1,1900]
[null,null,null,null,null,null,null,null," ",null,1,1900]
[null,null,null,null,null,null,null,null," ",null,1,1900]
[null,null,null,null,null,null,null,null," ",null,1,1900]
[null,null,null,null,null,null,null,null," ",null,1,1900]
[null,null,null,null,null,null,null,null," ",null,1,1900]
[null,null,null,null,null,null,null,null," ",null,1,1900]
[null,null,null,null,null,null,null,null," ",null,1,1900]
[null,null,null,null,null,null,null,null," ",null,1,1900]
[null,null,null,null,null,null,null,null," ",null,1,1900]
[null,null,null,null,null,null,null,null," ",null,1,1900]
[null,null,null,null,null,null,null,null," ",null,1,1900]
[null,null,null,null,null,null,null,null," ",null,1,1900]
[null,null,null,null,null,null,null,null," ",null,1,1900]
[null,null,null,null,null,null,null,null," ",null,1,1900]
[null,null,null,null,null,null,null,null," ",null,1,1900]
[null,null,null,null,null,null,null,null," ",null,1,1900]
[null,null,null,null,null,null,null,null," ",null,1,1900]
[null,null,null,null,null,null,null,null," ",null,1,1900]
[null,null,null,null,null,null,null,null," ",null,1,1900]
[null,null,null,null,null,null,null,null," ",null,1,1900]
[null,null,null,null,null,null,null,null," ",null,1,1900]
[null,null,null,null,null,null,null,null," ",null,1,1900]
[null,null,null,null,null,null,null,null," ",null,1,1900]
[null,null,null,null,null,null,null,null," ",null,1,1900]
[null,null,null,null,null,null,null,null," ",null,1,1900]
[null,null,null,null,null,null,null,null," ",null,1,1900]
[null,null,null,null,null,null,null,null," ",null,1,1900]
[null,null,null,null,null,null,null,null," ",null,1,1900]
[null,null,null,null,null,null,null,null," ",null,1,1900]
[null,null,null,null,null,null,null,null," ",null,1,1900]
[null,null,null,null,null,null,null,null," ",null,1,1900]
[null,null,null,null,null,null,null,null," ",null,1,1900]
[null,null,null,null,null,null,null,null," ",null,1,1900]
[null,null,null,null,null,null,null,null," ",null,1,1900]
[null,null,null,null,null,null,null,null," ",null,1,1900]
[null,null,null,null,null,null,null,null," ",null,1,1900]
[null,null,null,null,null,null,null,null," ",null,1,1900]
[null,null,null,null,null,null,null,null," ",null,1,1900]
[null,null,null,null,null,null,null,null," ",null,1,1900]
[null,null,null,null,null,null,null,null," ",null,1,1900]
[null,null,null,null,null,null,null,null," ",null,1,1900]
[null,null,null,null,null,null,null,null," ",null,1,1900]
[null,null,null,null,null,null,null,null," ",null,1,1900]
[null,null,null,null,null,null,null,null," ",null,1,1900]
[null,null,null,null,null,null,null,null," ",null,1,1900]
[null,null,null,null,null,null,null,null," ",null,1,1900]
[null,null,null,null,null,null,null,null," ",null,1,1900]
[null,null,null,null,null,null,null,null," ",null,1,1900]
[null,null,null,null,null,null,null,null," ",null,1,1900]
[null,null,null,null,null,null,null,null," ",null,1,1900]
[null,null,null,null,null,null,null,null," ",null,1,1900]
[null,null,null,null,null,null,null,null," ",null,1,1900]
[null,null,null,null,null,null,null,null," ",null,1,1900]
[null,null,null,null,null,null,null,null," ",null,1,1900]
[null,null,null,null,null,null,null,null," ",null,1,1900]
[null,null,null,null,null,null,null,null," ",null,1,1900]
[null,null,null,null,null,null,null,null," ",null,1,1900]
[null,null,null,null,null,null,null,null," ",null,1,1900]
[null,null,null,null,null,null,null,null," ",null,1,1900]
[null,null,null,null,null,null,null,null," ",null,1,1900]
[null,null,null,null,null,null,null,null," ",null,1,1900]
[null,null,null,null,null,null,null,null," ",null,1,1900]
[null,null,null,null,null,null,null,null," ",null,1,1900]
[null,null,null,null,null,null,null,null," ",null,1,1900]
[null,null,null,null,null,null,null,null," ",null,1,1900]
[null,null,null,null,null,null,null,null,{"$f":"+IF(H18168=H18167,\" \",H18168)","v":" "},null,{"$f":"+MONTH(A18168)","v":1},{"$f":"+YEAR(A18168)","v":1900}]
[null,null,null,null,null,null,null,null," ",null,1,1900]
[null,null,null,null,null,null,null,null," ",null,1,1900]
[null,null,null,null,null,null,null,null," ",null,1,1900]
[null,null,null,null,null,null,null,null," ",null,1,1900]
[null,null,null,null,null,null,null,null," ",null,1,1900]
[null,null,null,null,null,null,null,null," ",null,1,1900]
[null,null,null,null,null,null,null,null," ",null,1,1900]
[null,null,null,null,null,null,null,null," ",null,1,1900]
[null,null,null,null,null,null,null,null," ",null,1,1900]
[null,null,null,null,null,null,null,null," ",null,1,1900]
[null,null,null,null,null,null,null,null," ",null,1,1900]
[null,null,null,null,null,null,null,null," ",null,1,1900]
[null,null,null,null,null,null,null,null," ",null,1,1900]
[null,null,null,null,null,null,null,null," ",null,1,1900]
[null,null,null,null,null,null,null,null," ",null,1,1900]
[null,null,null,null,null,null,null,null," ",null,1,1900]
[null,null,null,null,null,null,null,null," ",null,1,1900]
[null,null,null,null,null,null,null,null," ",null,1,1900]
[null,null,null,null,null,null,null,null," ",null,1,1900]
[null,null,null,null,null,null,null,null," ",null,1,1900]
[null,null,null,null,null,null,null,null," ",null,1,1900]
[null,null,null,null,null,null,null,null," ",null,1,1900]
[null,null,null,null,null,null,null,null," ",null,1,1900]
[null,null,null,null,null,null,null,null," ",null,1,1900]
[null,null,null,null,null,null,null,null," ",null,1,1900]
[null,null,null,null,null,null,null,null," ",null,1,1900]
[null,null,null,null,null,null,null,null," ",null,1,1900]
[null,null,null,null,null,null,null,null," ",null,1,1900]
[null,null,null,null,null,null,null,null," ",null,1,1900]
[null,null,null,null,null,null,null,null," ",null,1,1900]
[null,null,null,null,null,null,null,null," ",null,1,1900]
[null,null,null,null,null,null,null,null," ",null,1,1900]
[null,null,null,null,null,null,null,null,{"$f":"+IF(H19192=H19191,\" \",H19192)","v":" "},null,{"$f":"+MONTH(A19192)","v":1},{"$f":"+YEAR(A19192)","v":1900}]
[null,null,null,null,null,null,null,null," ",null,1,1900]
[null,null,null,null,null,null,null,null," ",null,1,1900]
[null,null,null,null,null,null,null,null," ",null,1,1900]
[null,null,null,null,null,null,null,null," ",null,1,1900]
[null,null,null,null,null,null,null,null," ",null,1,1900]
[null,null,null,null,null,null,null,null," ",null,1,1900]
[null,null,null,null,null,null,null,null," ",null,1,1900]
[null,null,null,null,null,null,null,null," ",null,1,1900]
[null,null,null,null,null,null,null,null," ",null,1,1900]
[null,null,null,null,null,null,null,null," ",null,1,1900]
[null,null,null,null,null,null,null,null," ",null,1,1900]
[null,null,null,null,null,null,null,null," ",null,1,1900]
[null,null,null,null,null,null,null,null," ",null,1,1900]
[null,null,null,null,null,null,null,null," ",null,1,1900]
[null,null,null,null,null,null,null,null," ",null,1,1900]
[null,null,null,null,null,null,null,null," ",null,1,1900]
[null,null,null,null,null,null,null,null," ",null,1,1900]
[null,null,null,null,null,null,null,null," ",null,1,1900]
[null,null,null,null,null,null,null,null," ",null,1,1900]
[null,null,null,null,null,null,null,null," ",null,1,1900]
[null,null,null,null,null,null,null,null," ",null,1,1900]
[null,null,null,null,null,null,null,null," ",null,1,1900]
[null,null,null,null,null,null,null,null," ",null,1,1900]
[null,null,null,null,null,null,null,null," ",null,1,1900]
[null,null,null,null,null,null,null,null," ",null,1,1900]
[null,null,null,null,null,null,null,null," ",null,1,1900]
[null,null,null,null,null,null,null,null," ",null,1,1900]
[null,null,null,null,null,null,null,null," ",null,1,1900]
[null,null,null,null,null,null,null,null," ",null,1,1900]
[null,null,null,null,null,null,null,null," ",null,1,1900]
[null,null,null,null,null,null,null,null," ",null,1,1900]
[null,null,null,null,null,null,null,null," ",null,1,1900]
[null,null,null,null,null,null,null,null," ",null,1,1900]
[null,null,null,null,null,null,null,null," ",null,1,1900]
[null,null,null,null,null,null,null,null," ",null,1,1900]
[null,null,null,null,null,null,null,null," ",null,1,1900]
[null,null,null,null,null,null,null,null," ",null,1,1900]
[null,null,null,null,null,null,null,null," ",null,1,1900]
[null,null,null,null,null,null,null,null,{"$f":"+IF(H20408=H20407,\" \",H20408)","v":" "},null,{"$f":"+MONTH(A20408)","v":1},{"$f":"+YEAR(A20408)","v":1900}]
[null,null,null,null,null,null,null,null," ",null,1,1900]
[null,null,null,null,null,null,null,null," ",null,1,1900]
[null,null,null,null,null,null,null,null," ",null,1,1900]
[null,null,null,null,null,null,null,null," ",null,1,1900]
[null,null,null,null,null,null,null,null," ",null,1,1900]
[null,null,null,null,null,null,null,null," ",null,1,1900]
[null,null,null,null,null,null,null,null," ",null,1,1900]
[null,null,null,null,null,null,null,null," ",null,1,1900]
[null,null,null,null,null,null,null,null," ",null,1,1900]
[null,null,null,null,null,null,null,null," ",null,1,1900]
[null,null,null,null,null,null,null,null," ",null,1,1900]
[null,null,null,null,null,null,null,null," ",null,1,1900]
[null,null,null,null,null,null,null,null," ",null,1,1900]
[null,null,null,null,null,null,null,null," ",null,1,1900]
[null,null,null,null,null,null,null,null," ",null,1,1900]
[null,null,null,null,null,null,null,null," ",null,1,1900]
[null,null,null,null,null,null,null,null," ",null,1,1900]
[null,null,null,null,null,null,null,null," ",null,1,1900]
[null,null,null,null,null,null,null,null," ",null,1,1900]
[null,null,null,null,null,null,null,null," ",null,1,1900]
[null,null,null,null,null,null,null,null," ",null,1,1900]
[null,null,null,null,null,null,null,null," ",null,1,1900]
[null,null,null,null,null,null,null,null," ",null,1,1900]
[null,null,null,null,null,null,null,null," ",null,1,1900]
[null,null,null,null,null,null,null,null," ",null,1,1900]
[null,null,null,null,null,null,null,null," ",null,1,1900]
[null,null,null,null,null,null,null,null," ",null,1,1900]
[null,null,null,null,null,null,null,null," ",null,1,1900]
[null,null,null,null,null,null,null,null," ",null,1,1900]
[null,null,null,null,null,null,null,null," ",null,1,1900]
[null,null,null,null,null,null,null,null," ",null,1,1900]
[null,null,null,null,null,null,null,null," ",null,1,1900]
[null,null,null,null,null,null,null,null," ",null,1,1900]
[null,null,null,null,null,null,null,null," ",null,1,1900]
[null,null,null,null,null,null,null,null," ",null,1,1900]
[null,null,null,null,null,null,null,null," ",null,1,1900]
[null,null,null,null,null,null,null,null," ",null,1,1900]
[null,null,null,null,null,null,null,null," ",null,1,1900]
[null,null,null,null,null,null,null,null," ",null,1,1900]
[null,null,null,null,null,null,null,null," ",null,1,1900]
[null,null,null,null,null,null,null,null," ",null,1,1900]
[null,null,null,null,null,null,null,null," ",null,1,1900]
[null,null,null,null,null,null,null,null," ",null,1,1900]
[null,null,null,null,null,null,null,null," ",null,1,1900]
[null,null,null,null,null,null,null,null," ",null,1,1900]
[null,null,null,null,null,null,null,null," ",null,1,1900]
[null,null,null,null,null,null,null,null," ",null,1,1900]
[null,null,null,null,null,null,null,null," ",null,1,1900]
[null,null,null,null,null,null,null,null," ",null,1,1900]
[null,null,null,null,null,null,null,null," ",null,1,1900]
[null,null,null,null,null,null,null,null," ",null,1,1900]
[null,null,null,null,null,null,null,null," ",null,1,1900]
[null,null,null,null,null,null,null,null," ",null,1,1900]
[null,null,null,null,null,null,null,null," ",null,1,1900]
[null,null,null,null,null,null,null,null," ",null,1,1900]
[null,null,null,null,null,null,null,null," ",null,1,1900]
[null,null,null,null,null,null,null,null," ",null,1,1900]
[null,null,null,null,null,null,null,null," ",null,1,1900]
[null,null,null,null,null,null,null,null," ",null,1,1900]
[null,null,null,null,null,null,null,null," ",null,1,1900]
[null,null,null,null,null,null,null,null," ",null,1,1900]
[null,null,null,null,null,null,null,null,{"$f":"+IF(H22392=H22391,\" \",H22392)","v":" "},null,{"$f":"+MONTH(A22392)","v":1},{"$f":"+YEAR(A22392)","v":1900}]
[null,null,null,null,null,null,null,null," ",null,1,1900]
[null,null,null,null,null,null,null,null," ",null,1,1900]
[null,null,null,null,null,null,null,null," ",null,1,1900]
[null,null,null,null,null,null,null,null," ",null,1,1900]
[null,null,null,null,null,null,null,null," ",null,1,1900]
[null,null,null,null,null,null,null,null," ",null,1,1900]
[null,null,null,null,null,null,null,null," ",null,1,1900]
[null,null,null,null,null,null,null,null," ",null,1,1900]
[null,null,null,null,null,null,null,null," ",null,1,1900]
[null,null,null,null,null,null,null,null," ",null,1,1900]
[null,null,null,null,null,null,null,null," ",null,1,1900]
[null,null,null,null,null,null,null,null," ",null,1,1900]
[null,null,null,null,null,null,null,null," ",null,1,1900]
[null,null,null,null,null,null,null,null," ",null,1,1900]
[null,null,null,null,null,null,null,null," ",null,1,1900]
[null,null,null,null,null,null,null,null," ",null,1,1900]
[null,null,null,null,null,null,null,null," ",null,1,1900]
[null,null,null,null,null,null,null,null," ",null,1,1900]
[null,null,null,null,null,null,null,null," ",null,1,1900]
[null,null,null,null,null,null,null,null," ",null,1,1900]
[null,null,null,null,null,null,null,null," ",null,1,1900]
[null,null,null,null,null,null,null,null," ",null,1,1900]
[null,null,null,null,null,null,null,null," ",null,1,1900]
[null,null,null,null,null,null,null,null," ",null,1,1900]
[null,null,null,null,null,null,null,null," ",null,1,1900]
[null,null,null,null,null,null,null,null," ",null,1,1900]
[null,null,null,null,null,null,null,null," ",null,1,1900]
[null,null,null,null,null,null,null,null," ",null,1,1900]
[null,null,null,null,null,null,null,null," ",null,1,1900]
[null,null,null,null,null,null,null,null," ",null,1,1900]
[null,null,null,null,null,null,null,null,{"$f":"+IF(H23352=H23351,\" \",H23352)","v":" "},null,{"$f":"+MONTH(A23352)","v":1},{"$f":"+YEAR(A23352)","v":1900}]
[null,null,null,null,null,null,null,null," ",null,1,1900]
[null,null,null,null,null,null,null,null," ",null,1,1900]
[null,null,null,null,null,null,null,null," ",null,1,1900]
[null,null,null,null,null,null,null,null," ",null,1,1900]
[null,null,null,null,null,null,null,null," ",null,1,1900]
[null,null,null,null,null,null,null,null," ",null,1,1900]
[null,null,null,null,null,null,null,null," ",null,1,1900]
[null,null,null,null,null,null,null,null," ",null,1,1900]
[null,null,null,null,null,null,null,null," ",null,1,1900]
[null,null,null,null,null,null,null,null," ",null,1,1900]
[null,null,null,null,null,null,null,null," ",null,1,1900]
[null,null,null,null,null,null,null,null," ",null,1,1900]
[null,null,null,null,null,null,null,null," ",null,1,1900]
[null,null,null,null,null,null,null,null," ",null,1,1900]
[null,null,null,null,null,null,null,null," ",null,1,1900]
[null,null,null,null,null,null,null,null," ",null,1,1900]
[null,null,null,null,null,null,null,null," ",null,1,1900]
[null,null,null,null,null,null,null,null," ",null,1,1900]
[null,null,null,null,null,null,null,null," ",null,1,1900]
[null,null,null,null,null,null,null,null," ",null,1,1900]
[null,null,null,null,null,null,null,null," ",null,1,1900]
[null,null,null,null,null,null,null,null," ",null,1,1900]
[null,null,null,null,null,null,null,null," ",null,1,1900]
[null,null,null,null,null,null,null,null," ",null,1,1900]
[null,null,null,null,null,null,null,null," ",null,1,1900]
[null,null,null,null,null,null,null,null," ",null,1,1900]
[null,null,null,null,null,null,null,null," ",null,1,1900]
[null,null,null,null,null,null,null,null," ",null,1,1900]
[null,null,null,null,null,null,null,null," ",null,1,1900]
[null,null,null,null,null,null,null,null," ",null,1,1900]
[null,null,null,null,null,null,null,null," ",null,1,1900]
[null,null,null,null,null,null,null,null," ",null,1,1900]
[null,null,null,null,null,null,null,null," ",null,1,1900]
[null,null,null,null,null,null,null,null," ",null,1,1900]
[null,null,null,null,null,null,null,null," ",null,1,1900]
[null,null,null,null,null,null,null,null," ",null,1,1900]
[null,null,null,null,null,null,null,null," ",null,1,1900]
[null,null,null,null,null,null,null,null," ",null,1,1900]
[null,null,null,null,null,null,null,null," ",null,1,1900]
[null,null,null,null,null,null,null,null," ",null,1,1900]
[null,null,null,null,null,null,null,null," ",null,1,1900]
[null,null,null,null,null,null,null,null," ",null,1,1900]
[null,null,null,null,null,null,null,null," ",null,1,1900]
[null,null,null,null,null,null,null,null," ",null,1,1900]
[null,null,null,null,null,null,null,null," ",null,1,1900]
[null,null,null,null,null,null,null,null," ",null,1,1900]
[null,null,null,null,null,null,null,null," ",null,1,1900]
[null,null,null,null,null,null,null,null," ",null,1,1900]
[null,null,null,null,null,null,null,null," ",null,1,1900]
[null,null,null,null,null,null,null,null," ",null,1,1900]
[null,null,null,null,null,null,null,null," ",null,1,1900]
[null,null,null,null,null,null,null,null," ",null,1,1900]
[null,null,null,null,null,null,null,null," ",null,1,1900]
[null,null,null,null,null,null,null,null," ",null,1,1900]
[null,null,null,null,null,null,null,null," ",null,1,1900]
[null,null,null,null,null,null,null,null," ",null,1,1900]
[null,null,null,null,null,null,null,null," ",null,1,1900]
[null,null,null,null,null,null,null,null," ",null,1,1900]
[null,null,null,null,null,null,null,null," ",null,1,1900]
[null,null,null,null,null,null,null,null," ",null,1,1900]
[null,null,null,null,null,null,null,null," ",null,1,1900]
[null,null,null,null,null,null,null,null," ",null,1,1900]
[null,null,null,null,null,null,null,null," ",null,1,1900]
[null,null,null,null,null,null,null,null," ",null,1,1900]
[null,null,null,null,null,null,null,null," ",null,1,1900]
[null,null,null,null,null,null,null,null," ",null,1,1900]
[null,null,null,null,null,null,null,null," ",null,1,1900]
[null,null,null,null,null,null,null,null," ",null,1,1900]
[null,null,null,null,null,null,null,null," ",null,1,1900]
[null,null,null,null,null,null,null,null," ",null,1,1900]
[null,null,null,null,null,null,null,null," ",null,1,1900]
[null,null,null,null,null,null,null,null," ",null,1,1900]
[null,null,null,null,null,null,null,null," ",null,1,1900]
[null,null,null,null,null,null,null,null," ",null,1,1900]
[null,null,null,null,null,null,null,null," ",null,1,1900]
[null,null,null,null,null,null,null,null," ",null,1,1900]
[null,null,null,null,null,null,null,null," ",null,1,1900]
[null,null,null,null,null,null,null,null," ",null,1,1900]
[null,null,null,null,null,null,null,null," ",null,1,1900]
[null,null,null,null,null,null,null,null," ",null,1,1900]
[null,null,null,null,null,null,null,null," ",null,1,1900]
[null,null,null,null,null,null,null,null," ",null,1,1900]
[null,null,null,null,null,null,null,null," ",null,1,1900]
[null,null,null,null,null,null,null,null," ",null,1,1900]
[null,null,null,null,null,null,null,null," ",null,1,1900]
[null,null,null,null,null,null,null,null," ",null,1,1900]
[null,null,null,null,null,null,null,null," ",null,1,1900]
[null,null,null,null,null,null,null,null," ",null,1,1900]
[null,null,null,null,null,null,null,null," ",null,1,1900]
[null,null,null,null,null,null,null,null," ",null,1,1900]
[null,null,null,null,null,null,null,null," ",null,1,1900]
[null,null,null,null,null,null,null,null," ",null,1,1900]
[null,null,null,null,null,null,null,null,{"$f":"+IF(H26296=H26295,\" \",H26296)","v":" "},null,{"$f":"+MONTH(A26296)","v":1},{"$f":"+YEAR(A26296)","v":1900}]
[null,null,null,null,null,null,null,null," ",null,1,1900]
[null,null,null,null,null,null,null,null," ",null,1,1900]
[null,null,null,null,null,null,null,null," ",null,1,1900]
[null,null,null,null,null,null,null,null," ",null,1,1900]
[null,null,null,null,null,null,null,null," ",null,1,1900]
[null,null,null,null,null,null,null,null," ",null,1,1900]
[null,null,null,null,null,null,null,null," ",null,1,1900]
[null,null,null,null,null,null,null,null," ",null,1,1900]
[null,null,null,null,null,null,null,null," ",null,1,1900]
[null,null,null,null,null,null,null,null," ",null,1,1900]
[null,null,null,null,null,null,null,null," ",null,1,1900]
[null,null,null,null,null,null,null,null," ",null,1,1900]
[null,null,null,null,null,null,null,null," ",null,1,1900]
[null,null,null,null,null,null,null,null," ",null,1,1900]
[null,null,null,null,null,null,null,null," ",null,1,1900]
[null,null,null,null,null,null,null,null," ",null,1,1900]
[null,null,null,null,null,null,null,null," ",null,1,1900]
[null,null,null,null,null,null,null,null," ",null,1,1900]
[null,null,null,null,null,null,null,null," ",null,1,1900]
[null,null,null,null,null,null,null,null," ",null,1,1900]
[null,null,null,null,null,null,null,null," ",null,1,1900]
[null,null,null,null,null,null,null,null," ",null,1,1900]
[null,null,null,null,null,null,null,null," ",null,1,1900]
[null,null,null,null,null,null,null,null," ",null,1,1900]
[null,null,null,null,null,null,null,null," ",null,1,1900]
[null,null,null,null,null,null,null,null," ",null,1,1900]
[null,null,null,null,null,null,null,null," ",null,1,1900]
[null,null,null,null,null,null,null,null," ",null,1,1900]
[null,null,null,null,null,null,null,null," ",null,1,1900]
[null,null,null,null,null,null,null,null," ",null,1,1900]
[null,null,null,null,null,null,null,null,{"$f":"+IF(H27256=H27255,\" \",H27256)","v":" "},null,{"$f":"+MONTH(A27256)","v":1},{"$f":"+YEAR(A27256)","v":1900}]
[null,null,null,null,null,null,null,null," ",null,1,1900]
[null,null,null,null,null,null,null,null," ",null,1,1900]
[null,null,null,null,null,null,null,null," ",null,1,1900]
[null,null,null,null,null,null,null,null," ",null,1,1900]
[null,null,null,null,null,null,null,null," ",null,1,1900]
[null,null,null,null,null,null,null,null," ",null,1,1900]
[null,null,null,null,null,null,null,null," ",null,1,1900]
[null,null,null,null,null,null,null,null," ",null,1,1900]
[null,null,null,null,null,null,null,null," ",null,1,1900]
[null,null,null,null,null,null,null,null," ",null,1,1900]
[null,null,null,null,null,null,null,null," ",null,1,1900]
[null,null,null,null,null,null,null,null," ",null,1,1900]
[null,null,null,null,null,null,null,null," ",null,1,1900]
[null,null,null,null,null,null,null,null," ",null,1,1900]
[null,null,null,null,null,null,null,null," ",null,1,1900]
[null,null,null,null,null,null,null,null,{"$f":"+IF(H27768=H27767,\" \",H27768)","v":" "},null,{"$f":"+MONTH(A27768)","v":1},{"$f":"+YEAR(A27768)","v":1900}]
[null,null,null,null,null,null,null,null," ",null,1,1900]
[null,null,null,null,null,null,null,null," ",null,1,1900]
[null,null,null,null,null,null,null,null," ",null,1,1900]
[null,null,null,null,null,null,null,null," ",null,1,1900]
[null,null,null,null,null,null,null,null," ",null,1,1900]
[null,null,null,null,null,null,null,null," ",null,1,1900]
[null,null,null,null,null,null,null,null," ",null,1,1900]
[null,null,null,null,null,null,null,null," ",null,1,1900]
[null,null,null,null,null,null,null,null," ",null,1,1900]
[null,null,null,null,null,null,null,null," ",null,1,1900]
[null,null,null,null,null,null,null,null," ",null,1,1900]
[null,null,null,null,null,null,null,null," ",null,1,1900]
[null,null,null,null,null,null,null,null," ",null,1,1900]
[null,null,null,null,null,null,null,null," ",null,1,1900]
[null,null,null,null,null,null,null,null," ",null,1,1900]
[null,null,null,null,null,null,null,null," ",null,1,1900]
[null,null,null,null,null,null,null,null," ",null,1,1900]
[null,null,null,null,null,null,null,null," ",null,1,1900]
[null,null,null,null,null,null,null,null," ",null,1,1900]
[null,null,null,null,null,null,null,null," ",null,1,1900]
[null,null,null,null,null,null,null,null," ",null,1,1900]
[null,null,null,null,null,null,null,null," ",null,1,1900]
[null,null,null,null,null,null,null,null," ",null,1,1900]
[null,null,null,null,null,null,null,null," ",null,1,1900]
[null,null,null,null,null,null,null,null," ",null,1,1900]
[null,null,null,null,null,null,null,null," ",null,1,1900]
[null,null,null,null,null,null,null,null," ",null,1,1900]
[null,null,null,null,null,null,null,null," ",null,1,1900]
[null,null,null,null,null,null,null,null," ",null,1,1900]
[null,null,null,null,null,null,null,null," ",null,1,1900]
[null,null,null,null,null,null,null,null," ",null,1,1900]
[null,null,null,null,null,null,null,null," ",null,1,1900]
[null,null,null,null,null,null,null,null," ",null,1,1900]
[null,null,null,null,null,null,null,null," ",null,1,1900]
[null,null,null,null,null,null,null,null," ",null,1,1900]
[null,null,null,null,null,null,null,null," ",null,1,1900]
[null,null,null,null,null,null,null,null," ",null,1,1900]
[null,null,null,null,null,null,null,null," ",null,1,1900]
[null,null,null,null,null,null,null,null," ",null,1,1900]
[null,null,null,null,null,null,null,null," ",null,1,1900]
[null,null,null,null,null,null,null,null," ",null,1,1900]
[null,null,null,null,null,null,null,null," ",null,1,1900]
[null,null,null,null,null,null,null,null," ",null,1,1900]
[null,null,null,null,null,null,null,null," ",null,1,1900]
[null,null,null,null,null,null,null,null," ",null,1,1900]
[null,null,null,null,null,null,null,null," ",null,1,1900]
[null,null,null,null,null,null,null,null," ",null,1,1900]
[null,null,null,null,null,null,null,null," ",null,1,1900]
[null,null,null,null,null,null,null,null," ",null,1,1900]
[null,null,null,null,null,null,null,null," ",null,1,1900]
[null,null,null,null,null,null,null,null," ",null,1,1900]
[null,null,null,null,null,null,null,null," ",null,1,1900]
[null,null,null,null,null,null,null,null," ",null,1,1900]
[null,null,null,null,null,null,null,null," ",null,1,1900]
[null,null,null,null,null,null,null,null," ",null,1,1900]
[null,null,null,null,null,null,null,null," ",null,1,1900]
[null,null,null,null,null,null,null,null," ",null,1,1900]
[null,null,null,null,null,null,null,null," ",null,1,1900]
[null,null,null,null,null,null,null,null," ",null,1,1900]
[null,null,null,null,null,null,null,null," ",null,1,1900]
[null,null,null,null,null,null,null,null," ",null,1,1900]
[null,null,null,null,null,null,null,null," ",null,1,1900]
[null,null,null,null,null,null,null,null," ",null,1,1900]
[null,null,null,null,null,null,null,null," ",null,1,1900]
[null,null,null,null,null,null,null,null," ",null,1,1900]
[null,null,null,null,null,null,null,null," ",null,1,1900]
[null,null,null,null,null,null,null,null," ",null,1,1900]
[null,null,null,null,null,null,null,null," ",null,1,1900]
[null,null,null,null,null,null,null,null," ",null,1,1900]
[null,null,null,null,null,null,null,null," ",null,1,1900]
[null,null,null,null,null,null,null,null," ",null,1,1900]
[null,null,null,null,null,null,null,null," ",null,1,1900]
[null,null,null,null,null,null,null,null," ",null,1,1900]
[null,null,null,null,null,null,null,null," ",null,1,1900]
[null,null,null,null,null,null,null,null," ",null,1,1900]
[null,null,null,null,null,null,null,null," ",null,1,1900]
[null,null,null,null,null,null,null,null," ",null,1,1900]
[null,null,null,null,null,null,null,null," ",null,1,1900]
[null,null,null,null,null,null,null,null," ",null,1,1900]
[null,null,null,null,null,null,null,null," ",null,1,1900]
[null,null,null,null,null,null,null,null," ",null,1,1900]
[null,null,null,null,null,null,null,null," ",null,1,1900]
[null,null,null,null,null,null,null,null," ",null,1,1900]
[null,null,null,null,null,null,null,null," ",null,1,1900]
[null,null,null,null,null,null,null,null," ",null,1,1900]
[null,null,null,null,null,null,null,null," ",null,1,1900]
[null,null,null,null,null,null,null,null," ",null,1,1900]
[null,null,null,null,null,null,null,null," ",null,1,1900]
[null,null,null,null,null,null,null,null," ",null,1,1900]
[null,null,null,null,null,null,null,null," ",null,1,1900]
[null,null,null,null,null,null,null,null," ",null,1,1900]
[null,null,null,null,null,null,null,null," ",null,1,1900]
[null,null,null,null,null,null,null,null," ",null,1,1900]
[null,null,null,null,null,null,null,null," ",null,1,1900]
[null,null,null,null,null,null,null,null," ",null,1,1900]
[null,null,null,null,null,null,null,null," ",null,1,1900]
[null,null,null,null,null,null,null,null," ",null,1,1900]
[null,null,null,null,null,null,null,null," ",null,1,1900]
[null,null,null,null,null,null,null,null," ",null,1,1900]
[null,null,null,null,null,null,null,null," ",null,1,1900]
[null,null,null,null,null,null,null,null," ",null,1,1900]
[null,null,null,null,null,null,null,null," ",null,1,1900]
[null,null,null,null,null,null,null,null," ",null,1,1900]
[null,null,null,null,null,null,null,null," ",null,1,1900]
[null,null,null,null,null,null,null,null," ",null,1,1900]
[null,null,null,null,null,null,null,null," ",null,1,1900]
[null,null,null,null,null,null,null,null," ",null,1,1900]
[null,null,null,null,null,null,null,null," ",null,1,1900]
[null,null,null,null,null,null,null,null," ",null,1,1900]
[null,null,null,null,null,null,null,null," ",null,1,1900]
[null,null,null,null,null,null,null,null," ",null,1,1900]
[null,null,null,null,null,null,null,null," ",null,1,1900]
[null,null,null,null,null,null,null,null," ",null,1,1900]
[null,null,null,null,null,null,null,null," ",null,1,1900]
[null,null,null,null,null,null,null,null," ",null,1,1900]
[null,null,null,null,null,null,null,null," ",null,1,1900]
[null,null,null,null,null,null,null,null," ",null,1,1900]
[null,null,null,null,null,null,null,null," ",null,1,1900]
[null,null,null,null,null,null,null,null," ",null,1,1900]
[null,null,null,null,null,null,null,null," ",null,1,1900]
[null,null,null,null,null,null,null,null," ",null,1,1900]
[null,null,null,null,null,null,null,null," ",null,1,1900]
[null,null,null,null,null,null,null,null," ",null,1,1900]
[null,null,null,null,null,null,null,null," ",null,1,1900]
[null,null,null,null,null,null,null,null," ",null,1,1900]
[null,null,null,null,null,null,null,null," ",null,1,1900]
[null,null,null,null,null,null,null,null," ",null,1,1900]
[null,null,null,null,null,null,null,null," ",null,1,1900]
[null,null,null,null,null,null,null,null," ",null,1,1900]
[null,null,null,null,null,null,null,null," ",null,1,1900]
[null,null,null,null,null,null,null,null," ",null,1,1900]
[null,null,null,null,null,null,null,null," ",null,1,1900]
[null,null,null,null,null,null,null,null," ",null,1,1900]
[null,null,null,null,null,null,null,null," ",null,1,1900]
[null,null,null,null,null,null,null,null," ",null,1,1900]
[null,null,null,null,null,null,null,null," ",null,1,1900]
[null,null,null,null,null,null,null,null," ",null,1,1900]
[null,null,null,null,null,null,null,null," ",null,1,1900]
[null,null,null,null,null,null,null,null," ",null,1,1900]
[null,null,null,null,null,null,null,null," ",null,1,1900]
[null,null,null,null,null,null,null,null," ",null,1,1900]
[null,null,null,null,null,null,null,null," ",null,1,1900]
[null,null,null,null,null,null,null,null," ",null,1,1900]
[null,null,null,null,null,null,null,null," ",null,1,1900]
[null,null,null,null,null,null,null,null," ",null,1,1900]
[null,null,null,null,null,null,null,null," ",null,1,1900]
[null,null,null,null,null,null,null,null," ",null,1,1900]
[null,null,null,null,null,null,null,null," ",null,1,1900]
[null,null,null,null,null,null,null,null," ",null,1,1900]
[null,null,null,null,null,null,null,null," ",null,1,1900]
[null,null,null,null,null,null,null,null," ",null,1,1900]
[null,null,null,null,null,null,null,null," ",null,1,1900]
[null,null,null,null,null,null,null,null," ",null,1,1900]
[null,null,null,null,null,null,null,null," ",null,1,1900]
[null,null,null,null,null,null,null,null," ",null,1,1900]
[null,null,null,null,null,null,null,null," ",null,1,1900]
[null,null,null,null,null,null,null,null," ",null,1,1900]
[null,null,null,null,null,null,null,null," ",null,1,1900]
[null,null,null,null,null,null,null,null," ",null,1,1900]
[null,null,null,null,null,null,null,null," ",null,1,1900]
[null,null,null,null,null,null,null,null," ",null,1,1900]
[null,null,null,null,null,null,null,null," ",null,1,1900]
[null,null,null,null,null,null,null,null," ",null,1,1900]
[null,null,null,null,null,null,null,null," ",null,1,1900]
[null,null,null,null,null,null,null,null," ",null,1,1900]
[null,null,null,null,null,null,null,null," ",null,1,1900]
[null,null,null,null,null,null,null,null," ",null,1,1900]
[null,null,null,null,null,null,null,null," ",null,1,1900]
[null,null,null,null,null,null,null,null," ",null,1,1900]
[null,null,null,null,null,null,null,null," ",null,1,1900]
[null,null,null,null,null,null,null,null," ",null,1,1900]
[null,null,null,null,null,null,null,null," ",null,1,1900]
[null,null,null,null,null,null,null,null," ",null,1,1900]
[null,null,null,null,null,null,null,null," ",null,1,1900]
[null,null,null,null,null,null,null,null," ",null,1,1900]
[null,null,null,null,null,null,null,null," ",null,1,1900]
[null,null,null,null,null,null,null,null," ",null,1,1900]
[null,null,null,null,null,null,null,null," ",null,1,1900]
[null,null,null,null,null,null,null,null," ",null,1,1900]
[null,null,null,null,null,null,null,null," ",null,1,1900]
[null,null,null,null,null,null,null,null," ",null,1,1900]
[null,null,null,null,null,null,null,null," ",null,1,1900]
[null,null,null,null,null,null,null,null," ",null,1,1900]
[null,null,null,null,null,null,null,null," ",null,1,1900]
[null,null,null,null,null,null,null,null," ",null,1,1900]
[null,null,null,null,null,null,null,null," ",null,1,1900]
[null,null,null,null,null,null,null,null," ",null,1,1900]
[null,null,null,null,null,null,null,null," ",null,1,1900]
[null,null,null,null,null,null,null,null," ",null,1,1900]
[null,null,null,null,null,null,null,null," ",null,1,1900]
[null,null,null,null,null,null,null,null," ",null,1,1900]
[null,null,null,null,null,null,null,null," ",null,1,1900]
[null,null,null,null,null,null,null,null," ",null,1,1900]
[null,null,null,null,null,null,null,null," ",null,1,1900]
[null,null,null,null,null,null,null,null," ",null,1,1900]
[null,null,null,null,null,null,null,null," ",null,1,1900]
[null,null,null,null,null,null,null,null," ",null,1,1900]
[null,null,null,null,null,null,null,null," ",null,1,1900]
[null,null,null,null,null,null,null,null," ",null,1,1900]
[null,null,null,null,null,null,null,null," ",null,1,1900]
[null,null,null,null,null,null,null,null," ",null,1,1900]
[null,null,null,null,null,null,null,null," ",null,1,1900]
[null,null,null,null,null,null,null,null," ",null,1,1900]
[null,null,null,null,null,null,null,null," ",null,1,1900]
[null,null,null,null,null,null,null,null," ",null,1,1900]
[null,null,null,null,null,null,null,null," ",null,1,1900]
[null,null,null,null,null,null,null,null," ",null,1,1900]
[null,null,null,null,null,null,null,null," ",null,1,1900]
[null,null,null,null,null,null,null,null," ",null,1,1900]
[null,null,null,null,null,null,null,null," ",null,1,1900]
[null,null,null,null,null,null,null,null," ",null,1,1900]
[null,null,null,null,null,null,null,null," ",null,1,1900]
[null,null,null,null,null,null,null,null," ",null,1,1900]
[null,null,null,null,null,null,null,null," ",null,1,1900]
[null,null,null,null,null,null,null,null," ",null,1,1900]
[null,null,null,null,null,null,null,null," ",null,1,1900]
[null,null,null,null,null,null,null,null," ",null,1,1900]
[null,null,null,null,null,null,null,null," ",null,1,1900]
[null,null,null,null,null,null,null,null," ",null,1,1900]
[null,null,null,null,null,null,null,null," ",null,1,1900]
[null,null,null,null,null,null,null,null," ",null,1,1900]
[null,null,null,null,null,null,null,null," ",null,1,1900]
[null,null,null,null,null,null,null,null," ",null,1,1900]
[null,null,null,null,null,null,null,null," ",null,1,1900]
[null,null,null,null,null,null,null,null," ",null,1,1900]
[null,null,null,null,null,null,null,null," ",null,1,1900]
[null,null,null,null,null,null,null,null," ",null,1,1900]
[null,null,null,null,null,null,null,null," ",null,1,1900]
[null,null,null,null,null,null,null,null," ",null,1,1900]
[null,null,null,null,null,null,null,null," ",null,1,1900]
[null,null,null,null,null,null,null,null," ",null,1,1900]
[null,null,null,null,null,null,null,null," ",null,1,1900]
[null,null,null,null,null,null,null,null," ",null,1,1900]
[null,null,null,null,null,null,null,null," ",null,1,1900]
[null,null,null,null,null,null,null,null," ",null,1,1900]
[null,null,null,null,null,null,null,null," ",null,1,1900]
[null,null,null,null,null,null,null,null," ",null,1,1900]
[null,null,null,null,null,null,null,null," ",null,1,1900]
[null,null,null,null,null,null,null,null," ",null,1,1900]
[null,null,null,null,null,null,null,null," ",null,1,1900]
[null,null,null,null,null,null,null,null," ",null,1,1900]
[null,null,null,null,null,null,null,null," ",null,1,1900]
[null,null,null,null,null,null,null,null," ",null,1,1900]
[null,null,null,null,null,null,null,null," ",null,1,1900]
[null,null,null,null,null,null,null,null," ",null,1,1900]
[null,null,null,null,null,null,null,null," ",null,1,1900]
[null,null,null,null,null,null,null,null," ",null,1,1900]
[null,null,null,null,null,null,null,null," ",null,1,1900]
[null,null,null,null,null,null,null,null," ",null,1,1900]
[null,null,null,null,null,null,null,null," ",null,1,1900]
[null,null,null,null,null,null,null,null," ",null,1,1900]
[null,null,null,null,null,null,null,null," ",null,1,1900]
[null,null,null,null,null,null,null,null," ",null,1,1900]
[null,null,null,null,null,null,null,null," ",null,1,1900]
[null,null,null,null,null,null,null,null," ",null,1,1900]
[null,null,null,null,null,null,null,null," ",null,1,1900]
[null,null,null,null,null,null,null,null," ",null,1,1900]
[null,null,null,null,null,null,null,null," ",null,1,1900]
[null,null,null,null,null,null,null,null," ",null,1,1900]
[null,null,null,null,null,null,null,null," ",null,1,1900]
[null,null,null,null,null,null,null,null," ",null,1,1900]
[null,null,null,null,null,null,null,null," ",null,1,1900]
[null,null,null,null,null,null,null,null," ",null,1,1900]
[null,null,null,null,null,null,null,null," ",null,1,1900]
[null,null,null,null,null,null,null,null," ",null,1,1900]
[null,null,null,null,null,null,null,null," ",null,1,1900]
[null,null,null,null,null,null,null,null," ",null,1,1900]
[null,null,null,null,null,null,null,null," ",null,1,1900]
[null,null,null,null,null,null,null,null," ",null,1,1900]
[null,null,null,null,null,null,null,null," ",null,1,1900]
[null,null,null,null,null,null,null,null," ",null,1,1900]
[null,null,null,null,null,null,null,null," ",null,1,1900]
[null,null,null,null,null,null,null,null," ",null,1,1900]
[null,null,null,null,null,null,null,null," ",null,1,1900]
[null,null,null,null,null,null,null,null," ",null,1,1900]
[null,null,null,null,null,null,null,null," ",null,1,1900]
[null,null,null,null,null,null,null,null," ",null,1,1900]
[null,null,null,null,null,null,null,null," ",null,1,1900]
[null,null,null,null,null,null,null,null," ",null,1,1900]
[null,null,null,null,null,null,null,null," ",null,1,1900]
[null,null,null,null,null,null,null,null," ",null,1,1900]
[null,null,null,null,null,null,null,null," ",null,1,1900]
[null,null,null,null,null,null,null,null," ",null,1,1900]
[null,null,null,null,null,null,null,null," ",null,1,1900]
[null,null,null,null,null,null,null,null," ",null,1,1900]
[null,null,null,null,null,null,null,null," ",null,1,1900]
[null,null,null,null,null,null,null,null," ",null,1,1900]
[null,null,null,null,null,null,null,null," ",null,1,1900]
[null,null,null,null,null,null,null,null," ",null,1,1900]
[null,null,null,null,null,null,null,null," ",null,1,1900]
[null,null,null,null,null,null,null,null," ",null,1,1900]
[null,null,null,null,null,null,null,null," ",null,1,1900]
[null,null,null,null,null,null,null,null," ",null,1,1900]
[null,null,null,null,null,null,null,null," ",null,1,1900]
[null,null,null,null,null,null,null,null," ",null,1,1900]
[null,null,null,null,null,null,null,null," ",null,1,1900]
[null,null,null,null,null,null,null,null," ",null,1,1900]
[null,null,null,null,null,null,null,null," ",null,1,1900]
[null,null,null,null,null,null,null,null," ",null,1,1900]
[null,null,null,null,null,null,null,null," ",null,1,1900]
[null,null,null,null,null,null,null,null," ",null,1,1900]
[null,null,null,null,null,null,null,null," ",null,1,1900]
[null,null,null,null,null,null,null,null," ",null,1,1900]
[null,null,null,null,null,null,null,null," ",null,1,1900]
[null,null,null,null,null,null,null,null," ",null,1,1900]
[null,null,null,null,null,null,null,null," ",null,1,1900]
[null,null,null,null,null,null,null,null," ",null,1,1900]
[null,null,null,null,null,null,null,null," ",null,1,1900]
[null,null,null,null,null,null,null,null," ",null,1,1900]
[null,null,null,null,null,null,null,null," ",null,1,1900]
[null,null,null,null,null,null,null,null," ",null,1,1900]
[null,null,null,null,null,null,null,null," ",null,1,1900]
[null,null,null,null,null,null,null,null," ",null,1,1900]
[null,null,null,null,null,null,null,null," ",null,1,1900]
[null,null,null,null,null,null,null,null," ",null,1,1900]
[null,null,null,null,null,null,null,null," ",null,1,1900]
[null,null,null,null,null,null,null,null," ",null,1,1900]
[null,null,null,null,null,null,null,null," ",null,1,1900]
[null,null,null,null,null,null,null,null," ",null,1,1900]
[null,null,null,null,null,null,null,null," ",null,1,1900]
[null,null,null,null,null,null,null,null," ",null,1,1900]
[null,null,null,null,null,null,null,null," ",null,1,1900]
[null,null,null,null,null,null,null,null,{"$f":"+IF(H37944=H37943,\" \",H37944)","v":" "},null,{"$f":"+MONTH(A37944)","v":1},{"$f":"+YEAR(A37944)","v":1900}]
[null,null,null,null,null,null,null,null," ",null,1,1900]
[null,null,null,null,null,null,null,null," ",null,1,1900]
[null,null,null,null,null,null,null,null," ",null,1,1900]
[null,null,null,null,null,null,null,null," ",null,1,1900]
[null,null,null,null,null,null,null,null," ",null,1,1900]
[null,null,null,null,null,null,null,null," ",null,1,1900]
[null,null,null,null,null,null,null,null," ",null,1,1900]
[null,null,null,null,null,null,null,null," ",null,1,1900]
[null,null,null,null,null,null,null,null," ",null,1,1900]
[null,null,null,null,null,null,null,null," ",null,1,1900]
[null,null,null,null,null,null,null,null," ",null,1,1900]
[null,null,null,null,null,null,null,null," ",null,1,1900]
[null,null,null,null,null,null,null,null," ",null,1,1900]
[null,null,null,null,null,null,null,null," ",null,1,1900]
[null,null,null,null,null,null,null,null," ",null,1,1900]
[null,null,null,null,null,null,null,null," ",null,1,1900]
[null,null,null,null,null,null,null,null," ",null,1,1900]
[null,null,null,null,null,null,null,null," ",null,1,1900]
[null,null,null,null,null,null,null,null," ",null,1,1900]
[null,null,null,null,null,null,null,null," ",null,1,1900]
[null,null,null,null,null,null,null,null," ",null,1,1900]
[null,null,null,null,null,null,null,null," ",null,1,1900]
[null,null,null,null,null,null,null,null," ",null,1,1900]
[null,null,null,null,null,null,null,null," ",null,1,1900]
[null,null,null,null,null,null,null,null," ",null,1,1900]
[null,null,null,null,null,null,null,null," ",null,1,1900]
[null,null,null,null,null,null,null,null," ",null,1,1900]
[null,null,null,null,null,null,null,null," ",null,1,1900]
[null,null,null,null,null,null,null,null," ",null,1,1900]
[null,null,null,null,null,null,null,null," ",null,1,1900]
[null,null,null,null,null,null,null,null," ",null,1,1900]
[null,null,null,null,null,null,null,null," ",null,1,1900]
[null,null,null,null,null,null,null,null," ",null,1,1900]
[null,null,null,null,null,null,null,null," ",null,1,1900]
[null,null,null,null,null,null,null,null," ",null,1,1900]
[null,null,null,null,null,null,null,null," ",null,1,1900]
[null,null,null,null,null,null,null,null," ",null,1,1900]
[null,null,null,null,null,null,null,null," ",null,1,1900]
[null,null,null,null,null,null,null,null," ",null,1,1900]
[null,null,null,null,null,null,null,null," ",null,1,1900]
[null,null,null,null,null,null,null,null," ",null,1,1900]
[null,null,null,null,null,null,null,null," ",null,1,1900]
[null,null,null,null,null,null,null,null," ",null,1,1900]
[null,null,null,null,null,null,null,null," ",null,1,1900]
[null,null,null,null,null,null,null,null," ",null,1,1900]
[null,null,null,null,null,null,null,null," ",null,1,1900]
[null,null,null,null,null,null,null,null," ",null,1,1900]
[null,null,null,null,null,null,null,null," ",null,1,1900]
[null,null,null,null,null,null,null,null," ",null,1,1900]
[null,null,null,null,null,null,null,null," ",null,1,1900]
[null,null,null,null,null,null,null,null," ",null,1,1900]
[null,null,null,null,null,null,null,null," ",null,1,1900]
[null,null,null,null,null,null,null,null," ",null,1,1900]
[null,null,null,null,null,null,null,null," ",null,1,1900]
[null,null,null,null,null,null,null,null," ",null,1,1900]
[null,null,null,null,null,null,null,null," ",null,1,1900]
[null,null,null,null,null,null,null,null," ",null,1,1900]
[null,null,null,null,null,null,null,null," ",null,1,1900]
[null,null,null,null,null,null,null,null,{"$f":"+IF(H39800=H39799,\" \",H39800)","v":" "},null,{"$f":"+MONTH(A39800)","v":1},{"$f":"+YEAR(A39800)","v":1900}]
[null,null,null,null,null,null,null,null," ",null,1,1900]
[null,null,null,null,null,null,null,null," ",null,1,1900]
[null,null,null,null,null,null,null,null," ",null,1,1900]
[null,null,null,null,null,null,null,null," ",null,1,1900]
[null,null,null,null,null,null,null,null," ",null,1,1900]
[null,null,null,null,null,null,null,null," ",null,1,1900]
[null,null,null,null,null,null,null,null," ",null,1,1900]
[null,null,null,null,null,null,null,null," ",null,1,1900]
[null,null,null,null,null,null,null,null," ",null,1,1900]
[null,null,null,null,null,null,null,null," ",null,1,1900]
[null,null,null,null,null,null,null,null," ",null,1,1900]
[null,null,null,null,null,null,null,null," ",null,1,1900]
[null,null,null,null,null,null,null,null," ",null,1,1900]
[null,null,null,null,null,null,null,null," ",null,1,1900]
[null,null,null,null,null,null,null,null," ",null,1,1900]
[null,null,null,null,null,null,null,null," ",null,1,1900]
[null,null,null,null,null,null,null,null," ",null,1,1900]
[null,null,null,null,null,null,null,null," ",null,1,1900]
[null,null,null,null,null,null,null,null," ",null,1,1900]
[null,null,null,null,null,null,null,null," ",null,1,1900]
[null,null,null,null,null,null,null,null," ",null,1,1900]
[null,null,null,null,null,null,null,null," ",null,1,1900]
[null,null,null,null,null,null,null,null," ",null,1,1900]
[null,null,null,null,null,null,null,null," ",null,1,1900]
[null,null,null,null,null,null,null,null," ",null,1,1900]
[null,null,null,null,null,null,null,null," ",null,1,1900]
[null,null,null,null,null,null,null,null," ",null,1,1900]
[null,null,null,null,null,null,null,null," ",null,1,1900]
[null,null,null,null,null,null,null,null," ",null,1,1900]
[null,null,null,null,null,null,null,null," ",null,1,1900]
[null,null,null,null,null,null,null,null," ",null,1,1900]
[null,null,null,null,null,null,null,null," ",null,1,1900]
[null,null,null,null,null,null,null,null," ",null,1,1900]
[null,null,null,null,null,null,null,null,{"$f":"+IF(H40888=H40887,\" \",H40888)","v":" "},null,{"$f":"+MONTH(A40888)","v":1},{"$f":"+YEAR(A40888)","v":1900}]
[null,null,null,null,null,null,null,null," ",null,1,1900]
[null,null,null,null,null,null,null,null," ",null,1,1900]
[null,null,null,null,null,null,null,null," ",null,1,1900]
[null,null,null,null,null,null,null,null," ",null,1,1900]
[null,null,null,null,null,null,null,null," ",null,1,1900]
[null,null,null,null,null,null,null,null," ",null,1,1900]
[null,null,null,null,null,null,null,null," ",null,1,1900]
[null,null,null,null,null,null,null,null," ",null,1,1900]
[null,null,null,null,null,null,null,null," ",null,1,1900]
[null,null,null,null,null,null,null,null," ",null,1,1900]
[null,null,null,null,null,null,null,null," ",null,1,1900]
[null,null,null,null,null,null,null,null," ",null,1,1900]
[null,null,null,null,null,null,null,null," ",null,1,1900]
[null,null,null,null,null,null,null,null," ",null,1,1900]
[null,null,null,null,null,null,null,null," ",null,1,1900]
[null,null,null,null,null,null,null,null," ",null,1,1900]
[null,null,null,null,null,null,null,null," ",null,1,1900]
[null,null,null,null,null,null,null,null," ",null,1,1900]
[null,null,null,null,null,null,null,null," ",null,1,1900]
[null,null,null,null,null,null,null,null," ",null,1,1900]
[null,null,null,null,null,null,null,null," ",null,1,1900]
[null,null,null,null,null,null,null,null," ",null,1,1900]
[null,null,null,null,null,null,null,null," ",null,1,1900]
[null,null,null,null,null,null,null,null," ",null,1,1900]
[null,null,null,null,null,null,null,null," ",null,1,1900]
[null,null,null,null,null,null,null,null," ",null,1,1900]
[null,null,null,null,null,null,null,null," ",null,1,1900]
[null,null,null,null,null,null,null,null," ",null,1,1900]
[null,null,null,null,null,null,null,null," ",null,1,1900]
[null,null,null,null,null,null,null,null," ",null,1,1900]
[null,null,null,null,null,null,null,null,{"$f":"+IF(H41848=H41847,\" \",H41848)","v":" "},null,{"$f":"+MONTH(A41848)","v":1},{"$f":"+YEAR(A41848)","v":1900}]
[null,null,null,null,null,null,null,null," ",null,1,1900]
[null,null,null,null,null,null,null,null," ",null,1,1900]
[null,null,null,null,null,null,null,null," ",null,1,1900]
[null,null,null,null,null,null,null,null," ",null,1,1900]
[null,null,null,null,null,null,null,null," ",null,1,1900]
[null,null,null,null,null,null,null,null," ",null,1,1900]
[null,null,null,null,null,null,null,null," ",null,1,1900]
[null,null,null,null,null,null,null,null," ",null,1,1900]
[null,null,null,null,null,null,null,null," ",null,1,1900]
[null,null,null,null,null,null,null,null," ",null,1,1900]
[null,null,null,null,null,null,null,null," ",null,1,1900]
[null,null,null,null,null,null,null,null," ",null,1,1900]
[null,null,null,null,null,null,null,null," ",null,1,1900]
[null,null,null,null,null,null,null,null," ",null,1,1900]
[null,null,null,null,null,null,null,null," ",null,1,1900]
[null,null,null,null,null,null,null,null," ",null,1,1900]
[null,null,null,null,null,null,null,null," ",null,1,1900]
[null,null,null,null,null,null,null,null," ",null,1,1900]
[null,null,null,null,null,null,null,null," ",null,1,1900]
[null,null,null,null,null,null,null,null," ",null,1,1900]
[null,null,null,null,null,null,null,null," ",null,1,1900]
[null,null,null,null,null,null,null,null," ",null,1,1900]
[null,null,null,null,null,null,null,null," ",null,1,1900]
[null,null,null,null,null,null,null,null," ",null,1,1900]
[null,null,null,null,null,null,null,null," ",null,1,1900]
[null,null,null,null,null,null,null,null," ",null,1,1900]
[null,null,null,null,null,null,null,null," ",null,1,1900]
[null,null,null,null,null,null,null,null," ",null,1,1900]
[null,null,null,null,null,null,null,null," ",null,1,1900]
[null,null,null,null,null,null,null,null," ",null,1,1900]
[null,null,null,null,null,null,null,null," ",null,1,1900]
[null,null,null,null,null,null,null,null," ",null,1,1900]
[null,null,null,null,null,null,null,null," ",null,1,1900]
[null,null,null,null,null,null,null,null," ",null,1,1900]
[null,null,null,null,null,null,null,null," ",null,1,1900]
[null,null,null,null,null,null,null,null," ",null,1,1900]
[null,null,null,null,null,null,null,null," ",null,1,1900]
[null,null,null,null,null,null,null,null," ",null,1,1900]
[null,null,null,null,null,null,null,null," ",null,1,1900]
[null,null,null,null,null,null,null,null," ",null,1,1900]
[null,null,null,null,null,null,null,null," ",null,1,1900]
[null,null,null,null,null,null,null,null," ",null,1,1900]
[null,null,null,null,null,null,null,null," ",null,1,1900]
[null,null,null,null,null,null,null,null," ",null,1,1900]
[null,null,null,null,null,null,null,null," ",null,1,1900]
[null,null,null,null,null,null,null,null," ",null,1,1900]
[null,null,null,null,null,null,null,null," ",null,1,1900]
[null,null,null,null,null,null,null,null," ",null,1,1900]
[null,null,null,null,null,null,null,null," ",null,1,1900]
[null,null,null,null,null,null,null,null," ",null,1,1900]
[null,null,null,null,null,null,null,null," ",null,1,1900]
[null,null,null,null,null,null,null,null," ",null,1,1900]
[null,null,null,null,null,null,null,null," ",null,1,1900]
[null,null,null,null,null,null,null,null," ",null,1,1900]
[null,null,null,null,null,null,null,null," ",null,1,1900]
[null,null,null,null,null,null,null,null," ",null,1,1900]
[null,null,null,null,null,null,null,null," ",null,1,1900]
[null,null,null,null,null,null,null,null," ",null,1,1900]
[null,null,null,null,null,null,null,null," ",null,1,1900]
[null,null,null,null,null,null,null,null," ",null,1,1900]
[null,null,null,null,null,null,null,null," ",null,1,1900]
[null,null,null,null,null,null,null,null," ",null,1,1900]
[null,null,null,null,null,null,null,null,{"$f":"+IF(H43832=H43831,\" \",H43832)","v":" "},null,{"$f":"+MONTH(A43832)","v":1},{"$f":"+YEAR(A43832)","v":1900}]
[null,null,null,null,null,null,null,null," ",null,1,1900]
[null,null,null,null,null,null,null,null," ",null,1,1900]
[null,null,null,null,null,null,null,null," ",null,1,1900]
[null,null,null,null,null,null,null,null," ",null,1,1900]
[null,null,null,null,null,null,null,null," ",null,1,1900]
[null,null,null,null,null,null,null,null," ",null,1,1900]
[null,null,null,null,null,null,null,null," ",null,1,1900]
[null,null,null,null,null,null,null,null," ",null,1,1900]
[null,null,null,null,null,null,null,null," ",null,1,1900]
[null,null,null,null,null,null,null,null," ",null,1,1900]
[null,null,null,null,null,null,null,null," ",null,1,1900]
[null,null,null,null,null,null,null,null," ",null,1,1900]
[null,null,null,null,null,null,null,null," ",null,1,1900]
[null,null,null,null,null,null,null,null," ",null,1,1900]
[null,null,null,null,null,null,null,null," ",null,1,1900]
[null,null,null,null,null,null,null,null," ",null,1,1900]
[null,null,null,null,null,null,null,null," ",null,1,1900]
[null,null,null,null,null,null,null,null," ",null,1,1900]
[null,null,null,null,null,null,null,null," ",null,1,1900]
[null,null,null,null,null,null,null,null," ",null,1,1900]
[null,null,null,null,null,null,null,null," ",null,1,1900]
[null,null,null,null,null,null,null,null," ",null,1,1900]
[null,null,null,null,null,null,null,null," ",null,1,1900]
[null,null,null,null,null,null,null,null," ",null,1,1900]
[null,null,null,null,null,null,null,null," ",null,1,1900]
[null,null,null,null,null,null,null,null," ",null,1,1900]
[null,null,null,null,null,null,null,null," ",null,1,1900]
[null,null,null,null,null,null,null,null," ",null,1,1900]
[null,null,null,null,null,null,null,null," ",null,1,1900]
[null,null,null,null,null,null,null,null,{"$f":"+IF(H44792=H44791,\" \",H44792)","v":" "},null,{"$f":"+MONTH(A44792)","v":1},{"$f":"+YEAR(A44792)","v":1900}]
[null,null,null,null,null,null,null,null," ",null,1,1900]
[null,null,null,null,null,null,null,null," ",null,1,1900]
[null,null,null,null,null,null,null,null," ",null,1,1900]
[null,null,null,null,null,null,null,null," ",null,1,1900]
[null,null,null,null,null,null,null,null," ",null,1,1900]
[null,null,null,null,null,null,null,null," ",null,1,1900]
[null,null,null,null,null,null,null,null," ",null,1,1900]
[null,null,null,null,null,null,null,null," ",null,1,1900]
[null,null,null,null,null,null,null,null," ",null,1,1900]
[null,null,null,null,null,null,null,null," ",null,1,1900]
[null,null,null,null,null,null,null,null," ",null,1,1900]
[null,null,null,null,null,null,null,null," ",null,1,1900]
[null,null,null,null,null,null,null,null," ",null,1,1900]
[null,null,null,null,null,null,null,null," ",null,1,1900]
[null,null,null,null,null,null,null,null," ",null,1,1900]
[null,null,null,null,null,null,null,null," ",null,1,1900]
[null,null,null,null,null,null,null,null," ",null,1,1900]
[null,null,null,null,null,null,null,null," ",null,1,1900]
[null,null,null,null,null,null,null,null," ",null,1,1900]
[null,null,null,null,null,null,null,null," ",null,1,1900]
[null,null,null,null,null,null,null,null," ",null,1,1900]
[null,null,null,null,null,null,null,null," ",null,1,1900]
[null,null,null,null,null,null,null,null," ",null,1,1900]
[null,null,null,null,null,null,null,null," ",null,1,1900]
[null,null,null,null,null,null,null,null," ",null,1,1900]
[null,null,null,null,null,null,null,null," ",null,1,1900]
[null,null,null,null,null,null,null,null," ",null,1,1900]
[null,null,null,null,null,null,null,null," ",null,1,1900]
[null,null,null,null,null,null,null,null," ",null,1,1900]
[null,null,null,null,null,null,null,null," ",null,1,1900]
[null,null,null,null,null,null,null,null,{"$f":"+IF(H45752=H45751,\" \",H45752)","v":" "},null,{"$f":"+MONTH(A45752)","v":1},{"$f":"+YEAR(A45752)","v":1900}]
[null,null,null,null,null,null,null,null," ",null,1,1900]
[null,null,null,null,null,null,null,null," ",null,1,1900]
[null,null,null,null,null,null,null,null," ",null,1,1900]
[null,null,null,null,null,null,null,null," ",null,1,1900]
[null,null,null,null,null,null,null,null," ",null,1,1900]
[null,null,null,null,null,null,null,null," ",null,1,1900]
[null,null,null,null,null,null,null,null," ",null,1,1900]
[null,null,null,null,null,null,null,null," ",null,1,1900]
[null,null,null,null,null,null,null,null," ",null,1,1900]
[null,null,null,null,null,null,null,null," ",null,1,1900]
[null,null,null,null,null,null,null,null," ",null,1,1900]
[null,null,null,null,null,null,null,null," ",null,1,1900]
[null,null,null,null,null,null,null,null," ",null,1,1900]
[null,null,null,null,null,null,null,null," ",null,1,1900]
[null,null,null,null,null,null,null,null," ",null,1,1900]
[null,null,null,null,null,null,null,null," ",null,1,1900]
[null,null,null,null,null,null,null,null," ",null,1,1900]
[null,null,null,null,null,null,null,null," ",null,1,1900]
[null,null,null,null,null,null,null,null," ",null,1,1900]
[null,null,null,null,null,null,null,null," ",null,1,1900]
[null,null,null,null,null,null,null,null," ",null,1,1900]
[null,null,null,null,null,null,null,null," ",null,1,1900]
[null,null,null,null,null,null,null,null," ",null,1,1900]
[null,null,null,null,null,null,null,null," ",null,1,1900]
[null,null,null,null,null,null,null,null," ",null,1,1900]
[null,null,null,null,null,null,null,null," ",null,1,1900]
[null,null,null,null,null,null,null,null," ",null,1,1900]
[null,null,null,null,null,null,null,null," ",null,1,1900]
[null,null,null,null,null,null,null,null," ",null,1,1900]
[null,null,null,null,null,null,null,null," ",null,1,1900]
[null,null,null,null,null,null,null,null," ",null,1,1900]
[null,null,null,null,null,null,null,null," ",null,1,1900]
[null,null,null,null,null,null,null,null," ",null,1,1900]
[null,null,null,null,null,null,null,null," ",null,1,1900]
[null,null,null,null,null,null,null,null," ",null,1,1900]
[null,null,null,null,null,null,null,null," ",null,1,1900]
[null,null,null,null,null,null,null,null," ",null,1,1900]
[null,null,null,null,null,null,null,null," ",null,1,1900]
[null,null,null,null,null,null,null,null," ",null,1,1900]
[null,null,null,null,null,null,null,null," ",null,1,1900]
[null,null,null,null,null,null,null,null," ",null,1,1900]
[null,null,null,null,null,null,null,null," ",null,1,1900]
[null,null,null,null,null,null,null,null," ",null,1,1900]
[null,null,null,null,null,null,null,null," ",null,1,1900]
[null,null,null,null,null,null,null,null," ",null,1,1900]
[null,null,null,null,null,null,null,null," ",null,1,1900]
[null,null,null,null,null,null,null,null," ",null,1,1900]
[null,null,null,null,null,null,null,null," ",null,1,1900]
[null,null,null,null,null,null,null,null," ",null,1,1900]
[null,null,null,null,null,null,null,null," ",null,1,1900]
[null,null,null,null,null,null,null,null," ",null,1,1900]
[null,null,null,null,null,null,null,null," ",null,1,1900]
[null,null,null,null,null,null,null,null," ",null,1,1900]
[null,null,null,null,null,null,null,null," ",null,1,1900]
[null,null,null,null,null,null,null,null," ",null,1,1900]
[null,null,null,null,null,null,null,null," ",null,1,1900]
[null,null,null,null,null,null,null,null," ",null,1,1900]
[null,null,null,null,null,null,null,null," ",null,1,1900]
[null,null,null,null,null,null,null,null," ",null,1,1900]
[null,null,null,null,null,null,null,null," ",null,1,1900]
[null,null,null,null,null,null,null,null," ",null,1,1900]
[null,null,null,null,null,null,null,null," ",null,1,1900]
[null,null,null,null,null,null,null,null," ",null,1,1900]
[null,null,null,null,null,null,null,null," ",null,1,1900]
[null,null,null,null,null,null,null,null," ",null,1,1900]
[null,null,null,null,null,null,null,null," ",null,1,1900]
[null,null,null,null,null,null,null,null," ",null,1,1900]
[null,null,null,null,null,null,null,null," ",null,1,1900]
[null,null,null,null,null,null,null,null," ",null,1,1900]
[null,null,null,null,null,null,null,null," ",null,1,1900]
[null,null,null,null,null,null,null,null," ",null,1,1900]
[null,null,null,null,null,null,null,null," ",null,1,1900]
[null,null,null,null,null,null,null,null," ",null,1,1900]
[null,null,null,null,null,null,null,null," ",null,1,1900]
[null,null,null,null,null,null,null,null," ",null,1,1900]
[null,null,null,null,null,null,null,null," ",null,1,1900]
[null,null,null,null,null,null,null,null," ",null,1,1900]
[null,null,null,null,null,null,null,null," ",null,1,1900]
[null,null,null,null,null,null,null,null," ",null,1,1900]
[null,null,null,null,null,null,null,null," ",null,1,1900]
[null,null,null,null,null,null,null,null," ",null,1,1900]
[null,null,null,null,null,null,null,null," ",null,1,1900]
[null,null,null,null,null,null,null,null," ",null,1,1900]
[null,null,null,null,null,null,null,null," ",null,1,1900]
[null,null,null,null,null,null,null,null," ",null,1,1900]
[null,null,null,null,null,null,null,null," ",null,1,1900]
[null,null,null,null,null,null,null,null," ",null,1,1900]
[null,null,null,null,null,null,null,null," ",null,1,1900]
[null,null,null,null,null,null,null,null," ",null,1,1900]
[null,null,null,null,null,null,null,null," ",null,1,1900]
[null,null,null,null,null,null,null,null," ",null,1,1900]
[null,null,null,null,null,null,null,null," ",null,1,1900]
[null,null,null,null,null,null,null,null," ",null,1,1900]
[null,null,null,null,null,null,null,null," ",null,1,1900]
[null,null,null,null,null,null,null,null," ",null,1,1900]
[null,null,null,null,null,null,null,null," ",null,1,1900]
[null,null,null,null,null,null,null,null," ",null,1,1900]
[null,null,null,null,null,null,null,null," ",null,1,1900]
[null,null,null,null,null,null,null,null," ",null,1,1900]
[null,null,null,null,null,null,null,null," ",null,1,1900]
[null,null,null,null,null,null,null,null," ",null,1,1900]
[null,null,null,null,null,null,null,null," ",null,1,1900]
[null,null,null,null,null,null,null,null," ",null,1,1900]
[null,null,null,null,null,null,null,null," ",null,1,1900]
[null,null,null,null,null,null,null,null," ",null,1,1900]
[null,null,null,null,null,null,null,null," ",null,1,1900]
[null,null,null,null,null,null,null,null," ",null,1,1900]
[null,null,null,null,null,null,null,null," ",null,1,1900]
[null,null,null,null,null,null,null,null," ",null,1,1900]
[null,null,null,null,null,null,null,null," ",null,1,1900]
[null,null,null,null,null,null,null,null," ",null,1,1900]
[null,null,null,null,null,null,null,null," ",null,1,1900]
[null,null,null,null,null,null,null,null," ",null,1,1900]
[null,null,null,null,null,null,null,null," ",null,1,1900]
[null,null,null,null,null,null,null,null," ",null,1,1900]
[null,null,null,null,null,null,null,null," ",null,1,1900]
[null,null,null,null,null,null,null,null," ",null,1,1900]
[null,null,null,null,null,null,null,null," ",null,1,1900]
[null,null,null,null,null,null,null,null," ",null,1,1900]
[null,null,null,null,null,null,null,null," ",null,1,1900]
[null,null,null,null,null,null,null,null," ",null,1,1900]
[null,null,null,null,null,null,null,null," ",null,1,1900]
[null,null,null,null,null,null,null,null," ",null,1,1900]
[null,null,null,null,null,null,null,null," ",null,1,1900]
[null,null,null,null,null,null,null,null," ",null,1,1900]
[null,null,null,null,null,null,null,null," ",null,1,1900]
[null,null,null,null,null,null,null,null," ",null,1,1900]
[null,null,null,null,null,null,null,null," ",null,1,1900]
[null,null,null,null,null,null,null,null," ",null,1,1900]
[null,null,null,null,null,null,null,null," ",null,1,1900]
[null,null,null,null,null,null,null,null," ",null,1,1900]
[null,null,null,null,null,null,null,null," ",null,1,1900]
[null,null,null,null,null,null,null,null," ",null,1,1900]
[null,null,null,null,null,null,null,null," ",null,1,1900]
[null,null,null,null,null,null,null,null," ",null,1,1900]
[null,null,null,null,null,null,null,null," ",null,1,1900]
[null,null,null,null,null,null,null,null," ",null,1,1900]
[null,null,null,null,null,null,null,null," ",null,1,1900]
[null,null,null,null,null,null,null,null," ",null,1,1900]
[null,null,null,null,null,null,null,null," ",null,1,1900]
[null,null,null,null,null,null,null,null," ",null,1,1900]
[null,null,null,null,null,null,null,null," ",null,1,1900]
[null,null,null,null,null,null,null,null," ",null,1,1900]
[null,null,null,null,null,null,null,null," ",null,1,1900]
[null,null,null,null,null,null,null,null," ",null,1,1900]
[null,null,null,null,null,null,null,null," ",null,1,1900]
[null,null,null,null,null,null,null,null," ",null,1,1900]
[null,null,null,null,null,null,null,null," ",null,1,1900]
[null,null,null,null,null,null,null,null," ",null,1,1900]
[null,null,null,null,null,null,null,null," ",null,1,1900]
[null,null,null,null,null,null,null,null," ",null,1,1900]
[null,null,null,null,null,null,null,null," ",null,1,1900]
[null,null,null,null,null,null,null,null," ",null,1,1900]
[null,null,null,null,null,null,null,null," ",null,1,1900]
[null,null,null,null,null,null,null,null," ",null,1,1900]
[null,null,null,null,null,null,null,null," ",null,1,1900]
[null,null,null,null,null,null,null,null," ",null,1,1900]
[null,null,null,null,null,null,null,null," ",null,1,1900]
[null,null,null,null,null,null,null,null," ",null,1,1900]
[null,null,null,null,null,null,null,null," ",null,1,1900]
[null,null,null,null,null,null,null,null," ",null,1,1900]
[null,null,null,null,null,null,null,null," ",null,1,1900]
[null,null,null,null,null,null,null,null," ",null,1,1900]
[null,null,null,null,null,null,null,null," ",null,1,1900]
[null,null,null,null,null,null,null,null," ",null,1,1900]
[null,null,null,null,null,null,null,null," ",null,1,1900]
[null,null,null,null,null,null,null,null," ",null,1,1900]
[null,null,null,null,null,null,null,null," ",null,1,1900]
[null,null,null,null,null,null,null,null," ",null,1,1900]
[null,null,null,null,null,null,null,null," ",null,1,1900]
[null,null,null,null,null,null,null,null," ",null,1,1900]
[null,null,null,null,null,null,null,null," ",null,1,1900]
[null,null,null,null,null,null,null,null," ",null,1,1900]
[null,null,null,null,null,null,null,null," ",null,1,1900]
[null,null,null,null,null,null,null,null," ",null,1,1900]
[null,null,null,null,null,null,null,null," ",null,1,1900]
[null,null,null,null,null,null,null,null," ",null,1,1900]
[null,null,null,null,null,null,null,null," ",null,1,1900]
[null,null,null,null,null,null,null,null," ",null,1,1900]
[null,null,null,null,null,null,null,null," ",null,1,1900]
[null,null,null,null,null,null,null,null," ",null,1,1900]
[null,null,null,null,null,null,null,null," ",null,1,1900]
[null,null,null,null,null,null,null,null," ",null,1,1900]
[null,null,null,null,null,null,null,null," ",null,1,1900]
[null,null,null,null,null,null,null,null," ",null,1,1900]
[null,null,null,null,null,null,null,null," ",null,1,1900]
[null,null,null,null,null,null,null,null," ",null,1,1900]
[null,null,null,null,null,null,null,null," ",null,1,1900]
[null,null,null,null,null,null,null,null," ",null,1,1900]
[null,null,null,null,null,null,null,null," ",null,1,1900]
[null,null,null,null,null,null,null,null," ",null,1,1900]
[null,null,null,null,null,null,null,null," ",null,1,1900]
[null,null,null,null,null,null,null,null," ",null,1,1900]
[null,null,null,null,null,null,null,null," ",null,1,1900]
[null,null,null,null,null,null,null,null," ",null,1,1900]
[null,null,null,null,null,null,null,null," ",null,1,1900]
[null,null,null,null,null,null,null,null," ",null,1,1900]
[null,null,null,null,null,null,null,null," ",null,1,1900]
[null,null,null,null,null,null,null,null," ",null,1,1900]
[null,null,null,null,null,null,null,null," ",null,1,1900]
[null,null,null,null,null,null,null,null," ",null,1,1900]
[null,null,null,null,null,null,null,null," ",null,1,1900]
[null,null,null,null,null,null,null,null," ",null,1,1900]
[null,null,null,null,null,null,null,null," ",null,1,1900]
[null,null,null,null,null,null,null,null," ",null,1,1900]
[null,null,null,null,null,null,null,null," ",null,1,1900]
[null,null,null,null,null,null,null,null," ",null,1,1900]
[null,null,null,null,null,null,null,null," ",null,1,1900]
[null,null,null,null,null,null,null,null," ",null,1,1900]
[null,null,null,null,null,null,null,null," ",null,1,1900]
[null,null,null,null,null,null,null,null,{"$f":"+IF(H52408=H52407,\" \",H52408)","v":" "},null,{"$f":"+MONTH(A52408)","v":1},{"$f":"+YEAR(A52408)","v":1900}]
[null,null,null,null,null,null,null,null," ",null,1,1900]
[null,null,null,null,null,null,null,null," ",null,1,1900]
[null,null,null,null,null,null,null,null," ",null,1,1900]
[null,null,null,null,null,null,null,null," ",null,1,1900]
[null,null,null,null,null,null,null,null," ",null,1,1900]
[null,null,null,null,null,null,null,null," ",null,1,1900]
[null,null,null,null,null,null,null,null," ",null,1,1900]
[null,null,null,null,null,null,null,null," ",null,1,1900]
[null,null,null,null,null,null,null,null," ",null,1,1900]
[null,null,null,null,null,null,null,null," ",null,1,1900]
[null,null,null,null,null,null,null,null," ",null,1,1900]
[null,null,null,null,null,null,null,null," ",null,1,1900]
[null,null,null,null,null,null,null,null," ",null,1,1900]
[null,null,null,null,null,null,null,null," ",null,1,1900]
[null,null,null,null,null,null,null,null," ",null,1,1900]
[null,null,null,null,null,null,null,null," ",null,1,1900]
[null,null,null,null,null,null,null,null," ",null,1,1900]
[null,null,null,null,null,null,null,null," ",null,1,1900]
[null,null,null,null,null,null,null,null," ",null,1,1900]
[null,null,null,null,null,null,null,null," ",null,1,1900]
[null,null,null,null,null,null,null,null," ",null,1,1900]
[null,null,null,null,null,null,null,null," ",null,1,1900]
[null,null,null,null,null,null,null,null," ",null,1,1900]
[null,null,null,null,null,null,null,null," ",null,1,1900]
[null,null,null,null,null,null,null,null," ",null,1,1900]
[null,null,null,null,null,null,null,null," ",null,1,1900]
[null,null,null,null,null,null,null,null," ",null,1,1900]
[null,null,null,null,null,null,null,null," ",null,1,1900]
[null,null,null,null,null,null,null,null," ",null,1,1900]
[null,null,null,null,null,null,null,null," ",null,1,1900]
[null,null,null,null,null,null,null,null," ",null,1,1900]
[null,null,null,null,null,null,null,null," ",null,1,1900]
[null,null,null,null,null,null,null,null," ",null,1,1900]
[null,null,null,null,null,null,null,null," ",null,1,1900]
[null,null,null,null,null,null,null,null," ",null,1,1900]
[null,null,null,null,null,null,null,null," ",null,1,1900]
[null,null,null,null,null,null,null,null," ",null,1,1900]
[null,null,null,null,null,null,null,null," ",null,1,1900]
[null,null,null,null,null,null,null,null," ",null,1,1900]
[null,null,null,null,null,null,null,null," ",null,1,1900]
[null,null,null,null,null,null,null,null," ",null,1,1900]
[null,null,null,null,null,null,null,null," ",null,1,1900]
[null,null,null,null,null,null,null,null," ",null,1,1900]
[null,null,null,null,null,null,null,null," ",null,1,1900]
[null,null,null,null,null,null,null,null," ",null,1,1900]
[null,null,null,null,null,null,null,null," ",null,1,1900]
[null,null,null,null,null,null,null,null," ",null,1,1900]
[null,null,null,null,null,null,null,null," ",null,1,1900]
[null,null,null,null,null,null,null,null," ",null,1,1900]
[null,null,null,null,null,null,null,null," ",null,1,1900]
[null,null,null,null,null,null,null,null," ",null,1,1900]
[null,null,null,null,null,null,null,null," ",null,1,1900]
[null,null,null,null,null,null,null,null," ",null,1,1900]
[null,null,null,null,null,null,null,null," ",null,1,1900]
[null,null,null,null,null,null,null,null," ",null,1,1900]
[null,null,null,null,null,null,null,null," ",null,1,1900]
[null,null,null,null,null,null,null,null," ",null,1,1900]
[null,null,null,null,null,null,null,null," ",null,1,1900]
[null,null,null,null,null,null,null,null," ",null,1,1900]
[null,null,null,null,null,null,null,null," ",null,1,1900]
[null,null,null,null,null,null,null,null," ",null,1,1900]
[null,null,null,null,null,null,null,null," ",null,1,1900]
[null,null,null,null,null,null,null,null," ",null,1,1900]
[null,null,null,null,null,null,null,null," ",null,1,1900]
[null,null,null,null,null,null,null,null," ",null,1,1900]
[null,null,null,null,null,null,null,null," ",null,1,1900]
[null,null,null,null,null,null,null,null," ",null,1,1900]
[null,null,null,null,null,null,null,null," ",null,1,1900]
[null,null,null,null,null,null,null,null," ",null,1,1900]
[null,null,null,null,null,null,null,null," ",null,1,1900]
[null,null,null,null,null,null,null,null," ",null,1,1900]
[null,null,null,null,null,null,null,null," ",null,1,1900]
[null,null,null,null,null,null,null,null," ",null,1,1900]
[null,null,null,null,null,null,null,null," ",null,1,1900]
[null,null,null,null,null,null,null,null," ",null,1,1900]
[null,null,null,null,null,null,null,null," ",null,1,1900]
[null,null,null,null,null,null,null,null," ",null,1,1900]
[null,null,null,null,null,null,null,null," ",null,1,1900]
[null,null,null,null,null,null,null,null," ",null,1,1900]
[null,null,null,null,null,null,null,null," ",null,1,1900]
[null,null,null,null,null,null,null,null," ",null,1,1900]
[null,null,null,null,null,null,null,null," ",null,1,1900]
[null,null,null,null,null,null,null,null," ",null,1,1900]
[null,null,null,null,null,null,null,null," ",null,1,1900]
[null,null,null,null,null,null,null,null," ",null,1,1900]
[null,null,null,null,null,null,null,null," ",null,1,1900]
[null,null,null,null,null,null,null,null," ",null,1,1900]
[null,null,null,null,null,null,null,null," ",null,1,1900]
[null,null,null,null,null,null,null,null," ",null,1,1900]
[null,null,null,null,null,null,null,null," ",null,1,1900]
[null,null,null,null,null,null,null,null," ",null,1,1900]
[null,null,null,null,null,null,null,null," ",null,1,1900]
[null,null,null,null,null,null,null,null," ",null,1,1900]
[null,null,null,null,null,null,null,null," ",null,1,1900]
[null,null,null,null,null,null,null,null," ",null,1,1900]
[null,null,null,null,null,null,null,null," ",null,1,1900]
[null,null,null,null,null,null,null,null,{"$f":"+IF(H55480=H55479,\" \",H55480)","v":" "},null,{"$f":"+MONTH(A55480)","v":1},{"$f":"+YEAR(A55480)","v":1900}]
[null,null,null,null,null,null,null,null," ",null,1,1900]
[null,null,null,null,null,null,null,null," ",null,1,1900]
[null,null,null,null,null,null,null,null," ",null,1,1900]
[null,null,null,null,null,null,null,null," ",null,1,1900]
[null,null,null,null,null,null,null,null," ",null,1,1900]
[null,null,null,null,null,null,null,null," ",null,1,1900]
[null,null,null,null,null,null,null,null," ",null,1,1900]
[null,null,null,null,null,null,null,null," ",null,1,1900]
[null,null,null,null,null,null,null,null," ",null,1,1900]
[null,null,null,null,null,null,null,null," ",null,1,1900]
[null,null,null,null,null,null,null,null," ",null,1,1900]
[null,null,null,null,null,null,null,null," ",null,1,1900]
[null,null,null,null,null,null,null,null," ",null,1,1900]
[null,null,null,null,null,null,null,null," ",null,1,1900]
[null,null,null,null,null,null,null,null," ",null,1,1900]
[null,null,null,null,null,null,null,null," ",null,1,1900]
[null,null,null,null,null,null,null,null," ",null,1,1900]
[null,null,null,null,null,null,null,null," ",null,1,1900]
[null,null,null,null,null,null,null,null," ",null,1,1900]
[null,null,null,null,null,null,null,null," ",null,1,1900]
[null,null,null,null,null,null,null,null," ",null,1,1900]
[null,null,null,null,null,null,null,null," ",null,1,1900]
[null,null,null,null,null,null,null,null," ",null,1,1900]
[null,null,null,null,null,null,null,null," ",null,1,1900]
[null,null,null,null,null,null,null,null," ",null,1,1900]
[null,null,null,null,null,null,null,null," ",null,1,1900]
[null,null,null,null,null,null,null,null," ",null,1,1900]
[null,null,null,null,null,null,null,null," ",null,1,1900]
[null,null,null,null,null,null,null,null," ",null,1,1900]
[null,null,null,null,null,null,null,null," ",null,1,1900]
[null,null,null,null,null,null,null,null,{"$f":"+IF(H56440=H56439,\" \",H56440)","v":" "},null,{"$f":"+MONTH(A56440)","v":1},{"$f":"+YEAR(A56440)","v":1900}]
[null,null,null,null,null,null,null,null," ",null,1,1900]
[null,null,null,null,null,null,null,null," ",null,1,1900]
[null,null,null,null,null,null,null,null," ",null,1,1900]
[null,null,null,null,null,null,null,null," ",null,1,1900]
[null,null,null,null,null,null,null,null," ",null,1,1900]
[null,null,null,null,null,null,null,null," ",null,1,1900]
[null,null,null,null,null,null,null,null," ",null,1,1900]
[null,null,null,null,null,null,null,null," ",null,1,1900]
[null,null,null,null,null,null,null,null," ",null,1,1900]
[null,null,null,null,null,null,null,null," ",null,1,1900]
[null,null,null,null,null,null,null,null," ",null,1,1900]
[null,null,null,null,null,null,null,null," ",null,1,1900]
[null,null,null,null,null,null,null,null," ",null,1,1900]
[null,null,null,null,null,null,null,null," ",null,1,1900]
[null,null,null,null,null,null,null,null," ",null,1,1900]
[null,null,null,null,null,null,null,null," ",null,1,1900]
[null,null,null,null,null,null,null,null," ",null,1,1900]
[null,null,null,null,null,null,null,null," ",null,1,1900]
[null,null,null,null,null,null,null,null," ",null,1,1900]
[null,null,null,null,null,null,null,null," ",null,1,1900]
[null,null,null,null,null,null,null,null," ",null,1,1900]
[null,null,null,null,null,null,null,null," ",null,1,1900]
[null,null,null,null,null,null,null,null," ",null,1,1900]
[null,null,null,null,null,null,null,null," ",null,1,1900]
[null,null,null,null,null,null,null,null," ",null,1,1900]
[null,null,null,null,null,null,null,null," ",null,1,1900]
[null,null,null,null,null,null,null,null," ",null,1,1900]
[null,null,null,null,null,null,null,null," ",null,1,1900]
[null,null,null,null,null,null,null,null," ",null,1,1900]
[null,null,null,null,null,null,null,null," ",null,1,1900]
[null,null,null,null,null,null,null,null," ",null,1,1900]
[null,null,null,null,null,null,null,null," ",null,1,1900]
[null,null,null,null,null,null,null,null," ",null,1,1900]
[null,null,null,null,null,null,null,null," ",null,1,1900]
[null,null,null,null,null,null,null,null," ",null,1,1900]
[null,null,null,null,null,null,null,null," ",null,1,1900]
[null,null,null,null,null,null,null,null," ",null,1,1900]
[null,null,null,null,null,null,null,null," ",null,1,1900]
[null,null,null,null,null,null,null,null," ",null,1,1900]
[null,null,null,null,null,null,null,null," ",null,1,1900]
[null,null,null,null,null,null,null,null," ",null,1,1900]
[null,null,null,null,null,null,null,null," ",null,1,1900]
[null,null,null,null,null,null,null,null," ",null,1,1900]
[null,null,null,null,null,null,null,null," ",null,1,1900]
[null,null,null,null,null,null,null,null," ",null,1,1900]
[null,null,null,null,null,null,null,null," ",null,1,1900]
[null,null,null,null,null,null,null,null," ",null,1,1900]
[null,null,null,null,null,null,null,null," ",null,1,1900]
[null,null,null,null,null,null,null,null," ",null,1,1900]
[null,null,null,null,null,null,null,null," ",null,1,1900]
[null,null,null,null,null,null,null,null," ",null,1,1900]
[null,null,null,null,null,null,null,null," ",null,1,1900]
[null,null,null,null,null,null,null,null," ",null,1,1900]
[null,null,null,null,null,null,null,null," ",null,1,1900]
[null,null,null,null,null,null,null,null," ",null,1,1900]
[null,null,null,null,null,null,null,null," ",null,1,1900]
[null,null,null,null,null,null,null,null," ",null,1,1900]
[null,null,null,null,null,null,null,null," ",null,1,1900]
[null,null,null,null,null,null,null,null," ",null,1,1900]
[null,null,null,null,null,null,null,null," ",null,1,1900]
[null,null,null,null,null,null,null,null," ",null,1,1900]
[null,null,null,null,null,null,null,null," ",null,1,1900]
[null,null,null,null,null,null,null,null," ",null,1,1900]
[null,null,null,null,null,null,null,null," ",null,1,1900]
[null,null,null,null,null,null,null,null," ",null,1,1900]
[null,null,null,null,null,null,null,null," ",null,1,1900]
[null,null,null,null,null,null,null,null," ",null,1,1900]
[null,null,null,null,null,null,null,null," ",null,1,1900]
[null,null,null,null,null,null,null,null," ",null,1,1900]
[null,null,null,null,null,null,null,null," ",null,1,1900]
[null,null,null,null,null,null,null,null," ",null,1,1900]
[null,null,null,null,null,null,null,null," ",null,1,1900]
[null,null,null,null,null,null,null,null," ",null,1,1900]
[null,null,null,null,null,null,null,null," ",null,1,1900]
[null,null,null,null,null,null,null,null," ",null,1,1900]
[null,null,null,null,null,null,null,null," ",null,1,1900]
[null,null,null,null,null,null,null,null," ",null,1,1900]
[null,null,null,null,null,null,null,null," ",null,1,1900]
[null,null,null,null,null,null,null,null," ",null,1,1900]
[null,null,null,null,null,null,null,null," ",null,1,1900]
[null,null,null,null,null,null,null,null," ",null,1,1900]
[null,null,null,null,null,null,null,null," ",null,1,1900]
[null,null,null,null,null,null,null,null," ",null,1,1900]
[null,null,null,null,null,null,null,null," ",null,1,1900]
[null,null,null,null,null,null,null,null," ",null,1,1900]
[null,null,null,null,null,null,null,null," ",null,1,1900]
[null,null,null,null,null,null,null,null," ",null,1,1900]
[null,null,null,null,null,null,null,null," ",null,1,1900]
[null,null,null,null,null,null,null,null," ",null,1,1900]
[null,null,null,null,null,null,null,null," ",null,1,1900]
[null,null,null,null,null,null,null,null," ",null,1,1900]
[null,null,null,null,null,null,null,null," ",null,1,1900]
[null,null,null,null,null,null,null,null,{"$f":"+IF(H59384=H59383,\" \",H59384)","v":" "},null,{"$f":"+MONTH(A59384)","v":1},{"$f":"+YEAR(A59384)","v":1900}]
[null,null,null,null,null,null,null,null," ",null,1,1900]
[null,null,null,null,null,null,null,null," ",null,1,1900]
[null,null,null,null,null,null,null,null," ",null,1,1900]
[null,null,null,null,null,null,null,null," ",null,1,1900]
[null,null,null,null,null,null,null,null," ",null,1,1900]
[null,null,null,null,null,null,null,null," ",null,1,1900]
[null,null,null,null,null,null,null,null," ",null,1,1900]
[null,null,null,null,null,null,null,null," ",null,1,1900]
[null,null,null,null,null,null,null,null," ",null,1,1900]
[null,null,null,null,null,null,null,null," ",null,1,1900]
[null,null,null,null,null,null,null,null," ",null,1,1900]
[null,null,null,null,null,null,null,null," ",null,1,1900]
[null,null,null,null,null,null,null,null," ",null,1,1900]
[null,null,null,null,null,null,null,null," ",null,1,1900]
[null,null,null,null,null,null,null,null," ",null,1,1900]
[null,null,null,null,null,null,null,null," ",null,1,1900]
[null,null,null,null,null,null,null,null," ",null,1,1900]
[null,null,null,null,null,null,null,null," ",null,1,1900]
[null,null,null,null,null,null,null,null," ",null,1,1900]
[null,null,null,null,null,null,null,null," ",null,1,1900]
[null,null,null,null,null,null,null,null," ",null,1,1900]
[null,null,null,null,null,null,null,null," ",null,1,1900]
[null,null,null,null,null,null,null,null," ",null,1,1900]
[null,null,null,null,null,null,null,null," ",null,1,1900]
[null,null,null,null,null,null,null,null," ",null,1,1900]
[null,null,null,null,null,null,null,null," ",null,1,1900]
[null,null,null,null,null,null,null,null," ",null,1,1900]
[null,null,null,null,null,null,null,null," ",null,1,1900]
[null,null,null,null,null,null,null,null," ",null,1,1900]
[null,null,null,null,null,null,null,null," ",null,1,1900]
[null,null,null,null,null,null,null,null,{"$f":"+IF(H60344=H60343,\" \",H60344)","v":" "},null,{"$f":"+MONTH(A60344)","v":1},{"$f":"+YEAR(A60344)","v":1900}]
[null,null,null,null,null,null,null,null," ",null,1,1900]
[null,null,null,null,null,null,null,null," ",null,1,1900]
[null,null,null,null,null,null,null,null," ",null,1,1900]
[null,null,null,null,null,null,null,null," ",null,1,1900]
[null,null,null,null,null,null,null,null," ",null,1,1900]
[null,null,null,null,null,null,null,null," ",null,1,1900]
[null,null,null,null,null,null,null,null," ",null,1,1900]
[null,null,null,null,null,null,null,null," ",null,1,1900]
[null,null,null,null,null,null,null,null," ",null,1,1900]
[null,null,null,null,null,null,null,null," ",null,1,1900]
[null,null,null,null,null,null,null,null," ",null,1,1900]
[null,null,null,null,null,null,null,null," ",null,1,1900]
[null,null,null,null,null,null,null,null," ",null,1,1900]
[null,null,null,null,null,null,null,null," ",null,1,1900]
[null,null,null,null,null,null,null,null," ",null,1,1900]
[null,null,null,null,null,null,null,null," ",null,1,1900]
[null,null,null,null,null,null,null,null," ",null,1,1900]
[null,null,null,null,null,null,null,null," ",null,1,1900]
[null,null,null,null,null,null,null,null," ",null,1,1900]
[null,null,null,null,null,null,null,null,{"$f":"+IF(H60984=H60983,\" \",H60984)","v":" "},null,{"$f":"+MONTH(A60984)","v":1},{"$f":"+YEAR(A60984)","v":1900}]
[null,null,null,null,null,null,null,null," ",null,1,1900]
[null,null,null,null,null,null,null,null," ",null,1,1900]
[null,null,null,null,null,null,null,null," ",null,1,1900]
[null,null,null,null,null,null,null,null," ",null,1,1900]
[null,null,null,null,null,null,null,null," ",null,1,1900]
[null,null,null,null,null,null,null,null," ",null,1,1900]
[null,null,null,null,null,null,null,null," ",null,1,1900]
[null,null,null,null,null,null,null,null," ",null,1,1900]
[null,null,null,null,null,null,null,null," ",null,1,1900]
[null,null,null,null,null,null,null,null," ",null,1,1900]
[null,null,null,null,null,null,null,null," ",null,1,1900]
[null,null,null,null,null,null,null,null," ",null,1,1900]
[null,null,null,null,null,null,null,null," ",null,1,1900]
[null,null,null,null,null,null,null,null," ",null,1,1900]
[null,null,null,null,null,null,null,null," ",null,1,1900]
[null,null,null,null,null,null,null,null," ",null,1,1900]
[null,null,null,null,null,null,null,null," ",null,1,1900]
[null,null,null,null,null,null,null,null," ",null,1,1900]
[null,null,null,null,null,null,null,null," ",null,1,1900]
[null,null,null,null,null,null,null,null," ",null,1,1900]
[null,null,null,null,null,null,null,null," ",null,1,1900]
[null,null,null,null,null,null,null,null," ",null,1,1900]
[null,null,null,null,null,null,null,null," ",null,1,1900]
[null,null,null,null,null,null,null,null," ",null,1,1900]
[null,null,null,null,null,null,null,null," ",null,1,1900]
[null,null,null,null,null,null,null,null," ",null,1,1900]
[null,null,null,null,null,null,null,null," ",null,1,1900]
[null,null,null,null,null,null,null,null," ",null,1,1900]
[null,null,null,null,null,null,null,null," ",null,1,1900]
[null,null,null,null,null,null,null,null," ",null,1,1900]
[null,null,null,null,null,null,null,null," ",null,1,1900]
[null,null,null,null,null,null,null,null," ",null,1,1900]
[null,null,null,null,null,null,null,null," ",null,1,1900]
[null,null,null,null,null,null,null,null," ",null,1,1900]
[null,null,null,null,null,null,null,null," ",null,1,1900]
[null,null,null,null,null,null,null,null," ",null,1,1900]
[null,null,null,null,null,null,null,null," ",null,1,1900]
[null,null,null,null,null,null,null,null," ",null,1,1900]
[null,null,null,null,null,null,null,null," ",null,1,1900]
[null,null,null,null,null,null,null,null," ",null,1,1900]
[null,null,null,null,null,null,null,null," ",null,1,1900]
[null,null,null,null,null,null,null,null," ",null,1,1900]
[null,null,null,null,null,null,null,null," ",null,1,1900]
[null,null,null,null,null,null,null,null," ",null,1,1900]
[null,null,null,null,null,null,null,null," ",null,1,1900]
[null,null,null,null,null,null,null,null," ",null,1,1900]
[null,null,null,null,null,null,null,null," ",null,1,1900]
[null,null,null,null,null,null,null,null," ",null,1,1900]
[null,null,null,null,null,null,null,null," ",null,1,1900]
[null,null,null,null,null,null,null,null," ",null,1,1900]
[null,null,null,null,null,null,null,null," ",null,1,1900]
[null,null,null,null,null,null,null,null," ",null,1,1900]
[null,null,null,null,null,null,null,null," ",null,1,1900]
[null,null,null,null,null,null,null,null," ",null,1,1900]
[null,null,null,null,null,null,null,null," ",null,1,1900]
[null,null,null,null,null,null,null,null," ",null,1,1900]
[null,null,null,null,null,null,null,null," ",null,1,1900]
[null,null,null,null,null,null,null,null," ",null,1,1900]
[null,null,null,null,null,null,null,null," ",null,1,1900]
[null,null,null,null,null,null,null,null," ",null,1,1900]
[null,null,null,null,null,null,null,null," ",null,1,1900]
[null,null,null,null,null,null,null,null," ",null,1,1900]
[null,null,null,null,null,null,null,null," ",null,1,1900]
[null,null,null,null,null,null,null,null," ",null,1,1900]
[null,null,null,null,null,null,null,null," ",null,1,1900]
[null,null,null,null,null,null,null,null," ",null,1,1900]
[null,null,null,null,null,null,null,null," ",null,1,1900]
[null,null,null,null,null,null,null,null," ",null,1,1900]
[null,null,null,null,null,null,null,null," ",null,1,1900]
[null,null,null,null,null,null,null,null," ",null,1,1900]
[null,null,null,null,null,null,null,null," ",null,1,1900]
[null,null,null,null,null,null,null,null," ",null,1,1900]
[null,null,null,null,null,null,null,null,{"$f":"+IF(H63288=H63287,\" \",H63288)","v":" "},null,{"$f":"+MONTH(A63288)","v":1},{"$f":"+YEAR(A63288)","v":1900}]
[null,null,null,null,null,null,null,null," ",null,1,1900]
[null,null,null,null,null,null,null,null," ",null,1,1900]
[null,null,null,null,null,null,null,null," ",null,1,1900]
[null,null,null,null,null,null,null,null," ",null,1,1900]
[null,null,null,null,null,null,null,null," ",null,1,1900]
[null,null,null,null,null,null,null,null," ",null,1,1900]
[null,null,null,null,null,null,null,null," ",null,1,1900]
[null,null,null,null,null,null,null,null," ",null,1,1900]
[null,null,null,null,null,null,null,null," ",null,1,1900]
[null,null,null,null,null,null,null,null," ",null,1,1900]
[null,null,null,null,null,null,null,null," ",null,1,1900]
[null,null,null,null,null,null,null,null," ",null,1,1900]
[null,null,null,null,null,null,null,null," ",null,1,1900]
[null,null,null,null,null,null,null,null," ",null,1,1900]
[null,null,null,null,null,null,null,null," ",null,1,1900]
[null,null,null,null,null,null,null,null," ",null,1,1900]
[null,null,null,null,null,null,null,null," ",null,1,1900]
[null,null,null,null,null,null,null,null," ",null,1,1900]
[null,null,null,null,null,null,null,null," ",null,1,1900]
[null,null,null,null,null,null,null,null," ",null,1,1900]
[null,null,null,null,null,null,null,null," ",null,1,1900]
[null,null,null,null,null,null,null,null,{"$f":"+IF(H63992=H63991,\" \",H63992)","v":" "},null,{"$f":"+MONTH(A63992)","v":1},{"$f":"+YEAR(A63992)","v":1900}]
[null,null,null,null,null,null,null,null," ",null,1,1900]
[null,null,null,null,null,null,null,null," ",null,1,1900]
[null,null,null,null,null,null,null,null," ",null,1,1900]
[null,null,null,null,null,null,null,null," ",null,1,1900]
[null,null,null,null,null,null,null,null," ",null,1,1900]
[null,null,null,null,null,null,null,null," ",null,1,1900]
[null,null,null,null,null,null,null,null," ",null,1,1900]
[null,null,null,null,null,null,null,null," ",null,1,1900]
[null,null,null,null,null,null,null,null," ",null,1,1900]
[null,null,null,null,null,null,null,null," ",null,1,1900]
[null,null,null,null,null,null,null,null," ",null,1,1900]
[null,null,null,null,null,null,null,null," ",null,1,1900]
[null,null,null,null,null,null,null,null," ",null,1,1900]
[null,null,null,null,null,null,null,null," ",null,1,1900]
[null,null,null,null,null,null,null,null," ",null,1,1900]
[null,null,null,null,null,null,null,null," ",null,1,1900]
[null,null,null,null,null,null,null,null," ",null,1,1900]
[null,null,null,null,null,null,null,null," ",null,1,1900]
[null,null,null,null,null,null,null,null," ",null,1,1900]
[null,null,null,null,null,null,null,null," ",null,1,1900]
[null,null,null,null,null,null,null,null," ",null,1,1900]
[null,null,null,null,null,null,null,null," ",null,1,1900]
[null,null,null,null,null,null,null,null," ",null,1,1900]
[null,null,null,null,null,null,null,null," ",null,1,1900]
[null,null,null,null,null,null,null,null," ",null,1,1900]
[null,null,null,null,null,null,null,null," ",null,1,1900]
[null,null,null,null,null,null,null,null," ",null,1,1900]
[null,null,null,null,null,null,null,null," ",null,1,1900]
[null,null,null,null,null,null,null,null," ",null,1,1900]
[null,null,null,null,null,null,null,null," ",null,1,1900]
[null,null,null,null,null,null,null,null," ",null,1,1900]
[null,null,null,null,null,null,null,null," ",null,1,1900]
[null,null,null,null,null,null,null,null," ",null,1,1900]
[null,null,null,null,null,null,null,null," ",null,1,1900]
[null,null,null,null,null,null,null,null," ",null,1,1900]
[null,null,null,null,null,null,null,null," ",null,1,1900]
[null,null,null,null,null,null,null,null," ",null,1,1900]
[null,null,null,null,null,null,null,null," ",null,1,1900]
[null,null,null,null,null,null,null,null," ",null,1,1900]
[null,null,null,null,null,null,null,null," ",null,1,1900]
[null,null,null,null,null,null,null,null," ",null,1,1900]
[null,null,null,null,null,null,null,null," ",null,1,1900]
[null,null,null,null,null,null,null,null," ",null,1,1900]
[null,null,null,null,null,null,null,null," ",null,1,1900]
[null,null,null,null,null,null,null,null," ",null,1,1900]
[null,null,null,null,null,null,null,null," ",null,1,1900]
[null,null,null,null,null,null,null,null," ",null,1,1900]
[null,null,null,null,null,null,null,null," ",null,1,1900]
[null,null,null,null,null,null,null,null," ",null,1,1900]
[null,null,null,null,null,null,null,null," ",null,1,1900]
[null,null,null,null,null,null,null,null," ",null,1,1900]
[null,null,null,null,null,null,null,null," ",null,1,1900]
[null,null,null,null,null,null,null,null," ",null,1,1900]
[null,null,null,null,null,null,null,null," ",null,1,1900]
[null,null,null,null,null,null,null,null," ",null,1,1900]
[null,null,null,null,null,null,null,null," ",null,1,1900]
[null,null,null,null,null,null,null,null," ",null,1,1900]
[null,null,null,null,null,null,null,null," ",null,1,1900]
[null,null,null,null,null,null,null,null," ",null,1,1900]
[null,null,null,null,null,null,null,null," ",null,1,1900]
[null,null,null,null,null,null,null,null," ",null,1,1900]
[null,null,null,null,null,null,null,null," ",null,1,1900]
[null,null,null,null,null,null,null,null," ",null,1,1900]
[null,null,null,null,null,null,null,null," ",null,1,1900]
[null,null,null,null,null,null,null,null," ",null,1,1900]
[null,null,null,null,null,null,null,null," ",null,1,1900]
[null,null,null,null,null,null,null,null," ",null,1,1900]
[null,null,null,null,null,null,null,null," ",null,1,1900]
[null,null,null,null,null,null,null,null," ",null,1,1900]
[null,null,null,null,null,null,null,null," ",null,1,1900]
[null,null,null,null,null,null,null,null," ",null,1,1900]
[null,null,null,null,null,null,null,null," ",null,1,1900]
[null,null,null,null,null,null,null,null," ",null,1,1900]
[null,null,null,null,null,null,null,null," ",null,1,1900]
[null,null,null,null,null,null,null,null," ",null,1,1900]
[null,null,null,null,null,null,null,null," ",null,1,1900]
[null,null,null,null,null,null,null,null,{"$f":"+IF(H65080=H65079,\" \",H65080)","v":" "},null,{"$f":"+MONTH(A65080)","v":1},{"$f":"+YEAR(A65080)","v":1900}]
[null,null,null,null,null,null,null,null," ",null,1,1900]
[null,null,null,null,null,null,null,null," ",null,1,1900]
[null,null,null,null,null,null,null,null," ",null,1,1900]
[null,null,null,null,null,null,null,null," ",null,1,1900]
[null,null,null,null,null,null,null,null," ",null,1,1900]
[null,null,null,null,null,null,null,null," ",null,1,1900]
[null,null,null,null,null,null,null,null," ",null,1,1900]
[null,null,null,null,null,null,null,null," ",null,1,1900]
[null,null,null,null,null,null,null,null," ",null,1,1900]
[null,null,null,null,null,null,null,null," ",null,1,1900]
[null,null,null,null,null,null,null,null," ",null,1,1900]
[null,null,null,null,null,null,null,null," ",null,1,1900]
[null,null,null,null,null,null,null,null," ",null,1,1900]
[null,null,null,null,null,null,null,null," ",null,1,1900]
[null,null,null,null,null,null,null,null," ",null,1,1900]
[null,null,null,null,null,null,null,null," ",null,1,1900]
[null,null,null,null,null,null,null,null," ",null,1,1900]
[null,null,null,null,null,null,null,null," ",null,1,1900]
[null,null,null,null,null,null,null,null," ",null,1,1900]
[null,null,null,null,null,null,null,null," ",null,1,1900]
[null,null,null,null,null,null,null,null," ",null,1,1900]
[null,null,null,null,null,null,null,null," ",null,1,1900]
[null,null,null,null,null,null,null,null," ",null,1,1900]
[null,null,null,null,null,null,null,null," ",null,1,1900]
[null,null,null,null,null,null,null,null," ",null,1,1900]
[null,null,null,null,null,null,null,null," ",null,1,1900]
[null,null,null,null,null,null,null,null," ",null,1,1900]
[null,null,null,null,null,null,null,null," ",null,1,1900]
[null,null,null,null,null,null,null,null," ",null,1,1900]
[null,null,null,null,null,null,null,null," ",null,1,1900]
[null,null,null,null,null,null,null,null," ",null,1,1900]
[null,null,null,null,null,null,null,null," ",null,1,1900]
[null,null,null,null,null,null,null,null," ",null,1,1900]
[null,null,null,null,null,null,null,null," ",null,1,1900]
[null,null,null,null,null,null,null,null," ",null,1,1900]
[null,null,null,null,null,null,null,null," ",null,1,1900]
[null,null,null,null,null,null,null,null," ",null,1,1900]
[null,null,null,null,null,null,null,null," ",null,1,1900]
[null,null,null,null,null,null,null,null," ",null,1,1900]
[null,null,null,null,null,null,null,null," ",null,1,1900]
[null,null,null,null,null,null,null,null," ",null,1,1900]
[null,null,null,null,null,null,null,null," ",null,1,1900]
[null,null,null,null,null,null,null,null," ",null,1,1900]
[null,null,null,null,null,null,null,null," ",null,1,1900]
[null,null,null,null,null,null,null,null," ",null,1,1900]
[null,null,null,null,null,null,null,null," ",null,1,1900]
[null,null,null,null,null,null,null,null," ",null,1,1900]
[null,null,null,null,null,null,null,null," ",null,1,1900]
[null,null,null,null,null,null,null,null," ",null,1,1900]
[null,null,null,null,null,null,null,null," ",null,1,1900]
[null,null,null,null,null,null,null,null," ",null,1,1900]
[null,null,null,null,null,null,null,null," ",null,1,1900]
[null,null,null,null,null,null,null,null," ",null,1,1900]
[null,null,null,null,null,null,null,null," ",null,1,1900]
[null,null,null,null,null,null,null,null," ",null,1,1900]
[null,null,null,null,null,null,null,null," ",null,1,1900]
[null,null,null,null,null,null,null,null," ",null,1,1900]
[null,null,null,null,null,null,null,null," ",null,1,1900]
[null,null,null,null,null,null,null,null," ",null,1,1900]
[null,null,null,null,null,null,null,null," ",null,1,1900]
[null,null,null,null,null,null,null,null," ",null,1,1900]
[null,null,null,null,null,null,null,null," ",null,1,1900]
[null,null,null,null,null,null,null,null," ",null,1,1900]
[null,null,null,null,null,null,null,null,{"$f":"+IF(H65144=H65143,\" \",H65144)","v":" "},null,{"$f":"+MONTH(A65144)","v":1},{"$f":"+YEAR(A65144)","v":1900}]
[null,null,null,null,null,null,null,null," ",null,1,1900]
[null,null,null,null,null,null,null,null," ",null,1,1900]
[null,null,null,null,null,null,null,null," ",null,1,1900]
[null,null,null,null,null,null,null,null," ",null,1,1900]
[null,null,null,null,null,null,null,null," ",null,1,1900]
[null,null,null,null,null,null,null,null," ",null,1,1900]
[null,null,null,null,null,null,null,null," ",null,1,1900]
[null,null,null,null,null,null,null,null," ",null,1,1900]
[null,null,null,null,null,null,null,null," ",null,1,1900]
[null,null,null,null,null,null,null,null," ",null,1,1900]
[null,null,null,null,null,null,null,null," ",null,1,1900]
[null,null,null,null,null,null,null,null," ",null,1,1900]
[null,null,null,null,null,null,null,null," ",null,1,1900]
[null,null,null,null,null,null,null,null," ",null,1,1900]
[null,null,null,null,null,null,null,null," ",null,1,1900]
[null,null,null,null,null,null,null,null," ",null,1,1900]
[null,null,null,null,null,null,null,null," ",null,1,1900]
[null,null,null,null,null,null,null,null," ",null,1,1900]
[null,null,null,null,null,null,null,null," ",null,1,1900]
[null,null,null,null,null,null,null,null," ",null,1,1900]
[null,null,null,null,null,null,null,null," ",null,1,1900]
[null,null,null,null,null,null,null,null," ",null,1,1900]
[null,null,null,null,null,null,null,null," ",null,1,1900]
[null,null,null,null,null,null,null,null," ",null,1,1900]
[null,null,null,null,null,null,null,null," ",null,1,1900]
[null,null,null,null,null,null,null,null," ",null,1,1900]
[null,null,null,null,null,null,null,null," ",null,1,1900]
[null,null,null,null,null,null,null,null," ",null,1,1900]
[null,null,null,null,null,null,null,null," ",null,1,1900]
[null,null,null,null,null,null,null,null," ",null,1,1900]
[null,null,null,null,null,null,null,null," ",null,1,1900]
[null,null,null,null,null,null,null,null," ",null,1,1900]
[null,null,null,null,null,null,null,null," ",null,1,1900]
[null,null,null,null,null,null,null,null," ",null,1,1900]
[null,null,null,null,null,null,null,null," ",null,1,1900]
[null,null,null,null,null,null,null,null," ",null,1,1900]
[null,null,null,null,null,null,null,null," ",null,1,1900]
[null,null,null,null,null,null,null,null," ",null,1,1900]
[null,null,null,null,null,null,null,null," ",null,1,1900]
[null,null,null,null,null,null,null,null," ",null,1,1900]
[null,null,null,null,null,null,null,null," ",null,1,1900]
[null,null,null,null,null,null,null,null," ",null,1,1900]
[null,null,null,null,null,null,null,null," ",null,1,1900]
[null,null,null,null,null,null,null,null," ",null,1,1900]
[null,null,null,null,null,null,null,null," ",null,1,1900]
[null,null,null,null,null,null,null,null," ",null,1,1900]
[null,null,null,null,null,null,null,null," ",null,1,1900]
[null,null,null,null,null,null,null,null," ",null,1,1900]
[null,null,null,null,null,null,null,null," ",null,1,1900]
[null,null,null,null,null,null,null,null," ",null,1,1900]
[null,null,null,null,null,null,null,null," ",null,1,1900]
[null,null,null,null,null,null,null,null," ",null,1,1900]
[null,null,null,null,null,null,null,null," ",null,1,1900]
[null,null,null,null,null,null,null,null," ",null,1,1900]
[null,null,null,null,null,null,null,null," ",null,1,1900]
[null,null,null,null,null,null,null,null," ",null,1,1900]
[null,null,null,null,null,null,null,null," ",null,1,1900]
[null,null,null,null,null,null,null,null," ",null,1,1900]
[null,null,null,null,null,null,null,null," ",null,1,1900]
[null,null,null,null,null,null,null,null," ",null,1,1900]
[null,null,null,null,null,null,null,null," ",null,1,1900]
[null,null,null,null,null,null,null,null," ",null,1,1900]
[null,null,null,null,null,null,null,null," ",null,1,1900]
[null,null,null,null,null,null,null,null,{"$f":"+IF(H65208=H65207,\" \",H65208)","v":" "},null,{"$f":"+MONTH(A65208)","v":1},{"$f":"+YEAR(A65208)","v":1900}]
[null,null,null,null,null,null,null,null," ",null,1,1900]
[null,null,null,null,null,null,null,null," ",null,1,1900]
[null,null,null,null,null,null,null,null," ",null,1,1900]
[null,null,null,null,null,null,null,null," ",null,1,1900]
[null,null,null,null,null,null,null,null," ",null,1,1900]
[null,null,null,null,null,null,null,null," ",null,1,1900]
[null,null,null,null,null,null,null,null," ",null,1,1900]
[null,null,null,null,null,null,null,null," ",null,1,1900]
[null,null,null,null,null,null,null,null," ",null,1,1900]
[null,null,null,null,null,null,null,null," ",null,1,1900]
[null,null,null,null,null,null,null,null," ",null,1,1900]
[null,null,null,null,null,null,null,null," ",null,1,1900]
[null,null,null,null,null,null,null,null," ",null,1,1900]
[null,null,null,null,null,null,null,null," ",null,1,1900]
[null,null,null,null,null,null,null,null," ",null,1,1900]
[null,null,null,null,null,null,null,null," ",null,1,1900]
[null,null,null,null,null,null,null,null," ",null,1,1900]
[null,null,null,null,null,null,null,null," ",null,1,1900]
[null,null,null,null,null,null,null,null," ",null,1,1900]
[null,null,null,null,null,null,null,null," ",null,1,1900]
[null,null,null,null,null,null,null,null," ",null,1,1900]
[null,null,null,null,null,null,null,null," ",null,1,1900]
[null,null,null,null,null,null,null,null," ",null,1,1900]
[null,null,null,null,null,null,null,null," ",null,1,1900]
[null,null,null,null,null,null,null,null," ",null,1,1900]
[null,null,null,null,null,null,null,null," ",null,1,1900]
[null,null,null,null,null,null,null,null," ",null,1,1900]
[null,null,null,null,null,null,null,null," ",null,1,1900]
[null,null,null,null,null,null,null,null," ",null,1,1900]
[null,null,null,null,null,null,null,null," ",null,1,1900]
[null,null,null,null,null,null,null,null," ",null,1,1900]
[null,null,null,null,null,null,null,null," ",null,1,1900]
[null,null,null,null,null,null,null,null," ",null,1,1900]
[null,null,null,null,null,null,null,null," ",null,1,1900]
[null,null,null,null,null,null,null,null," ",null,1,1900]
[null,null,null,null,null,null,null,null," ",null,1,1900]
[null,null,null,null,null,null,null,null," ",null,1,1900]
[null,null,null,null,null,null,null,null," ",null,1,1900]
[null,null,null,null,null,null,null,null," ",null,1,1900]
[null,null,null,null,null,null,null,null," ",null,1,1900]
[null,null,null,null,null,null,null,null," ",null,1,1900]
[null,null,null,null,null,null,null,null," ",null,1,1900]
[null,null,null,null,null,null,null,null," ",null,1,1900]
[null,null,null,null,null,null,null,null," ",null,1,1900]
[null,null,null,null,null,null,null,null," ",null,1,1900]
[null,null,null,null,null,null,null,null," ",null,1,1900]
[null,null,null,null,null,null,null,null," ",null,1,1900]
[null,null,null,null,null,null,null,null," ",null,1,1900]
[null,null,null,null,null,null,null,null," ",null,1,1900]
[null,null,null,null,null,null,null,null," ",null,1,1900]
[null,null,null,null,null,null,null,null," ",null,1,1900]
[null,null,null,null,null,null,null,null," ",null,1,1900]
[null,null,null,null,null,null,null,null," ",null,1,1900]
[null,null,null,null,null,null,null,null," ",null,1,1900]
[null,null,null,null,null,null,null,null," ",null,1,1900]
[null,null,null,null,null,null,null,null," ",null,1,1900]
[null,null,null,null,null,null,null,null," ",null,1,1900]
[null,null,null,null,null,null,null,null," ",null,1,1900]
[null,null,null,null,null,null,null,null," ",null,1,1900]
[null,null,null,null,null,null,null,null," ",null,1,1900]
[null,null,null,null,null,null,null,null," ",null,1,1900]
[null,null,null,null,null,null,null,null," ",null,1,1900]
[null,null,null,null,null,null,null,null," ",null,1,1900]
[null,null,null,null,null,null,null,null,{"$f":"+IF(H65272=H65271,\" \",H65272)","v":" "},null,{"$f":"+MONTH(A65272)","v":1},{"$f":"+YEAR(A65272)","v":1900}]
[null,null,null,null,null,null,null,null," ",null,1,1900]
[null,null,null,null,null,null,null,null," ",null,1,1900]
[null,null,null,null,null,null,null,null," ",null,1,1900]
[null,null,null,null,null,null,null,null," ",null,1,1900]
[null,null,null,null,null,null,null,null," ",null,1,1900]
[null,null,null,null,null,null,null,null," ",null,1,1900]
[null,null,null,null,null,null,null,null," ",null,1,1900]
[null,null,null,null,null,null,null,null," ",null,1,1900]
[null,null,null,null,null,null,null,null," ",null,1,1900]
[null,null,null,null,null,null,null,null," ",null,1,1900]
[null,null,null,null,null,null,null,null," ",null,1,1900]
[null,null,null,null,null,null,null,null," ",null,1,1900]
[null,null,null,null,null,null,null,null," ",null,1,1900]
[null,null,null,null,null,null,null,null," ",null,1,1900]
[null,null,null,null,null,null,null,null," ",null,1,1900]
[null,null,null,null,null,null,null,null," ",null,1,1900]
[null,null,null,null,null,null,null,null," ",null,1,1900]
[null,null,null,null,null,null,null,null," ",null,1,1900]
[null,null,null,null,null,null,null,null," ",null,1,1900]
[null,null,null,null,null,null,null,null," ",null,1,1900]
[null,null,null,null,null,null,null,null," ",null,1,1900]
[null,null,null,null,null,null,null,null," ",null,1,1900]
[null,null,null,null,null,null,null,null," ",null,1,1900]
[null,null,null,null,null,null,null,null," ",null,1,1900]
[null,null,null,null,null,null,null,null," ",null,1,1900]
[null,null,null,null,null,null,null,null," ",null,1,1900]
[null,null,null,null,null,null,null,null," ",null,1,1900]
[null,null,null,null,null,null,null,null," ",null,1,1900]
[null,null,null,null,null,null,null,null," ",null,1,1900]
[null,null,null,null,null,null,null,null," ",null,1,1900]
[null,null,null,null,null,null,null,null," ",null,1,1900]
[null,null,null,null,null,null,null,null," ",null,1,1900]
[null,null,null,null,null,null,null,null," ",null,1,1900]
[null,null,null,null,null,null,null,null," ",null,1,1900]
[null,null,null,null,null,null,null,null," ",null,1,1900]
[null,null,null,null,null,null,null,null," ",null,1,1900]
[null,null,null,null,null,null,null,null," ",null,1,1900]
[null,null,null,null,null,null,null,null," ",null,1,1900]
[null,null,null,null,null,null,null,null," ",null,1,1900]
[null,null,null,null,null,null,null,null," ",null,1,1900]
[null,null,null,null,null,null,null,null," ",null,1,1900]
[null,null,null,null,null,null,null,null," ",null,1,1900]
[null,null,null,null,null,null,null,null," ",null,1,1900]
[null,null,null,null,null,null,null,null," ",null,1,1900]
[null,null,null,null,null,null,null,null," ",null,1,1900]
[null,null,null,null,null,null,null,null," ",null,1,1900]
[null,null,null,null,null,null,null,null," ",null,1,1900]
[null,null,null,null,null,null,null,null," ",null,1,1900]
[null,null,null,null,null,null,null,null," ",null,1,1900]
[null,null,null,null,null,null,null,null," ",null,1,1900]
[null,null,null,null,null,null,null,null," ",null,1,1900]
[null,null,null,null,null,null,null,null," ",null,1,1900]
[null,null,null,null,null,null,null,null," ",null,1,1900]
[null,null,null,null,null,null,null,null," ",null,1,1900]
[null,null,null,null,null,null,null,null," ",null,1,1900]
[null,null,null,null,null,null,null,null," ",null,1,1900]
[null,null,null,null,null,null,null,null," ",null,1,1900]
[null,null,null,null,null,null,null,null," ",null,1,1900]
[null,null,null,null,null,null,null,null," ",null,1,1900]
[null,null,null,null,null,null,null,null," ",null,1,1900]
[null,null,null,null,null,null,null,null," ",null,1,1900]
[null,null,null,null,null,null,null,null," ",null,1,1900]
[null,null,null,null,null,null,null,null," ",null,1,1900]
[null,null,null,null,null,null,null,null,{"$f":"+IF(H65336=H65335,\" \",H65336)","v":" "},null,{"$f":"+MONTH(A65336)","v":1},{"$f":"+YEAR(A65336)","v":1900}]
[null,null,null,null,null,null,null,null," ",null,1,1900]
[null,null,null,null,null,null,null,null," ",null,1,1900]
[null,null,null,null,null,null,null,null," ",null,1,1900]
[null,null,null,null,null,null,null,null," ",null,1,1900]
[null,null,null,null,null,null,null,null," ",null,1,1900]
[null,null,null,null,null,null,null,null," ",null,1,1900]
[null,null,null,null,null,null,null,null," ",null,1,1900]
[null,null,null,null,null,null,null,null," ",null,1,1900]
[null,null,null,null,null,null,null,null," ",null,1,1900]
[null,null,null,null,null,null,null,null," ",null,1,1900]
[null,null,null,null,null,null,null,null," ",null,1,1900]
[null,null,null,null,null,null,null,null," ",null,1,1900]
[null,null,null,null,null,null,null,null," ",null,1,1900]
[null,null,null,null,null,null,null,null," ",null,1,1900]
[null,null,null,null,null,null,null,null," ",null,1,1900]
[null,null,null,null,null,null,null,null," ",null,1,1900]
[null,null,null,null,null,null,null,null," ",null,1,1900]
[null,null,null,null,null,null,null,null," ",null,1,1900]
[null,null,null,null,null,null,null,null," ",null,1,1900]
[null,null,null,null,null,null,null,null," ",null,1,1900]
[null,null,null,null,null,null,null,null," ",null,1,1900]
[null,null,null,null,null,null,null,null," ",null,1,1900]
[null,null,null,null,null,null,null,null," ",null,1,1900]
[null,null,null,null,null,null,null,null," ",null,1,1900]
[null,null,null,null,null,null,null,null," ",null,1,1900]
[null,null,null,null,null,null,null,null," ",null,1,1900]
[null,null,null,null,null,null,null,null," ",null,1,1900]
[null,null,null,null,null,null,null,null," ",null,1,1900]
[null,null,null,null,null,null,null,null," ",null,1,1900]
[null,null,null,null,null,null,null,null," ",null,1,1900]
[null,null,null,null,null,null,null,null," ",null,1,1900]
[null,null,null,null,null,null,null,null," ",null,1,1900]
[null,null,null,null,null,null,null,null," ",null,1,1900]
[null,null,null,null,null,null,null,null," ",null,1,1900]
[null,null,null,null,null,null,null,null," ",null,1,1900]
[null,null,null,null,null,null,null,null," ",null,1,1900]
[null,null,null,null,null,null,null,null," ",null,1,1900]
[null,null,null,null,null,null,null,null," ",null,1,1900]
[null,null,null,null,null,null,null,null," ",null,1,1900]
[null,null,null,null,null,null,null,null," ",null,1,1900]
[null,null,null,null,null,null,null,null," ",null,1,1900]
[null,null,null,null,null,null,null,null," ",null,1,1900]
[null,null,null,null,null,null,null,null," ",null,1,1900]
[null,null,null,null,null,null,null,null," ",null,1,1900]
[null,null,null,null,null,null,null,null," ",null,1,1900]
[null,null,null,null,null,null,null,null," ",null,1,1900]
[null,null,null,null,null,null,null,null," ",null,1,1900]
[null,null,null,null,null,null,null,null," ",null,1,1900]
[null,null,null,null,null,null,null,null," ",null,1,1900]
[null,null,null,null,null,null,null,null," ",null,1,1900]
[null,null,null,null,null,null,null,null," ",null,1,1900]
[null,null,null,null,null,null,null,null," ",null,1,1900]
[null,null,null,null,null,null,null,null," ",null,1,1900]
[null,null,null,null,null,null,null,null," ",null,1,1900]
[null,null,null,null,null,null,null,null," ",null,1,1900]
[null,null,null,null,null,null,null,null," ",null,1,1900]
[null,null,null,null,null,null,null,null," ",null,1,1900]
[null,null,null,null,null,null,null,null," ",null,1,1900]
[null,null,null,null,null,null,null,null," ",null,1,1900]
[null,null,null,null,null,null,null,null," ",null,1,1900]
[null,null,null,null,null,null,null,null," ",null,1,1900]
[null,null,null,null,null,null,null,null," ",null,1,1900]
[null,null,null,null,null,null,null,null," ",null,1,1900]
[null,null,null,null,null,null,null,null,{"$f":"+IF(H65400=H65399,\" \",H65400)","v":" "},null,{"$f":"+MONTH(A65400)","v":1},{"$f":"+YEAR(A65400)","v":1900}]
[null,null,null,null,null,null,null,null," ",null,1,1900]
[null,null,null,null,null,null,null,null," ",null,1,1900]
[null,null,null,null,null,null,null,null," ",null,1,1900]
[null,null,null,null,null,null,null,null," ",null,1,1900]
[null,null,null,null,null,null,null,null," ",null,1,1900]
[null,null,null,null,null,null,null,null," ",null,1,1900]
[null,null,null,null,null,null,null,null," ",null,1,1900]
[null,null,null,null,null,null,null,null," ",null,1,1900]
[null,null,null,null,null,null,null,null," ",null,1,1900]
[null,null,null,null,null,null,null,null," ",null,1,1900]
[null,null,null,null,null,null,null,null," ",null,1,1900]
[null,null,null,null,null,null,null,null," ",null,1,1900]
[null,null,null,null,null,null,null,null," ",null,1,1900]
[null,null,null,null,null,null,null,null," ",null,1,1900]
[null,null,null,null,null,null,null,null," ",null,1,1900]
[null,null,null,null,null,null,null,null," ",null,1,1900]
[null,null,null,null,null,null,null,null," ",null,1,1900]
[null,null,null,null,null,null,null,null," ",null,1,1900]
[null,null,null,null,null,null,null,null," ",null,1,1900]
[null,null,null,null,null,null,null,null," ",null,1,1900]
[null,null,null,null,null,null,null,null," ",null,1,1900]
[null,null,null,null,null,null,null,null," ",null,1,1900]
[null,null,null,null,null,null,null,null," ",null,1,1900]
[null,null,null,null,null,null,null,null," ",null,1,1900]
[null,null,null,null,null,null,null,null," ",null,1,1900]
[null,null,null,null,null,null,null,null," ",null,1,1900]
[null,null,null,null,null,null,null,null," ",null,1,1900]
[null,null,null,null,null,null,null,null," ",null,1,1900]
[null,null,null,null,null,null,null,null," ",null,1,1900]
[null,null,null,null,null,null,null,null," ",null,1,1900]
[null,null,null,null,null,null,null,null," ",null,1,1900]
[null,null,null,null,null,null,null,null," ",null,1,1900]
[null,null,null,null,null,null,null,null," ",null,1,1900]
[null,null,null,null,null,null,null,null," ",null,1,1900]
[null,null,null,null,null,null,null,null," ",null,1,1900]
[null,null,null,null,null,null,null,null," ",null,1,1900]
[null,null,null,null,null,null,null,null," ",null,1,1900]
[null,null,null,null,null,null,null,null," ",null,1,1900]
[null,null,null,null,null,null,null,null," ",null,1,1900]
[null,null,null,null,null,null,null,null," ",null,1,1900]
[null,null,null,null,null,null,null,null," ",null,1,1900]
[null,null,null,null,null,null,null,null," ",null,1,1900]
[null,null,null,null,null,null,null,null," ",null,1,1900]
[null,null,null,null,null,null,null,null," ",null,1,1900]
[null,null,null,null,null,null,null,null," ",null,1,1900]
[null,null,null,null,null,null,null,null," ",null,1,1900]
[null,null,null,null,null,null,null,null," ",null,1,1900]
[null,null,null,null,null,null,null,null," ",null,1,1900]
[null,null,null,null,null,null,null,null," ",null,1,1900]
[null,null,null,null,null,null,null,null," ",null,1,1900]
[null,null,null,null,null,null,null,null," ",null,1,1900]
[null,null,null,null,null,null,null,null," ",null,1,1900]
[null,null,null,null,null,null,null,null," ",null,1,1900]
[null,null,null,null,null,null,null,null," ",null,1,1900]
[null,null,null,null,null,null,null,null," ",null,1,1900]
[null,null,null,null,null,null,null,null," ",null,1,1900]
[null,null,null,null,null,null,null,null," ",null,1,1900]
[null,null,null,null,null,null,null,null," ",null,1,1900]
[null,null,null,null,null,null,null,null," ",null,1,1900]
[null,null,null,null,null,null,null,null," ",null,1,1900]
[null,null,null,null,null,null,null,null," ",null,1,1900]
[null,null,null,null,null,null,null,null," ",null,1,1900]
[null,null,null,null,null,null,null,null," ",null,1,1900]
[null,null,null,null,null,null,null,null,{"$f":"+IF(H65464=H65463,\" \",H65464)","v":" "},null,{"$f":"+MONTH(A65464)","v":1},{"$f":"+YEAR(A65464)","v":1900}]
[null,null,null,null,null,null,null,null," ",null,1,1900]
[null,null,null,null,null,null,null,null," ",null,1,1900]
[null,null,null,null,null,null,null,null," ",null,1,1900]
[null,null,null,null,null,null,null,null," ",null,1,1900]
[null,null,null,null,null,null,null,null," ",null,1,1900]
[null,null,null,null,null,null,null,null," ",null,1,1900]
[null,null,null,null,null,null,null,null," ",null,1,1900]
[null,null,null,null,null,null,null,null," ",null,1,1900]
[null,null,null,null,null,null,null,null," ",null,1,1900]
[null,null,null,null,null,null,null,null," ",null,1,1900]
[null,null,null,null,null,null,null,null," ",null,1,1900]
[null,null,null,null,null,null,null,null," ",null,1,1900]
[null,null,null,null,null,null,null,null," ",null,1,1900]
[null,null,null,null,null,null,null,null," ",null,1,1900]
[null,null,null,null,null,null,null,null," ",null,1,1900]
[null,null,null,null,null,null,null,null," ",null,1,1900]
[null,null,null,null,null,null,null,null," ",null,1,1900]
[null,null,null,null,null,null,null,null," ",null,1,1900]
[null,null,null,null,null,null,null,null," ",null,1,1900]
[null,null,null,null,null,null,null,null," ",null,1,1900]
[null,null,null,null,null,null,null,null," ",null,1,1900]
[null,null,null,null,null,null,null,null," ",null,1,1900]
[null,null,null,null,null,null,null,null," ",null,1,1900]
[null,null,null,null,null,null,null,null," ",null,1,1900]
[null,null,null,null,null,null,null,null," ",null,1,1900]
[null,null,null,null,null,null,null,null," ",null,1,1900]
[null,null,null,null,null,null,null,null," ",null,1,1900]
[null,null,null,null,null,null,null,null," ",null,1,1900]
[null,null,null,null,null,null,null,null," ",null,1,1900]
[null,null,null,null,null,null,null,null," ",null,1,1900]
[null,null,null,null,null,null,null,null," ",null,1,1900]
[null,null,null,null,null,null,null,null," ",null,1,1900]
[null,null,null,null,null,null,null,null," ",null,1,1900]
[null,null,null,null,null,null,null,null," ",null,1,1900]
[null,null,null,null,null,null,null,null," ",null,1,1900]
[null,null,null,null,null,null,null,null," ",null,1,1900]
[null,null,null,null,null,null,null,null," ",null,1,1900]
[null,null,null,null,null,null,null,null," ",null,1,1900]
[null,null,null,null,null,null,null,null," ",null,1,1900]
[null,null,null,null,null,null,null,null," ",null,1,1900]
[null,null,null,null,null,null,null,null," ",null,1,1900]
[null,null,null,null,null,null,null,null," ",null,1,1900]
[null,null,null,null,null,null,null,null," ",null,1,1900]
[null,null,null,null,null,null,null,null," ",null,1,1900]
[null,null,null,null,null,null,null,null," ",null,1,1900]
[null,null,null,null,null,null,null,null," ",null,1,1900]
[null,null,null,null,null,null,null,null," ",null,1,1900]
[null,null,null,null,null,null,null,null," ",null,1,1900]
[null,null,null,null,null,null,null,null," ",null,1,1900]
[null,null,null,null,null,null,null,null," ",null,1,1900]
[null,null,null,null,null,null,null,null," ",null,1,1900]
[null,null,null,null,null,null,null,null," ",null,1,1900]
[null,null,null,null,null,null,null,null," ",null,1,1900]
[null,null,null,null,null,null,null,null," ",null,1,1900]
[null,null,null,null,null,null,null,null," ",null,1,1900]
[null,null,null,null,null,null,null,null," ",null,1,1900]
[null,null,null,null,null,null,null,null," ",null,1,1900]
[null,null,null,null,null,null,null,null," ",null,1,1900]
[null,null,null,null,null,null,null,null," ",null,1,1900]
[null,null,null,null,null,null,null,null," ",null,1,1900]
[null,null,null,null,null,null,null,null," ",null,1,1900]
[null,null,null,null,null,null,null,null," ",null,1,1900]
[null,null,null,null,null,null,null,null," ",null,1,1900]
[null,null,null,null,null,null,null,null,{"$f":"+IF(H65528=H65527,\" \",H65528)","v":" "},null,{"$f":"+MONTH(A65528)","v":1},{"$f":"+YEAR(A65528)","v":1900}]
[null,null,null,null,null,null,null,null," ",null,1,1900]
[null,null,null,null,null,null,null,null," ",null,1,1900]
[null,null,null,null,null,null,null,null," ",null,1,1900]
[null,null,null,null,null,null,null,null," ",null,1,1900]
[null,null,null,null,null,null,null,null," ",null,1,1900]
[null,null,null,null,null,null,null,null," ",null,1,1900]
[null,null,null,null,null,null,null,null," ",null,1,1900]
[null,null,null,null,null,null,null,null," ",null,1,1900]

{"sheet":"Tabla de Amortizacion","index":4,"n_rows":184,"n_cols":14,"rows_kept":184,"cut":false,"hidden":true,"merged":[]}
["FECHA","Tabla de Amortización Valoración",null,null,"Tabla de Amortización Valoración","Tabla de Amortización Valoración","Tabla de Amortización Valoración","Tabla de Amortización Valoración","Tabla de Amortización Valoración","Tabla de Amortización Valoración","Tabla de Amortización Valoración","Tabla de Amortización Valoración","Tabla de Amortización Valoración","Tabla de Amortización Valoración"]
[null,{"$f":"+CALCULADORA!C9","v":"TIPS N21 A"},null,null,{"$f":"+Características!$B$1","v":"TIPS N13 A"},{"$f":"+Características!$C$1","v":"TIPS N14 A"},{"$f":"+Características!$D$1","v":"TIPS N15 A"},{"$f":"+Características!$E$1","v":"TIPS N16 A"},{"$f":"+Características!$F$1","v":"TIPS N17 A "},{"$f":"+Características!$G$1","v":"TIPS N18 A 2034"},{"$f":"+Características!$H$1","v":"TIPS N19 A 2034"},{"$f":"+Características!$I$1","v":"TIPS N20 A 2034"},{"$f":"+Características!$J$1","v":"TIPS N21 A"},{"$f":"+Características!$K$1","v":"TIPS N22 A"}]
[{"$f":"+Flujos!A3","v":"2021-07-24"},{"$f":"+VLOOKUP(A3,$D$2:$M$182,MATCH($B$2,$D$2:$M$2,0),FALSE)","v":1.952549E-2},null,{"$f":"+A3","v":"2021-07-24"},2.044998E-2,1.368171E-2,2.659682E-2,2.356776E-2,3.5719420000000002E-2,6.0585700000000001E-3,1.8470449999999999E-2,1.5852499999999999E-2,1.952549E-2,1.6192459999999999E-2]
[{"$f":"+Flujos!A4","v":"2021-08-24"},{"$f":"+VLOOKUP(A4,$D$2:$M$182,MATCH($B$2,$D$2:$M$2,0),FALSE)","v":2.8349989999999999E-2},null,{"$f":"+A4","v":"2021-08-24"},1.389231E-2,1.183556E-2,2.2949870000000001E-2,2.1333459999999999E-2,2.457022E-2,2.3651200000000001E-2,2.3920009999999998E-2,2.892144E-2,2.8349989999999999E-2,1.4835310000000001E-2]
[{"$f":"+Flujos!A5","v":"2021-09-24"},2.6544970000000001E-2,null,"2021-09-24",1.675198E-2,1.424274E-2,2.6563219999999998E-2,2.8972950000000001E-2,1.9941199999999999E-2,2.1211420000000002E-2,2.116353E-2,2.2593709999999999E-2,2.6544970000000001E-2,1.458314E-2]
[{"$f":"+Flujos!A6","v":"2021-10-24"},2.6772089999999998E-2,null,"2021-10-24",1.2046009999999999E-2,1.511885E-2,2.616427E-2,2.2232120000000001E-2,1.9175480000000002E-2,2.364436E-2,1.8441679999999998E-2,2.618229E-2,2.6772089999999998E-2,1.7030719999999999E-2]
[{"$f":"+Flujos!A7","v":"2021-11-24"},2.1764450000000001E-2,null,"2021-11-24",1.1631290000000001E-2,1.6405940000000001E-2,2.127747E-2,2.0472480000000001E-2,1.949236E-2,2.091759E-2,2.0026140000000001E-2,2.214692E-2,2.1764450000000001E-2,1.6266059999999999E-2]
[{"$f":"+Flujos!A8","v":"2021-12-24"},1.8318210000000001E-2,null,"2021-12-24",1.4076129999999999E-2,1.8205949999999999E-2,2.7426369999999999E-2,2.0605370000000001E-2,2.337156E-2,2.529812E-2,1.9208960000000001E-2,1.9387060000000001E-2,1.8318210000000001E-2,1.510009E-2]
[{"$f":"+Flujos!A9","v":"2022-01-24"},1.7947040000000001E-2,null,"2022-01-24",1.7421610000000001E-2,2.362088E-2,2.1199260000000001E-2,2.115641E-2,1.787675E-2,1.8347929999999998E-2,1.5680800000000002E-2,1.8843970000000002E-2,1.7947040000000001E-2,1.4882650000000001E-2]
[{"$f":"+Flujos!A10","v":"2022-02-24"},1.6100360000000001E-2,null,"2022-02-24",1.1869869999999999E-2,2.330254E-2,1.6641719999999999E-2,1.8384040000000001E-2,2.2570940000000001E-2,1.9172640000000001E-2,2.0310040000000001E-2,2.1297779999999999E-2,1.6100360000000001E-2,1.4676150000000001E-2]
[{"$f":"+Flujos!A11","v":"2022-03-24"},1.46862E-2,null,"2022-03-24",2.1252409999999999E-2,2.4576779999999999E-2,1.4282690000000001E-2,2.119569E-2,1.7767649999999999E-2,1.7974150000000001E-2,1.6536180000000001E-2,1.3285740000000001E-2,1.46862E-2,1.447384E-2]
[{"$f":"+Flujos!A12","v":"2022-04-24"},1.427731E-2,null,"2022-04-24",1.9961240000000002E-2,2.2522159999999999E-2,1.9790169999999999E-2,2.337674E-2,1.5618150000000001E-2,1.9270700000000002E-2,1.068205E-2,1.759811E-2,1.427731E-2,1.429074E-2]
[{"$f":"+Flujos!A13","v":"2022-05-24"},1.730595E-2,null,"2022-05-24",1.495962E-2,2.172866E-2,1.4869479999999999E-2,1.3761489999999999E-2,1.8432879999999999E-2,1.051969E-2,1.6515800000000001E-2,1.624602E-2,1.730595E-2,1.4101280000000001E-2]
[{"$f":"+Flujos!A14","v":"2022-06-24"},1.3769160000000001E-2,null,"2022-06-24",1.775622E-2,1.924675E-2,1.443206E-2,1.6983749999999999E-2,1.6710599999999999E-2,2.197584E-2,1.4296379999999999E-2,1.6708049999999999E-2,1.3769160000000001E-2,1.3910550000000001E-2]
[{"$f":"+Flujos!A15","v":"2022-07-24"},1.483369E-2,null,"2022-07-24",1.8611860000000001E-2,1.9525130000000002E-2,1.976905E-2,2.2644000000000001E-2,2.2426769999999999E-2,1.6990290000000002E-2,9.2338899999999998E-3,1.450048E-2,1.483369E-2,1.372454E-2]
[{"$f":"+Flujos!A16","v":"2022-08-24"},1.2893119999999999E-2,null,"2022-08-24",1.496187E-2,2.0719410000000001E-2,1.8365590000000001E-2,1.870053E-2,2.25063E-2,1.325195E-2,1.499669E-2,1.5946399999999999E-2,1.2893119999999999E-2,1.351694E-2]
[{"$f":"+Flujos!A17","v":"2022-09-24"},1.178352E-2,null,"2022-09-24",1.7624560000000001E-2,2.070901E-2,1.8077619999999999E-2,2.4248749999999999E-2,1.9816029999999998E-2,1.007138E-2,1.3574630000000001E-2,1.5689140000000001E-2,1.178352E-2,1.331237E-2]
[{"$f":"+Flujos!A18","v":"2022-10-24"},1.0406540000000001E-2,null,"2022-10-24",1.28802E-2,1.8533919999999999E-2,2.0476009999999999E-2,1.7172840000000002E-2,1.604535E-2,2.0831140000000001E-2,1.483513E-2,1.0757579999999999E-2,1.0406540000000001E-2,1.3111940000000001E-2]
[{"$f":"+Flujos!A19","v":"2022-11-24"},1.3268179999999999E-2,null,"2022-11-24",1.380986E-2,1.6179430000000002E-2,1.5180269999999999E-2,1.614614E-2,1.9134999999999999E-2,1.3145280000000001E-2,8.0742499999999998E-3,1.3540730000000001E-2,1.3268179999999999E-2,1.2913839999999999E-2]
[{"$f":"+Flujos!A20","v":"2022-12-24"},1.4011529999999999E-2,null,"2022-12-24",1.3265330000000001E-2,1.960572E-2,2.1286550000000001E-2,1.8706239999999999E-2,1.850661E-2,1.4647490000000001E-2,1.361384E-2,1.276501E-2,1.4011529999999999E-2,1.271894E-2]
[{"$f":"+Flujos!A21","v":"2023-01-24"},1.3735590000000001E-2,null,"2023-01-24",1.1979409999999999E-2,1.7750999999999999E-2,1.5963069999999999E-2,2.8286200000000001E-2,1.4477179999999999E-2,1.006517E-2,1.0196190000000001E-2,1.161447E-2,1.3735590000000001E-2,1.252789E-2]
[{"$f":"+Flujos!A22","v":"2023-02-24"},1.4403030000000001E-2,null,"2023-02-24",1.272617E-2,2.01187E-2,1.9996369999999999E-2,1.3298590000000001E-2,1.654485E-2,1.054455E-2,1.032425E-2,1.331859E-2,1.4403030000000001E-2,1.234261E-2]
[{"$f":"+Flujos!A23","v":"2023-03-24"},1.2226229999999999E-2,null,"2023-03-24",1.5305620000000001E-2,1.8283549999999999E-2,1.4695039999999999E-2,1.814356E-2,1.6617989999999999E-2,9.9220100000000002E-3,1.2419660000000001E-2,9.4992199999999992E-3,1.2226229999999999E-2,1.21607E-2]
[{"$f":"+Flujos!A24","v":"2023-04-24"},1.260328E-2,null,"2023-04-24",1.3349410000000001E-2,1.320268E-2,1.966265E-2,1.595792E-2,1.9382199999999999E-2,9.9906600000000002E-3,8.7410700000000001E-3,1.038323E-2,1.260328E-2,1.198722E-2]
[{"$f":"+Flujos!A25","v":"2023-05-24"},1.0628820000000001E-2,null,"2023-05-24",1.343126E-2,1.7294859999999999E-2,1.6517480000000001E-2,1.6811010000000001E-2,2.416772E-2,9.3998799999999993E-3,8.3459099999999998E-3,1.4400960000000001E-2,1.0628820000000001E-2,1.181313E-2]
[{"$f":"+Flujos!A26","v":"2023-06-24"},9.7083499999999993E-3,null,"2023-06-24",1.6131409999999999E-2,1.540016E-2,1.611479E-2,1.544912E-2,2.1909720000000001E-2,6.5729100000000004E-3,1.046561E-2,1.11731E-2,9.7083499999999993E-3,1.1639460000000001E-2]
[{"$f":"+Flujos!A27","v":"2023-07-24"},9.1862799999999998E-3,null,"2023-07-24",1.431813E-2,1.8903949999999999E-2,1.270605E-2,1.3864430000000001E-2,9.3874700000000002E-3,1.2743300000000001E-2,6.2120500000000002E-3,1.3009450000000001E-2,9.1862799999999998E-3,1.146206E-2]
[{"$f":"+Flujos!A28","v":"2023-08-24"},1.3526109999999999E-2,null,"2023-08-24",1.6288529999999999E-2,1.5003829999999999E-2,1.494734E-2,1.572838E-2,2.2424200000000002E-3,8.4770599999999998E-3,7.7529299999999999E-3,1.152998E-2,1.3526109999999999E-2,1.128155E-2]
[{"$f":"+Flujos!A29","v":"2023-09-24"},1.1434740000000001E-2,null,"2023-09-24",1.435779E-2,2.084695E-2,1.6627289999999999E-2,2.0864540000000001E-2,6.6378399999999999E-3,9.6246300000000003E-3,7.1742000000000004E-3,8.5414299999999992E-3,1.1434740000000001E-2,1.1101369999999999E-2]
[{"$f":"+Flujos!A30","v":"2023-10-24"},8.3203400000000007E-3,null,"2023-10-24",1.6617739999999999E-2,1.219917E-2,1.6739819999999999E-2,1.103635E-2,1.070316E-2,8.6789199999999997E-3,7.12022E-3,9.2205599999999992E-3,8.3203400000000007E-3,1.0923560000000001E-2]
[{"$f":"+Flujos!A31","v":"2023-11-24"},1.294797E-2,null,"2023-11-24",1.476718E-2,1.60444E-2,1.522799E-2,3.2874200000000001E-3,1.1450429999999999E-2,6.06589E-3,9.8689699999999995E-3,1.0682779999999999E-2,1.294797E-2,1.07472E-2]
[{"$f":"+Flujos!A32","v":"2023-12-24"},9.2125000000000002E-3,null,"2023-12-24",1.467772E-2,1.26768E-2,1.7998770000000001E-2,3.3590400000000002E-3,9.3219199999999992E-3,5.6226999999999996E-3,8.4436500000000005E-3,8.4004300000000004E-3,9.2125000000000002E-3,1.057164E-2]
[{"$f":"+Flujos!A33","v":"2024-01-24"},1.153683E-2,null,"2024-01-24",1.21292E-2,1.3593030000000001E-2,1.6709310000000002E-2,4.7029000000000003E-3,1.425703E-2,7.3936499999999999E-3,1.285656E-2,9.4271300000000006E-3,1.153683E-2,1.039586E-2]
[{"$f":"+Flujos!A34","v":"2024-02-24"},1.0280620000000001E-2,null,"2024-02-24",1.172219E-2,1.628187E-2,1.9025090000000001E-2,5.9293599999999998E-3,1.3007060000000001E-2,1.001431E-2,9.2865299999999994E-3,8.2664000000000001E-3,1.0280620000000001E-2,1.021475E-2]
[{"$f":"+Flujos!A35","v":"2024-03-24"},8.8502000000000008E-3,null,"2024-03-24",1.5305539999999999E-2,1.2210510000000001E-2,1.549794E-2,9.3488800000000004E-3,1.105333E-2,8.7118000000000004E-3,1.3177680000000001E-2,1.171722E-2,8.8502000000000008E-3,1.003445E-2]
[{"$f":"+Flujos!A36","v":"2024-04-24"},1.1129760000000001E-2,null,"2024-04-24",1.318137E-2,1.54152E-2,1.2017499999999999E-3,9.4674000000000008E-3,1.6448089999999999E-2,7.5342899999999999E-3,8.55881E-3,9.9307500000000003E-3,1.1129760000000001E-2,9.8319900000000005E-3]
[{"$f":"+Flujos!A37","v":"2024-05-24"},9.3430400000000004E-3,null,"2024-05-24",1.449017E-2,1.4099E-2,1.1728699999999999E-3,1.6454219999999999E-2,1.2666159999999999E-2,1.076061E-2,8.4739399999999993E-3,1.2684870000000001E-2,9.3430400000000004E-3,9.6395400000000003E-3]
[{"$f":"+Flujos!A38","v":"2024-06-24"},9.0670899999999999E-3,null,"2024-06-24",1.049837E-2,1.6403890000000001E-2,6.3114299999999998E-3,1.3605030000000001E-2,1.359347E-2,1.157145E-2,8.3948700000000005E-3,1.235936E-2,9.0670899999999999E-3,9.4634999999999997E-3]
[{"$f":"+Flujos!A39","v":"2024-07-24"},9.2047099999999996E-3,null,"2024-07-24",1.4708580000000001E-2,9.8877800000000005E-3,7.1086500000000002E-3,1.5038960000000001E-2,1.185657E-2,4.9771599999999996E-3,8.3108399999999999E-3,1.052609E-2,9.2047099999999996E-3,9.2921900000000005E-3]
[{"$f":"+Flujos!A40","v":"2024-08-24"},9.0914099999999994E-3,null,"2024-08-24",1.4447440000000001E-2,8.7918000000000002E-4,6.9776100000000004E-3,1.3669769999999999E-2,1.3470889999999999E-2,4.1266699999999998E-3,8.2276099999999998E-3,1.047932E-2,9.0914099999999994E-3,9.1512899999999994E-3]
[{"$f":"+Flujos!A41","v":"2024-09-24"},9.0458499999999994E-3,null,"2024-09-24",1.2917909999999999E-2,3.4854899999999999E-3,1.336185E-2,1.395939E-2,1.437008E-2,7.4542699999999998E-3,8.1421099999999993E-3,1.040114E-2,9.0458499999999994E-3,9.0103000000000006E-3]
[{"$f":"+Flujos!A42","v":"2024-10-24"},8.9479499999999997E-3,null,"2024-10-24",1.272832E-2,4.7461700000000001E-3,9.7824599999999998E-3,1.2006330000000001E-2,1.209825E-2,7.3627199999999997E-3,8.0567099999999999E-3,1.035637E-2,8.9479499999999997E-3,8.8746199999999997E-3]
[{"$f":"+Flujos!A43","v":"2024-11-24"},8.8372599999999996E-3,null,"2024-11-24",1.0085E-4,9.0369400000000003E-3,1.328964E-2,1.2704119999999999E-2,1.289714E-2,7.29125E-3,7.9629399999999999E-3,1.0299819999999999E-2,8.8372599999999996E-3,8.7425300000000001E-3]
[{"$f":"+Flujos!A44","v":"2024-12-24"},8.7556500000000002E-3,null,"2024-12-24",2.5976800000000002E-3,5.2115E-3,1.251384E-2,1.132464E-2,1.2194679999999999E-2,7.2237100000000004E-3,7.8808999999999997E-3,9.8759299999999998E-3,8.7556500000000002E-3,8.61343E-3]
[{"$f":"+Flujos!A45","v":"2025-01-24"},8.6771399999999999E-3,null,"2025-01-24",2.5744600000000002E-3,9.8400699999999994E-3,1.0115290000000001E-2,9.6926900000000003E-3,1.176555E-2,7.1555200000000003E-3,7.8054600000000002E-3,1.0055990000000001E-2,8.6771399999999999E-3,8.4840699999999998E-3]
[{"$f":"+Flujos!A46","v":"2025-02-24"},8.6086200000000009E-3,null,"2025-02-24",6.00046E-3,9.5831100000000006E-3,1.229326E-2,1.363761E-2,1.0696260000000001E-2,7.0912700000000002E-3,7.7252500000000003E-3,9.9151799999999991E-3,8.6086200000000009E-3,8.3611899999999992E-3]
[{"$f":"+Flujos!A47","v":"2025-03-24"},8.5358900000000008E-3,null,"2025-03-24",7.2197299999999997E-3,1.028221E-2,1.129489E-2,1.1352930000000001E-2,1.330106E-2,7.01712E-3,7.6384000000000001E-3,9.8424900000000006E-3,8.5358900000000008E-3,8.2308999999999993E-3]
[{"$f":"+Flujos!A48","v":"2025-04-24"},8.4636699999999995E-3,null,"2025-04-24",7.6748099999999998E-3,8.2440399999999994E-3,9.5199900000000007E-3,1.0136050000000001E-2,1.0105370000000001E-2,6.9515999999999996E-3,7.5514900000000001E-3,9.7402300000000008E-3,8.4636699999999995E-3,8.1052099999999998E-3]
[{"$f":"+Flujos!A49","v":"2025-05-24"},8.4118200000000004E-3,null,"2025-05-24",1.1827000000000001E-2,9.7039799999999992E-3,1.382827E-2,1.0234780000000001E-2,9.5317300000000004E-3,6.8833100000000001E-3,7.4759700000000002E-3,9.6967500000000005E-3,8.4118200000000004E-3,7.9755699999999995E-3]
[{"$f":"+Flujos!A50","v":"2025-06-24"},8.1060100000000003E-3,null,"2025-06-24",1.1245399999999999E-2,8.7720000000000003E-3,9.0572499999999993E-3,8.2422999999999993E-3,8.9367800000000001E-3,6.8210700000000003E-3,7.3985500000000003E-3,9.5639999999999996E-3,8.1060100000000003E-3,7.8550100000000008E-3]
[{"$f":"+Flujos!A51","v":"2025-07-24"},8.2698000000000008E-3,null,"2025-07-24",1.22264E-2,1.334663E-2,1.0292870000000001E-2,1.079955E-2,9.6168599999999996E-3,6.7459900000000003E-3,7.3128300000000002E-3,9.5270000000000007E-3,8.2698000000000008E-3,7.7399499999999998E-3]
[{"$f":"+Flujos!A52","v":"2025-08-24"},8.2055300000000008E-3,null,"2025-08-24",9.6824400000000005E-3,9.2060600000000003E-3,1.148269E-2,1.1875439999999999E-2,7.7920699999999999E-3,6.6832799999999998E-3,7.2317099999999997E-3,9.3617100000000005E-3,8.2055300000000008E-3,7.6220200000000002E-3]
[{"$f":"+Flujos!A53","v":"2025-09-24"},8.15747E-3,null,"2025-09-24",1.374424E-2,1.075445E-2,9.4817700000000005E-3,1.0192339999999999E-2,1.006071E-2,6.6255799999999998E-3,7.1506900000000003E-3,9.2984899999999995E-3,8.15747E-3,7.5053799999999999E-3]
[{"$f":"+Flujos!A54","v":"2025-10-24"},8.0637899999999995E-3,null,"2025-10-24",9.0352399999999999E-3,7.2466300000000004E-3,8.0448900000000007E-3,1.0594370000000001E-2,1.081909E-2,6.5560999999999996E-3,7.0716800000000003E-3,9.1848099999999998E-3,8.0637899999999995E-3,7.3906700000000002E-3]
[{"$f":"+Flujos!A55","v":"2025-11-24"},8.0183100000000007E-3,null,"2025-11-24",1.0065009999999999E-2,9.4870800000000002E-3,1.1571069999999999E-2,1.1152499999999999E-2,7.63213E-3,6.4913100000000001E-3,6.9913900000000001E-3,9.0932600000000006E-3,8.0183100000000007E-3,7.2771900000000002E-3]
[{"$f":"+Flujos!A56","v":"2025-12-24"},7.9434299999999996E-3,null,"2025-12-24",6.9401699999999998E-3,8.4971999999999999E-3,9.1879000000000006E-3,9.6326199999999997E-3,9.1350700000000003E-3,6.42634E-3,6.9736499999999996E-3,8.6886700000000008E-3,7.9434299999999996E-3,7.1651199999999996E-3]
[{"$f":"+Flujos!A57","v":"2026-01-24"},7.8757800000000006E-3,null,"2026-01-24",1.032482E-2,8.9105999999999994E-3,1.0611840000000001E-2,6.11365E-3,8.2416899999999994E-3,6.3561499999999996E-3,8.9885199999999998E-3,8.89882E-3,7.8757800000000006E-3,7.05261E-3]
[{"$f":"+Flujos!A58","v":"2026-02-24"},7.7993999999999997E-3,null,"2026-02-24",1.014255E-2,7.8081899999999996E-3,9.6316400000000003E-3,8.10022E-3,5.9571199999999998E-3,6.2943299999999999E-3,8.9079599999999995E-3,8.7680199999999996E-3,7.7993999999999997E-3,8.7042600000000001E-3]
[{"$f":"+Flujos!A59","v":"2026-03-24"},7.7307900000000004E-3,null,"2026-03-24",1.0282690000000001E-2,9.6177199999999997E-3,8.2639600000000007E-3,6.3959400000000001E-3,7.9977499999999997E-3,7.4793400000000001E-3,8.8211599999999998E-3,8.6581599999999998E-3,7.7307900000000004E-3,9.2862900000000009E-3]
[{"$f":"+Flujos!A60","v":"2026-04-24"},7.6923800000000004E-3,null,"2026-04-24",1.2177250000000001E-2,7.9529400000000004E-3,7.5412200000000004E-3,9.9168999999999993E-3,6.3036899999999998E-3,8.3524900000000006E-3,8.2473000000000008E-3,8.5574699999999993E-3,7.6923800000000004E-3,9.1713699999999999E-3]
[{"$f":"+Flujos!A61","v":"2026-05-24"},7.6089800000000004E-3,null,"2026-05-24",9.1026700000000002E-3,6.8976899999999997E-3,7.5995000000000004E-3,9.3426800000000008E-3,6.7696500000000003E-3,8.2963800000000008E-3,8.6173199999999995E-3,8.4489999999999999E-3,7.6089800000000004E-3,9.0541600000000003E-3]
[{"$f":"+Flujos!A62","v":"2026-06-24"},7.3212299999999998E-3,null,"2026-06-24",8.4811699999999997E-3,7.6905599999999999E-3,5.8627000000000002E-3,5.5878999999999998E-3,6.8796400000000002E-3,8.2127799999999994E-3,8.5406400000000004E-3,8.3455200000000004E-3,7.3212299999999998E-3,8.6842699999999991E-3]
[{"$f":"+Flujos!A63","v":"2026-07-24"},7.4956600000000003E-3,null,"2026-07-24",7.9373199999999994E-3,8.7303699999999995E-3,6.5144199999999999E-3,7.3659900000000002E-3,7.0965200000000003E-3,8.16419E-3,8.3975400000000002E-3,8.2176899999999997E-3,7.4956600000000003E-3,8.8209699999999992E-3]
[{"$f":"+Flujos!A64","v":"2026-08-24"},7.4266999999999996E-3,null,"2026-08-24",8.1307700000000007E-3,6.3537400000000001E-3,7.6803799999999997E-3,6.2080199999999999E-3,4.9962599999999998E-3,7.62059E-3,8.2953699999999998E-3,8.1100600000000005E-3,7.4266999999999996E-3,8.7070900000000007E-3]
[{"$f":"+Flujos!A65","v":"2026-09-24"},7.3637399999999997E-3,null,"2026-09-24",1.16814E-2,7.02952E-3,5.6115899999999996E-3,6.0392900000000001E-3,6.0435100000000002E-3,7.9555400000000005E-3,8.2040600000000009E-3,8.0164499999999996E-3,7.3637399999999997E-3,8.5971199999999998E-3]
[{"$f":"+Flujos!A66","v":"2026-10-24"},7.2994699999999997E-3,null,"2026-10-24",7.8462900000000006E-3,6.8588199999999998E-3,3.80373E-3,5.5845199999999999E-3,5.9320400000000004E-3,7.8887599999999999E-3,8.1147100000000007E-3,7.8480100000000007E-3,7.2994699999999997E-3,8.4880100000000007E-3]
[{"$f":"+Flujos!A67","v":"2026-11-24"},7.2492900000000002E-3,null,"2026-11-24",7.5041500000000002E-3,7.5272899999999998E-3,5.3497299999999996E-3,5.7291099999999999E-3,5.1106099999999998E-3,7.8124199999999996E-3,8.0145300000000006E-3,7.72457E-3,7.2492900000000002E-3,8.3698000000000002E-3]
[{"$f":"+Flujos!A68","v":"2026-12-24"},{"$f":"+VLOOKUP(A68,$D$2:$M$182,MATCH($B$2,$D$2:$M$2,0),FALSE)","v":7.1822600000000002E-3},null,{"$f":"+A68","v":"2026-12-24"},8.8636300000000008E-3,7.8274199999999999E-3,4.7784000000000004E-3,5.8542999999999998E-3,7.05012E-3,7.7077500000000002E-3,7.9081099999999994E-3,7.2853500000000003E-3,7.1822600000000002E-3,8.2630499999999992E-3]
[{"$f":"+Flujos!A69","v":"2027-01-24"},7.1307999999999996E-3,null,"2027-01-24",7.8687500000000007E-3,5.7107E-3,6.2981299999999999E-3,5.8231999999999997E-3,7.1426099999999998E-3,7.5970899999999999E-3,7.7989799999999996E-3,7.4983699999999999E-3,7.1307999999999996E-3,8.1510300000000001E-3]
[{"$f":"+Flujos!A70","v":"2027-02-24"},7.0660699999999998E-3,null,"2027-02-24",7.1700100000000001E-3,4.9743000000000001E-3,4.4441899999999998E-3,6.3028800000000003E-3,6.3024400000000003E-3,7.5121299999999997E-3,7.7020700000000001E-3,7.3859399999999997E-3,7.0660699999999998E-3,8.0469800000000005E-3]
[{"$f":"+Flujos!A71","v":"2027-03-24"},7.0131400000000002E-3,null,"2027-03-24",7.53296E-3,4.6752199999999999E-3,5.2383200000000003E-3,4.6673599999999997E-3,5.9266199999999996E-3,7.4038699999999999E-3,7.5721299999999998E-3,7.2734000000000002E-3,7.0131400000000002E-3,7.9394600000000006E-3]
[{"$f":"+Flujos!A72","v":"2027-04-24"},6.94584E-3,null,"2027-04-24",7.9755899999999994E-3,6.0828100000000001E-3,4.8250699999999999E-3,5.4446900000000003E-3,5.1114400000000001E-3,7.3353000000000003E-3,7.0141700000000001E-3,7.1383699999999998E-3,6.94584E-3,7.8318299999999997E-3]
[{"$f":"+Flujos!A73","v":"2027-05-24"},6.8820900000000004E-3,null,"2027-05-24",5.0773499999999996E-3,6.0583499999999997E-3,5.3897399999999996E-3,5.5381099999999997E-3,5.4192900000000002E-3,7.2372299999999999E-3,7.3778000000000003E-3,7.0449600000000003E-3,6.8820900000000004E-3,7.7237199999999999E-3]
[{"$f":"+Flujos!A74","v":"2027-06-24"},6.5699900000000004E-3,null,"2027-06-24",7.9320399999999996E-3,4.6722999999999999E-3,4.7634799999999996E-3,5.7296200000000004E-3,5.3860399999999999E-3,7.156E-3,7.2892E-3,6.92014E-3,6.5699900000000004E-3,7.3442999999999998E-3]
[{"$f":"+Flujos!A75","v":"2027-07-24"},6.7317699999999998E-3,null,"2027-07-24",6.54332E-3,5.1236299999999997E-3,5.5271599999999997E-3,4.62437E-3,6.2449100000000002E-3,7.0859900000000003E-3,7.2126899999999999E-3,6.8053899999999997E-3,6.7317699999999998E-3,7.5088500000000001E-3]
[{"$f":"+Flujos!A76","v":"2027-08-24"},6.6770500000000003E-3,null,"2027-08-24",5.3837700000000004E-3,4.9961900000000002E-3,5.1364399999999999E-3,5.5207800000000003E-3,4.8369900000000002E-3,6.5110899999999998E-3,7.1174999999999997E-3,6.70472E-3,6.6770500000000003E-3,7.4145499999999998E-3]
[{"$f":"+Flujos!A77","v":"2027-09-24"},6.6114099999999999E-3,null,"2027-09-24",6.0567499999999996E-3,6.2335200000000002E-3,4.6696799999999998E-3,5.3894900000000003E-3,4.7178599999999999E-3,6.8803099999999997E-3,7.0425000000000001E-3,6.5778900000000003E-3,6.6114099999999999E-3,7.3192400000000003E-3]
[{"$f":"+Flujos!A78","v":"2027-10-24"},6.5514500000000003E-3,null,"2027-10-24",6.7459099999999999E-3,4.9785999999999997E-3,4.7066299999999998E-3,4.4792699999999996E-3,4.7172799999999999E-3,6.7719399999999997E-3,6.9554300000000003E-3,6.4758200000000002E-3,6.5514500000000003E-3,7.2280699999999996E-3]
[{"$f":"+Flujos!A79","v":"2027-11-24"},6.4967499999999999E-3,null,"2027-11-24",5.7883199999999996E-3,3.7257200000000001E-3,3.5146299999999999E-3,4.5794199999999998E-3,4.6782000000000004E-3,6.6812800000000004E-3,6.8598000000000001E-3,6.3588000000000004E-3,6.4967499999999999E-3,7.1384200000000004E-3]
[{"$f":"+Flujos!A80","v":"2027-12-24"},6.4340899999999999E-3,null,"2027-12-24",5.7316700000000003E-3,4.69667E-3,4.03741E-3,4.48373E-3,4.6665400000000003E-3,6.6017200000000002E-3,6.75569E-3,5.9208000000000004E-3,6.4340899999999999E-3,7.0502100000000003E-3]
[{"$f":"+Flujos!A81","v":"2028-01-24"},6.3705200000000002E-3,null,"2028-01-24",4.9866299999999997E-3,4.3015600000000003E-3,3.8396900000000002E-3,4.4304799999999997E-3,4.5863700000000002E-3,6.5107400000000001E-3,6.6647900000000003E-3,6.1683399999999996E-3,6.3705200000000002E-3,6.9628700000000003E-3]
[{"$f":"+Flujos!A82","v":"2028-02-24"},6.3063299999999997E-3,null,"2028-02-24",4.2769499999999998E-3,4.9913199999999996E-3,4.5098200000000003E-3,4.35579E-3,4.5279200000000004E-3,6.4344800000000002E-3,6.5847299999999996E-3,6.0728500000000003E-3,6.3063299999999997E-3,6.87238E-3]
[{"$f":"+Flujos!A83","v":"2028-03-24"},6.2454800000000003E-3,null,"2028-03-24",4.9432399999999998E-3,4.3739599999999997E-3,4.5685300000000003E-3,4.3391100000000002E-3,4.4679200000000002E-3,6.3598600000000002E-3,6.4819600000000002E-3,5.9640200000000004E-3,6.2454800000000003E-3,6.7815699999999998E-3]
[{"$f":"+Flujos!A84","v":"2028-04-24"},6.1798799999999996E-3,null,"2028-04-24",5.1545999999999996E-3,4.40034E-3,3.98468E-3,4.2391499999999997E-3,4.4195500000000004E-3,6.2791000000000001E-3,5.9073299999999997E-3,5.8419800000000001E-3,6.1798799999999996E-3,6.6926399999999997E-3]
[{"$f":"+Flujos!A85","v":"2028-05-24"},6.1203500000000001E-3,null,"2028-05-24",4.73523E-3,4.7348900000000003E-3,3.9740699999999997E-3,4.1839900000000003E-3,4.3552699999999996E-3,6.2127700000000003E-3,6.2914900000000003E-3,5.7256299999999998E-3,6.1203500000000001E-3,6.60145E-3]
[{"$f":"+Flujos!A86","v":"2028-06-24"},5.8078599999999998E-3,null,"2028-06-24",5.4271199999999997E-3,4.1604199999999997E-3,3.7049499999999998E-3,3.87119E-3,4.0387499999999998E-3,6.1134300000000004E-3,6.2176100000000002E-3,5.6182999999999997E-3,5.8078599999999998E-3,6.2474000000000002E-3]
[{"$f":"+Flujos!A87","v":"2028-07-24"},5.9820300000000002E-3,null,"2028-07-24",4.8140600000000002E-3,3.8457299999999999E-3,3.8472900000000002E-3,4.0644699999999997E-3,4.2670700000000004E-3,6.0429999999999998E-3,6.1221000000000001E-3,5.5067600000000003E-3,5.9820300000000002E-3,6.4355599999999999E-3]
[{"$f":"+Flujos!A88","v":"2028-08-24"},5.9121099999999999E-3,null,"2028-08-24",3.9697400000000002E-3,4.0082700000000004E-3,3.84572E-3,3.9980199999999997E-3,4.21632E-3,5.4616899999999999E-3,6.02427E-3,5.4078599999999996E-3,5.9121099999999999E-3,6.3575200000000002E-3]
[{"$f":"+Flujos!A89","v":"2028-09-24"},5.82681E-3,null,"2028-09-24",6.0365200000000001E-3,3.94832E-3,3.7928300000000001E-3,3.9505399999999998E-3,4.1528600000000004E-3,5.8807299999999998E-3,5.9456700000000001E-3,5.2936600000000004E-3,5.82681E-3,6.2808899999999999E-3]
[{"$f":"+Flujos!A90","v":"2028-10-24"},5.7640399999999998E-3,null,"2028-10-24",5.3255999999999998E-3,3.9504800000000001E-3,3.75348E-3,3.90062E-3,4.1353099999999997E-3,5.7960299999999998E-3,5.8667600000000004E-3,5.2002000000000003E-3,5.7640399999999998E-3,6.2056699999999999E-3]
[{"$f":"+Flujos!A91","v":"2028-11-24"},5.6965899999999996E-3,null,"2028-11-24",4.4640699999999997E-3,3.9433000000000003E-3,3.6607499999999999E-3,2.3437000000000002E-3,3.4722400000000001E-3,5.7048000000000003E-3,5.7543899999999999E-3,5.10284E-3,5.6965899999999996E-3,6.1318400000000004E-3]
[{"$f":"+Flujos!A92","v":"2028-12-24"},5.6319600000000001E-3,null,"2028-12-24",4.4195800000000002E-3,3.9263800000000001E-3,3.05047E-3,0,0,5.6364500000000003E-3,5.6792199999999996E-3,4.6637400000000004E-3,5.6319600000000001E-3,6.0583E-3]
[{"$f":"+Flujos!A93","v":"2029-01-24"},5.56786E-3,null,"2029-01-24",4.3862900000000002E-3,3.8983400000000001E-3,0,0,0,5.5551899999999998E-3,5.6114600000000004E-3,4.9394199999999999E-3,5.56786E-3,5.9862800000000001E-3]
[{"$f":"+Flujos!A94","v":"2029-02-24"},5.4983899999999997E-3,null,"2029-02-24",4.3803799999999997E-3,3.8490999999999998E-3,0,0,0,5.4805899999999996E-3,5.5501600000000002E-3,4.8555200000000003E-3,5.4983899999999997E-3,5.9166799999999997E-3]
[{"$f":"+Flujos!A95","v":"2029-03-24"},5.4334500000000003E-3,null,"2029-03-24",4.3798200000000004E-3,3.8268600000000001E-3,0,0,0,5.4235799999999999E-3,5.4846599999999997E-3,4.76093E-3,5.4334500000000003E-3,5.8484299999999999E-3]
[{"$f":"+Flujos!A96","v":"2029-04-24"},5.3619899999999996E-3,null,"2029-04-24",4.3267999999999996E-3,3.7808500000000001E-3,0,0,0,5.3679000000000001E-3,4.8864399999999997E-3,4.6787599999999997E-3,5.3619899999999996E-3,5.7806300000000001E-3]
[{"$f":"+Flujos!A97","v":"2029-05-24"},5.2928100000000002E-3,null,"2029-05-24",4.27415E-3,3.77437E-3,0,0,0,5.3150000000000003E-3,5.3224500000000003E-3,4.5914700000000003E-3,5.2928100000000002E-3,5.7150200000000003E-3]
[{"$f":"+Flujos!A98","v":"2029-06-24"},4.9620599999999999E-3,null,"2029-06-24",3.9860499999999997E-3,1.4514300000000001E-3,0,0,0,5.25984E-3,5.2409800000000001E-3,4.4909599999999996E-3,4.9620599999999999E-3,5.3699500000000001E-3]
[{"$f":"+Flujos!A99","v":"2029-07-24"},5.1329499999999998E-3,null,"2029-07-24",4.1744800000000004E-3,0,0,0,0,5.2122799999999997E-3,5.1673800000000001E-3,4.3902999999999998E-3,5.1329499999999998E-3,5.5739800000000001E-3]
[{"$f":"+Flujos!A100","v":"2029-08-24"},5.0336900000000004E-3,null,"2029-08-24",4.1640000000000002E-3,0,0,0,0,4.6401699999999999E-3,5.1023400000000003E-3,4.30307E-3,5.0336900000000004E-3,5.5077099999999999E-3]
[{"$f":"+Flujos!A101","v":"2029-09-24"},4.9106999999999996E-3,null,"2029-09-24",4.1241100000000003E-3,0,0,0,0,5.1044200000000001E-3,5.0309899999999999E-3,4.2318099999999999E-3,4.9106999999999996E-3,5.44123E-3]
[{"$f":"+Flujos!A102","v":"2029-10-24"},0,null,"2029-10-24",4.0875199999999999E-3,0,0,0,0,5.0624900000000002E-3,4.9728799999999998E-3,4.1404700000000003E-3,0,5.37755E-3]
[{"$f":"+Flujos!A103","v":"2029-11-24"},0,null,"2029-11-24",4.0593499999999998E-3,0,0,0,0,5.0222599999999997E-3,4.92072E-3,4.0372999999999997E-3,0,5.3160400000000002E-3]
[{"$f":"+Flujos!A104","v":"2029-12-24"},0,null,"2029-12-24",2.5868599999999999E-3,0,0,0,0,4.9682900000000002E-3,4.8708400000000004E-3,3.5531600000000001E-3,0,5.2493100000000001E-3]
[{"$f":"+Flujos!A105","v":"2030-01-24"},0,null,"2030-01-24",0,0,0,0,0,4.9252300000000001E-3,4.8245800000000002E-3,3.8364599999999999E-3,0,5.1909499999999997E-3]
[{"$f":"+Flujos!A106","v":"2030-02-24"},0,null,"2030-02-24",0,0,0,0,0,4.8813900000000002E-3,4.7782099999999997E-3,1.31036E-3,0,5.1123000000000002E-3]
[{"$f":"+Flujos!A107","v":"2030-03-24"},0,null,"2030-03-24",0,0,0,0,0,4.8418999999999997E-3,4.7347700000000001E-3,0,0,5.03128E-3]
[{"$f":"+Flujos!A108","v":"2030-04-24"},0,null,"2030-04-24",0,0,0,0,0,4.7920799999999998E-3,4.1375800000000001E-3,0,0,4.9405600000000001E-3]
[{"$f":"+Flujos!A109","v":"2030-05-24"},0,null,"2030-05-24",0,0,0,0,0,4.7435699999999999E-3,4.63563E-3,0,0,4.8725699999999997E-3]
[{"$f":"+Flujos!A110","v":"2030-06-24"},0,null,"2030-06-24",0,0,0,0,0,4.6985500000000001E-3,4.5873299999999997E-3,0,0,4.50637E-3]
[{"$f":"+Flujos!A111","v":"2030-07-24"},0,null,"2030-07-24",0,0,0,0,0,4.6561800000000002E-3,4.5356700000000003E-3,0,0,4.7217500000000003E-3]
[{"$f":"+Flujos!A112","v":"2030-08-24"},0,null,"2030-08-24",0,0,0,0,0,4.0611900000000001E-3,4.4855800000000003E-3,0,0,4.6762699999999997E-3]
[{"$f":"+Flujos!A113","v":"2030-09-24"},0,null,"2030-09-24",0,0,0,0,0,4.5745999999999998E-3,4.4324999999999998E-3,0,0,4.6316999999999999E-3]
[{"$f":"+Flujos!A114","v":"2030-10-24"},0,null,"2030-10-24",0,0,0,0,0,4.5313799999999998E-3,4.3802700000000003E-3,0,0,4.5880499999999998E-3]
[{"$f":"+Flujos!A115","v":"2030-11-24"},0,null,"2030-11-24",0,0,0,0,0,4.4838999999999999E-3,4.3313099999999997E-3,0,0,4.5453000000000004E-3]
[{"$f":"+Flujos!A116","v":"2030-12-24"},0,null,"2030-12-24",0,0,0,0,0,4.4437299999999999E-3,4.2706100000000002E-3,0,0,3.3996600000000001E-3]
[{"$f":"+Flujos!A117","v":"2031-01-24"},1.86655E-3,null,"2031-01-24",0,0,0,0,0,4.3995700000000002E-3,4.21646E-3,0,1.86655E-3,0]
[{"$f":"+Flujos!A118","v":"2031-02-24"},3.6534499999999999E-3,null,"2031-02-24",0,0,0,0,0,4.3551099999999997E-3,4.1661800000000002E-3,0,3.6534499999999999E-3,0]
[{"$f":"+Flujos!A119","v":"2031-03-24"},3.6074800000000001E-3,null,"2031-03-24",0,0,0,0,0,4.3145900000000001E-3,4.0988700000000001E-3,0,3.6074800000000001E-3,0]
[{"$f":"+Flujos!A120","v":"2031-04-24"},3.5704899999999999E-3,null,"2031-04-24",0,0,0,0,0,4.2696000000000001E-3,3.4659000000000001E-3,0,3.5704899999999999E-3,0]
[{"$f":"+Flujos!A121","v":"2031-05-24"},3.5366400000000002E-3,null,"2031-05-24",0,0,0,0,0,4.2196200000000003E-3,4.0034099999999998E-3,0,3.5366400000000002E-3,0]
[{"$f":"+Flujos!A122","v":"2031-06-24"},3.20361E-3,null,"2031-06-24",0,0,0,0,0,4.1786000000000002E-3,3.9537399999999999E-3,0,3.20361E-3,0]
[{"$f":"+Flujos!A123","v":"2031-07-24"},3.46204E-3,null,"2031-07-24",0,0,0,0,0,4.1370199999999999E-3,3.89456E-3,0,3.46204E-3,0]
[{"$f":"+Flujos!A124","v":"2031-08-24"},3.4296700000000001E-3,null,"2031-08-24",0,0,0,0,0,2.1746299999999999E-3,3.0831000000000001E-4,0,3.4296700000000001E-3,0]
[{"$f":"+Flujos!A125","v":"2031-09-24"},3.3963499999999998E-3,null,"2031-09-24",0,0,0,0,0,0,0,0,3.3963499999999998E-3,0]
[{"$f":"+Flujos!A126","v":"2031-10-24"},3.3616499999999999E-3,null,"2031-10-24",0,0,0,0,0,0,0,0,3.3616499999999999E-3,0]
[{"$f":"+Flujos!A127","v":"2031-11-24"},3.3227600000000001E-3,null,"2031-11-24",0,0,0,0,0,0,0,0,3.3227600000000001E-3,0]
[{"$f":"+Flujos!A128","v":"2031-12-24"},3.2899600000000002E-3,null,"2031-12-24",0,0,0,0,0,0,0,0,3.2899600000000002E-3,0]
[{"$f":"+Flujos!A129","v":"2032-01-24"},3.2527099999999998E-3,null,"2032-01-24",0,0,0,0,0,0,0,0,3.2527099999999998E-3,0]
[{"$f":"+Flujos!A130","v":"2032-02-24"},2.8097600000000001E-3,null,"2032-02-24",0,0,0,0,0,0,0,0,2.8097600000000001E-3,0]
[{"$f":"+Flujos!A131","v":"2032-03-24"},0,null,"2032-03-24",0,0,0,0,0,0,0,0,0,0]
[{"$f":"+Flujos!A132","v":"2032-04-24"},{"$f":"+VLOOKUP(A132,$D$2:$M$182,MATCH($B$2,$D$2:$M$2,0),FALSE)","v":0},null,{"$f":"+A132","v":"2032-04-24"},0,0,0,0,0,0,0,0,0,0]
[{"$f":"+Flujos!A133","v":"2032-05-24"},0,null,"2032-05-24",0,0,0,0,0,0,0,0,0,0]
[{"$f":"+Flujos!A134","v":"2032-06-24"},0,null,"2032-06-24",0,0,0,0,0,0,0,0,0,0]
[{"$f":"+Flujos!A135","v":"2032-07-24"},0,null,"2032-07-24",0,0,0,0,0,0,0,0,0,0]
[{"$f":"+Flujos!A136","v":"2032-08-24"},0,null,"2032-08-24",0,0,0,0,0,0,0,0,0,0]
[{"$f":"+Flujos!A137","v":"2032-09-24"},0,null,"2032-09-24",0,0,0,0,0,0,0,0,0,0]
[{"$f":"+Flujos!A138","v":"2032-10-24"},0,null,"2032-10-24",0,0,0,0,0,0,0,0,0,0]
[{"$f":"+Flujos!A139","v":"2032-11-24"},0,null,"2032-11-24",0,0,0,0,0,0,0,0,0,0]
[{"$f":"+Flujos!A140","v":"2032-12-24"},0,null,"2032-12-24",0,0,0,0,0,0,0,0,0,0]
[{"$f":"+Flujos!A141","v":"2033-01-24"},0,null,"2033-01-24",0,0,0,0,0,0,0,0,0,0]
[{"$f":"+Flujos!A142","v":"2033-02-24"},0,null,"2033-02-24",0,0,0,0,0,0,0,0,0,0]
[{"$f":"+Flujos!A143","v":"2033-03-24"},0,null,"2033-03-24",0,0,0,0,0,0,0,0,0,0]
[{"$f":"+Flujos!A144","v":"2033-04-24"},0,null,"2033-04-24",0,0,0,0,0,0,0,0,0,0]
[{"$f":"+Flujos!A145","v":"2033-05-24"},0,null,"2033-05-24",0,0,0,0,0,0,0,0,0,0]
[{"$f":"+Flujos!A146","v":"2033-06-24"},0,null,"2033-06-24",0,0,0,0,0,0,0,0,0,0]
[{"$f":"+Flujos!A147","v":"2033-07-24"},0,null,"2033-07-24",0,0,0,0,0,0,0,0,0,0]
[{"$f":"+Flujos!A148","v":"2033-08-24"},0,null,"2033-08-24",0,0,0,0,0,0,0,0,0,0]
[{"$f":"+Flujos!A149","v":"2033-09-24"},0,null,"2033-09-24",0,0,0,0,0,0,0,0,0,0]
[{"$f":"+Flujos!A150","v":"2033-10-24"},0,null,"2033-10-24",0,0,0,0,0,0,0,0,0,0]
[{"$f":"+Flujos!A151","v":"2033-11-24"},0,null,"2033-11-24",0,0,0,0,0,0,0,0,0,0]
[{"$f":"+Flujos!A152","v":"2033-12-24"},0,null,"2033-12-24",0,0,0,0,0,0,0,0,0,0]
[{"$f":"+Flujos!A153","v":"2034-01-24"},0,null,"2034-01-24",0,0,0,0,0,0,0,0,0,0]
[{"$f":"+Flujos!A154","v":"2034-02-24"},0,null,"2034-02-24",0,0,0,0,0,0,0,0,0,0]
[{"$f":"+Flujos!A155","v":"2034-03-24"},0,null,"2034-03-24",0,0,0,0,0,0,0,0,0,0]
[{"$f":"+Flujos!A156","v":"2034-04-24"},0,null,"2034-04-24",0,0,0,0,0,0,0,0,0,0]
[{"$f":"+Flujos!A157","v":"2034-05-24"},0,null,"2034-05-24",0,0,0,0,0,0,0,0,0,0]
[{"$f":"+Flujos!A158","v":"2034-06-24"},0,null,"2034-06-24",0,0,0,0,0,0,0,0,0,0]
[{"$f":"+Flujos!A159","v":"2034-07-24"},0,null,"2034-07-24",0,0,0,0,0,0,0,0,0,0]
[{"$f":"+Flujos!A160","v":"2034-08-24"},0,null,"2034-08-24",0,0,0,0,0,0,0,0,0,0]
[{"$f":"+Flujos!A161","v":"2034-09-24"},0,null,"2034-09-24",0,0,0,0,0,0,0,0,0,0]
[{"$f":"+Flujos!A162","v":"2034-10-24"},0,null,"2034-10-24",0,0,0,0,0,0,0,0,0,0]
[{"$f":"+Flujos!A163","v":"2034-11-24"},0,null,"2034-11-24",0,0,0,0,0,0,0,0,0,0]
[{"$f":"+Flujos!A164","v":"2034-12-24"},0,null,"2034-12-24",0,0,0,0,0,0,0,0,0,0]
[{"$f":"+Flujos!A165","v":"2035-01-24"},0,null,"2035-01-24",0,0,0,0,0,0,0,0,0,0]
[{"$f":"+Flujos!A166","v":"2035-02-24"},0,null,"2035-02-24",0,0,0,0,0,0,0,0,0,0]
[{"$f":"+Flujos!A167","v":"2035-03-24"},0,null,"2035-03-24",0,0,0,0,0,0,0,0,0,0]
[{"$f":"+Flujos!A168","v":"2035-04-24"},0,null,"2035-04-24",0,0,0,0,0,0,0,0,0,0]
[{"$f":"+Flujos!A169","v":"2035-05-24"},0,null,"2035-05-24",0,0,0,0,0,0,0,0,0,0]
[{"$f":"+Flujos!A170","v":"2035-06-24"},0,null,"2035-06-24",0,0,0,0,0,0,0,0,0,0]
[{"$f":"+Flujos!A171","v":"2035-07-24"},0,null,"2035-07-24",0,0,0,0,0,0,0,0,0,0]
[{"$f":"+Flujos!A172","v":"2035-08-24"},0,null,"2035-08-24",0,0,0,0,0,0,0,0,0,0]
[{"$f":"+Flujos!A173","v":"2035-09-24"},0,null,"2035-09-24",0,0,0,0,0,0,0,0,0,0]
[{"$f":"+Flujos!A174","v":"2035-10-24"},0,null,"2035-10-24",0,0,0,0,0,0,0,0,0,0]
[{"$f":"+Flujos!A175","v":"2035-11-24"},0,null,"2035-11-24",0,0,0,0,0,0,0,0,0,0]
[{"$f":"+Flujos!A176","v":"2035-12-24"},0,null,"2035-12-24",0,0,0,0,0,0,0,0,0,0]
[{"$f":"+Flujos!A177","v":"2036-01-24"},0,null,"2036-01-24",0,0,0,0,0,0,0,0,0,0]
[{"$f":"+Flujos!A178","v":"2036-02-24"},0,null,"2036-02-24",0,0,0,0,0,0,0,0,0,0]
[{"$f":"+Flujos!A179","v":"2036-03-24"},0,null,"2036-03-24",0,0,0,0,0,0,0,0,0,0]
[{"$f":"+Flujos!A180","v":"2036-04-24"},0,null,"2036-04-24",0,0,0,0,0,0,0,0,0,0]
[{"$f":"+Flujos!A181","v":"2036-05-24"},0,null,"2036-05-24",0,0,0,0,0,0,0,0,0,0]
[{"$f":"+Flujos!A182","v":"2036-06-24"},0,null,"2036-06-24",0,0,0,0,0,0,0,0,0,0]
[null,{"$error":"#N/A"},null,null,{"$f":"SUM(E3:E182)","v":0.99999999999999978},0.99999999999999989,1.0000000000000002,1,1,0.99999999999999967,1.0000000000000002,0.99999999999999989,{"$f":"SUM(M3:M182)","v":0.99999999999999989},1]
[null,{"$error":"#N/A"},null,null,{"$f":"1-E183","v":0},0,0,0,0,0,0,0,{"$f":"1-M183","v":0},0]

{"sheet":"Tablas","index":5,"n_rows":181,"n_cols":5,"rows_kept":181,"cut":false,"hidden":true,"merged":[]}
["FECHA",{"$f":"+CALCULADORA!C9","v":"TIPS N21 A"},"Valoración"]
[{"$f":"+'Tabla de Amortizacion'!A3","v":"2021-07-24"},{"$f":"+ROUND(C2,8)","v":1.952549E-2},{"$f":"+VLOOKUP(A2,'Tabla de Amortizacion'!$D$2:$N$182,MATCH(Tablas!$B$1,'Tabla de Amortizacion'!$D$2:$N$2,0))","v":1.952549E-2},null,{"$f":"IF([1]CALCULADORA!$F$10=\"Contractual\",ROUND('[1]Tabla de Amortizacion'!C3,8),IF([1]CALCULADORA!$F$10=\"6% (Medio)\",ROUND('[1]Tabla de Amortizacion'!F3,8),IF([1]CALCULADORA!$F$10=\"10% (Medio Alto)\",ROUND('[1]Tabla de Amortizacion'!H3,8),IF([1]CALCULADORA!$F$10=\"14% (Alto)\",ROUND('[1]Tabla de Amortizacion'!#REF!,8),IF([1]CALCULADORA!$F$10=20%,ROUND('[1]Tabla de Amortizacion'!#REF!,8),ROUND('[1]Tabla de Amortizacion'!K3,8))))))","v":0}]
[{"$f":"EDATE(A2,1)","v":"2021-08-24"},{"$f":"+ROUND(C3,8)","v":2.8349989999999999E-2},{"$f":"+VLOOKUP(A3,'Tabla de Amortizacion'!$D$2:$N$182,MATCH(Tablas!$B$1,'Tabla de Amortizacion'!$D$2:$N$2,0))","v":2.8349989999999999E-2},null,{"$f":"IF([1]CALCULADORA!$F$10=\"Contractual\",ROUND('[1]Tabla de Amortizacion'!C4,8),IF([1]CALCULADORA!$F$10=\"6% (Medio)\",ROUND('[1]Tabla de Amortizacion'!F4,8),IF([1]CALCULADORA!$F$10=\"10% (Medio Alto)\",ROUND('[1]Tabla de Amortizacion'!H4,8),IF([1]CALCULADORA!$F$10=\"14% (Alto)\",ROUND('[1]Tabla de Amortizacion'!#REF!,8),IF([1]CALCULADORA!$F$10=20%,ROUND('[1]Tabla de Amortizacion'!#REF!,8),ROUND('[1]Tabla de Amortizacion'!K4,8))))))","v":0}]
["2021-09-24",2.6544970000000001E-2,{"$f":"+VLOOKUP(A4,'Tabla de Amortizacion'!$D$2:$N$182,MATCH(Tablas!$B$1,'Tabla de Amortizacion'!$D$2:$N$2,0))","v":2.6544970000000001E-2},null,{"$f":"IF([1]CALCULADORA!$F$10=\"Contractual\",ROUND('[1]Tabla de Amortizacion'!C5,8),IF([1]CALCULADORA!$F$10=\"6% (Medio)\",ROUND('[1]Tabla de Amortizacion'!F5,8),IF([1]CALCULADORA!$F$10=\"10% (Medio Alto)\",ROUND('[1]Tabla de Amortizacion'!H5,8),IF([1]CALCULADORA!$F$10=\"14% (Alto)\",ROUND('[1]Tabla de Amortizacion'!#REF!,8),IF([1]CALCULADORA!$F$10=20%,ROUND('[1]Tabla de Amortizacion'!#REF!,8),ROUND('[1]Tabla de Amortizacion'!K5,8))))))","v":0}]
["2021-10-24",2.6772089999999998E-2,{"$f":"+VLOOKUP(A5,'Tabla de Amortizacion'!$D$2:$N$182,MATCH(Tablas!$B$1,'Tabla de Amortizacion'!$D$2:$N$2,0))","v":2.6772089999999998E-2},null,{"$f":"IF([1]CALCULADORA!$F$10=\"Contractual\",ROUND('[1]Tabla de Amortizacion'!C6,8),IF([1]CALCULADORA!$F$10=\"6% (Medio)\",ROUND('[1]Tabla de Amortizacion'!F6,8),IF([1]CALCULADORA!$F$10=\"10% (Medio Alto)\",ROUND('[1]Tabla de Amortizacion'!H6,8),IF([1]CALCULADORA!$F$10=\"14% (Alto)\",ROUND('[1]Tabla de Amortizacion'!#REF!,8),IF([1]CALCULADORA!$F$10=20%,ROUND('[1]Tabla de Amortizacion'!#REF!,8),ROUND('[1]Tabla de Amortizacion'!K6,8))))))","v":0}]
["2021-11-24",2.1764450000000001E-2,{"$f":"+VLOOKUP(A6,'Tabla de Amortizacion'!$D$2:$N$182,MATCH(Tablas!$B$1,'Tabla de Amortizacion'!$D$2:$N$2,0))","v":2.1764450000000001E-2},null,{"$f":"IF([1]CALCULADORA!$F$10=\"Contractual\",ROUND('[1]Tabla de Amortizacion'!C7,8),IF([1]CALCULADORA!$F$10=\"6% (Medio)\",ROUND('[1]Tabla de Amortizacion'!F7,8),IF([1]CALCULADORA!$F$10=\"10% (Medio Alto)\",ROUND('[1]Tabla de Amortizacion'!H7,8),IF([1]CALCULADORA!$F$10=\"14% (Alto)\",ROUND('[1]Tabla de Amortizacion'!#REF!,8),IF([1]CALCULADORA!$F$10=20%,ROUND('[1]Tabla de Amortizacion'!#REF!,8),ROUND('[1]Tabla de Amortizacion'!K7,8))))))","v":0}]
["2021-12-24",1.8318210000000001E-2,{"$f":"+VLOOKUP(A7,'Tabla de Amortizacion'!$D$2:$N$182,MATCH(Tablas!$B$1,'Tabla de Amortizacion'!$D$2:$N$2,0))","v":1.8318210000000001E-2},null,{"$f":"IF([1]CALCULADORA!$F$10=\"Contractual\",ROUND('[1]Tabla de Amortizacion'!C8,8),IF([1]CALCULADORA!$F$10=\"6% (Medio)\",ROUND('[1]Tabla de Amortizacion'!F8,8),IF([1]CALCULADORA!$F$10=\"10% (Medio Alto)\",ROUND('[1]Tabla de Amortizacion'!H8,8),IF([1]CALCULADORA!$F$10=\"14% (Alto)\",ROUND('[1]Tabla de Amortizacion'!#REF!,8),IF([1]CALCULADORA!$F$10=20%,ROUND('[1]Tabla de Amortizacion'!#REF!,8),ROUND('[1]Tabla de Amortizacion'!K8,8))))))","v":0}]
["2022-01-24",1.7947040000000001E-2,{"$f":"+VLOOKUP(A8,'Tabla de Amortizacion'!$D$2:$N$182,MATCH(Tablas!$B$1,'Tabla de Amortizacion'!$D$2:$N$2,0))","v":1.7947040000000001E-2},null,{"$f":"IF([1]CALCULADORA!$F$10=\"Contractual\",ROUND('[1]Tabla de Amortizacion'!C9,8),IF([1]CALCULADORA!$F$10=\"6% (Medio)\",ROUND('[1]Tabla de Amortizacion'!F9,8),IF([1]CALCULADORA!$F$10=\"10% (Medio Alto)\",ROUND('[1]Tabla de Amortizacion'!H9,8),IF([1]CALCULADORA!$F$10=\"14% (Alto)\",ROUND('[1]Tabla de Amortizacion'!#REF!,8),IF([1]CALCULADORA!$F$10=20%,ROUND('[1]Tabla de Amortizacion'!#REF!,8),ROUND('[1]Tabla de Amortizacion'!K9,8))))))","v":0}]
["2022-02-24",1.6100360000000001E-2,{"$f":"+VLOOKUP(A9,'Tabla de Amortizacion'!$D$2:$N$182,MATCH(Tablas!$B$1,'Tabla de Amortizacion'!$D$2:$N$2,0))","v":1.6100360000000001E-2},null,{"$f":"IF([1]CALCULADORA!$F$10=\"Contractual\",ROUND('[1]Tabla de Amortizacion'!C10,8),IF([1]CALCULADORA!$F$10=\"6% (Medio)\",ROUND('[1]Tabla de Amortizacion'!F10,8),IF([1]CALCULADORA!$F$10=\"10% (Medio Alto)\",ROUND('[1]Tabla de Amortizacion'!H10,8),IF([1]CALCULADORA!$F$10=\"14% (Alto)\",ROUND('[1]Tabla de Amortizacion'!#REF!,8),IF([1]CALCULADORA!$F$10=20%,ROUND('[1]Tabla de Amortizacion'!#REF!,8),ROUND('[1]Tabla de Amortizacion'!K10,8))))))","v":0}]
["2022-03-24",1.46862E-2,{"$f":"+VLOOKUP(A10,'Tabla de Amortizacion'!$D$2:$N$182,MATCH(Tablas!$B$1,'Tabla de Amortizacion'!$D$2:$N$2,0))","v":1.46862E-2},null,{"$f":"IF([1]CALCULADORA!$F$10=\"Contractual\",ROUND('[1]Tabla de Amortizacion'!C11,8),IF([1]CALCULADORA!$F$10=\"6% (Medio)\",ROUND('[1]Tabla de Amortizacion'!F11,8),IF([1]CALCULADORA!$F$10=\"10% (Medio Alto)\",ROUND('[1]Tabla de Amortizacion'!H11,8),IF([1]CALCULADORA!$F$10=\"14% (Alto)\",ROUND('[1]Tabla de Amortizacion'!#REF!,8),IF([1]CALCULADORA!$F$10=20%,ROUND('[1]Tabla de Amortizacion'!#REF!,8),ROUND('[1]Tabla de Amortizacion'!K11,8))))))","v":0}]
["2022-04-24",1.427731E-2,{"$f":"+VLOOKUP(A11,'Tabla de Amortizacion'!$D$2:$N$182,MATCH(Tablas!$B$1,'Tabla de Amortizacion'!$D$2:$N$2,0))","v":1.427731E-2},null,{"$f":"IF([1]CALCULADORA!$F$10=\"Contractual\",ROUND('[1]Tabla de Amortizacion'!C12,8),IF([1]CALCULADORA!$F$10=\"6% (Medio)\",ROUND('[1]Tabla de Amortizacion'!F12,8),IF([1]CALCULADORA!$F$10=\"10% (Medio Alto)\",ROUND('[1]Tabla de Amortizacion'!H12,8),IF([1]CALCULADORA!$F$10=\"14% (Alto)\",ROUND('[1]Tabla de Amortizacion'!#REF!,8),IF([1]CALCULADORA!$F$10=20%,ROUND('[1]Tabla de Amortizacion'!#REF!,8),ROUND('[1]Tabla de Amortizacion'!K12,8))))))","v":0}]
["2022-05-24",1.730595E-2,{"$f":"+VLOOKUP(A12,'Tabla de Amortizacion'!$D$2:$N$182,MATCH(Tablas!$B$1,'Tabla de Amortizacion'!$D$2:$N$2,0))","v":1.730595E-2},null,{"$f":"IF([1]CALCULADORA!$F$10=\"Contractual\",ROUND('[1]Tabla de Amortizacion'!C13,8),IF([1]CALCULADORA!$F$10=\"6% (Medio)\",ROUND('[1]Tabla de Amortizacion'!F13,8),IF([1]CALCULADORA!$F$10=\"10% (Medio Alto)\",ROUND('[1]Tabla de Amortizacion'!H13,8),IF([1]CALCULADORA!$F$10=\"14% (Alto)\",ROUND('[1]Tabla de Amortizacion'!#REF!,8),IF([1]CALCULADORA!$F$10=20%,ROUND('[1]Tabla de Amortizacion'!#REF!,8),ROUND('[1]Tabla de Amortizacion'!K13,8))))))","v":0}]
["2022-06-24",1.3769160000000001E-2,{"$f":"+VLOOKUP(A13,'Tabla de Amortizacion'!$D$2:$N$182,MATCH(Tablas!$B$1,'Tabla de Amortizacion'!$D$2:$N$2,0))","v":1.3769160000000001E-2},null,{"$f":"IF([1]CALCULADORA!$F$10=\"Contractual\",ROUND('[1]Tabla de Amortizacion'!C14,8),IF([1]CALCULADORA!$F$10=\"6% (Medio)\",ROUND('[1]Tabla de Amortizacion'!F14,8),IF([1]CALCULADORA!$F$10=\"10% (Medio Alto)\",ROUND('[1]Tabla de Amortizacion'!H14,8),IF([1]CALCULADORA!$F$10=\"14% (Alto)\",ROUND('[1]Tabla de Amortizacion'!#REF!,8),IF([1]CALCULADORA!$F$10=20%,ROUND('[1]Tabla de Amortizacion'!#REF!,8),ROUND('[1]Tabla de Amortizacion'!K14,8))))))","v":0}]
["2022-07-24",1.483369E-2,{"$f":"+VLOOKUP(A14,'Tabla de Amortizacion'!$D$2:$N$182,MATCH(Tablas!$B$1,'Tabla de Amortizacion'!$D$2:$N$2,0))","v":1.483369E-2},null,{"$f":"IF([1]CALCULADORA!$F$10=\"Contractual\",ROUND('[1]Tabla de Amortizacion'!C15,8),IF([1]CALCULADORA!$F$10=\"6% (Medio)\",ROUND('[1]Tabla de Amortizacion'!F15,8),IF([1]CALCULADORA!$F$10=\"10% (Medio Alto)\",ROUND('[1]Tabla de Amortizacion'!H15,8),IF([1]CALCULADORA!$F$10=\"14% (Alto)\",ROUND('[1]Tabla de Amortizacion'!#REF!,8),IF([1]CALCULADORA!$F$10=20%,ROUND('[1]Tabla de Amortizacion'!#REF!,8),ROUND('[1]Tabla de Amortizacion'!K15,8))))))","v":0}]
["2022-08-24",1.2893119999999999E-2,{"$f":"+VLOOKUP(A15,'Tabla de Amortizacion'!$D$2:$N$182,MATCH(Tablas!$B$1,'Tabla de Amortizacion'!$D$2:$N$2,0))","v":1.2893119999999999E-2},null,{"$f":"IF([1]CALCULADORA!$F$10=\"Contractual\",ROUND('[1]Tabla de Amortizacion'!C16,8),IF([1]CALCULADORA!$F$10=\"6% (Medio)\",ROUND('[1]Tabla de Amortizacion'!F16,8),IF([1]CALCULADORA!$F$10=\"10% (Medio Alto)\",ROUND('[1]Tabla de Amortizacion'!H16,8),IF([1]CALCULADORA!$F$10=\"14% (Alto)\",ROUND('[1]Tabla de Amortizacion'!#REF!,8),IF([1]CALCULADORA!$F$10=20%,ROUND('[1]Tabla de Amortizacion'!#REF!,8),ROUND('[1]Tabla de Amortizacion'!K16,8))))))","v":0}]
["2022-09-24",1.178352E-2,{"$f":"+VLOOKUP(A16,'Tabla de Amortizacion'!$D$2:$N$182,MATCH(Tablas!$B$1,'Tabla de Amortizacion'!$D$2:$N$2,0))","v":1.178352E-2},null,{"$f":"IF([1]CALCULADORA!$F$10=\"Contractual\",ROUND('[1]Tabla de Amortizacion'!C17,8),IF([1]CALCULADORA!$F$10=\"6% (Medio)\",ROUND('[1]Tabla de Amortizacion'!F17,8),IF([1]CALCULADORA!$F$10=\"10% (Medio Alto)\",ROUND('[1]Tabla de Amortizacion'!H17,8),IF([1]CALCULADORA!$F$10=\"14% (Alto)\",ROUND('[1]Tabla de Amortizacion'!#REF!,8),IF([1]CALCULADORA!$F$10=20%,ROUND('[1]Tabla de Amortizacion'!#REF!,8),ROUND('[1]Tabla de Amortizacion'!K17,8))))))","v":0}]
["2022-10-24",1.0406540000000001E-2,{"$f":"+VLOOKUP(A17,'Tabla de Amortizacion'!$D$2:$N$182,MATCH(Tablas!$B$1,'Tabla de Amortizacion'!$D$2:$N$2,0))","v":1.0406540000000001E-2},null,{"$f":"IF([1]CALCULADORA!$F$10=\"Contractual\",ROUND('[1]Tabla de Amortizacion'!C18,8),IF([1]CALCULADORA!$F$10=\"6% (Medio)\",ROUND('[1]Tabla de Amortizacion'!F18,8),IF([1]CALCULADORA!$F$10=\"10% (Medio Alto)\",ROUND('[1]Tabla de Amortizacion'!H18,8),IF([1]CALCULADORA!$F$10=\"14% (Alto)\",ROUND('[1]Tabla de Amortizacion'!#REF!,8),IF([1]CALCULADORA!$F$10=20%,ROUND('[1]Tabla de Amortizacion'!#REF!,8),ROUND('[1]Tabla de Amortizacion'!K18,8))))))","v":0}]
["2022-11-24",1.3268179999999999E-2,{"$f":"+VLOOKUP(A18,'Tabla de Amortizacion'!$D$2:$N$182,MATCH(Tablas!$B$1,'Tabla de Amortizacion'!$D$2:$N$2,0))","v":1.3268179999999999E-2},null,{"$f":"IF([1]CALCULADORA!$F$10=\"Contractual\",ROUND('[1]Tabla de Amortizacion'!C19,8),IF([1]CALCULADORA!$F$10=\"6% (Medio)\",ROUND('[1]Tabla de Amortizacion'!F19,8),IF([1]CALCULADORA!$F$10=\"10% (Medio Alto)\",ROUND('[1]Tabla de Amortizacion'!H19,8),IF([1]CALCULADORA!$F$10=\"14% (Alto)\",ROUND('[1]Tabla de Amortizacion'!#REF!,8),IF([1]CALCULADORA!$F$10=20%,ROUND('[1]Tabla de Amortizacion'!#REF!,8),ROUND('[1]Tabla de Amortizacion'!K19,8))))))","v":0}]
["2022-12-24",1.4011529999999999E-2,{"$f":"+VLOOKUP(A19,'Tabla de Amortizacion'!$D$2:$N$182,MATCH(Tablas!$B$1,'Tabla de Amortizacion'!$D$2:$N$2,0))","v":1.4011529999999999E-2},null,{"$f":"IF([1]CALCULADORA!$F$10=\"Contractual\",ROUND('[1]Tabla de Amortizacion'!C20,8),IF([1]CALCULADORA!$F$10=\"6% (Medio)\",ROUND('[1]Tabla de Amortizacion'!F20,8),IF([1]CALCULADORA!$F$10=\"10% (Medio Alto)\",ROUND('[1]Tabla de Amortizacion'!H20,8),IF([1]CALCULADORA!$F$10=\"14% (Alto)\",ROUND('[1]Tabla de Amortizacion'!#REF!,8),IF([1]CALCULADORA!$F$10=20%,ROUND('[1]Tabla de Amortizacion'!#REF!,8),ROUND('[1]Tabla de Amortizacion'!K20,8))))))","v":0}]
["2023-01-24",1.3735590000000001E-2,{"$f":"+VLOOKUP(A20,'Tabla de Amortizacion'!$D$2:$N$182,MATCH(Tablas!$B$1,'Tabla de Amortizacion'!$D$2:$N$2,0))","v":1.3735590000000001E-2},null,{"$f":"IF([1]CALCULADORA!$F$10=\"Contractual\",ROUND('[1]Tabla de Amortizacion'!C21,8),IF([1]CALCULADORA!$F$10=\"6% (Medio)\",ROUND('[1]Tabla de Amortizacion'!F21,8),IF([1]CALCULADORA!$F$10=\"10% (Medio Alto)\",ROUND('[1]Tabla de Amortizacion'!H21,8),IF([1]CALCULADORA!$F$10=\"14% (Alto)\",ROUND('[1]Tabla de Amortizacion'!#REF!,8),IF([1]CALCULADORA!$F$10=20%,ROUND('[1]Tabla de Amortizacion'!#REF!,8),ROUND('[1]Tabla de Amortizacion'!K21,8))))))","v":0}]
["2023-02-24",1.4403030000000001E-2,{"$f":"+VLOOKUP(A21,'Tabla de Amortizacion'!$D$2:$N$182,MATCH(Tablas!$B$1,'Tabla de Amortizacion'!$D$2:$N$2,0))","v":1.4403030000000001E-2},null,{"$f":"IF([1]CALCULADORA!$F$10=\"Contractual\",ROUND('[1]Tabla de Amortizacion'!C22,8),IF([1]CALCULADORA!$F$10=\"6% (Medio)\",ROUND('[1]Tabla de Amortizacion'!F22,8),IF([1]CALCULADORA!$F$10=\"10% (Medio Alto)\",ROUND('[1]Tabla de Amortizacion'!H22,8),IF([1]CALCULADORA!$F$10=\"14% (Alto)\",ROUND('[1]Tabla de Amortizacion'!#REF!,8),IF([1]CALCULADORA!$F$10=20%,ROUND('[1]Tabla de Amortizacion'!#REF!,8),ROUND('[1]Tabla de Amortizacion'!K22,8))))))","v":0}]
["2023-03-24",1.2226229999999999E-2,{"$f":"+VLOOKUP(A22,'Tabla de Amortizacion'!$D$2:$N$182,MATCH(Tablas!$B$1,'Tabla de Amortizacion'!$D$2:$N$2,0))","v":1.2226229999999999E-2},null,{"$f":"IF([1]CALCULADORA!$F$10=\"Contractual\",ROUND('[1]Tabla de Amortizacion'!C23,8),IF([1]CALCULADORA!$F$10=\"6% (Medio)\",ROUND('[1]Tabla de Amortizacion'!F23,8),IF([1]CALCULADORA!$F$10=\"10% (Medio Alto)\",ROUND('[1]Tabla de Amortizacion'!H23,8),IF([1]CALCULADORA!$F$10=\"14% (Alto)\",ROUND('[1]Tabla de Amortizacion'!#REF!,8),IF([1]CALCULADORA!$F$10=20%,ROUND('[1]Tabla de Amortizacion'!#REF!,8),ROUND('[1]Tabla de Amortizacion'!K23,8))))))","v":0}]
["2023-04-24",1.260328E-2,{"$f":"+VLOOKUP(A23,'Tabla de Amortizacion'!$D$2:$N$182,MATCH(Tablas!$B$1,'Tabla de Amortizacion'!$D$2:$N$2,0))","v":1.260328E-2},null,{"$f":"IF([1]CALCULADORA!$F$10=\"Contractual\",ROUND('[1]Tabla de Amortizacion'!C24,8),IF([1]CALCULADORA!$F$10=\"6% (Medio)\",ROUND('[1]Tabla de Amortizacion'!F24,8),IF([1]CALCULADORA!$F$10=\"10% (Medio Alto)\",ROUND('[1]Tabla de Amortizacion'!H24,8),IF([1]CALCULADORA!$F$10=\"14% (Alto)\",ROUND('[1]Tabla de Amortizacion'!#REF!,8),IF([1]CALCULADORA!$F$10=20%,ROUND('[1]Tabla de Amortizacion'!#REF!,8),ROUND('[1]Tabla de Amortizacion'!K24,8))))))","v":0}]
["2023-05-24",1.0628820000000001E-2,{"$f":"+VLOOKUP(A24,'Tabla de Amortizacion'!$D$2:$N$182,MATCH(Tablas!$B$1,'Tabla de Amortizacion'!$D$2:$N$2,0))","v":1.0628820000000001E-2},null,{"$f":"IF([1]CALCULADORA!$F$10=\"Contractual\",ROUND('[1]Tabla de Amortizacion'!C25,8),IF([1]CALCULADORA!$F$10=\"6% (Medio)\",ROUND('[1]Tabla de Amortizacion'!F25,8),IF([1]CALCULADORA!$F$10=\"10% (Medio Alto)\",ROUND('[1]Tabla de Amortizacion'!H25,8),IF([1]CALCULADORA!$F$10=\"14% (Alto)\",ROUND('[1]Tabla de Amortizacion'!#REF!,8),IF([1]CALCULADORA!$F$10=20%,ROUND('[1]Tabla de Amortizacion'!#REF!,8),ROUND('[1]Tabla de Amortizacion'!K25,8))))))","v":0}]
["2023-06-24",9.7083499999999993E-3,{"$f":"+VLOOKUP(A25,'Tabla de Amortizacion'!$D$2:$N$182,MATCH(Tablas!$B$1,'Tabla de Amortizacion'!$D$2:$N$2,0))","v":9.7083499999999993E-3},null,{"$f":"IF([1]CALCULADORA!$F$10=\"Contractual\",ROUND('[1]Tabla de Amortizacion'!C26,8),IF([1]CALCULADORA!$F$10=\"6% (Medio)\",ROUND('[1]Tabla de Amortizacion'!F26,8),IF([1]CALCULADORA!$F$10=\"10% (Medio Alto)\",ROUND('[1]Tabla de Amortizacion'!H26,8),IF([1]CALCULADORA!$F$10=\"14% (Alto)\",ROUND('[1]Tabla de Amortizacion'!#REF!,8),IF([1]CALCULADORA!$F$10=20%,ROUND('[1]Tabla de Amortizacion'!#REF!,8),ROUND('[1]Tabla de Amortizacion'!K26,8))))))","v":0}]
["2023-07-24",9.1862799999999998E-3,{"$f":"+VLOOKUP(A26,'Tabla de Amortizacion'!$D$2:$N$182,MATCH(Tablas!$B$1,'Tabla de Amortizacion'!$D$2:$N$2,0))","v":9.1862799999999998E-3},null,{"$f":"IF([1]CALCULADORA!$F$10=\"Contractual\",ROUND('[1]Tabla de Amortizacion'!C27,8),IF([1]CALCULADORA!$F$10=\"6% (Medio)\",ROUND('[1]Tabla de Amortizacion'!F27,8),IF([1]CALCULADORA!$F$10=\"10% (Medio Alto)\",ROUND('[1]Tabla de Amortizacion'!H27,8),IF([1]CALCULADORA!$F$10=\"14% (Alto)\",ROUND('[1]Tabla de Amortizacion'!#REF!,8),IF([1]CALCULADORA!$F$10=20%,ROUND('[1]Tabla de Amortizacion'!#REF!,8),ROUND('[1]Tabla de Amortizacion'!K27,8))))))","v":0}]
["2023-08-24",1.3526109999999999E-2,{"$f":"+VLOOKUP(A27,'Tabla de Amortizacion'!$D$2:$N$182,MATCH(Tablas!$B$1,'Tabla de Amortizacion'!$D$2:$N$2,0))","v":1.3526109999999999E-2},null,{"$f":"IF([1]CALCULADORA!$F$10=\"Contractual\",ROUND('[1]Tabla de Amortizacion'!C28,8),IF([1]CALCULADORA!$F$10=\"6% (Medio)\",ROUND('[1]Tabla de Amortizacion'!F28,8),IF([1]CALCULADORA!$F$10=\"10% (Medio Alto)\",ROUND('[1]Tabla de Amortizacion'!H28,8),IF([1]CALCULADORA!$F$10=\"14% (Alto)\",ROUND('[1]Tabla de Amortizacion'!#REF!,8),IF([1]CALCULADORA!$F$10=20%,ROUND('[1]Tabla de Amortizacion'!#REF!,8),ROUND('[1]Tabla de Amortizacion'!K28,8))))))","v":0}]
["2023-09-24",1.1434740000000001E-2,{"$f":"+VLOOKUP(A28,'Tabla de Amortizacion'!$D$2:$N$182,MATCH(Tablas!$B$1,'Tabla de Amortizacion'!$D$2:$N$2,0))","v":1.1434740000000001E-2},null,{"$f":"IF([1]CALCULADORA!$F$10=\"Contractual\",ROUND('[1]Tabla de Amortizacion'!C29,8),IF([1]CALCULADORA!$F$10=\"6% (Medio)\",ROUND('[1]Tabla de Amortizacion'!F29,8),IF([1]CALCULADORA!$F$10=\"10% (Medio Alto)\",ROUND('[1]Tabla de Amortizacion'!H29,8),IF([1]CALCULADORA!$F$10=\"14% (Alto)\",ROUND('[1]Tabla de Amortizacion'!#REF!,8),IF([1]CALCULADORA!$F$10=20%,ROUND('[1]Tabla de Amortizacion'!#REF!,8),ROUND('[1]Tabla de Amortizacion'!K29,8))))))","v":0}]
["2023-10-24",8.3203400000000007E-3,{"$f":"+VLOOKUP(A29,'Tabla de Amortizacion'!$D$2:$N$182,MATCH(Tablas!$B$1,'Tabla de Amortizacion'!$D$2:$N$2,0))","v":8.3203400000000007E-3},null,{"$f":"IF([1]CALCULADORA!$F$10=\"Contractual\",ROUND('[1]Tabla de Amortizacion'!C30,8),IF([1]CALCULADORA!$F$10=\"6% (Medio)\",ROUND('[1]Tabla de Amortizacion'!F30,8),IF([1]CALCULADORA!$F$10=\"10% (Medio Alto)\",ROUND('[1]Tabla de Amortizacion'!H30,8),IF([1]CALCULADORA!$F$10=\"14% (Alto)\",ROUND('[1]Tabla de Amortizacion'!#REF!,8),IF([1]CALCULADORA!$F$10=20%,ROUND('[1]Tabla de Amortizacion'!#REF!,8),ROUND('[1]Tabla de Amortizacion'!K30,8))))))","v":0}]
["2023-11-24",1.294797E-2,{"$f":"+VLOOKUP(A30,'Tabla de Amortizacion'!$D$2:$N$182,MATCH(Tablas!$B$1,'Tabla de Amortizacion'!$D$2:$N$2,0))","v":1.294797E-2},null,{"$f":"IF([1]CALCULADORA!$F$10=\"Contractual\",ROUND('[1]Tabla de Amortizacion'!C31,8),IF([1]CALCULADORA!$F$10=\"6% (Medio)\",ROUND('[1]Tabla de Amortizacion'!F31,8),IF([1]CALCULADORA!$F$10=\"10% (Medio Alto)\",ROUND('[1]Tabla de Amortizacion'!H31,8),IF([1]CALCULADORA!$F$10=\"14% (Alto)\",ROUND('[1]Tabla de Amortizacion'!#REF!,8),IF([1]CALCULADORA!$F$10=20%,ROUND('[1]Tabla de Amortizacion'!#REF!,8),ROUND('[1]Tabla de Amortizacion'!K31,8))))))","v":0}]
["2023-12-24",9.2125000000000002E-3,{"$f":"+VLOOKUP(A31,'Tabla de Amortizacion'!$D$2:$N$182,MATCH(Tablas!$B$1,'Tabla de Amortizacion'!$D$2:$N$2,0))","v":9.2125000000000002E-3},null,{"$f":"IF([1]CALCULADORA!$F$10=\"Contractual\",ROUND('[1]Tabla de Amortizacion'!C32,8),IF([1]CALCULADORA!$F$10=\"6% (Medio)\",ROUND('[1]Tabla de Amortizacion'!F32,8),IF([1]CALCULADORA!$F$10=\"10% (Medio Alto)\",ROUND('[1]Tabla de Amortizacion'!H32,8),IF([1]CALCULADORA!$F$10=\"14% (Alto)\",ROUND('[1]Tabla de Amortizacion'!#REF!,8),IF([1]CALCULADORA!$F$10=20%,ROUND('[1]Tabla de Amortizacion'!#REF!,8),ROUND('[1]Tabla de Amortizacion'!K32,8))))))","v":0}]
["2024-01-24",1.153683E-2,{"$f":"+VLOOKUP(A32,'Tabla de Amortizacion'!$D$2:$N$182,MATCH(Tablas!$B$1,'Tabla de Amortizacion'!$D$2:$N$2,0))","v":1.153683E-2},null,{"$f":"IF([1]CALCULADORA!$F$10=\"Contractual\",ROUND('[1]Tabla de Amortizacion'!C33,8),IF([1]CALCULADORA!$F$10=\"6% (Medio)\",ROUND('[1]Tabla de Amortizacion'!F33,8),IF([1]CALCULADORA!$F$10=\"10% (Medio Alto)\",ROUND('[1]Tabla de Amortizacion'!H33,8),IF([1]CALCULADORA!$F$10=\"14% (Alto)\",ROUND('[1]Tabla de Amortizacion'!#REF!,8),IF([1]CALCULADORA!$F$10=20%,ROUND('[1]Tabla de Amortizacion'!#REF!,8),ROUND('[1]Tabla de Amortizacion'!K33,8))))))","v":0}]
["2024-02-24",1.0280620000000001E-2,{"$f":"+VLOOKUP(A33,'Tabla de Amortizacion'!$D$2:$N$182,MATCH(Tablas!$B$1,'Tabla de Amortizacion'!$D$2:$N$2,0))","v":1.0280620000000001E-2},null,{"$f":"IF([1]CALCULADORA!$F$10=\"Contractual\",ROUND('[1]Tabla de Amortizacion'!C34,8),IF([1]CALCULADORA!$F$10=\"6% (Medio)\",ROUND('[1]Tabla de Amortizacion'!F34,8),IF([1]CALCULADORA!$F$10=\"10% (Medio Alto)\",ROUND('[1]Tabla de Amortizacion'!H34,8),IF([1]CALCULADORA!$F$10=\"14% (Alto)\",ROUND('[1]Tabla de Amortizacion'!#REF!,8),IF([1]CALCULADORA!$F$10=20%,ROUND('[1]Tabla de Amortizacion'!#REF!,8),ROUND('[1]Tabla de Amortizacion'!K34,8))))))","v":0}]
["2024-03-24",8.8502000000000008E-3,{"$f":"+VLOOKUP(A34,'Tabla de Amortizacion'!$D$2:$N$182,MATCH(Tablas!$B$1,'Tabla de Amortizacion'!$D$2:$N$2,0))","v":8.8502000000000008E-3},null,{"$f":"IF([1]CALCULADORA!$F$10=\"Contractual\",ROUND('[1]Tabla de Amortizacion'!C35,8),IF([1]CALCULADORA!$F$10=\"6% (Medio)\",ROUND('[1]Tabla de Amortizacion'!F35,8),IF([1]CALCULADORA!$F$10=\"10% (Medio Alto)\",ROUND('[1]Tabla de Amortizacion'!H35,8),IF([1]CALCULADORA!$F$10=\"14% (Alto)\",ROUND('[1]Tabla de Amortizacion'!#REF!,8),IF([1]CALCULADORA!$F$10=20%,ROUND('[1]Tabla de Amortizacion'!#REF!,8),ROUND('[1]Tabla de Amortizacion'!K35,8))))))","v":0}]
["2024-04-24",1.1129760000000001E-2,{"$f":"+VLOOKUP(A35,'Tabla de Amortizacion'!$D$2:$N$182,MATCH(Tablas!$B$1,'Tabla de Amortizacion'!$D$2:$N$2,0))","v":1.1129760000000001E-2},null,{"$f":"IF([1]CALCULADORA!$F$10=\"Contractual\",ROUND('[1]Tabla de Amortizacion'!C36,8),IF([1]CALCULADORA!$F$10=\"6% (Medio)\",ROUND('[1]Tabla de Amortizacion'!F36,8),IF([1]CALCULADORA!$F$10=\"10% (Medio Alto)\",ROUND('[1]Tabla de Amortizacion'!H36,8),IF([1]CALCULADORA!$F$10=\"14% (Alto)\",ROUND('[1]Tabla de Amortizacion'!#REF!,8),IF([1]CALCULADORA!$F$10=20%,ROUND('[1]Tabla de Amortizacion'!#REF!,8),ROUND('[1]Tabla de Amortizacion'!K36,8))))))","v":0}]
["2024-05-24",9.3430400000000004E-3,{"$f":"+VLOOKUP(A36,'Tabla de Amortizacion'!$D$2:$N$182,MATCH(Tablas!$B$1,'Tabla de Amortizacion'!$D$2:$N$2,0))","v":9.3430400000000004E-3},null,{"$f":"IF([1]CALCULADORA!$F$10=\"Contractual\",ROUND('[1]Tabla de Amortizacion'!C37,8),IF([1]CALCULADORA!$F$10=\"6% (Medio)\",ROUND('[1]Tabla de Amortizacion'!F37,8),IF([1]CALCULADORA!$F$10=\"10% (Medio Alto)\",ROUND('[1]Tabla de Amortizacion'!H37,8),IF([1]CALCULADORA!$F$10=\"14% (Alto)\",ROUND('[1]Tabla de Amortizacion'!#REF!,8),IF([1]CALCULADORA!$F$10=20%,ROUND('[1]Tabla de Amortizacion'!#REF!,8),ROUND('[1]Tabla de Amortizacion'!K37,8))))))","v":0}]
["2024-06-24",9.0670899999999999E-3,{"$f":"+VLOOKUP(A37,'Tabla de Amortizacion'!$D$2:$N$182,MATCH(Tablas!$B$1,'Tabla de Amortizacion'!$D$2:$N$2,0))","v":9.0670899999999999E-3},null,{"$f":"IF([1]CALCULADORA!$F$10=\"Contractual\",ROUND('[1]Tabla de Amortizacion'!C38,8),IF([1]CALCULADORA!$F$10=\"6% (Medio)\",ROUND('[1]Tabla de Amortizacion'!F38,8),IF([1]CALCULADORA!$F$10=\"10% (Medio Alto)\",ROUND('[1]Tabla de Amortizacion'!H38,8),IF([1]CALCULADORA!$F$10=\"14% (Alto)\",ROUND('[1]Tabla de Amortizacion'!#REF!,8),IF([1]CALCULADORA!$F$10=20%,ROUND('[1]Tabla de Amortizacion'!#REF!,8),ROUND('[1]Tabla de Amortizacion'!K38,8))))))","v":0}]
["2024-07-24",9.2047099999999996E-3,{"$f":"+VLOOKUP(A38,'Tabla de Amortizacion'!$D$2:$N$182,MATCH(Tablas!$B$1,'Tabla de Amortizacion'!$D$2:$N$2,0))","v":9.2047099999999996E-3},null,{"$f":"IF([1]CALCULADORA!$F$10=\"Contractual\",ROUND('[1]Tabla de Amortizacion'!C39,8),IF([1]CALCULADORA!$F$10=\"6% (Medio)\",ROUND('[1]Tabla de Amortizacion'!F39,8),IF([1]CALCULADORA!$F$10=\"10% (Medio Alto)\",ROUND('[1]Tabla de Amortizacion'!H39,8),IF([1]CALCULADORA!$F$10=\"14% (Alto)\",ROUND('[1]Tabla de Amortizacion'!#REF!,8),IF([1]CALCULADORA!$F$10=20%,ROUND('[1]Tabla de Amortizacion'!#REF!,8),ROUND('[1]Tabla de Amortizacion'!K39,8))))))","v":0}]
["2024-08-24",9.0914099999999994E-3,{"$f":"+VLOOKUP(A39,'Tabla de Amortizacion'!$D$2:$N$182,MATCH(Tablas!$B$1,'Tabla de Amortizacion'!$D$2:$N$2,0))","v":9.0914099999999994E-3},null,{"$f":"IF([1]CALCULADORA!$F$10=\"Contractual\",ROUND('[1]Tabla de Amortizacion'!C40,8),IF([1]CALCULADORA!$F$10=\"6% (Medio)\",ROUND('[1]Tabla de Amortizacion'!F40,8),IF([1]CALCULADORA!$F$10=\"10% (Medio Alto)\",ROUND('[1]Tabla de Amortizacion'!H40,8),IF([1]CALCULADORA!$F$10=\"14% (Alto)\",ROUND('[1]Tabla de Amortizacion'!#REF!,8),IF([1]CALCULADORA!$F$10=20%,ROUND('[1]Tabla de Amortizacion'!#REF!,8),ROUND('[1]Tabla de Amortizacion'!K40,8))))))","v":0}]
["2024-09-24",9.0458499999999994E-3,{"$f":"+VLOOKUP(A40,'Tabla de Amortizacion'!$D$2:$N$182,MATCH(Tablas!$B$1,'Tabla de Amortizacion'!$D$2:$N$2,0))","v":9.0458499999999994E-3},null,{"$f":"IF([1]CALCULADORA!$F$10=\"Contractual\",ROUND('[1]Tabla de Amortizacion'!C41,8),IF([1]CALCULADORA!$F$10=\"6% (Medio)\",ROUND('[1]Tabla de Amortizacion'!F41,8),IF([1]CALCULADORA!$F$10=\"10% (Medio Alto)\",ROUND('[1]Tabla de Amortizacion'!H41,8),IF([1]CALCULADORA!$F$10=\"14% (Alto)\",ROUND('[1]Tabla de Amortizacion'!#REF!,8),IF([1]CALCULADORA!$F$10=20%,ROUND('[1]Tabla de Amortizacion'!#REF!,8),ROUND('[1]Tabla de Amortizacion'!K41,8))))))","v":0}]
["2024-10-24",8.9479499999999997E-3,{"$f":"+VLOOKUP(A41,'Tabla de Amortizacion'!$D$2:$N$182,MATCH(Tablas!$B$1,'Tabla de Amortizacion'!$D$2:$N$2,0))","v":8.9479499999999997E-3},null,{"$f":"IF([1]CALCULADORA!$F$10=\"Contractual\",ROUND('[1]Tabla de Amortizacion'!C42,8),IF([1]CALCULADORA!$F$10=\"6% (Medio)\",ROUND('[1]Tabla de Amortizacion'!F42,8),IF([1]CALCULADORA!$F$10=\"10% (Medio Alto)\",ROUND('[1]Tabla de Amortizacion'!H42,8),IF([1]CALCULADORA!$F$10=\"14% (Alto)\",ROUND('[1]Tabla de Amortizacion'!#REF!,8),IF([1]CALCULADORA!$F$10=20%,ROUND('[1]Tabla de Amortizacion'!#REF!,8),ROUND('[1]Tabla de Amortizacion'!K42,8))))))","v":0}]
["2024-11-24",8.8372599999999996E-3,{"$f":"+VLOOKUP(A42,'Tabla de Amortizacion'!$D$2:$N$182,MATCH(Tablas!$B$1,'Tabla de Amortizacion'!$D$2:$N$2,0))","v":8.8372599999999996E-3},null,{"$f":"IF([1]CALCULADORA!$F$10=\"Contractual\",ROUND('[1]Tabla de Amortizacion'!C43,8),IF([1]CALCULADORA!$F$10=\"6% (Medio)\",ROUND('[1]Tabla de Amortizacion'!F43,8),IF([1]CALCULADORA!$F$10=\"10% (Medio Alto)\",ROUND('[1]Tabla de Amortizacion'!H43,8),IF([1]CALCULADORA!$F$10=\"14% (Alto)\",ROUND('[1]Tabla de Amortizacion'!#REF!,8),IF([1]CALCULADORA!$F$10=20%,ROUND('[1]Tabla de Amortizacion'!#REF!,8),ROUND('[1]Tabla de Amortizacion'!K43,8))))))","v":0}]
["2024-12-24",8.7556500000000002E-3,{"$f":"+VLOOKUP(A43,'Tabla de Amortizacion'!$D$2:$N$182,MATCH(Tablas!$B$1,'Tabla de Amortizacion'!$D$2:$N$2,0))","v":8.7556500000000002E-3},null,{"$f":"IF([1]CALCULADORA!$F$10=\"Contractual\",ROUND('[1]Tabla de Amortizacion'!C44,8),IF([1]CALCULADORA!$F$10=\"6% (Medio)\",ROUND('[1]Tabla de Amortizacion'!F44,8),IF([1]CALCULADORA!$F$10=\"10% (Medio Alto)\",ROUND('[1]Tabla de Amortizacion'!H44,8),IF([1]CALCULADORA!$F$10=\"14% (Alto)\",ROUND('[1]Tabla de Amortizacion'!#REF!,8),IF([1]CALCULADORA!$F$10=20%,ROUND('[1]Tabla de Amortizacion'!#REF!,8),ROUND('[1]Tabla de Amortizacion'!K44,8))))))","v":0}]
["2025-01-24",8.6771399999999999E-3,{"$f":"+VLOOKUP(A44,'Tabla de Amortizacion'!$D$2:$N$182,MATCH(Tablas!$B$1,'Tabla de Amortizacion'!$D$2:$N$2,0))","v":8.6771399999999999E-3},null,{"$f":"IF([1]CALCULADORA!$F$10=\"Contractual\",ROUND('[1]Tabla de Amortizacion'!C45,8),IF([1]CALCULADORA!$F$10=\"6% (Medio)\",ROUND('[1]Tabla de Amortizacion'!F45,8),IF([1]CALCULADORA!$F$10=\"10% (Medio Alto)\",ROUND('[1]Tabla de Amortizacion'!H45,8),IF([1]CALCULADORA!$F$10=\"14% (Alto)\",ROUND('[1]Tabla de Amortizacion'!#REF!,8),IF([1]CALCULADORA!$F$10=20%,ROUND('[1]Tabla de Amortizacion'!#REF!,8),ROUND('[1]Tabla de Amortizacion'!K45,8))))))","v":0}]
["2025-02-24",8.6086200000000009E-3,{"$f":"+VLOOKUP(A45,'Tabla de Amortizacion'!$D$2:$N$182,MATCH(Tablas!$B$1,'Tabla de Amortizacion'!$D$2:$N$2,0))","v":8.6086200000000009E-3},null,{"$f":"IF([1]CALCULADORA!$F$10=\"Contractual\",ROUND('[1]Tabla de Amortizacion'!C46,8),IF([1]CALCULADORA!$F$10=\"6% (Medio)\",ROUND('[1]Tabla de Amortizacion'!F46,8),IF([1]CALCULADORA!$F$10=\"10% (Medio Alto)\",ROUND('[1]Tabla de Amortizacion'!H46,8),IF([1]CALCULADORA!$F$10=\"14% (Alto)\",ROUND('[1]Tabla de Amortizacion'!#REF!,8),IF([1]CALCULADORA!$F$10=20%,ROUND('[1]Tabla de Amortizacion'!#REF!,8),ROUND('[1]Tabla de Amortizacion'!K46,8))))))","v":0}]
["2025-03-24",8.5358900000000008E-3,{"$f":"+VLOOKUP(A46,'Tabla de Amortizacion'!$D$2:$N$182,MATCH(Tablas!$B$1,'Tabla de Amortizacion'!$D$2:$N$2,0))","v":8.5358900000000008E-3},null,{"$f":"IF([1]CALCULADORA!$F$10=\"Contractual\",ROUND('[1]Tabla de Amortizacion'!C47,8),IF([1]CALCULADORA!$F$10=\"6% (Medio)\",ROUND('[1]Tabla de Amortizacion'!F47,8),IF([1]CALCULADORA!$F$10=\"10% (Medio Alto)\",ROUND('[1]Tabla de Amortizacion'!H47,8),IF([1]CALCULADORA!$F$10=\"14% (Alto)\",ROUND('[1]Tabla de Amortizacion'!#REF!,8),IF([1]CALCULADORA!$F$10=20%,ROUND('[1]Tabla de Amortizacion'!#REF!,8),ROUND('[1]Tabla de Amortizacion'!K47,8))))))","v":0}]
["2025-04-24",8.4636699999999995E-3,{"$f":"+VLOOKUP(A47,'Tabla de Amortizacion'!$D$2:$N$182,MATCH(Tablas!$B$1,'Tabla de Amortizacion'!$D$2:$N$2,0))","v":8.4636699999999995E-3},null,{"$f":"IF([1]CALCULADORA!$F$10=\"Contractual\",ROUND('[1]Tabla de Amortizacion'!C48,8),IF([1]CALCULADORA!$F$10=\"6% (Medio)\",ROUND('[1]Tabla de Amortizacion'!F48,8),IF([1]CALCULADORA!$F$10=\"10% (Medio Alto)\",ROUND('[1]Tabla de Amortizacion'!H48,8),IF([1]CALCULADORA!$F$10=\"14% (Alto)\",ROUND('[1]Tabla de Amortizacion'!#REF!,8),IF([1]CALCULADORA!$F$10=20%,ROUND('[1]Tabla de Amortizacion'!#REF!,8),ROUND('[1]Tabla de Amortizacion'!K48,8))))))","v":0}]
["2025-05-24",8.4118200000000004E-3,{"$f":"+VLOOKUP(A48,'Tabla de Amortizacion'!$D$2:$N$182,MATCH(Tablas!$B$1,'Tabla de Amortizacion'!$D$2:$N$2,0))","v":8.4118200000000004E-3},null,{"$f":"IF([1]CALCULADORA!$F$10=\"Contractual\",ROUND('[1]Tabla de Amortizacion'!C49,8),IF([1]CALCULADORA!$F$10=\"6% (Medio)\",ROUND('[1]Tabla de Amortizacion'!F49,8),IF([1]CALCULADORA!$F$10=\"10% (Medio Alto)\",ROUND('[1]Tabla de Amortizacion'!H49,8),IF([1]CALCULADORA!$F$10=\"14% (Alto)\",ROUND('[1]Tabla de Amortizacion'!#REF!,8),IF([1]CALCULADORA!$F$10=20%,ROUND('[1]Tabla de Amortizacion'!#REF!,8),ROUND('[1]Tabla de Amortizacion'!K49,8))))))","v":0}]
["2025-06-24",8.1060100000000003E-3,{"$f":"+VLOOKUP(A49,'Tabla de Amortizacion'!$D$2:$N$182,MATCH(Tablas!$B$1,'Tabla de Amortizacion'!$D$2:$N$2,0))","v":8.1060100000000003E-3},null,{"$f":"IF([1]CALCULADORA!$F$10=\"Contractual\",ROUND('[1]Tabla de Amortizacion'!C50,8),IF([1]CALCULADORA!$F$10=\"6% (Medio)\",ROUND('[1]Tabla de Amortizacion'!F50,8),IF([1]CALCULADORA!$F$10=\"10% (Medio Alto)\",ROUND('[1]Tabla de Amortizacion'!H50,8),IF([1]CALCULADORA!$F$10=\"14% (Alto)\",ROUND('[1]Tabla de Amortizacion'!#REF!,8),IF([1]CALCULADORA!$F$10=20%,ROUND('[1]Tabla de Amortizacion'!#REF!,8),ROUND('[1]Tabla de Amortizacion'!K50,8))))))","v":0}]
["2025-07-24",8.2698000000000008E-3,{"$f":"+VLOOKUP(A50,'Tabla de Amortizacion'!$D$2:$N$182,MATCH(Tablas!$B$1,'Tabla de Amortizacion'!$D$2:$N$2,0))","v":8.2698000000000008E-3},null,{"$f":"IF([1]CALCULADORA!$F$10=\"Contractual\",ROUND('[1]Tabla de Amortizacion'!C51,8),IF([1]CALCULADORA!$F$10=\"6% (Medio)\",ROUND('[1]Tabla de Amortizacion'!F51,8),IF([1]CALCULADORA!$F$10=\"10% (Medio Alto)\",ROUND('[1]Tabla de Amortizacion'!H51,8),IF([1]CALCULADORA!$F$10=\"14% (Alto)\",ROUND('[1]Tabla de Amortizacion'!#REF!,8),IF([1]CALCULADORA!$F$10=20%,ROUND('[1]Tabla de Amortizacion'!#REF!,8),ROUND('[1]Tabla de Amortizacion'!K51,8))))))","v":0}]
["2025-08-24",8.2055300000000008E-3,{"$f":"+VLOOKUP(A51,'Tabla de Amortizacion'!$D$2:$N$182,MATCH(Tablas!$B$1,'Tabla de Amortizacion'!$D$2:$N$2,0))","v":8.2055300000000008E-3},null,{"$f":"IF([1]CALCULADORA!$F$10=\"Contractual\",ROUND('[1]Tabla de Amortizacion'!C52,8),IF([1]CALCULADORA!$F$10=\"6% (Medio)\",ROUND('[1]Tabla de Amortizacion'!F52,8),IF([1]CALCULADORA!$F$10=\"10% (Medio Alto)\",ROUND('[1]Tabla de Amortizacion'!H52,8),IF([1]CALCULADORA!$F$10=\"14% (Alto)\",ROUND('[1]Tabla de Amortizacion'!#REF!,8),IF([1]CALCULADORA!$F$10=20%,ROUND('[1]Tabla de Amortizacion'!#REF!,8),ROUND('[1]Tabla de Amortizacion'!K52,8))))))","v":0}]
["2025-09-24",8.15747E-3,{"$f":"+VLOOKUP(A52,'Tabla de Amortizacion'!$D$2:$N$182,MATCH(Tablas!$B$1,'Tabla de Amortizacion'!$D$2:$N$2,0))","v":8.15747E-3},null,{"$f":"IF([1]CALCULADORA!$F$10=\"Contractual\",ROUND('[1]Tabla de Amortizacion'!C53,8),IF([1]CALCULADORA!$F$10=\"6% (Medio)\",ROUND('[1]Tabla de Amortizacion'!F53,8),IF([1]CALCULADORA!$F$10=\"10% (Medio Alto)\",ROUND('[1]Tabla de Amortizacion'!H53,8),IF([1]CALCULADORA!$F$10=\"14% (Alto)\",ROUND('[1]Tabla de Amortizacion'!#REF!,8),IF([1]CALCULADORA!$F$10=20%,ROUND('[1]Tabla de Amortizacion'!#REF!,8),ROUND('[1]Tabla de Amortizacion'!K53,8))))))","v":0}]
["2025-10-24",8.0637899999999995E-3,{"$f":"+VLOOKUP(A53,'Tabla de Amortizacion'!$D$2:$N$182,MATCH(Tablas!$B$1,'Tabla de Amortizacion'!$D$2:$N$2,0))","v":8.0637899999999995E-3},null,{"$f":"IF([1]CALCULADORA!$F$10=\"Contractual\",ROUND('[1]Tabla de Amortizacion'!C54,8),IF([1]CALCULADORA!$F$10=\"6% (Medio)\",ROUND('[1]Tabla de Amortizacion'!F54,8),IF([1]CALCULADORA!$F$10=\"10% (Medio Alto)\",ROUND('[1]Tabla de Amortizacion'!H54,8),IF([1]CALCULADORA!$F$10=\"14% (Alto)\",ROUND('[1]Tabla de Amortizacion'!#REF!,8),IF([1]CALCULADORA!$F$10=20%,ROUND('[1]Tabla de Amortizacion'!#REF!,8),ROUND('[1]Tabla de Amortizacion'!K54,8))))))","v":0}]
["2025-11-24",8.0183100000000007E-3,{"$f":"+VLOOKUP(A54,'Tabla de Amortizacion'!$D$2:$N$182,MATCH(Tablas!$B$1,'Tabla de Amortizacion'!$D$2:$N$2,0))","v":8.0183100000000007E-3},null,{"$f":"IF([1]CALCULADORA!$F$10=\"Contractual\",ROUND('[1]Tabla de Amortizacion'!C55,8),IF([1]CALCULADORA!$F$10=\"6% (Medio)\",ROUND('[1]Tabla de Amortizacion'!F55,8),IF([1]CALCULADORA!$F$10=\"10% (Medio Alto)\",ROUND('[1]Tabla de Amortizacion'!H55,8),IF([1]CALCULADORA!$F$10=\"14% (Alto)\",ROUND('[1]Tabla de Amortizacion'!#REF!,8),IF([1]CALCULADORA!$F$10=20%,ROUND('[1]Tabla de Amortizacion'!#REF!,8),ROUND('[1]Tabla de Amortizacion'!K55,8))))))","v":0}]
["2025-12-24",7.9434299999999996E-3,{"$f":"+VLOOKUP(A55,'Tabla de Amortizacion'!$D$2:$N$182,MATCH(Tablas!$B$1,'Tabla de Amortizacion'!$D$2:$N$2,0))","v":7.9434299999999996E-3},null,{"$f":"IF([1]CALCULADORA!$F$10=\"Contractual\",ROUND('[1]Tabla de Amortizacion'!C56,8),IF([1]CALCULADORA!$F$10=\"6% (Medio)\",ROUND('[1]Tabla de Amortizacion'!F56,8),IF([1]CALCULADORA!$F$10=\"10% (Medio Alto)\",ROUND('[1]Tabla de Amortizacion'!H56,8),IF([1]CALCULADORA!$F$10=\"14% (Alto)\",ROUND('[1]Tabla de Amortizacion'!#REF!,8),IF([1]CALCULADORA!$F$10=20%,ROUND('[1]Tabla de Amortizacion'!#REF!,8),ROUND('[1]Tabla de Amortizacion'!K56,8))))))","v":0}]
["2026-01-24",7.8757800000000006E-3,{"$f":"+VLOOKUP(A56,'Tabla de Amortizacion'!$D$2:$N$182,MATCH(Tablas!$B$1,'Tabla de Amortizacion'!$D$2:$N$2,0))","v":7.8757800000000006E-3},null,{"$f":"IF([1]CALCULADORA!$F$10=\"Contractual\",ROUND('[1]Tabla de Amortizacion'!C57,8),IF([1]CALCULADORA!$F$10=\"6% (Medio)\",ROUND('[1]Tabla de Amortizacion'!F57,8),IF([1]CALCULADORA!$F$10=\"10% (Medio Alto)\",ROUND('[1]Tabla de Amortizacion'!H57,8),IF([1]CALCULADORA!$F$10=\"14% (Alto)\",ROUND('[1]Tabla de Amortizacion'!#REF!,8),IF([1]CALCULADORA!$F$10=20%,ROUND('[1]Tabla de Amortizacion'!#REF!,8),ROUND('[1]Tabla de Amortizacion'!K57,8))))))","v":0}]
["2026-02-24",7.7993999999999997E-3,{"$f":"+VLOOKUP(A57,'Tabla de Amortizacion'!$D$2:$N$182,MATCH(Tablas!$B$1,'Tabla de Amortizacion'!$D$2:$N$2,0))","v":7.7993999999999997E-3},null,{"$f":"IF([1]CALCULADORA!$F$10=\"Contractual\",ROUND('[1]Tabla de Amortizacion'!C58,8),IF([1]CALCULADORA!$F$10=\"6% (Medio)\",ROUND('[1]Tabla de Amortizacion'!F58,8),IF([1]CALCULADORA!$F$10=\"10% (Medio Alto)\",ROUND('[1]Tabla de Amortizacion'!H58,8),IF([1]CALCULADORA!$F$10=\"14% (Alto)\",ROUND('[1]Tabla de Amortizacion'!#REF!,8),IF([1]CALCULADORA!$F$10=20%,ROUND('[1]Tabla de Amortizacion'!#REF!,8),ROUND('[1]Tabla de Amortizacion'!K58,8))))))","v":0}]
["2026-03-24",7.7307900000000004E-3,{"$f":"+VLOOKUP(A58,'Tabla de Amortizacion'!$D$2:$N$182,MATCH(Tablas!$B$1,'Tabla de Amortizacion'!$D$2:$N$2,0))","v":7.7307900000000004E-3},null,{"$f":"IF([1]CALCULADORA!$F$10=\"Contractual\",ROUND('[1]Tabla de Amortizacion'!C59,8),IF([1]CALCULADORA!$F$10=\"6% (Medio)\",ROUND('[1]Tabla de Amortizacion'!F59,8),IF([1]CALCULADORA!$F$10=\"10% (Medio Alto)\",ROUND('[1]Tabla de Amortizacion'!H59,8),IF([1]CALCULADORA!$F$10=\"14% (Alto)\",ROUND('[1]Tabla de Amortizacion'!#REF!,8),IF([1]CALCULADORA!$F$10=20%,ROUND('[1]Tabla de Amortizacion'!#REF!,8),ROUND('[1]Tabla de Amortizacion'!K59,8))))))","v":0}]
["2026-04-24",7.6923800000000004E-3,{"$f":"+VLOOKUP(A59,'Tabla de Amortizacion'!$D$2:$N$182,MATCH(Tablas!$B$1,'Tabla de Amortizacion'!$D$2:$N$2,0))","v":7.6923800000000004E-3},null,{"$f":"IF([1]CALCULADORA!$F$10=\"Contractual\",ROUND('[1]Tabla de Amortizacion'!C60,8),IF([1]CALCULADORA!$F$10=\"6% (Medio)\",ROUND('[1]Tabla de Amortizacion'!F60,8),IF([1]CALCULADORA!$F$10=\"10% (Medio Alto)\",ROUND('[1]Tabla de Amortizacion'!H60,8),IF([1]CALCULADORA!$F$10=\"14% (Alto)\",ROUND('[1]Tabla de Amortizacion'!#REF!,8),IF([1]CALCULADORA!$F$10=20%,ROUND('[1]Tabla de Amortizacion'!#REF!,8),ROUND('[1]Tabla de Amortizacion'!K60,8))))))","v":0}]
["2026-05-24",7.6089800000000004E-3,{"$f":"+VLOOKUP(A60,'Tabla de Amortizacion'!$D$2:$N$182,MATCH(Tablas!$B$1,'Tabla de Amortizacion'!$D$2:$N$2,0))","v":7.6089800000000004E-3},null,{"$f":"IF([1]CALCULADORA!$F$10=\"Contractual\",ROUND('[1]Tabla de Amortizacion'!C61,8),IF([1]CALCULADORA!$F$10=\"6% (Medio)\",ROUND('[1]Tabla de Amortizacion'!F61,8),IF([1]CALCULADORA!$F$10=\"10% (Medio Alto)\",ROUND('[1]Tabla de Amortizacion'!H61,8),IF([1]CALCULADORA!$F$10=\"14% (Alto)\",ROUND('[1]Tabla de Amortizacion'!#REF!,8),IF([1]CALCULADORA!$F$10=20%,ROUND('[1]Tabla de Amortizacion'!#REF!,8),ROUND('[1]Tabla de Amortizacion'!K61,8))))))","v":0}]
["2026-06-24",7.3212299999999998E-3,{"$f":"+VLOOKUP(A61,'Tabla de Amortizacion'!$D$2:$N$182,MATCH(Tablas!$B$1,'Tabla de Amortizacion'!$D$2:$N$2,0))","v":7.3212299999999998E-3},null,{"$f":"IF([1]CALCULADORA!$F$10=\"Contractual\",ROUND('[1]Tabla de Amortizacion'!C62,8),IF([1]CALCULADORA!$F$10=\"6% (Medio)\",ROUND('[1]Tabla de Amortizacion'!F62,8),IF([1]CALCULADORA!$F$10=\"10% (Medio Alto)\",ROUND('[1]Tabla de Amortizacion'!H62,8),IF([1]CALCULADORA!$F$10=\"14% (Alto)\",ROUND('[1]Tabla de Amortizacion'!#REF!,8),IF([1]CALCULADORA!$F$10=20%,ROUND('[1]Tabla de Amortizacion'!#REF!,8),ROUND('[1]Tabla de Amortizacion'!K62,8))))))","v":0}]
["2026-07-24",7.4956600000000003E-3,{"$f":"+VLOOKUP(A62,'Tabla de Amortizacion'!$D$2:$N$182,MATCH(Tablas!$B$1,'Tabla de Amortizacion'!$D$2:$N$2,0))","v":7.4956600000000003E-3},null,{"$f":"IF([1]CALCULADORA!$F$10=\"Contractual\",ROUND('[1]Tabla de Amortizacion'!C63,8),IF([1]CALCULADORA!$F$10=\"6% (Medio)\",ROUND('[1]Tabla de Amortizacion'!F63,8),IF([1]CALCULADORA!$F$10=\"10% (Medio Alto)\",ROUND('[1]Tabla de Amortizacion'!H63,8),IF([1]CALCULADORA!$F$10=\"14% (Alto)\",ROUND('[1]Tabla de Amortizacion'!#REF!,8),IF([1]CALCULADORA!$F$10=20%,ROUND('[1]Tabla de Amortizacion'!#REF!,8),ROUND('[1]Tabla de Amortizacion'!K63,8))))))","v":0}]
["2026-08-24",7.4266999999999996E-3,{"$f":"+VLOOKUP(A63,'Tabla de Amortizacion'!$D$2:$N$182,MATCH(Tablas!$B$1,'Tabla de Amortizacion'!$D$2:$N$2,0))","v":7.4266999999999996E-3},null,{"$f":"IF([1]CALCULADORA!$F$10=\"Contractual\",ROUND('[1]Tabla de Amortizacion'!C64,8),IF([1]CALCULADORA!$F$10=\"6% (Medio)\",ROUND('[1]Tabla de Amortizacion'!F64,8),IF([1]CALCULADORA!$F$10=\"10% (Medio Alto)\",ROUND('[1]Tabla de Amortizacion'!H64,8),IF([1]CALCULADORA!$F$10=\"14% (Alto)\",ROUND('[1]Tabla de Amortizacion'!#REF!,8),IF([1]CALCULADORA!$F$10=20%,ROUND('[1]Tabla de Amortizacion'!#REF!,8),ROUND('[1]Tabla de Amortizacion'!K64,8))))))","v":0}]
["2026-09-24",7.3637399999999997E-3,{"$f":"+VLOOKUP(A64,'Tabla de Amortizacion'!$D$2:$N$182,MATCH(Tablas!$B$1,'Tabla de Amortizacion'!$D$2:$N$2,0))","v":7.3637399999999997E-3},null,{"$f":"IF([1]CALCULADORA!$F$10=\"Contractual\",ROUND('[1]Tabla de Amortizacion'!C65,8),IF([1]CALCULADORA!$F$10=\"6% (Medio)\",ROUND('[1]Tabla de Amortizacion'!F65,8),IF([1]CALCULADORA!$F$10=\"10% (Medio Alto)\",ROUND('[1]Tabla de Amortizacion'!H65,8),IF([1]CALCULADORA!$F$10=\"14% (Alto)\",ROUND('[1]Tabla de Amortizacion'!#REF!,8),IF([1]CALCULADORA!$F$10=20%,ROUND('[1]Tabla de Amortizacion'!#REF!,8),ROUND('[1]Tabla de Amortizacion'!K65,8))))))","v":0}]
["2026-10-24",7.2994699999999997E-3,{"$f":"+VLOOKUP(A65,'Tabla de Amortizacion'!$D$2:$N$182,MATCH(Tablas!$B$1,'Tabla de Amortizacion'!$D$2:$N$2,0))","v":7.2994699999999997E-3},null,{"$f":"IF([1]CALCULADORA!$F$10=\"Contractual\",ROUND('[1]Tabla de Amortizacion'!C66,8),IF([1]CALCULADORA!$F$10=\"6% (Medio)\",ROUND('[1]Tabla de Amortizacion'!F66,8),IF([1]CALCULADORA!$F$10=\"10% (Medio Alto)\",ROUND('[1]Tabla de Amortizacion'!H66,8),IF([1]CALCULADORA!$F$10=\"14% (Alto)\",ROUND('[1]Tabla de Amortizacion'!#REF!,8),IF([1]CALCULADORA!$F$10=20%,ROUND('[1]Tabla de Amortizacion'!#REF!,8),ROUND('[1]Tabla de Amortizacion'!K66,8))))))","v":0}]
["2026-11-24",7.2492900000000002E-3,{"$f":"+VLOOKUP(A66,'Tabla de Amortizacion'!$D$2:$N$182,MATCH(Tablas!$B$1,'Tabla de Amortizacion'!$D$2:$N$2,0))","v":7.2492900000000002E-3},null,{"$f":"IF([1]CALCULADORA!$F$10=\"Contractual\",ROUND('[1]Tabla de Amortizacion'!C67,8),IF([1]CALCULADORA!$F$10=\"6% (Medio)\",ROUND('[1]Tabla de Amortizacion'!F67,8),IF([1]CALCULADORA!$F$10=\"10% (Medio Alto)\",ROUND('[1]Tabla de Amortizacion'!H67,8),IF([1]CALCULADORA!$F$10=\"14% (Alto)\",ROUND('[1]Tabla de Amortizacion'!#REF!,8),IF([1]CALCULADORA!$F$10=20%,ROUND('[1]Tabla de Amortizacion'!#REF!,8),ROUND('[1]Tabla de Amortizacion'!K67,8))))))","v":0}]
[{"$f":"EDATE(A66,1)","v":"2026-12-24"},{"$f":"+ROUND(C67,8)","v":7.1822600000000002E-3},{"$f":"+VLOOKUP(A67,'Tabla de Amortizacion'!$D$2:$N$182,MATCH(Tablas!$B$1,'Tabla de Amortizacion'!$D$2:$N$2,0))","v":7.1822600000000002E-3},null,{"$f":"IF([1]CALCULADORA!$F$10=\"Contractual\",ROUND('[1]Tabla de Amortizacion'!C68,8),IF([1]CALCULADORA!$F$10=\"6% (Medio)\",ROUND('[1]Tabla de Amortizacion'!F68,8),IF([1]CALCULADORA!$F$10=\"10% (Medio Alto)\",ROUND('[1]Tabla de Amortizacion'!H68,8),IF([1]CALCULADORA!$F$10=\"14% (Alto)\",ROUND('[1]Tabla de Amortizacion'!#REF!,8),IF([1]CALCULADORA!$F$10=20%,ROUND('[1]Tabla de Amortizacion'!#REF!,8),ROUND('[1]Tabla de Amortizacion'!K68,8))))))","v":0}]
["2027-01-24",7.1307999999999996E-3,{"$f":"+VLOOKUP(A68,'Tabla de Amortizacion'!$D$2:$N$182,MATCH(Tablas!$B$1,'Tabla de Amortizacion'!$D$2:$N$2,0))","v":7.1307999999999996E-3},null,{"$f":"IF([1]CALCULADORA!$F$10=\"Contractual\",ROUND('[1]Tabla de Amortizacion'!C69,8),IF([1]CALCULADORA!$F$10=\"6% (Medio)\",ROUND('[1]Tabla de Amortizacion'!F69,8),IF([1]CALCULADORA!$F$10=\"10% (Medio Alto)\",ROUND('[1]Tabla de Amortizacion'!H69,8),IF([1]CALCULADORA!$F$10=\"14% (Alto)\",ROUND('[1]Tabla de Amortizacion'!#REF!,8),IF([1]CALCULADORA!$F$10=20%,ROUND('[1]Tabla de Amortizacion'!#REF!,8),ROUND('[1]Tabla de Amortizacion'!K69,8))))))","v":0}]
["2027-02-24",7.0660699999999998E-3,{"$f":"+VLOOKUP(A69,'Tabla de Amortizacion'!$D$2:$N$182,MATCH(Tablas!$B$1,'Tabla de Amortizacion'!$D$2:$N$2,0))","v":7.0660699999999998E-3},null,{"$f":"IF([1]CALCULADORA!$F$10=\"Contractual\",ROUND('[1]Tabla de Amortizacion'!C70,8),IF([1]CALCULADORA!$F$10=\"6% (Medio)\",ROUND('[1]Tabla de Amortizacion'!F70,8),IF([1]CALCULADORA!$F$10=\"10% (Medio Alto)\",ROUND('[1]Tabla de Amortizacion'!H70,8),IF([1]CALCULADORA!$F$10=\"14% (Alto)\",ROUND('[1]Tabla de Amortizacion'!#REF!,8),IF([1]CALCULADORA!$F$10=20%,ROUND('[1]Tabla de Amortizacion'!#REF!,8),ROUND('[1]Tabla de Amortizacion'!K70,8))))))","v":0}]
["2027-03-24",7.0131400000000002E-3,{"$f":"+VLOOKUP(A70,'Tabla de Amortizacion'!$D$2:$N$182,MATCH(Tablas!$B$1,'Tabla de Amortizacion'!$D$2:$N$2,0))","v":7.0131400000000002E-3},null,{"$f":"IF([1]CALCULADORA!$F$10=\"Contractual\",ROUND('[1]Tabla de Amortizacion'!C71,8),IF([1]CALCULADORA!$F$10=\"6% (Medio)\",ROUND('[1]Tabla de Amortizacion'!F71,8),IF([1]CALCULADORA!$F$10=\"10% (Medio Alto)\",ROUND('[1]Tabla de Amortizacion'!H71,8),IF([1]CALCULADORA!$F$10=\"14% (Alto)\",ROUND('[1]Tabla de Amortizacion'!#REF!,8),IF([1]CALCULADORA!$F$10=20%,ROUND('[1]Tabla de Amortizacion'!#REF!,8),ROUND('[1]Tabla de Amortizacion'!K71,8))))))","v":0}]
["2027-04-24",6.94584E-3,{"$f":"+VLOOKUP(A71,'Tabla de Amortizacion'!$D$2:$N$182,MATCH(Tablas!$B$1,'Tabla de Amortizacion'!$D$2:$N$2,0))","v":6.94584E-3},null,{"$f":"IF([1]CALCULADORA!$F$10=\"Contractual\",ROUND('[1]Tabla de Amortizacion'!C72,8),IF([1]CALCULADORA!$F$10=\"6% (Medio)\",ROUND('[1]Tabla de Amortizacion'!F72,8),IF([1]CALCULADORA!$F$10=\"10% (Medio Alto)\",ROUND('[1]Tabla de Amortizacion'!H72,8),IF([1]CALCULADORA!$F$10=\"14% (Alto)\",ROUND('[1]Tabla de Amortizacion'!#REF!,8),IF([1]CALCULADORA!$F$10=20%,ROUND('[1]Tabla de Amortizacion'!#REF!,8),ROUND('[1]Tabla de Amortizacion'!K72,8))))))","v":0}]
["2027-05-24",6.8820900000000004E-3,{"$f":"+VLOOKUP(A72,'Tabla de Amortizacion'!$D$2:$N$182,MATCH(Tablas!$B$1,'Tabla de Amortizacion'!$D$2:$N$2,0))","v":6.8820900000000004E-3},null,{"$f":"IF([1]CALCULADORA!$F$10=\"Contractual\",ROUND('[1]Tabla de Amortizacion'!C73,8),IF([1]CALCULADORA!$F$10=\"6% (Medio)\",ROUND('[1]Tabla de Amortizacion'!F73,8),IF([1]CALCULADORA!$F$10=\"10% (Medio Alto)\",ROUND('[1]Tabla de Amortizacion'!H73,8),IF([1]CALCULADORA!$F$10=\"14% (Alto)\",ROUND('[1]Tabla de Amortizacion'!#REF!,8),IF([1]CALCULADORA!$F$10=20%,ROUND('[1]Tabla de Amortizacion'!#REF!,8),ROUND('[1]Tabla de Amortizacion'!K73,8))))))","v":0}]
["2027-06-24",6.5699900000000004E-3,{"$f":"+VLOOKUP(A73,'Tabla de Amortizacion'!$D$2:$N$182,MATCH(Tablas!$B$1,'Tabla de Amortizacion'!$D$2:$N$2,0))","v":6.5699900000000004E-3},null,{"$f":"IF([1]CALCULADORA!$F$10=\"Contractual\",ROUND('[1]Tabla de Amortizacion'!C74,8),IF([1]CALCULADORA!$F$10=\"6% (Medio)\",ROUND('[1]Tabla de Amortizacion'!F74,8),IF([1]CALCULADORA!$F$10=\"10% (Medio Alto)\",ROUND('[1]Tabla de Amortizacion'!H74,8),IF([1]CALCULADORA!$F$10=\"14% (Alto)\",ROUND('[1]Tabla de Amortizacion'!#REF!,8),IF([1]CALCULADORA!$F$10=20%,ROUND('[1]Tabla de Amortizacion'!#REF!,8),ROUND('[1]Tabla de Amortizacion'!K74,8))))))","v":0}]
["2027-07-24",6.7317699999999998E-3,{"$f":"+VLOOKUP(A74,'Tabla de Amortizacion'!$D$2:$N$182,MATCH(Tablas!$B$1,'Tabla de Amortizacion'!$D$2:$N$2,0))","v":6.7317699999999998E-3},null,{"$f":"IF([1]CALCULADORA!$F$10=\"Contractual\",ROUND('[1]Tabla de Amortizacion'!C75,8),IF([1]CALCULADORA!$F$10=\"6% (Medio)\",ROUND('[1]Tabla de Amortizacion'!F75,8),IF([1]CALCULADORA!$F$10=\"10% (Medio Alto)\",ROUND('[1]Tabla de Amortizacion'!H75,8),IF([1]CALCULADORA!$F$10=\"14% (Alto)\",ROUND('[1]Tabla de Amortizacion'!#REF!,8),IF([1]CALCULADORA!$F$10=20%,ROUND('[1]Tabla de Amortizacion'!#REF!,8),ROUND('[1]Tabla de Amortizacion'!K75,8))))))","v":0}]
["2027-08-24",6.6770500000000003E-3,{"$f":"+VLOOKUP(A75,'Tabla de Amortizacion'!$D$2:$N$182,MATCH(Tablas!$B$1,'Tabla de Amortizacion'!$D$2:$N$2,0))","v":6.6770500000000003E-3},null,{"$f":"IF([1]CALCULADORA!$F$10=\"Contractual\",ROUND('[1]Tabla de Amortizacion'!C76,8),IF([1]CALCULADORA!$F$10=\"6% (Medio)\",ROUND('[1]Tabla de Amortizacion'!F76,8),IF([1]CALCULADORA!$F$10=\"10% (Medio Alto)\",ROUND('[1]Tabla de Amortizacion'!H76,8),IF([1]CALCULADORA!$F$10=\"14% (Alto)\",ROUND('[1]Tabla de Amortizacion'!#REF!,8),IF([1]CALCULADORA!$F$10=20%,ROUND('[1]Tabla de Amortizacion'!#REF!,8),ROUND('[1]Tabla de Amortizacion'!K76,8))))))","v":0}]
["2027-09-24",6.6114099999999999E-3,{"$f":"+VLOOKUP(A76,'Tabla de Amortizacion'!$D$2:$N$182,MATCH(Tablas!$B$1,'Tabla de Amortizacion'!$D$2:$N$2,0))","v":6.6114099999999999E-3},null,{"$f":"IF([1]CALCULADORA!$F$10=\"Contractual\",ROUND('[1]Tabla de Amortizacion'!C77,8),IF([1]CALCULADORA!$F$10=\"6% (Medio)\",ROUND('[1]Tabla de Amortizacion'!F77,8),IF([1]CALCULADORA!$F$10=\"10% (Medio Alto)\",ROUND('[1]Tabla de Amortizacion'!H77,8),IF([1]CALCULADORA!$F$10=\"14% (Alto)\",ROUND('[1]Tabla de Amortizacion'!#REF!,8),IF([1]CALCULADORA!$F$10=20%,ROUND('[1]Tabla de Amortizacion'!#REF!,8),ROUND('[1]Tabla de Amortizacion'!K77,8))))))","v":0}]
["2027-10-24",6.5514500000000003E-3,{"$f":"+VLOOKUP(A77,'Tabla de Amortizacion'!$D$2:$N$182,MATCH(Tablas!$B$1,'Tabla de Amortizacion'!$D$2:$N$2,0))","v":6.5514500000000003E-3},null,{"$f":"IF([1]CALCULADORA!$F$10=\"Contractual\",ROUND('[1]Tabla de Amortizacion'!C78,8),IF([1]CALCULADORA!$F$10=\"6% (Medio)\",ROUND('[1]Tabla de Amortizacion'!F78,8),IF([1]CALCULADORA!$F$10=\"10% (Medio Alto)\",ROUND('[1]Tabla de Amortizacion'!H78,8),IF([1]CALCULADORA!$F$10=\"14% (Alto)\",ROUND('[1]Tabla de Amortizacion'!#REF!,8),IF([1]CALCULADORA!$F$10=20%,ROUND('[1]Tabla de Amortizacion'!#REF!,8),ROUND('[1]Tabla de Amortizacion'!K78,8))))))","v":0}]
["2027-11-24",6.4967499999999999E-3,{"$f":"+VLOOKUP(A78,'Tabla de Amortizacion'!$D$2:$N$182,MATCH(Tablas!$B$1,'Tabla de Amortizacion'!$D$2:$N$2,0))","v":6.4967499999999999E-3},null,{"$f":"IF([1]CALCULADORA!$F$10=\"Contractual\",ROUND('[1]Tabla de Amortizacion'!C79,8),IF([1]CALCULADORA!$F$10=\"6% (Medio)\",ROUND('[1]Tabla de Amortizacion'!F79,8),IF([1]CALCULADORA!$F$10=\"10% (Medio Alto)\",ROUND('[1]Tabla de Amortizacion'!H79,8),IF([1]CALCULADORA!$F$10=\"14% (Alto)\",ROUND('[1]Tabla de Amortizacion'!#REF!,8),IF([1]CALCULADORA!$F$10=20%,ROUND('[1]Tabla de Amortizacion'!#REF!,8),ROUND('[1]Tabla de Amortizacion'!K79,8))))))","v":0}]
["2027-12-24",6.4340899999999999E-3,{"$f":"+VLOOKUP(A79,'Tabla de Amortizacion'!$D$2:$N$182,MATCH(Tablas!$B$1,'Tabla de Amortizacion'!$D$2:$N$2,0))","v":6.4340899999999999E-3},null,{"$f":"IF([1]CALCULADORA!$F$10=\"Contractual\",ROUND('[1]Tabla de Amortizacion'!C80,8),IF([1]CALCULADORA!$F$10=\"6% (Medio)\",ROUND('[1]Tabla de Amortizacion'!F80,8),IF([1]CALCULADORA!$F$10=\"10% (Medio Alto)\",ROUND('[1]Tabla de Amortizacion'!H80,8),IF([1]CALCULADORA!$F$10=\"14% (Alto)\",ROUND('[1]Tabla de Amortizacion'!#REF!,8),IF([1]CALCULADORA!$F$10=20%,ROUND('[1]Tabla de Amortizacion'!#REF!,8),ROUND('[1]Tabla de Amortizacion'!K80,8))))))","v":0}]
["2028-01-24",6.3705200000000002E-3,{"$f":"+VLOOKUP(A80,'Tabla de Amortizacion'!$D$2:$N$182,MATCH(Tablas!$B$1,'Tabla de Amortizacion'!$D$2:$N$2,0))","v":6.3705200000000002E-3},null,{"$f":"IF([1]CALCULADORA!$F$10=\"Contractual\",ROUND('[1]Tabla de Amortizacion'!C81,8),IF([1]CALCULADORA!$F$10=\"6% (Medio)\",ROUND('[1]Tabla de Amortizacion'!F81,8),IF([1]CALCULADORA!$F$10=\"10% (Medio Alto)\",ROUND('[1]Tabla de Amortizacion'!H81,8),IF([1]CALCULADORA!$F$10=\"14% (Alto)\",ROUND('[1]Tabla de Amortizacion'!#REF!,8),IF([1]CALCULADORA!$F$10=20%,ROUND('[1]Tabla de Amortizacion'!#REF!,8),ROUND('[1]Tabla de Amortizacion'!K81,8))))))","v":0}]
["2028-02-24",6.3063299999999997E-3,{"$f":"+VLOOKUP(A81,'Tabla de Amortizacion'!$D$2:$N$182,MATCH(Tablas!$B$1,'Tabla de Amortizacion'!$D$2:$N$2,0))","v":6.3063299999999997E-3},null,{"$f":"IF([1]CALCULADORA!$F$10=\"Contractual\",ROUND('[1]Tabla de Amortizacion'!C82,8),IF([1]CALCULADORA!$F$10=\"6% (Medio)\",ROUND('[1]Tabla de Amortizacion'!F82,8),IF([1]CALCULADORA!$F$10=\"10% (Medio Alto)\",ROUND('[1]Tabla de Amortizacion'!H82,8),IF([1]CALCULADORA!$F$10=\"14% (Alto)\",ROUND('[1]Tabla de Amortizacion'!#REF!,8),IF([1]CALCULADORA!$F$10=20%,ROUND('[1]Tabla de Amortizacion'!#REF!,8),ROUND('[1]Tabla de Amortizacion'!K82,8))))))","v":0}]
["2028-03-24",6.2454800000000003E-3,{"$f":"+VLOOKUP(A82,'Tabla de Amortizacion'!$D$2:$N$182,MATCH(Tablas!$B$1,'Tabla de Amortizacion'!$D$2:$N$2,0))","v":6.2454800000000003E-3},null,{"$f":"IF([1]CALCULADORA!$F$10=\"Contractual\",ROUND('[1]Tabla de Amortizacion'!C83,8),IF([1]CALCULADORA!$F$10=\"6% (Medio)\",ROUND('[1]Tabla de Amortizacion'!F83,8),IF([1]CALCULADORA!$F$10=\"10% (Medio Alto)\",ROUND('[1]Tabla de Amortizacion'!H83,8),IF([1]CALCULADORA!$F$10=\"14% (Alto)\",ROUND('[1]Tabla de Amortizacion'!#REF!,8),IF([1]CALCULADORA!$F$10=20%,ROUND('[1]Tabla de Amortizacion'!#REF!,8),ROUND('[1]Tabla de Amortizacion'!K83,8))))))","v":0}]
["2028-04-24",6.1798799999999996E-3,{"$f":"+VLOOKUP(A83,'Tabla de Amortizacion'!$D$2:$N$182,MATCH(Tablas!$B$1,'Tabla de Amortizacion'!$D$2:$N$2,0))","v":6.1798799999999996E-3},null,{"$f":"IF([1]CALCULADORA!$F$10=\"Contractual\",ROUND('[1]Tabla de Amortizacion'!C84,8),IF([1]CALCULADORA!$F$10=\"6% (Medio)\",ROUND('[1]Tabla de Amortizacion'!F84,8),IF([1]CALCULADORA!$F$10=\"10% (Medio Alto)\",ROUND('[1]Tabla de Amortizacion'!H84,8),IF([1]CALCULADORA!$F$10=\"14% (Alto)\",ROUND('[1]Tabla de Amortizacion'!#REF!,8),IF([1]CALCULADORA!$F$10=20%,ROUND('[1]Tabla de Amortizacion'!#REF!,8),ROUND('[1]Tabla de Amortizacion'!K84,8))))))","v":0}]
["2028-05-24",6.1203500000000001E-3,{"$f":"+VLOOKUP(A84,'Tabla de Amortizacion'!$D$2:$N$182,MATCH(Tablas!$B$1,'Tabla de Amortizacion'!$D$2:$N$2,0))","v":6.1203500000000001E-3},null,{"$f":"IF([1]CALCULADORA!$F$10=\"Contractual\",ROUND('[1]Tabla de Amortizacion'!C85,8),IF([1]CALCULADORA!$F$10=\"6% (Medio)\",ROUND('[1]Tabla de Amortizacion'!F85,8),IF([1]CALCULADORA!$F$10=\"10% (Medio Alto)\",ROUND('[1]Tabla de Amortizacion'!H85,8),IF([1]CALCULADORA!$F$10=\"14% (Alto)\",ROUND('[1]Tabla de Amortizacion'!#REF!,8),IF([1]CALCULADORA!$F$10=20%,ROUND('[1]Tabla de Amortizacion'!#REF!,8),ROUND('[1]Tabla de Amortizacion'!K85,8))))))","v":0}]
["2028-06-24",5.8078599999999998E-3,{"$f":"+VLOOKUP(A85,'Tabla de Amortizacion'!$D$2:$N$182,MATCH(Tablas!$B$1,'Tabla de Amortizacion'!$D$2:$N$2,0))","v":5.8078599999999998E-3},null,{"$f":"IF([1]CALCULADORA!$F$10=\"Contractual\",ROUND('[1]Tabla de Amortizacion'!C86,8),IF([1]CALCULADORA!$F$10=\"6% (Medio)\",ROUND('[1]Tabla de Amortizacion'!F86,8),IF([1]CALCULADORA!$F$10=\"10% (Medio Alto)\",ROUND('[1]Tabla de Amortizacion'!H86,8),IF([1]CALCULADORA!$F$10=\"14% (Alto)\",ROUND('[1]Tabla de Amortizacion'!#REF!,8),IF([1]CALCULADORA!$F$10=20%,ROUND('[1]Tabla de Amortizacion'!#REF!,8),ROUND('[1]Tabla de Amortizacion'!K86,8))))))","v":0}]
["2028-07-24",5.9820300000000002E-3,{"$f":"+VLOOKUP(A86,'Tabla de Amortizacion'!$D$2:$N$182,MATCH(Tablas!$B$1,'Tabla de Amortizacion'!$D$2:$N$2,0))","v":5.9820300000000002E-3},null,{"$f":"IF([1]CALCULADORA!$F$10=\"Contractual\",ROUND('[1]Tabla de Amortizacion'!C87,8),IF([1]CALCULADORA!$F$10=\"6% (Medio)\",ROUND('[1]Tabla de Amortizacion'!F87,8),IF([1]CALCULADORA!$F$10=\"10% (Medio Alto)\",ROUND('[1]Tabla de Amortizacion'!H87,8),IF([1]CALCULADORA!$F$10=\"14% (Alto)\",ROUND('[1]Tabla de Amortizacion'!#REF!,8),IF([1]CALCULADORA!$F$10=20%,ROUND('[1]Tabla de Amortizacion'!#REF!,8),ROUND('[1]Tabla de Amortizacion'!K87,8))))))","v":0}]
["2028-08-24",5.9121099999999999E-3,{"$f":"+VLOOKUP(A87,'Tabla de Amortizacion'!$D$2:$N$182,MATCH(Tablas!$B$1,'Tabla de Amortizacion'!$D$2:$N$2,0))","v":5.9121099999999999E-3},null,{"$f":"IF([1]CALCULADORA!$F$10=\"Contractual\",ROUND('[1]Tabla de Amortizacion'!C88,8),IF([1]CALCULADORA!$F$10=\"6% (Medio)\",ROUND('[1]Tabla de Amortizacion'!F88,8),IF([1]CALCULADORA!$F$10=\"10% (Medio Alto)\",ROUND('[1]Tabla de Amortizacion'!H88,8),IF([1]CALCULADORA!$F$10=\"14% (Alto)\",ROUND('[1]Tabla de Amortizacion'!#REF!,8),IF([1]CALCULADORA!$F$10=20%,ROUND('[1]Tabla de Amortizacion'!#REF!,8),ROUND('[1]Tabla de Amortizacion'!K88,8))))))","v":0}]
["2028-09-24",5.82681E-3,{"$f":"+VLOOKUP(A88,'Tabla de Amortizacion'!$D$2:$N$182,MATCH(Tablas!$B$1,'Tabla de Amortizacion'!$D$2:$N$2,0))","v":5.82681E-3},null,{"$f":"IF([1]CALCULADORA!$F$10=\"Contractual\",ROUND('[1]Tabla de Amortizacion'!C89,8),IF([1]CALCULADORA!$F$10=\"6% (Medio)\",ROUND('[1]Tabla de Amortizacion'!F89,8),IF([1]CALCULADORA!$F$10=\"10% (Medio Alto)\",ROUND('[1]Tabla de Amortizacion'!H89,8),IF([1]CALCULADORA!$F$10=\"14% (Alto)\",ROUND('[1]Tabla de Amortizacion'!#REF!,8),IF([1]CALCULADORA!$F$10=20%,ROUND('[1]Tabla de Amortizacion'!#REF!,8),ROUND('[1]Tabla de Amortizacion'!K89,8))))))","v":0}]
["2028-10-24",5.7640399999999998E-3,{"$f":"+VLOOKUP(A89,'Tabla de Amortizacion'!$D$2:$N$182,MATCH(Tablas!$B$1,'Tabla de Amortizacion'!$D$2:$N$2,0))","v":5.7640399999999998E-3},null,{"$f":"IF([1]CALCULADORA!$F$10=\"Contractual\",ROUND('[1]Tabla de Amortizacion'!C90,8),IF([1]CALCULADORA!$F$10=\"6% (Medio)\",ROUND('[1]Tabla de Amortizacion'!F90,8),IF([1]CALCULADORA!$F$10=\"10% (Medio Alto)\",ROUND('[1]Tabla de Amortizacion'!H90,8),IF([1]CALCULADORA!$F$10=\"14% (Alto)\",ROUND('[1]Tabla de Amortizacion'!#REF!,8),IF([1]CALCULADORA!$F$10=20%,ROUND('[1]Tabla de Amortizacion'!#REF!,8),ROUND('[1]Tabla de Amortizacion'!K90,8))))))","v":0}]
["2028-11-24",5.6965899999999996E-3,{"$f":"+VLOOKUP(A90,'Tabla de Amortizacion'!$D$2:$N$182,MATCH(Tablas!$B$1,'Tabla de Amortizacion'!$D$2:$N$2,0))","v":5.6965899999999996E-3},null,{"$f":"IF([1]CALCULADORA!$F$10=\"Contractual\",ROUND('[1]Tabla de Amortizacion'!C91,8),IF([1]CALCULADORA!$F$10=\"6% (Medio)\",ROUND('[1]Tabla de Amortizacion'!F91,8),IF([1]CALCULADORA!$F$10=\"10% (Medio Alto)\",ROUND('[1]Tabla de Amortizacion'!H91,8),IF([1]CALCULADORA!$F$10=\"14% (Alto)\",ROUND('[1]Tabla de Amortizacion'!#REF!,8),IF([1]CALCULADORA!$F$10=20%,ROUND('[1]Tabla de Amortizacion'!#REF!,8),ROUND('[1]Tabla de Amortizacion'!K91,8))))))","v":0}]
["2028-12-24",5.6319600000000001E-3,{"$f":"+VLOOKUP(A91,'Tabla de Amortizacion'!$D$2:$N$182,MATCH(Tablas!$B$1,'Tabla de Amortizacion'!$D$2:$N$2,0))","v":5.6319600000000001E-3},null,{"$f":"IF([1]CALCULADORA!$F$10=\"Contractual\",ROUND('[1]Tabla de Amortizacion'!C92,8),IF([1]CALCULADORA!$F$10=\"6% (Medio)\",ROUND('[1]Tabla de Amortizacion'!F92,8),IF([1]CALCULADORA!$F$10=\"10% (Medio Alto)\",ROUND('[1]Tabla de Amortizacion'!H92,8),IF([1]CALCULADORA!$F$10=\"14% (Alto)\",ROUND('[1]Tabla de Amortizacion'!#REF!,8),IF([1]CALCULADORA!$F$10=20%,ROUND('[1]Tabla de Amortizacion'!#REF!,8),ROUND('[1]Tabla de Amortizacion'!K92,8))))))","v":0}]
["2029-01-24",5.56786E-3,{"$f":"+VLOOKUP(A92,'Tabla de Amortizacion'!$D$2:$N$182,MATCH(Tablas!$B$1,'Tabla de Amortizacion'!$D$2:$N$2,0))","v":5.56786E-3},null,{"$f":"IF([1]CALCULADORA!$F$10=\"Contractual\",ROUND('[1]Tabla de Amortizacion'!C93,8),IF([1]CALCULADORA!$F$10=\"6% (Medio)\",ROUND('[1]Tabla de Amortizacion'!F93,8),IF([1]CALCULADORA!$F$10=\"10% (Medio Alto)\",ROUND('[1]Tabla de Amortizacion'!H93,8),IF([1]CALCULADORA!$F$10=\"14% (Alto)\",ROUND('[1]Tabla de Amortizacion'!#REF!,8),IF([1]CALCULADORA!$F$10=20%,ROUND('[1]Tabla de Amortizacion'!#REF!,8),ROUND('[1]Tabla de Amortizacion'!K93,8))))))","v":0}]
["2029-02-24",5.4983899999999997E-3,{"$f":"+VLOOKUP(A93,'Tabla de Amortizacion'!$D$2:$N$182,MATCH(Tablas!$B$1,'Tabla de Amortizacion'!$D$2:$N$2,0))","v":5.4983899999999997E-3},null,{"$f":"IF([1]CALCULADORA!$F$10=\"Contractual\",ROUND('[1]Tabla de Amortizacion'!C94,8),IF([1]CALCULADORA!$F$10=\"6% (Medio)\",ROUND('[1]Tabla de Amortizacion'!F94,8),IF([1]CALCULADORA!$F$10=\"10% (Medio Alto)\",ROUND('[1]Tabla de Amortizacion'!H94,8),IF([1]CALCULADORA!$F$10=\"14% (Alto)\",ROUND('[1]Tabla de Amortizacion'!#REF!,8),IF([1]CALCULADORA!$F$10=20%,ROUND('[1]Tabla de Amortizacion'!#REF!,8),ROUND('[1]Tabla de Amortizacion'!K94,8))))))","v":0}]
["2029-03-24",5.4334500000000003E-3,{"$f":"+VLOOKUP(A94,'Tabla de Amortizacion'!$D$2:$N$182,MATCH(Tablas!$B$1,'Tabla de Amortizacion'!$D$2:$N$2,0))","v":5.4334500000000003E-3},null,{"$f":"IF([1]CALCULADORA!$F$10=\"Contractual\",ROUND('[1]Tabla de Amortizacion'!C95,8),IF([1]CALCULADORA!$F$10=\"6% (Medio)\",ROUND('[1]Tabla de Amortizacion'!F95,8),IF([1]CALCULADORA!$F$10=\"10% (Medio Alto)\",ROUND('[1]Tabla de Amortizacion'!H95,8),IF([1]CALCULADORA!$F$10=\"14% (Alto)\",ROUND('[1]Tabla de Amortizacion'!#REF!,8),IF([1]CALCULADORA!$F$10=20%,ROUND('[1]Tabla de Amortizacion'!#REF!,8),ROUND('[1]Tabla de Amortizacion'!K95,8))))))","v":0}]
["2029-04-24",5.3619899999999996E-3,{"$f":"+VLOOKUP(A95,'Tabla de Amortizacion'!$D$2:$N$182,MATCH(Tablas!$B$1,'Tabla de Amortizacion'!$D$2:$N$2,0))","v":5.3619899999999996E-3},null,{"$f":"IF([1]CALCULADORA!$F$10=\"Contractual\",ROUND('[1]Tabla de Amortizacion'!C96,8),IF([1]CALCULADORA!$F$10=\"6% (Medio)\",ROUND('[1]Tabla de Amortizacion'!F96,8),IF([1]CALCULADORA!$F$10=\"10% (Medio Alto)\",ROUND('[1]Tabla de Amortizacion'!H96,8),IF([1]CALCULADORA!$F$10=\"14% (Alto)\",ROUND('[1]Tabla de Amortizacion'!#REF!,8),IF([1]CALCULADORA!$F$10=20%,ROUND('[1]Tabla de Amortizacion'!#REF!,8),ROUND('[1]Tabla de Amortizacion'!K96,8))))))","v":0}]
["2029-05-24",5.2928100000000002E-3,{"$f":"+VLOOKUP(A96,'Tabla de Amortizacion'!$D$2:$N$182,MATCH(Tablas!$B$1,'Tabla de Amortizacion'!$D$2:$N$2,0))","v":5.2928100000000002E-3},null,{"$f":"IF([1]CALCULADORA!$F$10=\"Contractual\",ROUND('[1]Tabla de Amortizacion'!C97,8),IF([1]CALCULADORA!$F$10=\"6% (Medio)\",ROUND('[1]Tabla de Amortizacion'!F97,8),IF([1]CALCULADORA!$F$10=\"10% (Medio Alto)\",ROUND('[1]Tabla de Amortizacion'!H97,8),IF([1]CALCULADORA!$F$10=\"14% (Alto)\",ROUND('[1]Tabla de Amortizacion'!#REF!,8),IF([1]CALCULADORA!$F$10=20%,ROUND('[1]Tabla de Amortizacion'!#REF!,8),ROUND('[1]Tabla de Amortizacion'!K97,8))))))","v":0}]
["2029-06-24",4.9620599999999999E-3,{"$f":"+VLOOKUP(A97,'Tabla de Amortizacion'!$D$2:$N$182,MATCH(Tablas!$B$1,'Tabla de Amortizacion'!$D$2:$N$2,0))","v":4.9620599999999999E-3},null,{"$f":"IF([1]CALCULADORA!$F$10=\"Contractual\",ROUND('[1]Tabla de Amortizacion'!C98,8),IF([1]CALCULADORA!$F$10=\"6% (Medio)\",ROUND('[1]Tabla de Amortizacion'!F98,8),IF([1]CALCULADORA!$F$10=\"10% (Medio Alto)\",ROUND('[1]Tabla de Amortizacion'!H98,8),IF([1]CALCULADORA!$F$10=\"14% (Alto)\",ROUND('[1]Tabla de Amortizacion'!#REF!,8),IF([1]CALCULADORA!$F$10=20%,ROUND('[1]Tabla de Amortizacion'!#REF!,8),ROUND('[1]Tabla de Amortizacion'!K98,8))))))","v":0}]
["2029-07-24",5.1329499999999998E-3,{"$f":"+VLOOKUP(A98,'Tabla de Amortizacion'!$D$2:$N$182,MATCH(Tablas!$B$1,'Tabla de Amortizacion'!$D$2:$N$2,0))","v":5.1329499999999998E-3},null,{"$f":"IF([1]CALCULADORA!$F$10=\"Contractual\",ROUND('[1]Tabla de Amortizacion'!C99,8),IF([1]CALCULADORA!$F$10=\"6% (Medio)\",ROUND('[1]Tabla de Amortizacion'!F99,8),IF([1]CALCULADORA!$F$10=\"10% (Medio Alto)\",ROUND('[1]Tabla de Amortizacion'!H99,8),IF([1]CALCULADORA!$F$10=\"14% (Alto)\",ROUND('[1]Tabla de Amortizacion'!#REF!,8),IF([1]CALCULADORA!$F$10=20%,ROUND('[1]Tabla de Amortizacion'!#REF!,8),ROUND('[1]Tabla de Amortizacion'!K99,8))))))","v":0}]
["2029-08-24",5.0336900000000004E-3,{"$f":"+VLOOKUP(A99,'Tabla de Amortizacion'!$D$2:$N$182,MATCH(Tablas!$B$1,'Tabla de Amortizacion'!$D$2:$N$2,0))","v":5.0336900000000004E-3},null,{"$f":"IF([1]CALCULADORA!$F$10=\"Contractual\",ROUND('[1]Tabla de Amortizacion'!C100,8),IF([1]CALCULADORA!$F$10=\"6% (Medio)\",ROUND('[1]Tabla de Amortizacion'!F100,8),IF([1]CALCULADORA!$F$10=\"10% (Medio Alto)\",ROUND('[1]Tabla de Amortizacion'!H100,8),IF([1]CALCULADORA!$F$10=\"14% (Alto)\",ROUND('[1]Tabla de Amortizacion'!#REF!,8),IF([1]CALCULADORA!$F$10=20%,ROUND('[1]Tabla de Amortizacion'!#REF!,8),ROUND('[1]Tabla de Amortizacion'!K100,8))))))","v":0}]
["2029-09-24",4.9106999999999996E-3,{"$f":"+VLOOKUP(A100,'Tabla de Amortizacion'!$D$2:$N$182,MATCH(Tablas!$B$1,'Tabla de Amortizacion'!$D$2:$N$2,0))","v":4.9106999999999996E-3},null,{"$f":"IF([1]CALCULADORA!$F$10=\"Contractual\",ROUND('[1]Tabla de Amortizacion'!C101,8),IF([1]CALCULADORA!$F$10=\"6% (Medio)\",ROUND('[1]Tabla de Amortizacion'!F101,8),IF([1]CALCULADORA!$F$10=\"10% (Medio Alto)\",ROUND('[1]Tabla de Amortizacion'!H101,8),IF([1]CALCULADORA!$F$10=\"14% (Alto)\",ROUND('[1]Tabla de Amortizacion'!#REF!,8),IF([1]CALCULADORA!$F$10=20%,ROUND('[1]Tabla de Amortizacion'!#REF!,8),ROUND('[1]Tabla de Amortizacion'!K101,8))))))","v":0}]
["2029-10-24",0,{"$f":"+VLOOKUP(A101,'Tabla de Amortizacion'!$D$2:$N$182,MATCH(Tablas!$B$1,'Tabla de Amortizacion'!$D$2:$N$2,0))","v":0},null,{"$f":"IF([1]CALCULADORA!$F$10=\"Contractual\",ROUND('[1]Tabla de Amortizacion'!C102,8),IF([1]CALCULADORA!$F$10=\"6% (Medio)\",ROUND('[1]Tabla de Amortizacion'!F102,8),IF([1]CALCULADORA!$F$10=\"10% (Medio Alto)\",ROUND('[1]Tabla de Amortizacion'!H102,8),IF([1]CALCULADORA!$F$10=\"14% (Alto)\",ROUND('[1]Tabla de Amortizacion'!#REF!,8),IF([1]CALCULADORA!$F$10=20%,ROUND('[1]Tabla de Amortizacion'!#REF!,8),ROUND('[1]Tabla de Amortizacion'!K102,8))))))","v":0}]
["2029-11-24",0,{"$f":"+VLOOKUP(A102,'Tabla de Amortizacion'!$D$2:$N$182,MATCH(Tablas!$B$1,'Tabla de Amortizacion'!$D$2:$N$2,0))","v":0},null,{"$f":"IF([1]CALCULADORA!$F$10=\"Contractual\",ROUND('[1]Tabla de Amortizacion'!C103,8),IF([1]CALCULADORA!$F$10=\"6% (Medio)\",ROUND('[1]Tabla de Amortizacion'!F103,8),IF([1]CALCULADORA!$F$10=\"10% (Medio Alto)\",ROUND('[1]Tabla de Amortizacion'!H103,8),IF([1]CALCULADORA!$F$10=\"14% (Alto)\",ROUND('[1]Tabla de Amortizacion'!#REF!,8),IF([1]CALCULADORA!$F$10=20%,ROUND('[1]Tabla de Amortizacion'!#REF!,8),ROUND('[1]Tabla de Amortizacion'!K103,8))))))","v":0}]
["2029-12-24",0,{"$f":"+VLOOKUP(A103,'Tabla de Amortizacion'!$D$2:$N$182,MATCH(Tablas!$B$1,'Tabla de Amortizacion'!$D$2:$N$2,0))","v":0},null,{"$f":"IF([1]CALCULADORA!$F$10=\"Contractual\",ROUND('[1]Tabla de Amortizacion'!C104,8),IF([1]CALCULADORA!$F$10=\"6% (Medio)\",ROUND('[1]Tabla de Amortizacion'!F104,8),IF([1]CALCULADORA!$F$10=\"10% (Medio Alto)\",ROUND('[1]Tabla de Amortizacion'!H104,8),IF([1]CALCULADORA!$F$10=\"14% (Alto)\",ROUND('[1]Tabla de Amortizacion'!#REF!,8),IF([1]CALCULADORA!$F$10=20%,ROUND('[1]Tabla de Amortizacion'!#REF!,8),ROUND('[1]Tabla de Amortizacion'!K104,8))))))","v":0}]
["2030-01-24",0,{"$f":"+VLOOKUP(A104,'Tabla de Amortizacion'!$D$2:$N$182,MATCH(Tablas!$B$1,'Tabla de Amortizacion'!$D$2:$N$2,0))","v":0},null,{"$f":"IF([1]CALCULADORA!$F$10=\"Contractual\",ROUND('[1]Tabla de Amortizacion'!C105,8),IF([1]CALCULADORA!$F$10=\"6% (Medio)\",ROUND('[1]Tabla de Amortizacion'!F105,8),IF([1]CALCULADORA!$F$10=\"10% (Medio Alto)\",ROUND('[1]Tabla de Amortizacion'!H105,8),IF([1]CALCULADORA!$F$10=\"14% (Alto)\",ROUND('[1]Tabla de Amortizacion'!#REF!,8),IF([1]CALCULADORA!$F$10=20%,ROUND('[1]Tabla de Amortizacion'!#REF!,8),ROUND('[1]Tabla de Amortizacion'!K105,8))))))","v":0}]
["2030-02-24",0,{"$f":"+VLOOKUP(A105,'Tabla de Amortizacion'!$D$2:$N$182,MATCH(Tablas!$B$1,'Tabla de Amortizacion'!$D$2:$N$2,0))","v":0},null,{"$f":"IF([1]CALCULADORA!$F$10=\"Contractual\",ROUND('[1]Tabla de Amortizacion'!C106,8),IF([1]CALCULADORA!$F$10=\"6% (Medio)\",ROUND('[1]Tabla de Amortizacion'!F106,8),IF([1]CALCULADORA!$F$10=\"10% (Medio Alto)\",ROUND('[1]Tabla de Amortizacion'!H106,8),IF([1]CALCULADORA!$F$10=\"14% (Alto)\",ROUND('[1]Tabla de Amortizacion'!#REF!,8),IF([1]CALCULADORA!$F$10=20%,ROUND('[1]Tabla de Amortizacion'!#REF!,8),ROUND('[1]Tabla de Amortizacion'!K106,8))))))","v":0}]
["2030-03-24",0,{"$f":"+VLOOKUP(A106,'Tabla de Amortizacion'!$D$2:$N$182,MATCH(Tablas!$B$1,'Tabla de Amortizacion'!$D$2:$N$2,0))","v":0},null,{"$f":"IF([1]CALCULADORA!$F$10=\"Contractual\",ROUND('[1]Tabla de Amortizacion'!C107,8),IF([1]CALCULADORA!$F$10=\"6% (Medio)\",ROUND('[1]Tabla de Amortizacion'!F107,8),IF([1]CALCULADORA!$F$10=\"10% (Medio Alto)\",ROUND('[1]Tabla de Amortizacion'!H107,8),IF([1]CALCULADORA!$F$10=\"14% (Alto)\",ROUND('[1]Tabla de Amortizacion'!#REF!,8),IF([1]CALCULADORA!$F$10=20%,ROUND('[1]Tabla de Amortizacion'!#REF!,8),ROUND('[1]Tabla de Amortizacion'!K107,8))))))","v":0}]
["2030-04-24",0,{"$f":"+VLOOKUP(A107,'Tabla de Amortizacion'!$D$2:$N$182,MATCH(Tablas!$B$1,'Tabla de Amortizacion'!$D$2:$N$2,0))","v":0},null,{"$f":"IF([1]CALCULADORA!$F$10=\"Contractual\",ROUND('[1]Tabla de Amortizacion'!C108,8),IF([1]CALCULADORA!$F$10=\"6% (Medio)\",ROUND('[1]Tabla de Amortizacion'!F108,8),IF([1]CALCULADORA!$F$10=\"10% (Medio Alto)\",ROUND('[1]Tabla de Amortizacion'!H108,8),IF([1]CALCULADORA!$F$10=\"14% (Alto)\",ROUND('[1]Tabla de Amortizacion'!#REF!,8),IF([1]CALCULADORA!$F$10=20%,ROUND('[1]Tabla de Amortizacion'!#REF!,8),ROUND('[1]Tabla de Amortizacion'!K108,8))))))","v":0}]
["2030-05-24",0,{"$f":"+VLOOKUP(A108,'Tabla de Amortizacion'!$D$2:$N$182,MATCH(Tablas!$B$1,'Tabla de Amortizacion'!$D$2:$N$2,0))","v":0},null,{"$f":"IF([1]CALCULADORA!$F$10=\"Contractual\",ROUND('[1]Tabla de Amortizacion'!C109,8),IF([1]CALCULADORA!$F$10=\"6% (Medio)\",ROUND('[1]Tabla de Amortizacion'!F109,8),IF([1]CALCULADORA!$F$10=\"10% (Medio Alto)\",ROUND('[1]Tabla de Amortizacion'!H109,8),IF([1]CALCULADORA!$F$10=\"14% (Alto)\",ROUND('[1]Tabla de Amortizacion'!#REF!,8),IF([1]CALCULADORA!$F$10=20%,ROUND('[1]Tabla de Amortizacion'!#REF!,8),ROUND('[1]Tabla de Amortizacion'!K109,8))))))","v":0}]
["2030-06-24",0,{"$f":"+VLOOKUP(A109,'Tabla de Amortizacion'!$D$2:$N$182,MATCH(Tablas!$B$1,'Tabla de Amortizacion'!$D$2:$N$2,0))","v":0},null,{"$f":"IF([1]CALCULADORA!$F$10=\"Contractual\",ROUND('[1]Tabla de Amortizacion'!C110,8),IF([1]CALCULADORA!$F$10=\"6% (Medio)\",ROUND('[1]Tabla de Amortizacion'!F110,8),IF([1]CALCULADORA!$F$10=\"10% (Medio Alto)\",ROUND('[1]Tabla de Amortizacion'!H110,8),IF([1]CALCULADORA!$F$10=\"14% (Alto)\",ROUND('[1]Tabla de Amortizacion'!#REF!,8),IF([1]CALCULADORA!$F$10=20%,ROUND('[1]Tabla de Amortizacion'!#REF!,8),ROUND('[1]Tabla de Amortizacion'!K110,8))))))","v":0}]
["2030-07-24",0,{"$f":"+VLOOKUP(A110,'Tabla de Amortizacion'!$D$2:$N$182,MATCH(Tablas!$B$1,'Tabla de Amortizacion'!$D$2:$N$2,0))","v":0},null,{"$f":"IF([1]CALCULADORA!$F$10=\"Contractual\",ROUND('[1]Tabla de Amortizacion'!C111,8),IF([1]CALCULADORA!$F$10=\"6% (Medio)\",ROUND('[1]Tabla de Amortizacion'!F111,8),IF([1]CALCULADORA!$F$10=\"10% (Medio Alto)\",ROUND('[1]Tabla de Amortizacion'!H111,8),IF([1]CALCULADORA!$F$10=\"14% (Alto)\",ROUND('[1]Tabla de Amortizacion'!#REF!,8),IF([1]CALCULADORA!$F$10=20%,ROUND('[1]Tabla de Amortizacion'!#REF!,8),ROUND('[1]Tabla de Amortizacion'!K111,8))))))","v":0}]
["2030-08-24",0,{"$f":"+VLOOKUP(A111,'Tabla de Amortizacion'!$D$2:$N$182,MATCH(Tablas!$B$1,'Tabla de Amortizacion'!$D$2:$N$2,0))","v":0},null,{"$f":"IF([1]CALCULADORA!$F$10=\"Contractual\",ROUND('[1]Tabla de Amortizacion'!C112,8),IF([1]CALCULADORA!$F$10=\"6% (Medio)\",ROUND('[1]Tabla de Amortizacion'!F112,8),IF([1]CALCULADORA!$F$10=\"10% (Medio Alto)\",ROUND('[1]Tabla de Amortizacion'!H112,8),IF([1]CALCULADORA!$F$10=\"14% (Alto)\",ROUND('[1]Tabla de Amortizacion'!#REF!,8),IF([1]CALCULADORA!$F$10=20%,ROUND('[1]Tabla de Amortizacion'!#REF!,8),ROUND('[1]Tabla de Amortizacion'!K112,8))))))","v":0}]
["2030-09-24",0,{"$f":"+VLOOKUP(A112,'Tabla de Amortizacion'!$D$2:$N$182,MATCH(Tablas!$B$1,'Tabla de Amortizacion'!$D$2:$N$2,0))","v":0},null,{"$f":"IF([1]CALCULADORA!$F$10=\"Contractual\",ROUND('[1]Tabla de Amortizacion'!C113,8),IF([1]CALCULADORA!$F$10=\"6% (Medio)\",ROUND('[1]Tabla de Amortizacion'!F113,8),IF([1]CALCULADORA!$F$10=\"10% (Medio Alto)\",ROUND('[1]Tabla de Amortizacion'!H113,8),IF([1]CALCULADORA!$F$10=\"14% (Alto)\",ROUND('[1]Tabla de Amortizacion'!#REF!,8),IF([1]CALCULADORA!$F$10=20%,ROUND('[1]Tabla de Amortizacion'!#REF!,8),ROUND('[1]Tabla de Amortizacion'!K113,8))))))","v":0}]
["2030-10-24",0,{"$f":"+VLOOKUP(A113,'Tabla de Amortizacion'!$D$2:$N$182,MATCH(Tablas!$B$1,'Tabla de Amortizacion'!$D$2:$N$2,0))","v":0},null,{"$f":"IF([1]CALCULADORA!$F$10=\"Contractual\",ROUND('[1]Tabla de Amortizacion'!C114,8),IF([1]CALCULADORA!$F$10=\"6% (Medio)\",ROUND('[1]Tabla de Amortizacion'!F114,8),IF([1]CALCULADORA!$F$10=\"10% (Medio Alto)\",ROUND('[1]Tabla de Amortizacion'!H114,8),IF([1]CALCULADORA!$F$10=\"14% (Alto)\",ROUND('[1]Tabla de Amortizacion'!#REF!,8),IF([1]CALCULADORA!$F$10=20%,ROUND('[1]Tabla de Amortizacion'!#REF!,8),ROUND('[1]Tabla de Amortizacion'!K114,8))))))","v":0}]
["2030-11-24",0,{"$f":"+VLOOKUP(A114,'Tabla de Amortizacion'!$D$2:$N$182,MATCH(Tablas!$B$1,'Tabla de Amortizacion'!$D$2:$N$2,0))","v":0},null,{"$f":"IF([1]CALCULADORA!$F$10=\"Contractual\",ROUND('[1]Tabla de Amortizacion'!C115,8),IF([1]CALCULADORA!$F$10=\"6% (Medio)\",ROUND('[1]Tabla de Amortizacion'!F115,8),IF([1]CALCULADORA!$F$10=\"10% (Medio Alto)\",ROUND('[1]Tabla de Amortizacion'!H115,8),IF([1]CALCULADORA!$F$10=\"14% (Alto)\",ROUND('[1]Tabla de Amortizacion'!#REF!,8),IF([1]CALCULADORA!$F$10=20%,ROUND('[1]Tabla de Amortizacion'!#REF!,8),ROUND('[1]Tabla de Amortizacion'!K115,8))))))","v":0}]
["2030-12-24",0,{"$f":"+VLOOKUP(A115,'Tabla de Amortizacion'!$D$2:$N$182,MATCH(Tablas!$B$1,'Tabla de Amortizacion'!$D$2:$N$2,0))","v":0},null,{"$f":"IF([1]CALCULADORA!$F$10=\"Contractual\",ROUND('[1]Tabla de Amortizacion'!C116,8),IF([1]CALCULADORA!$F$10=\"6% (Medio)\",ROUND('[1]Tabla de Amortizacion'!F116,8),IF([1]CALCULADORA!$F$10=\"10% (Medio Alto)\",ROUND('[1]Tabla de Amortizacion'!H116,8),IF([1]CALCULADORA!$F$10=\"14% (Alto)\",ROUND('[1]Tabla de Amortizacion'!#REF!,8),IF([1]CALCULADORA!$F$10=20%,ROUND('[1]Tabla de Amortizacion'!#REF!,8),ROUND('[1]Tabla de Amortizacion'!K116,8))))))","v":0}]
["2031-01-24",1.86655E-3,{"$f":"+VLOOKUP(A116,'Tabla de Amortizacion'!$D$2:$N$182,MATCH(Tablas!$B$1,'Tabla de Amortizacion'!$D$2:$N$2,0))","v":1.86655E-3},null,{"$f":"IF([1]CALCULADORA!$F$10=\"Contractual\",ROUND('[1]Tabla de Amortizacion'!C117,8),IF([1]CALCULADORA!$F$10=\"6% (Medio)\",ROUND('[1]Tabla de Amortizacion'!F117,8),IF([1]CALCULADORA!$F$10=\"10% (Medio Alto)\",ROUND('[1]Tabla de Amortizacion'!H117,8),IF([1]CALCULADORA!$F$10=\"14% (Alto)\",ROUND('[1]Tabla de Amortizacion'!#REF!,8),IF([1]CALCULADORA!$F$10=20%,ROUND('[1]Tabla de Amortizacion'!#REF!,8),ROUND('[1]Tabla de Amortizacion'!K117,8))))))","v":0}]
["2031-02-24",3.6534499999999999E-3,{"$f":"+VLOOKUP(A117,'Tabla de Amortizacion'!$D$2:$N$182,MATCH(Tablas!$B$1,'Tabla de Amortizacion'!$D$2:$N$2,0))","v":3.6534499999999999E-3},null,{"$f":"IF([1]CALCULADORA!$F$10=\"Contractual\",ROUND('[1]Tabla de Amortizacion'!C118,8),IF([1]CALCULADORA!$F$10=\"6% (Medio)\",ROUND('[1]Tabla de Amortizacion'!F118,8),IF([1]CALCULADORA!$F$10=\"10% (Medio Alto)\",ROUND('[1]Tabla de Amortizacion'!H118,8),IF([1]CALCULADORA!$F$10=\"14% (Alto)\",ROUND('[1]Tabla de Amortizacion'!#REF!,8),IF([1]CALCULADORA!$F$10=20%,ROUND('[1]Tabla de Amortizacion'!#REF!,8),ROUND('[1]Tabla de Amortizacion'!K118,8))))))","v":0}]
["2031-03-24",3.6074800000000001E-3,{"$f":"+VLOOKUP(A118,'Tabla de Amortizacion'!$D$2:$N$182,MATCH(Tablas!$B$1,'Tabla de Amortizacion'!$D$2:$N$2,0))","v":3.6074800000000001E-3},null,{"$f":"IF([1]CALCULADORA!$F$10=\"Contractual\",ROUND('[1]Tabla de Amortizacion'!C119,8),IF([1]CALCULADORA!$F$10=\"6% (Medio)\",ROUND('[1]Tabla de Amortizacion'!F119,8),IF([1]CALCULADORA!$F$10=\"10% (Medio Alto)\",ROUND('[1]Tabla de Amortizacion'!H119,8),IF([1]CALCULADORA!$F$10=\"14% (Alto)\",ROUND('[1]Tabla de Amortizacion'!#REF!,8),IF([1]CALCULADORA!$F$10=20%,ROUND('[1]Tabla de Amortizacion'!#REF!,8),ROUND('[1]Tabla de Amortizacion'!K119,8))))))","v":0}]
["2031-04-24",3.5704899999999999E-3,{"$f":"+VLOOKUP(A119,'Tabla de Amortizacion'!$D$2:$N$182,MATCH(Tablas!$B$1,'Tabla de Amortizacion'!$D$2:$N$2,0))","v":3.5704899999999999E-3},null,{"$f":"IF([1]CALCULADORA!$F$10=\"Contractual\",ROUND('[1]Tabla de Amortizacion'!C120,8),IF([1]CALCULADORA!$F$10=\"6% (Medio)\",ROUND('[1]Tabla de Amortizacion'!F120,8),IF([1]CALCULADORA!$F$10=\"10% (Medio Alto)\",ROUND('[1]Tabla de Amortizacion'!H120,8),IF([1]CALCULADORA!$F$10=\"14% (Alto)\",ROUND('[1]Tabla de Amortizacion'!#REF!,8),IF([1]CALCULADORA!$F$10=20%,ROUND('[1]Tabla de Amortizacion'!#REF!,8),ROUND('[1]Tabla de Amortizacion'!K120,8))))))","v":0}]
["2031-05-24",3.5366400000000002E-3,{"$f":"+VLOOKUP(A120,'Tabla de Amortizacion'!$D$2:$N$182,MATCH(Tablas!$B$1,'Tabla de Amortizacion'!$D$2:$N$2,0))","v":3.5366400000000002E-3},null,{"$f":"IF([1]CALCULADORA!$F$10=\"Contractual\",ROUND('[1]Tabla de Amortizacion'!C121,8),IF([1]CALCULADORA!$F$10=\"6% (Medio)\",ROUND('[1]Tabla de Amortizacion'!F121,8),IF([1]CALCULADORA!$F$10=\"10% (Medio Alto)\",ROUND('[1]Tabla de Amortizacion'!H121,8),IF([1]CALCULADORA!$F$10=\"14% (Alto)\",ROUND('[1]Tabla de Amortizacion'!#REF!,8),IF([1]CALCULADORA!$F$10=20%,ROUND('[1]Tabla de Amortizacion'!#REF!,8),ROUND('[1]Tabla de Amortizacion'!K121,8))))))","v":0}]
["2031-06-24",3.20361E-3,{"$f":"+VLOOKUP(A121,'Tabla de Amortizacion'!$D$2:$N$182,MATCH(Tablas!$B$1,'Tabla de Amortizacion'!$D$2:$N$2,0))","v":3.20361E-3},null,{"$f":"IF([1]CALCULADORA!$F$10=\"Contractual\",ROUND('[1]Tabla de Amortizacion'!C122,8),IF([1]CALCULADORA!$F$10=\"6% (Medio)\",ROUND('[1]Tabla de Amortizacion'!F122,8),IF([1]CALCULADORA!$F$10=\"10% (Medio Alto)\",ROUND('[1]Tabla de Amortizacion'!H122,8),IF([1]CALCULADORA!$F$10=\"14% (Alto)\",ROUND('[1]Tabla de Amortizacion'!#REF!,8),IF([1]CALCULADORA!$F$10=20%,ROUND('[1]Tabla de Amortizacion'!#REF!,8),ROUND('[1]Tabla de Amortizacion'!K122,8))))))","v":0}]
["2031-07-24",3.46204E-3,{"$f":"+VLOOKUP(A122,'Tabla de Amortizacion'!$D$2:$N$182,MATCH(Tablas!$B$1,'Tabla de Amortizacion'!$D$2:$N$2,0))","v":3.46204E-3},null,{"$f":"IF([1]CALCULADORA!$F$10=\"Contractual\",ROUND('[1]Tabla de Amortizacion'!C123,8),IF([1]CALCULADORA!$F$10=\"6% (Medio)\",ROUND('[1]Tabla de Amortizacion'!F123,8),IF([1]CALCULADORA!$F$10=\"10% (Medio Alto)\",ROUND('[1]Tabla de Amortizacion'!H123,8),IF([1]CALCULADORA!$F$10=\"14% (Alto)\",ROUND('[1]Tabla de Amortizacion'!#REF!,8),IF([1]CALCULADORA!$F$10=20%,ROUND('[1]Tabla de Amortizacion'!#REF!,8),ROUND('[1]Tabla de Amortizacion'!K123,8))))))","v":0}]
["2031-08-24",3.4296700000000001E-3,{"$f":"+VLOOKUP(A123,'Tabla de Amortizacion'!$D$2:$N$182,MATCH(Tablas!$B$1,'Tabla de Amortizacion'!$D$2:$N$2,0))","v":3.4296700000000001E-3},null,{"$f":"IF([1]CALCULADORA!$F$10=\"Contractual\",ROUND('[1]Tabla de Amortizacion'!C124,8),IF([1]CALCULADORA!$F$10=\"6% (Medio)\",ROUND('[1]Tabla de Amortizacion'!F124,8),IF([1]CALCULADORA!$F$10=\"10% (Medio Alto)\",ROUND('[1]Tabla de Amortizacion'!H124,8),IF([1]CALCULADORA!$F$10=\"14% (Alto)\",ROUND('[1]Tabla de Amortizacion'!#REF!,8),IF([1]CALCULADORA!$F$10=20%,ROUND('[1]Tabla de Amortizacion'!#REF!,8),ROUND('[1]Tabla de Amortizacion'!K124,8))))))","v":0}]
["2031-09-24",3.3963499999999998E-3,{"$f":"+VLOOKUP(A124,'Tabla de Amortizacion'!$D$2:$N$182,MATCH(Tablas!$B$1,'Tabla de Amortizacion'!$D$2:$N$2,0))","v":3.3963499999999998E-3},null,{"$f":"IF([1]CALCULADORA!$F$10=\"Contractual\",ROUND('[1]Tabla de Amortizacion'!C125,8),IF([1]CALCULADORA!$F$10=\"6% (Medio)\",ROUND('[1]Tabla de Amortizacion'!F125,8),IF([1]CALCULADORA!$F$10=\"10% (Medio Alto)\",ROUND('[1]Tabla de Amortizacion'!H125,8),IF([1]CALCULADORA!$F$10=\"14% (Alto)\",ROUND('[1]Tabla de Amortizacion'!#REF!,8),IF([1]CALCULADORA!$F$10=20%,ROUND('[1]Tabla de Amortizacion'!#REF!,8),ROUND('[1]Tabla de Amortizacion'!K125,8))))))","v":0}]
["2031-10-24",3.3616499999999999E-3,{"$f":"+VLOOKUP(A125,'Tabla de Amortizacion'!$D$2:$N$182,MATCH(Tablas!$B$1,'Tabla de Amortizacion'!$D$2:$N$2,0))","v":3.3616499999999999E-3},null,{"$f":"IF([1]CALCULADORA!$F$10=\"Contractual\",ROUND('[1]Tabla de Amortizacion'!C126,8),IF([1]CALCULADORA!$F$10=\"6% (Medio)\",ROUND('[1]Tabla de Amortizacion'!F126,8),IF([1]CALCULADORA!$F$10=\"10% (Medio Alto)\",ROUND('[1]Tabla de Amortizacion'!H126,8),IF([1]CALCULADORA!$F$10=\"14% (Alto)\",ROUND('[1]Tabla de Amortizacion'!#REF!,8),IF([1]CALCULADORA!$F$10=20%,ROUND('[1]Tabla de Amortizacion'!#REF!,8),ROUND('[1]Tabla de Amortizacion'!K126,8))))))","v":0}]
["2031-11-24",3.3227600000000001E-3,{"$f":"+VLOOKUP(A126,'Tabla de Amortizacion'!$D$2:$N$182,MATCH(Tablas!$B$1,'Tabla de Amortizacion'!$D$2:$N$2,0))","v":3.3227600000000001E-3},null,{"$f":"IF([1]CALCULADORA!$F$10=\"Contractual\",ROUND('[1]Tabla de Amortizacion'!C127,8),IF([1]CALCULADORA!$F$10=\"6% (Medio)\",ROUND('[1]Tabla de Amortizacion'!F127,8),IF([1]CALCULADORA!$F$10=\"10% (Medio Alto)\",ROUND('[1]Tabla de Amortizacion'!H127,8),IF([1]CALCULADORA!$F$10=\"14% (Alto)\",ROUND('[1]Tabla de Amortizacion'!#REF!,8),IF([1]CALCULADORA!$F$10=20%,ROUND('[1]Tabla de Amortizacion'!#REF!,8),ROUND('[1]Tabla de Amortizacion'!K127,8))))))","v":0}]
["2031-12-24",3.2899600000000002E-3,{"$f":"+VLOOKUP(A127,'Tabla de Amortizacion'!$D$2:$N$182,MATCH(Tablas!$B$1,'Tabla de Amortizacion'!$D$2:$N$2,0))","v":3.2899600000000002E-3},null,{"$f":"IF([1]CALCULADORA!$F$10=\"Contractual\",ROUND('[1]Tabla de Amortizacion'!C128,8),IF([1]CALCULADORA!$F$10=\"6% (Medio)\",ROUND('[1]Tabla de Amortizacion'!F128,8),IF([1]CALCULADORA!$F$10=\"10% (Medio Alto)\",ROUND('[1]Tabla de Amortizacion'!H128,8),IF([1]CALCULADORA!$F$10=\"14% (Alto)\",ROUND('[1]Tabla de Amortizacion'!#REF!,8),IF([1]CALCULADORA!$F$10=20%,ROUND('[1]Tabla de Amortizacion'!#REF!,8),ROUND('[1]Tabla de Amortizacion'!K128,8))))))","v":0}]
["2032-01-24",3.2527099999999998E-3,{"$f":"+VLOOKUP(A128,'Tabla de Amortizacion'!$D$2:$N$182,MATCH(Tablas!$B$1,'Tabla de Amortizacion'!$D$2:$N$2,0))","v":3.2527099999999998E-3},null,{"$f":"IF([1]CALCULADORA!$F$10=\"Contractual\",ROUND('[1]Tabla de Amortizacion'!C129,8),IF([1]CALCULADORA!$F$10=\"6% (Medio)\",ROUND('[1]Tabla de Amortizacion'!F129,8),IF([1]CALCULADORA!$F$10=\"10% (Medio Alto)\",ROUND('[1]Tabla de Amortizacion'!H129,8),IF([1]CALCULADORA!$F$10=\"14% (Alto)\",ROUND('[1]Tabla de Amortizacion'!#REF!,8),IF([1]CALCULADORA!$F$10=20%,ROUND('[1]Tabla de Amortizacion'!#REF!,8),ROUND('[1]Tabla de Amortizacion'!K129,8))))))","v":0}]
["2032-02-24",2.8097600000000001E-3,{"$f":"+VLOOKUP(A129,'Tabla de Amortizacion'!$D$2:$N$182,MATCH(Tablas!$B$1,'Tabla de Amortizacion'!$D$2:$N$2,0))","v":2.8097600000000001E-3},null,{"$f":"IF([1]CALCULADORA!$F$10=\"Contractual\",ROUND('[1]Tabla de Amortizacion'!C130,8),IF([1]CALCULADORA!$F$10=\"6% (Medio)\",ROUND('[1]Tabla de Amortizacion'!F130,8),IF([1]CALCULADORA!$F$10=\"10% (Medio Alto)\",ROUND('[1]Tabla de Amortizacion'!H130,8),IF([1]CALCULADORA!$F$10=\"14% (Alto)\",ROUND('[1]Tabla de Amortizacion'!#REF!,8),IF([1]CALCULADORA!$F$10=20%,ROUND('[1]Tabla de Amortizacion'!#REF!,8),ROUND('[1]Tabla de Amortizacion'!K130,8))))))","v":0}]
["2032-03-24",0,{"$f":"+VLOOKUP(A130,'Tabla de Amortizacion'!$D$2:$N$182,MATCH(Tablas!$B$1,'Tabla de Amortizacion'!$D$2:$N$2,0))","v":0},null,{"$f":"IF([1]CALCULADORA!$F$10=\"Contractual\",ROUND('[1]Tabla de Amortizacion'!C131,8),IF([1]CALCULADORA!$F$10=\"6% (Medio)\",ROUND('[1]Tabla de Amortizacion'!F131,8),IF([1]CALCULADORA!$F$10=\"10% (Medio Alto)\",ROUND('[1]Tabla de Amortizacion'!H131,8),IF([1]CALCULADORA!$F$10=\"14% (Alto)\",ROUND('[1]Tabla de Amortizacion'!#REF!,8),IF([1]CALCULADORA!$F$10=20%,ROUND('[1]Tabla de Amortizacion'!#REF!,8),ROUND('[1]Tabla de Amortizacion'!K131,8))))))","v":0}]
[{"$f":"EDATE(A130,1)","v":"2032-04-24"},{"$f":"+ROUND(C131,8)","v":0},{"$f":"+VLOOKUP(A131,'Tabla de Amortizacion'!$D$2:$N$182,MATCH(Tablas!$B$1,'Tabla de Amortizacion'!$D$2:$N$2,0))","v":0},null,{"$f":"IF([1]CALCULADORA!$F$10=\"Contractual\",ROUND('[1]Tabla de Amortizacion'!C132,8),IF([1]CALCULADORA!$F$10=\"6% (Medio)\",ROUND('[1]Tabla de Amortizacion'!F132,8),IF([1]CALCULADORA!$F$10=\"10% (Medio Alto)\",ROUND('[1]Tabla de Amortizacion'!H132,8),IF([1]CALCULADORA!$F$10=\"14% (Alto)\",ROUND('[1]Tabla de Amortizacion'!#REF!,8),IF([1]CALCULADORA!$F$10=20%,ROUND('[1]Tabla de Amortizacion'!#REF!,8),ROUND('[1]Tabla de Amortizacion'!K132,8))))))","v":0}]
["2032-05-24",0,{"$f":"+VLOOKUP(A132,'Tabla de Amortizacion'!$D$2:$N$182,MATCH(Tablas!$B$1,'Tabla de Amortizacion'!$D$2:$N$2,0))","v":0},null,{"$f":"IF([1]CALCULADORA!$F$10=\"Contractual\",ROUND('[1]Tabla de Amortizacion'!C133,8),IF([1]CALCULADORA!$F$10=\"6% (Medio)\",ROUND('[1]Tabla de Amortizacion'!F133,8),IF([1]CALCULADORA!$F$10=\"10% (Medio Alto)\",ROUND('[1]Tabla de Amortizacion'!H133,8),IF([1]CALCULADORA!$F$10=\"14% (Alto)\",ROUND('[1]Tabla de Amortizacion'!#REF!,8),IF([1]CALCULADORA!$F$10=20%,ROUND('[1]Tabla de Amortizacion'!#REF!,8),ROUND('[1]Tabla de Amortizacion'!K133,8))))))","v":0}]
["2032-06-24",0,{"$f":"+VLOOKUP(A133,'Tabla de Amortizacion'!$D$2:$N$182,MATCH(Tablas!$B$1,'Tabla de Amortizacion'!$D$2:$N$2,0))","v":0},null,{"$f":"IF([1]CALCULADORA!$F$10=\"Contractual\",ROUND('[1]Tabla de Amortizacion'!C134,8),IF([1]CALCULADORA!$F$10=\"6% (Medio)\",ROUND('[1]Tabla de Amortizacion'!F134,8),IF([1]CALCULADORA!$F$10=\"10% (Medio Alto)\",ROUND('[1]Tabla de Amortizacion'!H134,8),IF([1]CALCULADORA!$F$10=\"14% (Alto)\",ROUND('[1]Tabla de Amortizacion'!#REF!,8),IF([1]CALCULADORA!$F$10=20%,ROUND('[1]Tabla de Amortizacion'!#REF!,8),ROUND('[1]Tabla de Amortizacion'!K134,8))))))","v":0}]
["2032-07-24",0,{"$f":"+VLOOKUP(A134,'Tabla de Amortizacion'!$D$2:$N$182,MATCH(Tablas!$B$1,'Tabla de Amortizacion'!$D$2:$N$2,0))","v":0},null,{"$f":"IF([1]CALCULADORA!$F$10=\"Contractual\",ROUND('[1]Tabla de Amortizacion'!C135,8),IF([1]CALCULADORA!$F$10=\"6% (Medio)\",ROUND('[1]Tabla de Amortizacion'!F135,8),IF([1]CALCULADORA!$F$10=\"10% (Medio Alto)\",ROUND('[1]Tabla de Amortizacion'!H135,8),IF([1]CALCULADORA!$F$10=\"14% (Alto)\",ROUND('[1]Tabla de Amortizacion'!#REF!,8),IF([1]CALCULADORA!$F$10=20%,ROUND('[1]Tabla de Amortizacion'!#REF!,8),ROUND('[1]Tabla de Amortizacion'!K135,8))))))","v":0}]
["2032-08-24",0,{"$f":"+VLOOKUP(A135,'Tabla de Amortizacion'!$D$2:$N$182,MATCH(Tablas!$B$1,'Tabla de Amortizacion'!$D$2:$N$2,0))","v":0},null,{"$f":"IF([1]CALCULADORA!$F$10=\"Contractual\",ROUND('[1]Tabla de Amortizacion'!C136,8),IF([1]CALCULADORA!$F$10=\"6% (Medio)\",ROUND('[1]Tabla de Amortizacion'!F136,8),IF([1]CALCULADORA!$F$10=\"10% (Medio Alto)\",ROUND('[1]Tabla de Amortizacion'!H136,8),IF([1]CALCULADORA!$F$10=\"14% (Alto)\",ROUND('[1]Tabla de Amortizacion'!#REF!,8),IF([1]CALCULADORA!$F$10=20%,ROUND('[1]Tabla de Amortizacion'!#REF!,8),ROUND('[1]Tabla de Amortizacion'!K136,8))))))","v":0}]
["2032-09-24",0,{"$f":"+VLOOKUP(A136,'Tabla de Amortizacion'!$D$2:$N$182,MATCH(Tablas!$B$1,'Tabla de Amortizacion'!$D$2:$N$2,0))","v":0},null,{"$f":"IF([1]CALCULADORA!$F$10=\"Contractual\",ROUND('[1]Tabla de Amortizacion'!C137,8),IF([1]CALCULADORA!$F$10=\"6% (Medio)\",ROUND('[1]Tabla de Amortizacion'!F137,8),IF([1]CALCULADORA!$F$10=\"10% (Medio Alto)\",ROUND('[1]Tabla de Amortizacion'!H137,8),IF([1]CALCULADORA!$F$10=\"14% (Alto)\",ROUND('[1]Tabla de Amortizacion'!#REF!,8),IF([1]CALCULADORA!$F$10=20%,ROUND('[1]Tabla de Amortizacion'!#REF!,8),ROUND('[1]Tabla de Amortizacion'!K137,8))))))","v":0}]
["2032-10-24",0,{"$f":"+VLOOKUP(A137,'Tabla de Amortizacion'!$D$2:$N$182,MATCH(Tablas!$B$1,'Tabla de Amortizacion'!$D$2:$N$2,0))","v":0},null,{"$f":"IF([1]CALCULADORA!$F$10=\"Contractual\",ROUND('[1]Tabla de Amortizacion'!C138,8),IF([1]CALCULADORA!$F$10=\"6% (Medio)\",ROUND('[1]Tabla de Amortizacion'!F138,8),IF([1]CALCULADORA!$F$10=\"10% (Medio Alto)\",ROUND('[1]Tabla de Amortizacion'!H138,8),IF([1]CALCULADORA!$F$10=\"14% (Alto)\",ROUND('[1]Tabla de Amortizacion'!#REF!,8),IF([1]CALCULADORA!$F$10=20%,ROUND('[1]Tabla de Amortizacion'!#REF!,8),ROUND('[1]Tabla de Amortizacion'!K138,8))))))","v":0}]
["2032-11-24",0,{"$f":"+VLOOKUP(A138,'Tabla de Amortizacion'!$D$2:$N$182,MATCH(Tablas!$B$1,'Tabla de Amortizacion'!$D$2:$N$2,0))","v":0},null,{"$f":"IF([1]CALCULADORA!$F$10=\"Contractual\",ROUND('[1]Tabla de Amortizacion'!C139,8),IF([1]CALCULADORA!$F$10=\"6% (Medio)\",ROUND('[1]Tabla de Amortizacion'!F139,8),IF([1]CALCULADORA!$F$10=\"10% (Medio Alto)\",ROUND('[1]Tabla de Amortizacion'!H139,8),IF([1]CALCULADORA!$F$10=\"14% (Alto)\",ROUND('[1]Tabla de Amortizacion'!#REF!,8),IF([1]CALCULADORA!$F$10=20%,ROUND('[1]Tabla de Amortizacion'!#REF!,8),ROUND('[1]Tabla de Amortizacion'!K139,8))))))","v":0}]
["2032-12-24",0,{"$f":"+VLOOKUP(A139,'Tabla de Amortizacion'!$D$2:$N$182,MATCH(Tablas!$B$1,'Tabla de Amortizacion'!$D$2:$N$2,0))","v":0},null,{"$f":"IF([1]CALCULADORA!$F$10=\"Contractual\",ROUND('[1]Tabla de Amortizacion'!C140,8),IF([1]CALCULADORA!$F$10=\"6% (Medio)\",ROUND('[1]Tabla de Amortizacion'!F140,8),IF([1]CALCULADORA!$F$10=\"10% (Medio Alto)\",ROUND('[1]Tabla de Amortizacion'!H140,8),IF([1]CALCULADORA!$F$10=\"14% (Alto)\",ROUND('[1]Tabla de Amortizacion'!#REF!,8),IF([1]CALCULADORA!$F$10=20%,ROUND('[1]Tabla de Amortizacion'!#REF!,8),ROUND('[1]Tabla de Amortizacion'!K140,8))))))","v":0}]
["2033-01-24",0,{"$f":"+VLOOKUP(A140,'Tabla de Amortizacion'!$D$2:$N$182,MATCH(Tablas!$B$1,'Tabla de Amortizacion'!$D$2:$N$2,0))","v":0},null,{"$f":"IF([1]CALCULADORA!$F$10=\"Contractual\",ROUND('[1]Tabla de Amortizacion'!C141,8),IF([1]CALCULADORA!$F$10=\"6% (Medio)\",ROUND('[1]Tabla de Amortizacion'!F141,8),IF([1]CALCULADORA!$F$10=\"10% (Medio Alto)\",ROUND('[1]Tabla de Amortizacion'!H141,8),IF([1]CALCULADORA!$F$10=\"14% (Alto)\",ROUND('[1]Tabla de Amortizacion'!#REF!,8),IF([1]CALCULADORA!$F$10=20%,ROUND('[1]Tabla de Amortizacion'!#REF!,8),ROUND('[1]Tabla de Amortizacion'!K141,8))))))","v":0}]
["2033-02-24",0,{"$f":"+VLOOKUP(A141,'Tabla de Amortizacion'!$D$2:$N$182,MATCH(Tablas!$B$1,'Tabla de Amortizacion'!$D$2:$N$2,0))","v":0},null,{"$f":"IF([1]CALCULADORA!$F$10=\"Contractual\",ROUND('[1]Tabla de Amortizacion'!C142,8),IF([1]CALCULADORA!$F$10=\"6% (Medio)\",ROUND('[1]Tabla de Amortizacion'!F142,8),IF([1]CALCULADORA!$F$10=\"10% (Medio Alto)\",ROUND('[1]Tabla de Amortizacion'!H142,8),IF([1]CALCULADORA!$F$10=\"14% (Alto)\",ROUND('[1]Tabla de Amortizacion'!#REF!,8),IF([1]CALCULADORA!$F$10=20%,ROUND('[1]Tabla de Amortizacion'!#REF!,8),ROUND('[1]Tabla de Amortizacion'!K142,8))))))","v":0}]
["2033-03-24",0,{"$f":"+VLOOKUP(A142,'Tabla de Amortizacion'!$D$2:$N$182,MATCH(Tablas!$B$1,'Tabla de Amortizacion'!$D$2:$N$2,0))","v":0},null,{"$f":"IF([1]CALCULADORA!$F$10=\"Contractual\",ROUND('[1]Tabla de Amortizacion'!C143,8),IF([1]CALCULADORA!$F$10=\"6% (Medio)\",ROUND('[1]Tabla de Amortizacion'!F143,8),IF([1]CALCULADORA!$F$10=\"10% (Medio Alto)\",ROUND('[1]Tabla de Amortizacion'!H143,8),IF([1]CALCULADORA!$F$10=\"14% (Alto)\",ROUND('[1]Tabla de Amortizacion'!#REF!,8),IF([1]CALCULADORA!$F$10=20%,ROUND('[1]Tabla de Amortizacion'!#REF!,8),ROUND('[1]Tabla de Amortizacion'!K143,8))))))","v":0}]
["2033-04-24",0,{"$f":"+VLOOKUP(A143,'Tabla de Amortizacion'!$D$2:$N$182,MATCH(Tablas!$B$1,'Tabla de Amortizacion'!$D$2:$N$2,0))","v":0},null,{"$f":"IF([1]CALCULADORA!$F$10=\"Contractual\",ROUND('[1]Tabla de Amortizacion'!C144,8),IF([1]CALCULADORA!$F$10=\"6% (Medio)\",ROUND('[1]Tabla de Amortizacion'!F144,8),IF([1]CALCULADORA!$F$10=\"10% (Medio Alto)\",ROUND('[1]Tabla de Amortizacion'!H144,8),IF([1]CALCULADORA!$F$10=\"14% (Alto)\",ROUND('[1]Tabla de Amortizacion'!#REF!,8),IF([1]CALCULADORA!$F$10=20%,ROUND('[1]Tabla de Amortizacion'!#REF!,8),ROUND('[1]Tabla de Amortizacion'!K144,8))))))","v":0}]
["2033-05-24",0,{"$f":"+VLOOKUP(A144,'Tabla de Amortizacion'!$D$2:$N$182,MATCH(Tablas!$B$1,'Tabla de Amortizacion'!$D$2:$N$2,0))","v":0},null,{"$f":"IF([1]CALCULADORA!$F$10=\"Contractual\",ROUND('[1]Tabla de Amortizacion'!C145,8),IF([1]CALCULADORA!$F$10=\"6% (Medio)\",ROUND('[1]Tabla de Amortizacion'!F145,8),IF([1]CALCULADORA!$F$10=\"10% (Medio Alto)\",ROUND('[1]Tabla de Amortizacion'!H145,8),IF([1]CALCULADORA!$F$10=\"14% (Alto)\",ROUND('[1]Tabla de Amortizacion'!#REF!,8),IF([1]CALCULADORA!$F$10=20%,ROUND('[1]Tabla de Amortizacion'!#REF!,8),ROUND('[1]Tabla de Amortizacion'!K145,8))))))","v":0}]
["2033-06-24",0,{"$f":"+VLOOKUP(A145,'Tabla de Amortizacion'!$D$2:$N$182,MATCH(Tablas!$B$1,'Tabla de Amortizacion'!$D$2:$N$2,0))","v":0},null,{"$f":"IF([1]CALCULADORA!$F$10=\"Contractual\",ROUND('[1]Tabla de Amortizacion'!C146,8),IF([1]CALCULADORA!$F$10=\"6% (Medio)\",ROUND('[1]Tabla de Amortizacion'!F146,8),IF([1]CALCULADORA!$F$10=\"10% (Medio Alto)\",ROUND('[1]Tabla de Amortizacion'!H146,8),IF([1]CALCULADORA!$F$10=\"14% (Alto)\",ROUND('[1]Tabla de Amortizacion'!#REF!,8),IF([1]CALCULADORA!$F$10=20%,ROUND('[1]Tabla de Amortizacion'!#REF!,8),ROUND('[1]Tabla de Amortizacion'!K146,8))))))","v":0}]
["2033-07-24",0,{"$f":"+VLOOKUP(A146,'Tabla de Amortizacion'!$D$2:$N$182,MATCH(Tablas!$B$1,'Tabla de Amortizacion'!$D$2:$N$2,0))","v":0},null,{"$f":"IF([1]CALCULADORA!$F$10=\"Contractual\",ROUND('[1]Tabla de Amortizacion'!C147,8),IF([1]CALCULADORA!$F$10=\"6% (Medio)\",ROUND('[1]Tabla de Amortizacion'!F147,8),IF([1]CALCULADORA!$F$10=\"10% (Medio Alto)\",ROUND('[1]Tabla de Amortizacion'!H147,8),IF([1]CALCULADORA!$F$10=\"14% (Alto)\",ROUND('[1]Tabla de Amortizacion'!#REF!,8),IF([1]CALCULADORA!$F$10=20%,ROUND('[1]Tabla de Amortizacion'!#REF!,8),ROUND('[1]Tabla de Amortizacion'!K147,8))))))","v":0}]
["2033-08-24",0,{"$f":"+VLOOKUP(A147,'Tabla de Amortizacion'!$D$2:$N$182,MATCH(Tablas!$B$1,'Tabla de Amortizacion'!$D$2:$N$2,0))","v":0},null,{"$f":"IF([1]CALCULADORA!$F$10=\"Contractual\",ROUND('[1]Tabla de Amortizacion'!C148,8),IF([1]CALCULADORA!$F$10=\"6% (Medio)\",ROUND('[1]Tabla de Amortizacion'!F148,8),IF([1]CALCULADORA!$F$10=\"10% (Medio Alto)\",ROUND('[1]Tabla de Amortizacion'!H148,8),IF([1]CALCULADORA!$F$10=\"14% (Alto)\",ROUND('[1]Tabla de Amortizacion'!#REF!,8),IF([1]CALCULADORA!$F$10=20%,ROUND('[1]Tabla de Amortizacion'!#REF!,8),ROUND('[1]Tabla de Amortizacion'!K148,8))))))","v":0}]
["2033-09-24",0,{"$f":"+VLOOKUP(A148,'Tabla de Amortizacion'!$D$2:$N$182,MATCH(Tablas!$B$1,'Tabla de Amortizacion'!$D$2:$N$2,0))","v":0},null,{"$f":"IF([1]CALCULADORA!$F$10=\"Contractual\",ROUND('[1]Tabla de Amortizacion'!C149,8),IF([1]CALCULADORA!$F$10=\"6% (Medio)\",ROUND('[1]Tabla de Amortizacion'!F149,8),IF([1]CALCULADORA!$F$10=\"10% (Medio Alto)\",ROUND('[1]Tabla de Amortizacion'!H149,8),IF([1]CALCULADORA!$F$10=\"14% (Alto)\",ROUND('[1]Tabla de Amortizacion'!#REF!,8),IF([1]CALCULADORA!$F$10=20%,ROUND('[1]Tabla de Amortizacion'!#REF!,8),ROUND('[1]Tabla de Amortizacion'!K149,8))))))","v":0}]
["2033-10-24",0,{"$f":"+VLOOKUP(A149,'Tabla de Amortizacion'!$D$2:$N$182,MATCH(Tablas!$B$1,'Tabla de Amortizacion'!$D$2:$N$2,0))","v":0},null,{"$f":"IF([1]CALCULADORA!$F$10=\"Contractual\",ROUND('[1]Tabla de Amortizacion'!C150,8),IF([1]CALCULADORA!$F$10=\"6% (Medio)\",ROUND('[1]Tabla de Amortizacion'!F150,8),IF([1]CALCULADORA!$F$10=\"10% (Medio Alto)\",ROUND('[1]Tabla de Amortizacion'!H150,8),IF([1]CALCULADORA!$F$10=\"14% (Alto)\",ROUND('[1]Tabla de Amortizacion'!#REF!,8),IF([1]CALCULADORA!$F$10=20%,ROUND('[1]Tabla de Amortizacion'!#REF!,8),ROUND('[1]Tabla de Amortizacion'!K150,8))))))","v":0}]
["2033-11-24",0,{"$f":"+VLOOKUP(A150,'Tabla de Amortizacion'!$D$2:$N$182,MATCH(Tablas!$B$1,'Tabla de Amortizacion'!$D$2:$N$2,0))","v":0},null,{"$f":"IF([1]CALCULADORA!$F$10=\"Contractual\",ROUND('[1]Tabla de Amortizacion'!C151,8),IF([1]CALCULADORA!$F$10=\"6% (Medio)\",ROUND('[1]Tabla de Amortizacion'!F151,8),IF([1]CALCULADORA!$F$10=\"10% (Medio Alto)\",ROUND('[1]Tabla de Amortizacion'!H151,8),IF([1]CALCULADORA!$F$10=\"14% (Alto)\",ROUND('[1]Tabla de Amortizacion'!#REF!,8),IF([1]CALCULADORA!$F$10=20%,ROUND('[1]Tabla de Amortizacion'!#REF!,8),ROUND('[1]Tabla de Amortizacion'!K151,8))))))","v":0}]
["2033-12-24",0,{"$f":"+VLOOKUP(A151,'Tabla de Amortizacion'!$D$2:$N$182,MATCH(Tablas!$B$1,'Tabla de Amortizacion'!$D$2:$N$2,0))","v":0},null,{"$f":"IF([1]CALCULADORA!$F$10=\"Contractual\",ROUND('[1]Tabla de Amortizacion'!C152,8),IF([1]CALCULADORA!$F$10=\"6% (Medio)\",ROUND('[1]Tabla de Amortizacion'!F152,8),IF([1]CALCULADORA!$F$10=\"10% (Medio Alto)\",ROUND('[1]Tabla de Amortizacion'!H152,8),IF([1]CALCULADORA!$F$10=\"14% (Alto)\",ROUND('[1]Tabla de Amortizacion'!#REF!,8),IF([1]CALCULADORA!$F$10=20%,ROUND('[1]Tabla de Amortizacion'!#REF!,8),ROUND('[1]Tabla de Amortizacion'!K152,8))))))","v":0}]
["2034-01-24",0,{"$f":"+VLOOKUP(A152,'Tabla de Amortizacion'!$D$2:$N$182,MATCH(Tablas!$B$1,'Tabla de Amortizacion'!$D$2:$N$2,0))","v":0},null,{"$f":"IF([1]CALCULADORA!$F$10=\"Contractual\",ROUND('[1]Tabla de Amortizacion'!C153,8),IF([1]CALCULADORA!$F$10=\"6% (Medio)\",ROUND('[1]Tabla de Amortizacion'!F153,8),IF([1]CALCULADORA!$F$10=\"10% (Medio Alto)\",ROUND('[1]Tabla de Amortizacion'!H153,8),IF([1]CALCULADORA!$F$10=\"14% (Alto)\",ROUND('[1]Tabla de Amortizacion'!#REF!,8),IF([1]CALCULADORA!$F$10=20%,ROUND('[1]Tabla de Amortizacion'!#REF!,8),ROUND('[1]Tabla de Amortizacion'!K153,8))))))","v":0}]
["2034-02-24",0,{"$f":"+VLOOKUP(A153,'Tabla de Amortizacion'!$D$2:$N$182,MATCH(Tablas!$B$1,'Tabla de Amortizacion'!$D$2:$N$2,0))","v":0},null,{"$f":"IF([1]CALCULADORA!$F$10=\"Contractual\",ROUND('[1]Tabla de Amortizacion'!C154,8),IF([1]CALCULADORA!$F$10=\"6% (Medio)\",ROUND('[1]Tabla de Amortizacion'!F154,8),IF([1]CALCULADORA!$F$10=\"10% (Medio Alto)\",ROUND('[1]Tabla de Amortizacion'!H154,8),IF([1]CALCULADORA!$F$10=\"14% (Alto)\",ROUND('[1]Tabla de Amortizacion'!#REF!,8),IF([1]CALCULADORA!$F$10=20%,ROUND('[1]Tabla de Amortizacion'!#REF!,8),ROUND('[1]Tabla de Amortizacion'!K154,8))))))","v":0}]
["2034-03-24",0,{"$f":"+VLOOKUP(A154,'Tabla de Amortizacion'!$D$2:$N$182,MATCH(Tablas!$B$1,'Tabla de Amortizacion'!$D$2:$N$2,0))","v":0},null,{"$f":"IF([1]CALCULADORA!$F$10=\"Contractual\",ROUND('[1]Tabla de Amortizacion'!C155,8),IF([1]CALCULADORA!$F$10=\"6% (Medio)\",ROUND('[1]Tabla de Amortizacion'!F155,8),IF([1]CALCULADORA!$F$10=\"10% (Medio Alto)\",ROUND('[1]Tabla de Amortizacion'!H155,8),IF([1]CALCULADORA!$F$10=\"14% (Alto)\",ROUND('[1]Tabla de Amortizacion'!#REF!,8),IF([1]CALCULADORA!$F$10=20%,ROUND('[1]Tabla de Amortizacion'!#REF!,8),ROUND('[1]Tabla de Amortizacion'!K155,8))))))","v":0}]
["2034-04-24",0,{"$f":"+VLOOKUP(A155,'Tabla de Amortizacion'!$D$2:$N$182,MATCH(Tablas!$B$1,'Tabla de Amortizacion'!$D$2:$N$2,0))","v":0},null,{"$f":"IF([1]CALCULADORA!$F$10=\"Contractual\",ROUND('[1]Tabla de Amortizacion'!C156,8),IF([1]CALCULADORA!$F$10=\"6% (Medio)\",ROUND('[1]Tabla de Amortizacion'!F156,8),IF([1]CALCULADORA!$F$10=\"10% (Medio Alto)\",ROUND('[1]Tabla de Amortizacion'!H156,8),IF([1]CALCULADORA!$F$10=\"14% (Alto)\",ROUND('[1]Tabla de Amortizacion'!#REF!,8),IF([1]CALCULADORA!$F$10=20%,ROUND('[1]Tabla de Amortizacion'!#REF!,8),ROUND('[1]Tabla de Amortizacion'!K156,8))))))","v":0}]
["2034-05-24",0,{"$f":"+VLOOKUP(A156,'Tabla de Amortizacion'!$D$2:$N$182,MATCH(Tablas!$B$1,'Tabla de Amortizacion'!$D$2:$N$2,0))","v":0},null,{"$f":"IF([1]CALCULADORA!$F$10=\"Contractual\",ROUND('[1]Tabla de Amortizacion'!C157,8),IF([1]CALCULADORA!$F$10=\"6% (Medio)\",ROUND('[1]Tabla de Amortizacion'!F157,8),IF([1]CALCULADORA!$F$10=\"10% (Medio Alto)\",ROUND('[1]Tabla de Amortizacion'!H157,8),IF([1]CALCULADORA!$F$10=\"14% (Alto)\",ROUND('[1]Tabla de Amortizacion'!#REF!,8),IF([1]CALCULADORA!$F$10=20%,ROUND('[1]Tabla de Amortizacion'!#REF!,8),ROUND('[1]Tabla de Amortizacion'!K157,8))))))","v":0}]
["2034-06-24",0,{"$f":"+VLOOKUP(A157,'Tabla de Amortizacion'!$D$2:$N$182,MATCH(Tablas!$B$1,'Tabla de Amortizacion'!$D$2:$N$2,0))","v":0},null,{"$f":"IF([1]CALCULADORA!$F$10=\"Contractual\",ROUND('[1]Tabla de Amortizacion'!C158,8),IF([1]CALCULADORA!$F$10=\"6% (Medio)\",ROUND('[1]Tabla de Amortizacion'!F158,8),IF([1]CALCULADORA!$F$10=\"10% (Medio Alto)\",ROUND('[1]Tabla de Amortizacion'!H158,8),IF([1]CALCULADORA!$F$10=\"14% (Alto)\",ROUND('[1]Tabla de Amortizacion'!#REF!,8),IF([1]CALCULADORA!$F$10=20%,ROUND('[1]Tabla de Amortizacion'!#REF!,8),ROUND('[1]Tabla de Amortizacion'!K158,8))))))","v":0}]
["2034-07-24",0,{"$f":"+VLOOKUP(A158,'Tabla de Amortizacion'!$D$2:$N$182,MATCH(Tablas!$B$1,'Tabla de Amortizacion'!$D$2:$N$2,0))","v":0},null,{"$f":"IF([1]CALCULADORA!$F$10=\"Contractual\",ROUND('[1]Tabla de Amortizacion'!C159,8),IF([1]CALCULADORA!$F$10=\"6% (Medio)\",ROUND('[1]Tabla de Amortizacion'!F159,8),IF([1]CALCULADORA!$F$10=\"10% (Medio Alto)\",ROUND('[1]Tabla de Amortizacion'!H159,8),IF([1]CALCULADORA!$F$10=\"14% (Alto)\",ROUND('[1]Tabla de Amortizacion'!#REF!,8),IF([1]CALCULADORA!$F$10=20%,ROUND('[1]Tabla de Amortizacion'!#REF!,8),ROUND('[1]Tabla de Amortizacion'!K159,8))))))","v":0}]
["2034-08-24",0,{"$f":"+VLOOKUP(A159,'Tabla de Amortizacion'!$D$2:$N$182,MATCH(Tablas!$B$1,'Tabla de Amortizacion'!$D$2:$N$2,0))","v":0},null,{"$f":"IF([1]CALCULADORA!$F$10=\"Contractual\",ROUND('[1]Tabla de Amortizacion'!C160,8),IF([1]CALCULADORA!$F$10=\"6% (Medio)\",ROUND('[1]Tabla de Amortizacion'!F160,8),IF([1]CALCULADORA!$F$10=\"10% (Medio Alto)\",ROUND('[1]Tabla de Amortizacion'!H160,8),IF([1]CALCULADORA!$F$10=\"14% (Alto)\",ROUND('[1]Tabla de Amortizacion'!#REF!,8),IF([1]CALCULADORA!$F$10=20%,ROUND('[1]Tabla de Amortizacion'!#REF!,8),ROUND('[1]Tabla de Amortizacion'!K160,8))))))","v":0}]
["2034-09-24",0,{"$f":"+VLOOKUP(A160,'Tabla de Amortizacion'!$D$2:$N$182,MATCH(Tablas!$B$1,'Tabla de Amortizacion'!$D$2:$N$2,0))","v":0},null,{"$f":"IF([1]CALCULADORA!$F$10=\"Contractual\",ROUND('[1]Tabla de Amortizacion'!C161,8),IF([1]CALCULADORA!$F$10=\"6% (Medio)\",ROUND('[1]Tabla de Amortizacion'!F161,8),IF([1]CALCULADORA!$F$10=\"10% (Medio Alto)\",ROUND('[1]Tabla de Amortizacion'!H161,8),IF([1]CALCULADORA!$F$10=\"14% (Alto)\",ROUND('[1]Tabla de Amortizacion'!#REF!,8),IF([1]CALCULADORA!$F$10=20%,ROUND('[1]Tabla de Amortizacion'!#REF!,8),ROUND('[1]Tabla de Amortizacion'!K161,8))))))","v":0}]
["2034-10-24",0,{"$f":"+VLOOKUP(A161,'Tabla de Amortizacion'!$D$2:$N$182,MATCH(Tablas!$B$1,'Tabla de Amortizacion'!$D$2:$N$2,0))","v":0},null,{"$f":"IF([1]CALCULADORA!$F$10=\"Contractual\",ROUND('[1]Tabla de Amortizacion'!C162,8),IF([1]CALCULADORA!$F$10=\"6% (Medio)\",ROUND('[1]Tabla de Amortizacion'!F162,8),IF([1]CALCULADORA!$F$10=\"10% (Medio Alto)\",ROUND('[1]Tabla de Amortizacion'!H162,8),IF([1]CALCULADORA!$F$10=\"14% (Alto)\",ROUND('[1]Tabla de Amortizacion'!#REF!,8),IF([1]CALCULADORA!$F$10=20%,ROUND('[1]Tabla de Amortizacion'!#REF!,8),ROUND('[1]Tabla de Amortizacion'!K162,8))))))","v":0}]
["2034-11-24",0,{"$f":"+VLOOKUP(A162,'Tabla de Amortizacion'!$D$2:$N$182,MATCH(Tablas!$B$1,'Tabla de Amortizacion'!$D$2:$N$2,0))","v":0},null,{"$f":"IF([1]CALCULADORA!$F$10=\"Contractual\",ROUND('[1]Tabla de Amortizacion'!C163,8),IF([1]CALCULADORA!$F$10=\"6% (Medio)\",ROUND('[1]Tabla de Amortizacion'!F163,8),IF([1]CALCULADORA!$F$10=\"10% (Medio Alto)\",ROUND('[1]Tabla de Amortizacion'!H163,8),IF([1]CALCULADORA!$F$10=\"14% (Alto)\",ROUND('[1]Tabla de Amortizacion'!#REF!,8),IF([1]CALCULADORA!$F$10=20%,ROUND('[1]Tabla de Amortizacion'!#REF!,8),ROUND('[1]Tabla de Amortizacion'!K163,8))))))","v":0}]
["2034-12-24",0,{"$f":"+VLOOKUP(A163,'Tabla de Amortizacion'!$D$2:$N$182,MATCH(Tablas!$B$1,'Tabla de Amortizacion'!$D$2:$N$2,0))","v":0},null,{"$f":"IF([1]CALCULADORA!$F$10=\"Contractual\",ROUND('[1]Tabla de Amortizacion'!C164,8),IF([1]CALCULADORA!$F$10=\"6% (Medio)\",ROUND('[1]Tabla de Amortizacion'!F164,8),IF([1]CALCULADORA!$F$10=\"10% (Medio Alto)\",ROUND('[1]Tabla de Amortizacion'!H164,8),IF([1]CALCULADORA!$F$10=\"14% (Alto)\",ROUND('[1]Tabla de Amortizacion'!#REF!,8),IF([1]CALCULADORA!$F$10=20%,ROUND('[1]Tabla de Amortizacion'!#REF!,8),ROUND('[1]Tabla de Amortizacion'!K164,8))))))","v":0}]
["2035-01-24",0,{"$f":"+VLOOKUP(A164,'Tabla de Amortizacion'!$D$2:$N$182,MATCH(Tablas!$B$1,'Tabla de Amortizacion'!$D$2:$N$2,0))","v":0},null,{"$f":"IF([1]CALCULADORA!$F$10=\"Contractual\",ROUND('[1]Tabla de Amortizacion'!C165,8),IF([1]CALCULADORA!$F$10=\"6% (Medio)\",ROUND('[1]Tabla de Amortizacion'!F165,8),IF([1]CALCULADORA!$F$10=\"10% (Medio Alto)\",ROUND('[1]Tabla de Amortizacion'!H165,8),IF([1]CALCULADORA!$F$10=\"14% (Alto)\",ROUND('[1]Tabla de Amortizacion'!#REF!,8),IF([1]CALCULADORA!$F$10=20%,ROUND('[1]Tabla de Amortizacion'!#REF!,8),ROUND('[1]Tabla de Amortizacion'!K165,8))))))","v":0}]
["2035-02-24",0,{"$f":"+VLOOKUP(A165,'Tabla de Amortizacion'!$D$2:$N$182,MATCH(Tablas!$B$1,'Tabla de Amortizacion'!$D$2:$N$2,0))","v":0},null,{"$f":"IF([1]CALCULADORA!$F$10=\"Contractual\",ROUND('[1]Tabla de Amortizacion'!C166,8),IF([1]CALCULADORA!$F$10=\"6% (Medio)\",ROUND('[1]Tabla de Amortizacion'!F166,8),IF([1]CALCULADORA!$F$10=\"10% (Medio Alto)\",ROUND('[1]Tabla de Amortizacion'!H166,8),IF([1]CALCULADORA!$F$10=\"14% (Alto)\",ROUND('[1]Tabla de Amortizacion'!#REF!,8),IF([1]CALCULADORA!$F$10=20%,ROUND('[1]Tabla de Amortizacion'!#REF!,8),ROUND('[1]Tabla de Amortizacion'!K166,8))))))","v":0}]
["2035-03-24",0,{"$f":"+VLOOKUP(A166,'Tabla de Amortizacion'!$D$2:$N$182,MATCH(Tablas!$B$1,'Tabla de Amortizacion'!$D$2:$N$2,0))","v":0},null,{"$f":"IF([1]CALCULADORA!$F$10=\"Contractual\",ROUND('[1]Tabla de Amortizacion'!C167,8),IF([1]CALCULADORA!$F$10=\"6% (Medio)\",ROUND('[1]Tabla de Amortizacion'!F167,8),IF([1]CALCULADORA!$F$10=\"10% (Medio Alto)\",ROUND('[1]Tabla de Amortizacion'!H167,8),IF([1]CALCULADORA!$F$10=\"14% (Alto)\",ROUND('[1]Tabla de Amortizacion'!#REF!,8),IF([1]CALCULADORA!$F$10=20%,ROUND('[1]Tabla de Amortizacion'!#REF!,8),ROUND('[1]Tabla de Amortizacion'!K167,8))))))","v":0}]
["2035-04-24",0,{"$f":"+VLOOKUP(A167,'Tabla de Amortizacion'!$D$2:$N$182,MATCH(Tablas!$B$1,'Tabla de Amortizacion'!$D$2:$N$2,0))","v":0},null,{"$f":"IF([1]CALCULADORA!$F$10=\"Contractual\",ROUND('[1]Tabla de Amortizacion'!C168,8),IF([1]CALCULADORA!$F$10=\"6% (Medio)\",ROUND('[1]Tabla de Amortizacion'!F168,8),IF([1]CALCULADORA!$F$10=\"10% (Medio Alto)\",ROUND('[1]Tabla de Amortizacion'!H168,8),IF([1]CALCULADORA!$F$10=\"14% (Alto)\",ROUND('[1]Tabla de Amortizacion'!#REF!,8),IF([1]CALCULADORA!$F$10=20%,ROUND('[1]Tabla de Amortizacion'!#REF!,8),ROUND('[1]Tabla de Amortizacion'!K168,8))))))","v":0}]
["2035-05-24",0,{"$f":"+VLOOKUP(A168,'Tabla de Amortizacion'!$D$2:$N$182,MATCH(Tablas!$B$1,'Tabla de Amortizacion'!$D$2:$N$2,0))","v":0},null,{"$f":"IF([1]CALCULADORA!$F$10=\"Contractual\",ROUND('[1]Tabla de Amortizacion'!C169,8),IF([1]CALCULADORA!$F$10=\"6% (Medio)\",ROUND('[1]Tabla de Amortizacion'!F169,8),IF([1]CALCULADORA!$F$10=\"10% (Medio Alto)\",ROUND('[1]Tabla de Amortizacion'!H169,8),IF([1]CALCULADORA!$F$10=\"14% (Alto)\",ROUND('[1]Tabla de Amortizacion'!#REF!,8),IF([1]CALCULADORA!$F$10=20%,ROUND('[1]Tabla de Amortizacion'!#REF!,8),ROUND('[1]Tabla de Amortizacion'!K169,8))))))","v":0}]
["2035-06-24",0,{"$f":"+VLOOKUP(A169,'Tabla de Amortizacion'!$D$2:$N$182,MATCH(Tablas!$B$1,'Tabla de Amortizacion'!$D$2:$N$2,0))","v":0},null,{"$f":"IF([1]CALCULADORA!$F$10=\"Contractual\",ROUND('[1]Tabla de Amortizacion'!C170,8),IF([1]CALCULADORA!$F$10=\"6% (Medio)\",ROUND('[1]Tabla de Amortizacion'!F170,8),IF([1]CALCULADORA!$F$10=\"10% (Medio Alto)\",ROUND('[1]Tabla de Amortizacion'!H170,8),IF([1]CALCULADORA!$F$10=\"14% (Alto)\",ROUND('[1]Tabla de Amortizacion'!#REF!,8),IF([1]CALCULADORA!$F$10=20%,ROUND('[1]Tabla de Amortizacion'!#REF!,8),ROUND('[1]Tabla de Amortizacion'!K170,8))))))","v":0}]
["2035-07-24",0,{"$f":"+VLOOKUP(A170,'Tabla de Amortizacion'!$D$2:$N$182,MATCH(Tablas!$B$1,'Tabla de Amortizacion'!$D$2:$N$2,0))","v":0},null,{"$f":"IF([1]CALCULADORA!$F$10=\"Contractual\",ROUND('[1]Tabla de Amortizacion'!C171,8),IF([1]CALCULADORA!$F$10=\"6% (Medio)\",ROUND('[1]Tabla de Amortizacion'!F171,8),IF([1]CALCULADORA!$F$10=\"10% (Medio Alto)\",ROUND('[1]Tabla de Amortizacion'!H171,8),IF([1]CALCULADORA!$F$10=\"14% (Alto)\",ROUND('[1]Tabla de Amortizacion'!#REF!,8),IF([1]CALCULADORA!$F$10=20%,ROUND('[1]Tabla de Amortizacion'!#REF!,8),ROUND('[1]Tabla de Amortizacion'!K171,8))))))","v":0}]
["2035-08-24",0,{"$f":"+VLOOKUP(A171,'Tabla de Amortizacion'!$D$2:$N$182,MATCH(Tablas!$B$1,'Tabla de Amortizacion'!$D$2:$N$2,0))","v":0},null,{"$f":"IF([1]CALCULADORA!$F$10=\"Contractual\",ROUND('[1]Tabla de Amortizacion'!C172,8),IF([1]CALCULADORA!$F$10=\"6% (Medio)\",ROUND('[1]Tabla de Amortizacion'!F172,8),IF([1]CALCULADORA!$F$10=\"10% (Medio Alto)\",ROUND('[1]Tabla de Amortizacion'!H172,8),IF([1]CALCULADORA!$F$10=\"14% (Alto)\",ROUND('[1]Tabla de Amortizacion'!#REF!,8),IF([1]CALCULADORA!$F$10=20%,ROUND('[1]Tabla de Amortizacion'!#REF!,8),ROUND('[1]Tabla de Amortizacion'!K172,8))))))","v":0}]
["2035-09-24",0,{"$f":"+VLOOKUP(A172,'Tabla de Amortizacion'!$D$2:$N$182,MATCH(Tablas!$B$1,'Tabla de Amortizacion'!$D$2:$N$2,0))","v":0},null,{"$f":"IF([1]CALCULADORA!$F$10=\"Contractual\",ROUND('[1]Tabla de Amortizacion'!C173,8),IF([1]CALCULADORA!$F$10=\"6% (Medio)\",ROUND('[1]Tabla de Amortizacion'!F173,8),IF([1]CALCULADORA!$F$10=\"10% (Medio Alto)\",ROUND('[1]Tabla de Amortizacion'!H173,8),IF([1]CALCULADORA!$F$10=\"14% (Alto)\",ROUND('[1]Tabla de Amortizacion'!#REF!,8),IF([1]CALCULADORA!$F$10=20%,ROUND('[1]Tabla de Amortizacion'!#REF!,8),ROUND('[1]Tabla de Amortizacion'!K173,8))))))","v":0}]
["2035-10-24",0,{"$f":"+VLOOKUP(A173,'Tabla de Amortizacion'!$D$2:$N$182,MATCH(Tablas!$B$1,'Tabla de Amortizacion'!$D$2:$N$2,0))","v":0},null,{"$f":"IF([1]CALCULADORA!$F$10=\"Contractual\",ROUND('[1]Tabla de Amortizacion'!C174,8),IF([1]CALCULADORA!$F$10=\"6% (Medio)\",ROUND('[1]Tabla de Amortizacion'!F174,8),IF([1]CALCULADORA!$F$10=\"10% (Medio Alto)\",ROUND('[1]Tabla de Amortizacion'!H174,8),IF([1]CALCULADORA!$F$10=\"14% (Alto)\",ROUND('[1]Tabla de Amortizacion'!#REF!,8),IF([1]CALCULADORA!$F$10=20%,ROUND('[1]Tabla de Amortizacion'!#REF!,8),ROUND('[1]Tabla de Amortizacion'!K174,8))))))","v":0}]
["2035-11-24",0,{"$f":"+VLOOKUP(A174,'Tabla de Amortizacion'!$D$2:$N$182,MATCH(Tablas!$B$1,'Tabla de Amortizacion'!$D$2:$N$2,0))","v":0},null,{"$f":"IF([1]CALCULADORA!$F$10=\"Contractual\",ROUND('[1]Tabla de Amortizacion'!C175,8),IF([1]CALCULADORA!$F$10=\"6% (Medio)\",ROUND('[1]Tabla de Amortizacion'!F175,8),IF([1]CALCULADORA!$F$10=\"10% (Medio Alto)\",ROUND('[1]Tabla de Amortizacion'!H175,8),IF([1]CALCULADORA!$F$10=\"14% (Alto)\",ROUND('[1]Tabla de Amortizacion'!#REF!,8),IF([1]CALCULADORA!$F$10=20%,ROUND('[1]Tabla de Amortizacion'!#REF!,8),ROUND('[1]Tabla de Amortizacion'!K175,8))))))","v":0}]
["2035-12-24",0,{"$f":"+VLOOKUP(A175,'Tabla de Amortizacion'!$D$2:$N$182,MATCH(Tablas!$B$1,'Tabla de Amortizacion'!$D$2:$N$2,0))","v":0},null,{"$f":"IF([1]CALCULADORA!$F$10=\"Contractual\",ROUND('[1]Tabla de Amortizacion'!C176,8),IF([1]CALCULADORA!$F$10=\"6% (Medio)\",ROUND('[1]Tabla de Amortizacion'!F176,8),IF([1]CALCULADORA!$F$10=\"10% (Medio Alto)\",ROUND('[1]Tabla de Amortizacion'!H176,8),IF([1]CALCULADORA!$F$10=\"14% (Alto)\",ROUND('[1]Tabla de Amortizacion'!#REF!,8),IF([1]CALCULADORA!$F$10=20%,ROUND('[1]Tabla de Amortizacion'!#REF!,8),ROUND('[1]Tabla de Amortizacion'!K176,8))))))","v":0}]
["2036-01-24",0,{"$f":"+VLOOKUP(A176,'Tabla de Amortizacion'!$D$2:$N$182,MATCH(Tablas!$B$1,'Tabla de Amortizacion'!$D$2:$N$2,0))","v":0},null,{"$f":"IF([1]CALCULADORA!$F$10=\"Contractual\",ROUND('[1]Tabla de Amortizacion'!C177,8),IF([1]CALCULADORA!$F$10=\"6% (Medio)\",ROUND('[1]Tabla de Amortizacion'!F177,8),IF([1]CALCULADORA!$F$10=\"10% (Medio Alto)\",ROUND('[1]Tabla de Amortizacion'!H177,8),IF([1]CALCULADORA!$F$10=\"14% (Alto)\",ROUND('[1]Tabla de Amortizacion'!#REF!,8),IF([1]CALCULADORA!$F$10=20%,ROUND('[1]Tabla de Amortizacion'!#REF!,8),ROUND('[1]Tabla de Amortizacion'!K177,8))))))","v":0}]
["2036-02-24",0,{"$f":"+VLOOKUP(A177,'Tabla de Amortizacion'!$D$2:$N$182,MATCH(Tablas!$B$1,'Tabla de Amortizacion'!$D$2:$N$2,0))","v":0},null,{"$f":"IF([1]CALCULADORA!$F$10=\"Contractual\",ROUND('[1]Tabla de Amortizacion'!C178,8),IF([1]CALCULADORA!$F$10=\"6% (Medio)\",ROUND('[1]Tabla de Amortizacion'!F178,8),IF([1]CALCULADORA!$F$10=\"10% (Medio Alto)\",ROUND('[1]Tabla de Amortizacion'!H178,8),IF([1]CALCULADORA!$F$10=\"14% (Alto)\",ROUND('[1]Tabla de Amortizacion'!#REF!,8),IF([1]CALCULADORA!$F$10=20%,ROUND('[1]Tabla de Amortizacion'!#REF!,8),ROUND('[1]Tabla de Amortizacion'!K178,8))))))","v":0}]
["2036-03-24",0,{"$f":"+VLOOKUP(A178,'Tabla de Amortizacion'!$D$2:$N$182,MATCH(Tablas!$B$1,'Tabla de Amortizacion'!$D$2:$N$2,0))","v":0},null,{"$f":"IF([1]CALCULADORA!$F$10=\"Contractual\",ROUND('[1]Tabla de Amortizacion'!C179,8),IF([1]CALCULADORA!$F$10=\"6% (Medio)\",ROUND('[1]Tabla de Amortizacion'!F179,8),IF([1]CALCULADORA!$F$10=\"10% (Medio Alto)\",ROUND('[1]Tabla de Amortizacion'!H179,8),IF([1]CALCULADORA!$F$10=\"14% (Alto)\",ROUND('[1]Tabla de Amortizacion'!#REF!,8),IF([1]CALCULADORA!$F$10=20%,ROUND('[1]Tabla de Amortizacion'!#REF!,8),ROUND('[1]Tabla de Amortizacion'!K179,8))))))","v":0}]
["2036-04-24",0,{"$f":"+VLOOKUP(A179,'Tabla de Amortizacion'!$D$2:$N$182,MATCH(Tablas!$B$1,'Tabla de Amortizacion'!$D$2:$N$2,0))","v":0},null,{"$f":"IF([1]CALCULADORA!$F$10=\"Contractual\",ROUND('[1]Tabla de Amortizacion'!C180,8),IF([1]CALCULADORA!$F$10=\"6% (Medio)\",ROUND('[1]Tabla de Amortizacion'!F180,8),IF([1]CALCULADORA!$F$10=\"10% (Medio Alto)\",ROUND('[1]Tabla de Amortizacion'!H180,8),IF([1]CALCULADORA!$F$10=\"14% (Alto)\",ROUND('[1]Tabla de Amortizacion'!#REF!,8),IF([1]CALCULADORA!$F$10=20%,ROUND('[1]Tabla de Amortizacion'!#REF!,8),ROUND('[1]Tabla de Amortizacion'!K180,8))))))","v":0}]
["2036-05-24",0,{"$f":"+VLOOKUP(A180,'Tabla de Amortizacion'!$D$2:$N$182,MATCH(Tablas!$B$1,'Tabla de Amortizacion'!$D$2:$N$2,0))","v":0},null,{"$f":"IF([1]CALCULADORA!$F$10=\"Contractual\",ROUND('[1]Tabla de Amortizacion'!C181,8),IF([1]CALCULADORA!$F$10=\"6% (Medio)\",ROUND('[1]Tabla de Amortizacion'!F181,8),IF([1]CALCULADORA!$F$10=\"10% (Medio Alto)\",ROUND('[1]Tabla de Amortizacion'!H181,8),IF([1]CALCULADORA!$F$10=\"14% (Alto)\",ROUND('[1]Tabla de Amortizacion'!#REF!,8),IF([1]CALCULADORA!$F$10=20%,ROUND('[1]Tabla de Amortizacion'!#REF!,8),ROUND('[1]Tabla de Amortizacion'!K181,8))))))","v":0}]
["2036-06-24",0,{"$f":"+VLOOKUP(A181,'Tabla de Amortizacion'!$D$2:$N$182,MATCH(Tablas!$B$1,'Tabla de Amortizacion'!$D$2:$N$2,0))","v":0},null,{"$f":"IF([1]CALCULADORA!$F$10=\"Contractual\",ROUND('[1]Tabla de Amortizacion'!C182,8),IF([1]CALCULADORA!$F$10=\"6% (Medio)\",ROUND('[1]Tabla de Amortizacion'!F182,8),IF([1]CALCULADORA!$F$10=\"10% (Medio Alto)\",ROUND('[1]Tabla de Amortizacion'!H182,8),IF([1]CALCULADORA!$F$10=\"14% (Alto)\",ROUND('[1]Tabla de Amortizacion'!#REF!,8),IF([1]CALCULADORA!$F$10=20%,ROUND('[1]Tabla de Amortizacion'!#REF!,8),ROUND('[1]Tabla de Amortizacion'!K182,8))))))","v":0}]

{"sheet":"Exclusión","index":6,"n_rows":1,"n_cols":1,"rows_kept":1,"cut":false,"hidden":false,"merged":[[0,0,13,7]]}
["“Titularizadora Colombiana S.A publica el presente documento con un carácter estrictamente informativo para los inversionistas. Aunque la información aquí contenida ha sido obtenida de fuentes que la compañía considera confiables, Titularizadora Colombiana S.A no garantiza su exactitud. En ningún caso su contenido se puede considerar como una opinión financiera o legal ni como una recomendación de negocios o de inversión por parte de nuestra compañía. Tampoco puede ser considerado como una invitación a realizar negocios ni como una oferta para comprar o vender ningún tipo de valor. En ningún caso Titularizadora Colombiana S.A asume responsabilidad por las decisiones de inversión que se tomen, o el resultado de cualquier operación que se efectúe por parte de los destinatarios o de terceras personas, sobre la información aquí contenida. Tal responsabilidad es exclusiva de los inversionistas que hagan uso de ella. Dicha información puede tener variaciones posteriores a la fecha de su publicación razón por la cual Titularizadora Colombiana S.A se reserva el derecho de modificarla o actualizarla en cualquier tiempo y sin previo aviso.”"]