{"text_format":"1","workbook":"xlsx","n_sheets":7,"sheets":["CALCULADORA","Flujos","Características","TIR de Tenencia","Tabla de Amortizacion","Tablas","Exclusión"],"not_rendered":{"charts":0,"images":3,"macros":1,"external_links":1,"defined_names":4,"comments":0,"pivot_tables":0},"unopened":[],"bounds":{"document_bytes":16777216,"sheet_cells":100000,"rows_first":2000,"rows_last":500,"rows_between":2000,"halvings":0,"cell_chars":16384,"cell_head_chars":4096},"cells_cut":0,"cells_raw":0,"read":"whole","date_system":"1900"}

{"sheet":"CALCULADORA","index":0,"n_rows":43,"n_cols":8,"rows_kept":43,"cut":false,"hidden":false,"merged":[[38,10,38,11],[21,3,23,4],[58,7,58,8],[10,1,10,2],[38,7,38,8],[6,1,6,2],[21,1,21,2],[25,1,25,2]]}
[null,"Exclusión de responsabilidad",null,null,null,null,null,"Valor nominal negociado"]
[null,null,null,null,null,null,null,"TIPS N13 A"]
[null,null,null,null,null,null,null,"TIPS N14 A"]
[null,null,null,null,null,null,null,"TIPS N15 A"]
[null,null,null,null,null,null,null,"TIPS N16 A"]
[null,null,null,null,null,null,null,"TIPS N17 A "]
[null,"Calculadora Emisiones TIPS en Pesos",null,null,null,null,null,"TIPS N18 A 2034"]
[null,null,null,null,null,null,null,"TIPS N19 A 2034"]
[null,"Emisión","TIPS N16 A",null,"Seleccionar la Emisión a Calcular",null,null,"TIPS N20 A 2034"]
[null,null,null,null,null,null,null,"TIPS N21 A"]
[null,"Características",null,null,null,null,null,"TIPS N22 A"]
[null,"Identificación titulo (Nemotécnico)",{"$f":"+HLOOKUP(C9,Características!B1:L7,2,FALSE)","v":"INST10061227"},null,null,99.998999999999995,null,"TIPS N23 A"]
[null,"Fecha de Emisión ",{"$f":"+HLOOKUP(C9,Características!B1:L7,4,FALSE)","v":"2017-12-06"}]
[null,"Fecha de Vencimiento Contractual",{"$f":"+HLOOKUP(C9,Características!B1:L7,5,FALSE)","v":"2027-12-06"}]
[null,"Fecha estimada para el pago del 100% del título",{"$f":"+VLOOKUP(0,Flujos!D2:J182,6,FALSE)","v":"2025-05-06"}]
[null,"Tasa Facial Efectiva Anual",{"$f":"+HLOOKUP(C9,Características!B1:L7,6,FALSE)","v":6.3799999999999996E-2}]
[null,"Tasa Facial Nominal Anual ",{"$f":"+ROUND(((1+C16)^(1/12)-1)*12,6)","v":6.2007E-2}]
[null,"Duración Macaulay",{"$f":"+SUMPRODUCT(Flujos!B2:B182,Flujos!H2:H182)/Flujos!H183/365","v":0.35939731992111962}]
[null,"Nominal Inicial  (Nominal del título al momento de la emisión)",{"$f":"Flujos!L2","v":4788065105804.3975}]
[]
[]
[null,"Datos de Compra",null,"Fecha de Compra y Valor de Compra son datos opcionales deben incluirse solo para calcular la TIR de Tenencia"]
[null,"Fecha de Compra","2024-03-07"]
[null,"Valor de Compra (COP)",15000000000]
[]
[null,"Datos de Venta"]
[null,"Fecha de Venta ","2024-08-01",null,"Incluir los datos de las celdas grises"]
[null,"Valor nominal a negociar (COP)",182801000000]
[null,"Tasa de negociación / tasa de valoración",0.109]
[null,"Precio Limpio (sin incluir intereses causados)"]
[null,"Precio sucio (incluyendo intereses causados)",100.02800000000001]
[{"$f":"+Flujos!C183*100","v":3.817847},"Porcentaje del nominal inicial que falta por pagar del capital",{"$f":"+Flujos!C183*100/100","v":3.8178469999999999E-2}]
[null,"Valor de Giro (COP)",{"$f":"+Características!B32","v":181632901610}]
[]
[null,"TIR de Tenencia en COP*",{"$f":"+'TIR de Tenencia'!K2","v":1680186736640}]
[]
[null,"Oficina de Atención a Inversionistas al 601 618 3030 ext 257 - 239, o al correo  asalcedo@titularizadora.com - josorio@titularizadora.com"]
[]
[]
[]
[]
[]
[null,null,1]

{"sheet":"Flujos","index":1,"n_rows":183,"n_cols":15,"rows_kept":183,"cut":false,"hidden":false,"merged":[]}
["Fecha","Días 365 / Days 365","Amortización / Amortization","Factor Saldo","Factor Capital","Factor Intereses","Factor Total","VPN","Control","Mes inicial","Días iniciales","Saldo / Balance","Pago de Capital","Pago de Intereses","Pago Total"]
[{"$f":"+CALCULADORA!C13","v":"2017-12-06"},{"$f":"IF(DIAS365(CALCULADORA!$C$27,A2)<0,0,DIAS365(CALCULADORA!$C$27,A2))","v":0},0,{"$f":"+CALCULADORA!A32/Flujos!C183","v":100},0,0,{"$f":"F2+E2","v":0},{"$f":"IF($B2<0,0,G2/POWER(1+CALCULADORA!$C$29,Flujos!$B2/365))","v":0},{"$f":"+A2","v":"2017-12-06"},0,0,{"$f":"+Características!B18/Flujos!C183","v":4788065105804.3975},0,0,{"$f":"+N2+M2","v":0}]
[{"$f":"EDATE(A2,1)","v":"2018-01-06"},{"$f":"IF(DIAS365(CALCULADORA!$C$27,A3)<0,0,DIAS365(CALCULADORA!$C$27,A3))","v":0},{"$f":"+HLOOKUP(CALCULADORA!$C$9,Tablas!B:B,Flujos!J3+1,FALSE)","v":2.356776E-2},{"$f":"+ROUND(D2-E3,6)","v":97.643224000000004},{"$f":"ROUND(C3*$D$2,6)","v":2.356776},{"$f":"ROUND(D2*ROUND(((1+CALCULADORA!$C$16)^(1/12)-1),6),6)","v":0.51670000000000005},{"$f":"F3+E3","v":2.8734760000000001},{"$f":"IF($B3=0,0,G3/POWER(1+CALCULADORA!$C$29,Flujos!$B3/365))","v":0},{"$f":"+A3","v":"2018-01-06"},1,{"$f":"+DIAS365($A$2,A3)","v":31},{"$f":"+L2-M3","v":4675221136526.4248},{"$f":"+$L$2*C3","v":112843969277.97264},{"$f":"+L2*$F$3%","v":24739932401.691326},{"$f":"+N3+M3","v":137583901679.66397}]
[{"$f":"EDATE(A3,1)","v":"2018-02-06"},{"$f":"IF(DIAS365(CALCULADORA!$C$27,A4)<0,0,DIAS365(CALCULADORA!$C$27,A4))","v":0},{"$f":"+HLOOKUP(CALCULADORA!$C$9,Tablas!B:B,Flujos!J4+1,FALSE)","v":2.1333459999999999E-2},{"$f":"+ROUND(D3-E4,6)","v":95.509878},{"$f":"ROUND(C4*$D$2,6)","v":2.133346},{"$f":"ROUND(D3*ROUND(((1+CALCULADORA!$C$16)^(1/12)-1),6),6)","v":0.50452300000000005},{"$f":"F4+E4","v":2.6378690000000002},{"$f":"IF($B4=0,0,G4/POWER(1+CALCULADORA!$C$29,Flujos!$B4/365))","v":0},"2018-02-06",2,{"$f":"+DIAS365($A$2,A4)","v":62},{"$f":"+L3-M4","v":4573075141114.3506},{"$f":"+$L$2*C4","v":102145995412.07387},{"$f":"+L3*$F$3%","v":24156867612.432041},{"$f":"+N4+M4","v":126302863024.50591}]
["2018-03-06",{"$f":"IF(DIAS365(CALCULADORA!$C$27,A5)<0,0,DIAS365(CALCULADORA!$C$27,A5))","v":0},{"$f":"+HLOOKUP(CALCULADORA!$C$9,Tablas!B:B,Flujos!J5+1,FALSE)","v":2.8972950000000001E-2},{"$f":"+ROUND(D4-E5,6)","v":92.612583000000001},2.8972950000000002,{"$f":"ROUND(D4*ROUND(((1+CALCULADORA!$C$16)^(1/12)-1),6),6)","v":0.49349999999999999},3.3907950000000002,{"$f":"IF($B5=0,0,G5/POWER(1+CALCULADORA!$C$29,Flujos!$B5/365))","v":0},"2018-03-06",3,{"$f":"+DIAS365($A$2,A5)","v":90},4434350770207.1348,138724370907.21552,23629079254.137852,162353450161.35336]
["2018-04-06",{"$f":"IF(DIAS365(CALCULADORA!$C$27,A6)<0,0,DIAS365(CALCULADORA!$C$27,A6))","v":0},{"$f":"+HLOOKUP(CALCULADORA!$C$9,Tablas!B:B,Flujos!J6+1,FALSE)","v":2.2232120000000001E-2},90.389370999999997,2.2232120000000002,{"$f":"ROUND(D5*ROUND(((1+CALCULADORA!$C$16)^(1/12)-1),6),6)","v":0.47852899999999998},2.7017410000000002,{"$f":"IF($B6=0,0,G6/POWER(1+CALCULADORA!$C$29,Flujos!$B6/365))","v":0},"2018-04-06",4,{"$f":"+DIAS365($A$2,A6)","v":121},4327901932207.0786,106448838000.05606,22912290429.660267,129361128429.71632]
["2018-05-06",{"$f":"IF(DIAS365(CALCULADORA!$C$27,A7)<0,0,DIAS365(CALCULADORA!$C$27,A7))","v":0},{"$f":"+HLOOKUP(CALCULADORA!$C$9,Tablas!B:B,Flujos!J7+1,FALSE)","v":2.0472480000000001E-2},88.342123000000001,2.0472480000000002,{"$f":"ROUND(D6*ROUND(((1+CALCULADORA!$C$16)^(1/12)-1),6),6)","v":0.46704200000000001},2.5142900000000004,{"$f":"IF($B7=0,0,G7/POWER(1+CALCULADORA!$C$29,Flujos!$B7/365))","v":0},"2018-05-06",5,{"$f":"+DIAS365($A$2,A7)","v":151},4229878365089.8003,98023567117.278412,22362269283.713978,120385836400.99239]
["2018-06-06",{"$f":"IF(DIAS365(CALCULADORA!$C$27,A8)<0,0,DIAS365(CALCULADORA!$C$27,A8))","v":0},{"$f":"+HLOOKUP(CALCULADORA!$C$9,Tablas!B:B,Flujos!J8+1,FALSE)","v":2.0605370000000001E-2},86.281586000000004,2.0605370000000001,{"$f":"ROUND(D7*ROUND(((1+CALCULADORA!$C$16)^(1/12)-1),6),6)","v":0.45646399999999998},2.517001,{"$f":"IF($B8=0,0,G8/POWER(1+CALCULADORA!$C$29,Flujos!$B8/365))","v":0},"2018-06-06",6,{"$f":"+DIAS365($A$2,A8)","v":182},4131218512000.6113,98659853089.188766,21855781512.418999,120515634601.60776]
["2018-07-06",{"$f":"IF(DIAS365(CALCULADORA!$C$27,A9)<0,0,DIAS365(CALCULADORA!$C$27,A9))","v":0},{"$f":"+HLOOKUP(CALCULADORA!$C$9,Tablas!B:B,Flujos!J9+1,FALSE)","v":2.115641E-2},84.165944999999994,2.1156410000000001,{"$f":"ROUND(D8*ROUND(((1+CALCULADORA!$C$16)^(1/12)-1),6),6)","v":0.44581700000000002},2.561458,{"$f":"IF($B9=0,0,G9/POWER(1+CALCULADORA!$C$29,Flujos!$B9/365))","v":0},"2018-07-06",7,{"$f":"+DIAS365($A$2,A9)","v":212},4029920243515.52,101298268485.09122,21346006051.50716,122644274536.59837]
["2018-08-06",{"$f":"IF(DIAS365(CALCULADORA!$C$27,A10)<0,0,DIAS365(CALCULADORA!$C$27,A10))","v":0},{"$f":"+HLOOKUP(CALCULADORA!$C$9,Tablas!B:B,Flujos!J10+1,FALSE)","v":1.8384040000000001E-2},82.327540999999997,1.8384039999999999,{"$f":"ROUND(D9*ROUND(((1+CALCULADORA!$C$16)^(1/12)-1),6),6)","v":0.43488500000000002},2.2732890000000001,{"$f":"IF($B10=0,0,G10/POWER(1+CALCULADORA!$C$29,Flujos!$B10/365))","v":0},"2018-08-06",8,{"$f":"+DIAS365($A$2,A10)","v":243},3941896263087.8076,88023980427.71228,20822597898.244694,108846578325.95697]
["2018-09-06",{"$f":"IF(DIAS365(CALCULADORA!$C$27,A11)<0,0,DIAS365(CALCULADORA!$C$27,A11))","v":0},{"$f":"+HLOOKUP(CALCULADORA!$C$9,Tablas!B:B,Flujos!J11+1,FALSE)","v":2.119569E-2},80.207971999999998,2.1195689999999998,{"$f":"ROUND(D10*ROUND(((1+CALCULADORA!$C$16)^(1/12)-1),6),6)","v":0.42538599999999999},2.5449549999999999,{"$f":"IF($B11=0,0,G11/POWER(1+CALCULADORA!$C$29,Flujos!$B11/365))","v":0},"2018-09-06",9,{"$f":"+DIAS365($A$2,A11)","v":274},3840409919405.3604,101486343682.4472,20367777991.374702,121854121673.8219]
["2018-10-06",{"$f":"IF(DIAS365(CALCULADORA!$C$27,A12)<0,0,DIAS365(CALCULADORA!$C$27,A12))","v":0},{"$f":"+HLOOKUP(CALCULADORA!$C$9,Tablas!B:B,Flujos!J12+1,FALSE)","v":2.337674E-2},77.870298000000005,2.3376739999999998,{"$f":"ROUND(D11*ROUND(((1+CALCULADORA!$C$16)^(1/12)-1),6),6)","v":0.414435},2.7521089999999999,{"$f":"IF($B12=0,0,G12/POWER(1+CALCULADORA!$C$29,Flujos!$B12/365))","v":0},"2018-10-06",10,{"$f":"+DIAS365($A$2,A12)","v":304},3728480566323.8984,111929353081.46188,19843398053.567501,131772751135.02939]
["2018-11-06",{"$f":"IF(DIAS365(CALCULADORA!$C$27,A13)<0,0,DIAS365(CALCULADORA!$C$27,A13))","v":0},{"$f":"+HLOOKUP(CALCULADORA!$C$9,Tablas!B:B,Flujos!J13+1,FALSE)","v":1.3761489999999999E-2},76.494148999999993,1.3761490000000001,{"$f":"ROUND(D12*ROUND(((1+CALCULADORA!$C$16)^(1/12)-1),6),6)","v":0.40235599999999999},1.778505,{"$f":"IF($B13=0,0,G13/POWER(1+CALCULADORA!$C$29,Flujos!$B13/365))","v":0},"2018-11-06",11,{"$f":"+DIAS365($A$2,A13)","v":335},3662589656251.0225,65890910072.876152,19265059086.195587,85155969159.071747]
["2018-12-06",{"$f":"IF(DIAS365(CALCULADORA!$C$27,A14)<0,0,DIAS365(CALCULADORA!$C$27,A14))","v":0},{"$f":"+HLOOKUP(CALCULADORA!$C$9,Tablas!B:B,Flujos!J14+1,FALSE)","v":1.6983749999999999E-2},74.795773999999994,1.698375,{"$f":"ROUND(D13*ROUND(((1+CALCULADORA!$C$16)^(1/12)-1),6),6)","v":0.39524500000000001},2.09362,{"$f":"IF($B14=0,0,G14/POWER(1+CALCULADORA!$C$29,Flujos!$B14/365))","v":0},"2018-12-06",12,{"$f":"+DIAS365($A$2,A14)","v":365},3581270355510.3169,81319300740.705429,18924600753.849033,100243901494.55446]
["2019-01-06",{"$f":"IF(DIAS365(CALCULADORA!$C$27,A15)<0,0,DIAS365(CALCULADORA!$C$27,A15))","v":0},{"$f":"+HLOOKUP(CALCULADORA!$C$9,Tablas!B:B,Flujos!J15+1,FALSE)","v":2.2644000000000001E-2},72.531374,2.2644000000000002,{"$f":"ROUND(D14*ROUND(((1+CALCULADORA!$C$16)^(1/12)-1),6),6)","v":0.38646999999999998},2.6508700000000003,{"$f":"IF($B15=0,0,G15/POWER(1+CALCULADORA!$C$29,Flujos!$B15/365))","v":0},"2019-01-06",13,{"$f":"+DIAS365($A$2,A15)","v":396},3472849409254.4819,108420946255.83478,18504423926.92181,126925370182.75659]
["2019-02-06",{"$f":"IF(DIAS365(CALCULADORA!$C$27,A16)<0,0,DIAS365(CALCULADORA!$C$27,A16))","v":0},{"$f":"+HLOOKUP(CALCULADORA!$C$9,Tablas!B:B,Flujos!J16+1,FALSE)","v":1.870053E-2},70.661321000000001,1.870053,{"$f":"ROUND(D15*ROUND(((1+CALCULADORA!$C$16)^(1/12)-1),6),6)","v":0.37476999999999999},2.2448229999999998,{"$f":"IF($B16=0,0,G16/POWER(1+CALCULADORA!$C$29,Flujos!$B16/365))","v":0},"2019-02-06",14,{"$f":"+DIAS365($A$2,A16)","v":427},3383310054101.4336,89539355153.048309,17944212897.617908,107483568050.66621]
["2019-03-06",{"$f":"IF(DIAS365(CALCULADORA!$C$27,A17)<0,0,DIAS365(CALCULADORA!$C$27,A17))","v":0},{"$f":"+HLOOKUP(CALCULADORA!$C$9,Tablas!B:B,Flujos!J17+1,FALSE)","v":2.4248749999999999E-2},68.236446000000001,2.4248750000000001,{"$f":"ROUND(D16*ROUND(((1+CALCULADORA!$C$16)^(1/12)-1),6),6)","v":0.36510700000000001},2.7899820000000002,{"$f":"IF($B17=0,0,G17/POWER(1+CALCULADORA!$C$29,Flujos!$B17/365))","v":0},"2019-03-06",15,{"$f":"+DIAS365($A$2,A17)","v":455},3267205460367.0591,116104593734.37437,17481563049.54211,133586156783.91649]
["2019-04-06",{"$f":"IF(DIAS365(CALCULADORA!$C$27,A18)<0,0,DIAS365(CALCULADORA!$C$27,A18))","v":0},{"$f":"+HLOOKUP(CALCULADORA!$C$9,Tablas!B:B,Flujos!J18+1,FALSE)","v":1.7172840000000002E-2},66.519161999999994,1.717284,{"$f":"ROUND(D17*ROUND(((1+CALCULADORA!$C$16)^(1/12)-1),6),6)","v":0.352578},2.0698620000000001,{"$f":"IF($B18=0,0,G18/POWER(1+CALCULADORA!$C$29,Flujos!$B18/365))","v":0},"2019-04-06",16,{"$f":"+DIAS365($A$2,A18)","v":486},3184980784395.4971,82224675971.561996,16881650613.716597,99106326585.278595]
["2019-05-06",{"$f":"IF(DIAS365(CALCULADORA!$C$27,A19)<0,0,DIAS365(CALCULADORA!$C$27,A19))","v":0},{"$f":"+HLOOKUP(CALCULADORA!$C$9,Tablas!B:B,Flujos!J19+1,FALSE)","v":1.614614E-2},64.904548000000005,1.614614,{"$f":"ROUND(D18*ROUND(((1+CALCULADORA!$C$16)^(1/12)-1),6),6)","v":0.34370499999999998},1.9583189999999999,{"$f":"IF($B19=0,0,G19/POWER(1+CALCULADORA!$C$29,Flujos!$B19/365))","v":0},"2019-05-06",17,{"$f":"+DIAS365($A$2,A19)","v":516},3107672014868.0645,77308769527.432617,16456795712.971535,93765565240.404144]
["2019-06-06",{"$f":"IF(DIAS365(CALCULADORA!$C$27,A20)<0,0,DIAS365(CALCULADORA!$C$27,A20))","v":0},{"$f":"+HLOOKUP(CALCULADORA!$C$9,Tablas!B:B,Flujos!J20+1,FALSE)","v":1.8706239999999999E-2},63.033923999999999,1.8706240000000001,{"$f":"ROUND(D19*ROUND(((1+CALCULADORA!$C$16)^(1/12)-1),6),6)","v":0.33536199999999999},2.2059860000000002,{"$f":"IF($B20=0,0,G20/POWER(1+CALCULADORA!$C$29,Flujos!$B20/365))","v":0},"2019-06-06",18,{"$f":"+DIAS365($A$2,A20)","v":547},3018105319863.2622,89566695004.802444,16057341300.823292,105624036305.62573]
["2019-07-06",{"$f":"IF(DIAS365(CALCULADORA!$C$27,A21)<0,0,DIAS365(CALCULADORA!$C$27,A21))","v":0},{"$f":"+HLOOKUP(CALCULADORA!$C$9,Tablas!B:B,Flujos!J21+1,FALSE)","v":2.8286200000000001E-2},60.205303999999998,2.8286199999999999,{"$f":"ROUND(D20*ROUND(((1+CALCULADORA!$C$16)^(1/12)-1),6),6)","v":0.32569599999999999},3.1543159999999997,{"$f":"IF($B21=0,0,G21/POWER(1+CALCULADORA!$C$29,Flujos!$B21/365))","v":0},"2019-07-06",19,{"$f":"+DIAS365($A$2,A21)","v":577},2882669152667.458,135436167195.80435,15594550187.733477,151030717383.53784]
["2019-08-06",{"$f":"IF(DIAS365(CALCULADORA!$C$27,A22)<0,0,DIAS365(CALCULADORA!$C$27,A22))","v":0},{"$f":"+HLOOKUP(CALCULADORA!$C$9,Tablas!B:B,Flujos!J22+1,FALSE)","v":1.3298590000000001E-2},{"$f":"+ROUND(D21-E22,6)","v":58.875444999999999},1.3298589999999999,{"$f":"ROUND(D21*ROUND(((1+CALCULADORA!$C$16)^(1/12)-1),6),6)","v":0.311081},1.6409399999999998,{"$f":"IF($B22=0,0,G22/POWER(1+CALCULADORA!$C$29,Flujos!$B22/365))","v":0},"2019-08-06",20,{"$f":"+DIAS365($A$2,A22)","v":608},2818994637932.0586,63674514735.399307,14894751511.832758,78569266247.232071]
["2019-09-06",{"$f":"IF(DIAS365(CALCULADORA!$C$27,A23)<0,0,DIAS365(CALCULADORA!$C$27,A23))","v":0},{"$f":"+HLOOKUP(CALCULADORA!$C$9,Tablas!B:B,Flujos!J23+1,FALSE)","v":1.814356E-2},57.061089000000003,1.8143560000000001,{"$f":"ROUND(D22*ROUND(((1+CALCULADORA!$C$16)^(1/12)-1),6),6)","v":0.30420900000000001},2.1185650000000003,{"$f":"IF($B23=0,0,G23/POWER(1+CALCULADORA!$C$29,Flujos!$B23/365))","v":0},"2019-09-06",21,{"$f":"+DIAS365($A$2,A23)","v":639},2732122091400.9902,86872546531.068436,14565745294.194948,101438291825.26338]
["2019-10-06",{"$f":"IF(DIAS365(CALCULADORA!$C$27,A24)<0,0,DIAS365(CALCULADORA!$C$27,A24))","v":0},{"$f":"+HLOOKUP(CALCULADORA!$C$9,Tablas!B:B,Flujos!J24+1,FALSE)","v":1.595792E-2},55.465297,1.5957920000000001,{"$f":"ROUND(D23*ROUND(((1+CALCULADORA!$C$16)^(1/12)-1),6),6)","v":0.29483500000000001},1.8906270000000001,{"$f":"IF($B24=0,0,G24/POWER(1+CALCULADORA!$C$29,Flujos!$B24/365))","v":0},"2019-10-06",22,{"$f":"+DIAS365($A$2,A24)","v":669},2655714531487.772,76407559913.218109,14116874846.268919,90524434759.48703]
["2019-11-06",{"$f":"IF(DIAS365(CALCULADORA!$C$27,A25)<0,0,DIAS365(CALCULADORA!$C$27,A25))","v":0},{"$f":"+HLOOKUP(CALCULADORA!$C$9,Tablas!B:B,Flujos!J25+1,FALSE)","v":1.6811010000000001E-2},53.784196000000001,1.681101,{"$f":"ROUND(D24*ROUND(((1+CALCULADORA!$C$16)^(1/12)-1),6),6)","v":0.28658899999999998},1.9676899999999999,{"$f":"IF($B25=0,0,G25/POWER(1+CALCULADORA!$C$29,Flujos!$B25/365))","v":0},"2019-11-06",23,{"$f":"+DIAS365($A$2,A25)","v":700},2575222321113.4434,80492210374.328796,13722076984.197319,94214287358.526123]
["2019-12-06",{"$f":"IF(DIAS365(CALCULADORA!$C$27,A26)<0,0,DIAS365(CALCULADORA!$C$27,A26))","v":0},{"$f":"+HLOOKUP(CALCULADORA!$C$9,Tablas!B:B,Flujos!J26+1,FALSE)","v":1.544912E-2},52.239283999999998,1.5449120000000001,{"$f":"ROUND(D25*ROUND(((1+CALCULADORA!$C$16)^(1/12)-1),6),6)","v":0.27790300000000001},1.8228150000000001,{"$f":"IF($B26=0,0,G26/POWER(1+CALCULADORA!$C$29,Flujos!$B26/365))","v":0},"2019-12-06",24,{"$f":"+DIAS365($A$2,A26)","v":730},2501250928726.0586,73971392387.384827,13306173733.193163,87277566120.577988]
["2020-01-06",{"$f":"IF(DIAS365(CALCULADORA!$C$27,A27)<0,0,DIAS365(CALCULADORA!$C$27,A27))","v":0},{"$f":"+HLOOKUP(CALCULADORA!$C$9,Tablas!B:B,Flujos!J27+1,FALSE)","v":1.3864430000000001E-2},50.852840999999998,1.3864430000000001,{"$f":"ROUND(D26*ROUND(((1+CALCULADORA!$C$16)^(1/12)-1),6),6)","v":0.26991999999999999},1.656363,{"$f":"IF($B27=0,0,G27/POWER(1+CALCULADORA!$C$29,Flujos!$B27/365))","v":0},"2020-01-06",25,{"$f":"+DIAS365($A$2,A27)","v":761},2434867135231.1909,66383793494.867668,12923963548.727547,79307757043.595215]
["2020-02-06",{"$f":"IF(DIAS365(CALCULADORA!$C$27,A28)<0,0,DIAS365(CALCULADORA!$C$27,A28))","v":0},{"$f":"+HLOOKUP(CALCULADORA!$C$9,Tablas!B:B,Flujos!J28+1,FALSE)","v":1.572838E-2},49.280003000000001,1.572838,{"$f":"ROUND(D27*ROUND(((1+CALCULADORA!$C$16)^(1/12)-1),6),6)","v":0.26275700000000002},1.8355950000000001,{"$f":"IF($B28=0,0,G28/POWER(1+CALCULADORA!$C$29,Flujos!$B28/365))","v":0},"2020-02-06",26,{"$f":"+DIAS365($A$2,A28)","v":792},2359558627782.3594,75308507448.831772,12580958487.739565,87889465936.571335]
["2020-03-06",{"$f":"IF(DIAS365(CALCULADORA!$C$27,A29)<0,0,DIAS365(CALCULADORA!$C$27,A29))","v":0},{"$f":"+HLOOKUP(CALCULADORA!$C$9,Tablas!B:B,Flujos!J29+1,FALSE)","v":2.0864540000000001E-2},47.193548999999997,2.0864539999999998,{"$f":"ROUND(D28*ROUND(((1+CALCULADORA!$C$16)^(1/12)-1),6),6)","v":0.25463000000000002},2.3410839999999999,{"$f":"IF($B29=0,0,G29/POWER(1+CALCULADORA!$C$29,Flujos!$B29/365))","v":0},"2020-03-06",27,{"$f":"+DIAS365($A$2,A29)","v":820},2259657851859.6992,99900775922.66008,12191839429.751451,112092615352.41153]
["2020-04-06",{"$f":"IF(DIAS365(CALCULADORA!$C$27,A30)<0,0,DIAS365(CALCULADORA!$C$27,A30))","v":0},{"$f":"+HLOOKUP(CALCULADORA!$C$9,Tablas!B:B,Flujos!J30+1,FALSE)","v":1.103635E-2},46.089914,1.1036349999999999,{"$f":"ROUND(D29*ROUND(((1+CALCULADORA!$C$16)^(1/12)-1),6),6)","v":0.24384900000000001},1.3474839999999999,{"$f":"IF($B30=0,0,G30/POWER(1+CALCULADORA!$C$29,Flujos!$B30/365))","v":0},"2020-04-06",28,{"$f":"+DIAS365($A$2,A30)","v":851},2206815089529.2549,52842762330.444366,11675652120.559067,64518414451.003433]
["2020-05-06",{"$f":"IF(DIAS365(CALCULADORA!$C$27,A31)<0,0,DIAS365(CALCULADORA!$C$27,A31))","v":0},{"$f":"+HLOOKUP(CALCULADORA!$C$9,Tablas!B:B,Flujos!J31+1,FALSE)","v":3.2874200000000001E-3},45.761172000000002,0.32874199999999998,{"$f":"ROUND(D30*ROUND(((1+CALCULADORA!$C$16)^(1/12)-1),6),6)","v":0.238147},0.56688899999999998,{"$f":"IF($B31=0,0,G31/POWER(1+CALCULADORA!$C$29,Flujos!$B31/365))","v":0},"2020-05-06",29,{"$f":"+DIAS365($A$2,A31)","v":881},2191074708539.1313,15740380990.123493,11402613567.597662,27142994557.721153]
["2020-06-06",{"$f":"IF(DIAS365(CALCULADORA!$C$27,A32)<0,0,DIAS365(CALCULADORA!$C$27,A32))","v":0},{"$f":"+HLOOKUP(CALCULADORA!$C$9,Tablas!B:B,Flujos!J32+1,FALSE)","v":3.3590400000000002E-3},45.425268000000003,0.33590399999999998,{"$f":"ROUND(D31*ROUND(((1+CALCULADORA!$C$16)^(1/12)-1),6),6)","v":0.23644799999999999},0.57235199999999997,{"$f":"IF($B32=0,0,G32/POWER(1+CALCULADORA!$C$29,Flujos!$B32/365))","v":0},"2020-06-06",30,{"$f":"+DIAS365($A$2,A32)","v":912},2174991406326.1301,16083302213.001204,11321283019.021692,27404585232.022896]
["2020-07-06",{"$f":"IF(DIAS365(CALCULADORA!$C$27,A33)<0,0,DIAS365(CALCULADORA!$C$27,A33))","v":0},{"$f":"+HLOOKUP(CALCULADORA!$C$9,Tablas!B:B,Flujos!J33+1,FALSE)","v":4.7029000000000003E-3},44.954977999999997,0.47028999999999999,{"$f":"ROUND(D32*ROUND(((1+CALCULADORA!$C$16)^(1/12)-1),6),6)","v":0.234712},0.70500200000000002,{"$f":"IF($B33=0,0,G33/POWER(1+CALCULADORA!$C$29,Flujos!$B33/365))","v":0},"2020-07-06",31,{"$f":"+DIAS365($A$2,A33)","v":942},2152473614940.0427,22517791386.087502,11238180596.487116,33755971982.574615]
["2020-08-06",{"$f":"IF(DIAS365(CALCULADORA!$C$27,A34)<0,0,DIAS365(CALCULADORA!$C$27,A34))","v":0},{"$f":"+HLOOKUP(CALCULADORA!$C$9,Tablas!B:B,Flujos!J34+1,FALSE)","v":5.9293599999999998E-3},44.362042000000002,0.59293600000000002,{"$f":"ROUND(D33*ROUND(((1+CALCULADORA!$C$16)^(1/12)-1),6),6)","v":0.23228199999999999},0.82521800000000001,{"$f":"IF($B34=0,0,G34/POWER(1+CALCULADORA!$C$29,Flujos!$B34/365))","v":0},"2020-08-06",32,{"$f":"+DIAS365($A$2,A34)","v":973},2124083453224.2903,28390161715.752361,11121831168.395203,39511992884.147568]
[{"$f":"EDATE(A34,1)","v":"2020-09-06"},{"$f":"IF(DIAS365(CALCULADORA!$C$27,A35)<0,0,DIAS365(CALCULADORA!$C$27,A35))","v":0},{"$f":"+HLOOKUP(CALCULADORA!$C$9,Tablas!B:B,Flujos!J35+1,FALSE)","v":9.3488800000000004E-3},43.427154000000002,0.93488800000000005,{"$f":"ROUND(D34*ROUND(((1+CALCULADORA!$C$16)^(1/12)-1),6),6)","v":0.22921900000000001},1.164107,{"$f":"IF($B35=0,0,G35/POWER(1+CALCULADORA!$C$29,Flujos!$B35/365))","v":0},"2020-09-06",33,{"$f":"+DIAS365($A$2,A35)","v":1004},2079320407117.9377,44763046106.352615,10975139202.80991,55738185309.162521]
["2020-10-06",{"$f":"IF(DIAS365(CALCULADORA!$C$27,A36)<0,0,DIAS365(CALCULADORA!$C$27,A36))","v":0},{"$f":"+HLOOKUP(CALCULADORA!$C$9,Tablas!B:B,Flujos!J36+1,FALSE)","v":9.4674000000000008E-3},42.480414000000003,0.94674000000000003,{"$f":"ROUND(D35*ROUND(((1+CALCULADORA!$C$16)^(1/12)-1),6),6)","v":0.224388},1.1711279999999999,{"$f":"IF($B36=0,0,G36/POWER(1+CALCULADORA!$C$29,Flujos!$B36/365))","v":0},"2020-10-06",34,{"$f":"+DIAS365($A$2,A36)","v":1034},2033989879535.2451,45330527582.692558,10743848543.578386,56074376126.270943]
["2020-11-06",{"$f":"IF(DIAS365(CALCULADORA!$C$27,A37)<0,0,DIAS365(CALCULADORA!$C$27,A37))","v":0},{"$f":"+HLOOKUP(CALCULADORA!$C$9,Tablas!B:B,Flujos!J37+1,FALSE)","v":1.6454219999999999E-2},40.834992,1.6454219999999999,{"$f":"ROUND(D36*ROUND(((1+CALCULADORA!$C$16)^(1/12)-1),6),6)","v":0.219496},1.8649179999999999,{"$f":"IF($B37=0,0,G37/POWER(1+CALCULADORA!$C$29,Flujos!$B37/365))","v":0},"2020-11-06",35,{"$f":"+DIAS365($A$2,A37)","v":1065},1955206002910.0164,78783876625.228821,10509625707.558613,89293502332.78743]
["2020-12-06",{"$f":"IF(DIAS365(CALCULADORA!$C$27,A38)<0,0,DIAS365(CALCULADORA!$C$27,A38))","v":0},{"$f":"+HLOOKUP(CALCULADORA!$C$9,Tablas!B:B,Flujos!J38+1,FALSE)","v":1.3605030000000001E-2},39.474488999999998,1.360503,{"$f":"ROUND(D37*ROUND(((1+CALCULADORA!$C$16)^(1/12)-1),6),6)","v":0.21099399999999999},1.5714969999999999,{"$f":"IF($B38=0,0,G38/POWER(1+CALCULADORA!$C$29,Flujos!$B38/365))","v":0},"2020-12-06",36,{"$f":"+DIAS365($A$2,A38)","v":1095},1890064233503.5942,65141769406.422005,10102549417.036057,75244318823.458069]
["2021-01-06",{"$f":"IF(DIAS365(CALCULADORA!$C$27,A39)<0,0,DIAS365(CALCULADORA!$C$27,A39))","v":0},{"$f":"+HLOOKUP(CALCULADORA!$C$9,Tablas!B:B,Flujos!J39+1,FALSE)","v":1.5038960000000001E-2},37.970593000000001,1.5038959999999999,{"$f":"ROUND(D38*ROUND(((1+CALCULADORA!$C$16)^(1/12)-1),6),6)","v":0.20396500000000001},1.7078609999999999,{"$f":"IF($B39=0,0,G39/POWER(1+CALCULADORA!$C$29,Flujos!$B39/365))","v":0},"2021-01-06",37,{"$f":"+DIAS365($A$2,A39)","v":1126},1818056713900.0061,72007519603.588104,9765961894.513073,81773481498.101181]
["2021-02-06",{"$f":"IF(DIAS365(CALCULADORA!$C$27,A40)<0,0,DIAS365(CALCULADORA!$C$27,A40))","v":0},{"$f":"+HLOOKUP(CALCULADORA!$C$9,Tablas!B:B,Flujos!J40+1,FALSE)","v":1.3669769999999999E-2},{"$f":"+ROUND(D39-E40,6)","v":36.603616000000002},{"$f":"ROUND(C40*$D$2,6)","v":1.3669770000000001},{"$f":"ROUND(D39*ROUND(((1+CALCULADORA!$C$16)^(1/12)-1),6),6)","v":0.19619400000000001},{"$f":"F40+E40","v":1.5631710000000001},{"$f":"IF($B40=0,0,G40/POWER(1+CALCULADORA!$C$29,Flujos!$B40/365))","v":0},{"$f":"+A40","v":"2021-02-06"},38,{"$f":"+DIAS365($A$2,A40)","v":1157},1752604965158.6343,65451748741.371773,9393899040.7213326,74845647782.093109]
["2021-03-06",{"$f":"IF(DIAS365(CALCULADORA!$C$27,A41)<0,0,DIAS365(CALCULADORA!$C$27,A41))","v":0},{"$f":"+HLOOKUP(CALCULADORA!$C$9,Tablas!B:B,Flujos!J41+1,FALSE)","v":1.395939E-2},35.207676999999997,1.395939,{"$f":"ROUND(D40*ROUND(((1+CALCULADORA!$C$16)^(1/12)-1),6),6)","v":0.18913099999999999},1.58507,{"$f":"IF($B41=0,0,G41/POWER(1+CALCULADORA!$C$29,Flujos!$B41/365))","v":0},"2021-03-06",39,{"$f":"+DIAS365($A$2,A41)","v":1185},1685766497001.3193,66838468157.31485,9055709854.9746647,75894178012.28952]
["2021-04-06",{"$f":"IF(DIAS365(CALCULADORA!$C$27,A42)<0,0,DIAS365(CALCULADORA!$C$27,A42))","v":0},{"$f":"+HLOOKUP(CALCULADORA!$C$9,Tablas!B:B,Flujos!J42+1,FALSE)","v":1.2006330000000001E-2},34.007044,1.2006330000000001,{"$f":"ROUND(D41*ROUND(((1+CALCULADORA!$C$16)^(1/12)-1),6),6)","v":0.181918},1.3825510000000001,{"$f":"IF($B42=0,0,G42/POWER(1+CALCULADORA!$C$29,Flujos!$B42/365))","v":0},"2021-04-06",40,{"$f":"+DIAS365($A$2,A42)","v":1216},1628279407279.5469,57487089721.772514,8710355490.0058174,66197445211.778336]
["2021-05-06",{"$f":"IF(DIAS365(CALCULADORA!$C$27,A43)<0,0,DIAS365(CALCULADORA!$C$27,A43))","v":0},{"$f":"+HLOOKUP(CALCULADORA!$C$9,Tablas!B:B,Flujos!J43+1,FALSE)","v":1.2704119999999999E-2},32.736632,1.2704120000000001,{"$f":"ROUND(D42*ROUND(((1+CALCULADORA!$C$16)^(1/12)-1),6),6)","v":0.17571400000000001},1.446126,{"$f":"IF($B43=0,0,G43/POWER(1+CALCULADORA!$C$29,Flujos!$B43/365))","v":0},"2021-05-06",41,{"$f":"+DIAS365($A$2,A43)","v":1246},1567451253607.5952,60828153671.951759,8413319697.4134197,69241473369.365173]
["2021-06-06",{"$f":"IF(DIAS365(CALCULADORA!$C$27,A44)<0,0,DIAS365(CALCULADORA!$C$27,A44))","v":0},{"$f":"+HLOOKUP(CALCULADORA!$C$9,Tablas!B:B,Flujos!J44+1,FALSE)","v":1.132464E-2},31.604168000000001,1.1324639999999999,{"$f":"ROUND(D43*ROUND(((1+CALCULADORA!$C$16)^(1/12)-1),6),6)","v":0.16914999999999999},1.3016139999999998,{"$f":"IF($B44=0,0,G44/POWER(1+CALCULADORA!$C$29,Flujos!$B44/365))","v":0},"2021-06-06",42,{"$f":"+DIAS365($A$2,A44)","v":1277},1513228139987.7986,54223113619.796715,8099020627.3904457,62322134247.187164]
["2021-07-06",{"$f":"IF(DIAS365(CALCULADORA!$C$27,A45)<0,0,DIAS365(CALCULADORA!$C$27,A45))","v":0},{"$f":"+HLOOKUP(CALCULADORA!$C$9,Tablas!B:B,Flujos!J45+1,FALSE)","v":9.6926900000000003E-3},30.634899000000001,0.96926900000000005,{"$f":"ROUND(D44*ROUND(((1+CALCULADORA!$C$16)^(1/12)-1),6),6)","v":0.163299},1.132568,{"$f":"IF($B45=0,0,G45/POWER(1+CALCULADORA!$C$29,Flujos!$B45/365))","v":0},"2021-07-06",43,{"$f":"+DIAS365($A$2,A45)","v":1307},1466818909217.4194,46409230770.379227,7818849799.3169565,54228080569.696182]
["2021-08-06",{"$f":"IF(DIAS365(CALCULADORA!$C$27,A46)<0,0,DIAS365(CALCULADORA!$C$27,A46))","v":0},{"$f":"+HLOOKUP(CALCULADORA!$C$9,Tablas!B:B,Flujos!J46+1,FALSE)","v":1.363761E-2},29.271138000000001,1.363761,{"$f":"ROUND(D45*ROUND(((1+CALCULADORA!$C$16)^(1/12)-1),6),6)","v":0.15829099999999999},1.522052,{"$f":"IF($B46=0,0,G46/POWER(1+CALCULADORA!$C$29,Flujos!$B46/365))","v":0},"2021-08-06",44,{"$f":"+DIAS365($A$2,A46)","v":1338},1401521144649.8503,65297764567.569107,7579053303.9264069,72876817871.495514]
["2021-09-06",{"$f":"IF(DIAS365(CALCULADORA!$C$27,A47)<0,0,DIAS365(CALCULADORA!$C$27,A47))","v":0},{"$f":"+HLOOKUP(CALCULADORA!$C$9,Tablas!B:B,Flujos!J47+1,FALSE)","v":1.1352930000000001E-2},28.135845,1.1352930000000001,{"$f":"ROUND(D46*ROUND(((1+CALCULADORA!$C$16)^(1/12)-1),6),6)","v":0.15124399999999999},1.286537,{"$f":"IF($B47=0,0,G47/POWER(1+CALCULADORA!$C$29,Flujos!$B47/365))","v":0},"2021-09-06",45,{"$f":"+DIAS365($A$2,A47)","v":1369},1347162576668.2104,54358567981.639923,7241659754.4057779,61600227736.0457]
["2021-10-06",{"$f":"IF(DIAS365(CALCULADORA!$C$27,A48)<0,0,DIAS365(CALCULADORA!$C$27,A48))","v":0},{"$f":"+HLOOKUP(CALCULADORA!$C$9,Tablas!B:B,Flujos!J48+1,FALSE)","v":1.0136050000000001E-2},27.122240000000001,1.0136050000000001,{"$f":"ROUND(D47*ROUND(((1+CALCULADORA!$C$16)^(1/12)-1),6),6)","v":0.14537800000000001},1.1589830000000001,{"$f":"IF($B48=0,0,G48/POWER(1+CALCULADORA!$C$29,Flujos!$B48/365))","v":0},"2021-10-06",46,{"$f":"+DIAS365($A$2,A48)","v":1399},1298630509352.5217,48532067315.688667,6960789033.6446438,55492856349.333313]
["2021-11-06",{"$f":"IF(DIAS365(CALCULADORA!$C$27,A49)<0,0,DIAS365(CALCULADORA!$C$27,A49))","v":0},{"$f":"+HLOOKUP(CALCULADORA!$C$9,Tablas!B:B,Flujos!J49+1,FALSE)","v":1.0234780000000001E-2},26.098762000000001,1.0234780000000001,{"$f":"ROUND(D48*ROUND(((1+CALCULADORA!$C$16)^(1/12)-1),6),6)","v":0.14014099999999999},1.1636190000000002,{"$f":"IF($B49=0,0,G49/POWER(1+CALCULADORA!$C$29,Flujos!$B49/365))","v":0},"2021-11-06",47,{"$f":"+DIAS365($A$2,A49)","v":1430},1249625716368.937,49004792983.584732,6710023841.8244801,55714816825.40921]
["2021-12-06",{"$f":"IF(DIAS365(CALCULADORA!$C$27,A50)<0,0,DIAS365(CALCULADORA!$C$27,A50))","v":0},{"$f":"+HLOOKUP(CALCULADORA!$C$9,Tablas!B:B,Flujos!J50+1,FALSE)","v":8.2422999999999993E-3},25.274532000000001,0.82423000000000002,{"$f":"ROUND(D49*ROUND(((1+CALCULADORA!$C$16)^(1/12)-1),6),6)","v":0.134852},0.95908199999999999,{"$f":"IF($B50=0,0,G50/POWER(1+CALCULADORA!$C$29,Flujos!$B50/365))","v":0},"2021-12-06",48,{"$f":"+DIAS365($A$2,A50)","v":1460},1210161047347.3655,39464669021.571579,6456816076.4782982,45921485098.049881]
["2022-01-06",{"$f":"IF(DIAS365(CALCULADORA!$C$27,A51)<0,0,DIAS365(CALCULADORA!$C$27,A51))","v":0},{"$f":"+HLOOKUP(CALCULADORA!$C$9,Tablas!B:B,Flujos!J51+1,FALSE)","v":1.079955E-2},24.194576999999999,1.079955,{"$f":"ROUND(D50*ROUND(((1+CALCULADORA!$C$16)^(1/12)-1),6),6)","v":0.13059399999999999},1.2105489999999999,{"$f":"IF($B51=0,0,G51/POWER(1+CALCULADORA!$C$29,Flujos!$B51/365))","v":0},"2022-01-06",49,{"$f":"+DIAS365($A$2,A51)","v":1491},1158452098833.9756,51708948513.389877,6252902131.6438379,57961850645.033714]
["2022-02-06",{"$f":"IF(DIAS365(CALCULADORA!$C$27,A52)<0,0,DIAS365(CALCULADORA!$C$27,A52))","v":0},{"$f":"+HLOOKUP(CALCULADORA!$C$9,Tablas!B:B,Flujos!J52+1,FALSE)","v":1.1875439999999999E-2},23.007033,1.1875439999999999,{"$f":"ROUND(D51*ROUND(((1+CALCULADORA!$C$16)^(1/12)-1),6),6)","v":0.12501300000000001},1.312557,{"$f":"IF($B52=0,0,G52/POWER(1+CALCULADORA!$C$29,Flujos!$B52/365))","v":0},"2022-02-06",50,{"$f":"+DIAS365($A$2,A52)","v":1522},1101591718953.9019,56860379880.073769,5985721994.6751528,62846101874.748924]
["2022-03-06",{"$f":"IF(DIAS365(CALCULADORA!$C$27,A53)<0,0,DIAS365(CALCULADORA!$C$27,A53))","v":0},{"$f":"+HLOOKUP(CALCULADORA!$C$9,Tablas!B:B,Flujos!J53+1,FALSE)","v":1.0192339999999999E-2},21.987798999999999,1.019234,{"$f":"ROUND(D52*ROUND(((1+CALCULADORA!$C$16)^(1/12)-1),6),6)","v":0.118877},1.1381109999999999,{"$f":"IF($B53=0,0,G53/POWER(1+CALCULADORA!$C$29,Flujos!$B53/365))","v":0},"2022-03-06",51,{"$f":"+DIAS365($A$2,A53)","v":1550},1052790131453.4075,48801587500.494392,5691924411.8348112,54493511912.329201]
["2022-04-06",{"$f":"IF(DIAS365(CALCULADORA!$C$27,A54)<0,0,DIAS365(CALCULADORA!$C$27,A54))","v":0},{"$f":"+HLOOKUP(CALCULADORA!$C$9,Tablas!B:B,Flujos!J54+1,FALSE)","v":1.0594370000000001E-2},20.928362,1.059437,{"$f":"ROUND(D53*ROUND(((1+CALCULADORA!$C$16)^(1/12)-1),6),6)","v":0.113611},1.1730479999999999,{"$f":"IF($B54=0,0,G54/POWER(1+CALCULADORA!$C$29,Flujos!$B54/365))","v":0},"2022-04-06",52,{"$f":"+DIAS365($A$2,A54)","v":1581},1002063598138.4265,50726533314.980934,5439766609.2197571,56166299924.200691]
["2022-05-06",{"$f":"IF(DIAS365(CALCULADORA!$C$27,A55)<0,0,DIAS365(CALCULADORA!$C$27,A55))","v":0},{"$f":"+HLOOKUP(CALCULADORA!$C$9,Tablas!B:B,Flujos!J55+1,FALSE)","v":1.1152499999999999E-2},19.813112,1.1152500000000001,{"$f":"ROUND(D54*ROUND(((1+CALCULADORA!$C$16)^(1/12)-1),6),6)","v":0.108137},1.223387,{"$f":"IF($B55=0,0,G55/POWER(1+CALCULADORA!$C$29,Flujos!$B55/365))","v":0},"2022-05-06",53,{"$f":"+DIAS365($A$2,A55)","v":1611},948664702045.94299,53398896092.483536,5177662611.5812502,58576558704.064789]
["2022-06-06",{"$f":"IF(DIAS365(CALCULADORA!$C$27,A56)<0,0,DIAS365(CALCULADORA!$C$27,A56))","v":0},{"$f":"+HLOOKUP(CALCULADORA!$C$9,Tablas!B:B,Flujos!J56+1,FALSE)","v":9.6326199999999997E-3},18.84985,0.96326199999999995,{"$f":"ROUND(D55*ROUND(((1+CALCULADORA!$C$16)^(1/12)-1),6),6)","v":0.10237400000000001},1.065636,{"$f":"IF($B56=0,0,G56/POWER(1+CALCULADORA!$C$29,Flujos!$B56/365))","v":0},"2022-06-06",54,{"$f":"+DIAS365($A$2,A56)","v":1642},902543090346.46948,46121611699.473557,4901750515.4713879,51023362214.944946]
["2022-07-06",{"$f":"IF(DIAS365(CALCULADORA!$C$27,A57)<0,0,DIAS365(CALCULADORA!$C$27,A57))","v":0},{"$f":"+HLOOKUP(CALCULADORA!$C$9,Tablas!B:B,Flujos!J57+1,FALSE)","v":6.11365E-3},18.238485000000001,0.61136500000000005,{"$f":"ROUND(D56*ROUND(((1+CALCULADORA!$C$16)^(1/12)-1),6),6)","v":9.7396999999999997E-2},0.708762,{"$f":"IF($B57=0,0,G57/POWER(1+CALCULADORA!$C$29,Flujos!$B57/365))","v":0},"2022-07-06",55,{"$f":"+DIAS365($A$2,A57)","v":1672},873270536112.36841,29272554234.101055,4663440147.8202085,33935994381.921265]
["2022-08-06",{"$f":"IF(DIAS365(CALCULADORA!$C$27,A58)<0,0,DIAS365(CALCULADORA!$C$27,A58))","v":0},{"$f":"+HLOOKUP(CALCULADORA!$C$9,Tablas!B:B,Flujos!J58+1,FALSE)","v":8.10022E-3},17.428463000000001,0.81002200000000002,{"$f":"ROUND(D57*ROUND(((1+CALCULADORA!$C$16)^(1/12)-1),6),6)","v":9.4238000000000002E-2},0.90426000000000006,{"$f":"IF($B58=0,0,G58/POWER(1+CALCULADORA!$C$29,Flujos!$B58/365))","v":0},"2022-08-06",56,{"$f":"+DIAS365($A$2,A58)","v":1703},834486155381.02954,38784380731.338898,4512188860.0926085,43296569591.431503]
["2022-09-06",{"$f":"IF(DIAS365(CALCULADORA!$C$27,A59)<0,0,DIAS365(CALCULADORA!$C$27,A59))","v":0},{"$f":"+HLOOKUP(CALCULADORA!$C$9,Tablas!B:B,Flujos!J59+1,FALSE)","v":6.3959400000000001E-3},16.788868999999998,0.639594,{"$f":"ROUND(D58*ROUND(((1+CALCULADORA!$C$16)^(1/12)-1),6),6)","v":9.0052999999999994E-2},0.72964699999999993,{"$f":"IF($B59=0,0,G59/POWER(1+CALCULADORA!$C$29,Flujos!$B59/365))","v":0},"2022-09-06",57,{"$f":"+DIAS365($A$2,A59)","v":1734},803861978248.21094,30624177132.818577,4311789964.8537798,34935967097.672356]
["2022-10-06",{"$f":"IF(DIAS365(CALCULADORA!$C$27,A60)<0,0,DIAS365(CALCULADORA!$C$27,A60))","v":0},{"$f":"+HLOOKUP(CALCULADORA!$C$9,Tablas!B:B,Flujos!J60+1,FALSE)","v":9.9168999999999993E-3},15.797179,0.99168999999999996,{"$f":"ROUND(D59*ROUND(((1+CALCULADORA!$C$16)^(1/12)-1),6),6)","v":8.6748000000000006E-2},1.078438,{"$f":"IF($B60=0,0,G60/POWER(1+CALCULADORA!$C$29,Flujos!$B60/365))","v":0},"2022-10-06",58,{"$f":"+DIAS365($A$2,A60)","v":1764},756379215400.45935,47482762847.751625,4153554841.6085062,51636317689.36013]
["2022-11-06",{"$f":"IF(DIAS365(CALCULADORA!$C$27,A61)<0,0,DIAS365(CALCULADORA!$C$27,A61))","v":0},{"$f":"+HLOOKUP(CALCULADORA!$C$9,Tablas!B:B,Flujos!J61+1,FALSE)","v":9.3426800000000008E-3},14.862911,0.93426799999999999,{"$f":"ROUND(D60*ROUND(((1+CALCULADORA!$C$16)^(1/12)-1),6),6)","v":8.1624000000000002E-2},1.015892,{"$f":"IF($B61=0,0,G61/POWER(1+CALCULADORA!$C$29,Flujos!$B61/365))","v":0},"2022-11-06",59,{"$f":"+DIAS365($A$2,A61)","v":1795},711645855297.7627,44733360102.696632,3908211405.974174,48641571508.670807]
["2022-12-06",{"$f":"IF(DIAS365(CALCULADORA!$C$27,A62)<0,0,DIAS365(CALCULADORA!$C$27,A62))","v":0},{"$f":"+HLOOKUP(CALCULADORA!$C$9,Tablas!B:B,Flujos!J62+1,FALSE)","v":5.5878999999999998E-3},14.304121,0.55879000000000001,{"$f":"ROUND(D61*ROUND(((1+CALCULADORA!$C$16)^(1/12)-1),6),6)","v":7.6797000000000004E-2},0.63558700000000001,{"$f":"IF($B62=0,0,G62/POWER(1+CALCULADORA!$C$29,Flujos!$B62/365))","v":0},"2022-12-06",60,{"$f":"+DIAS365($A$2,A62)","v":1825},684890626293.03833,26755229004.724392,3677074134.3235402,30432303139.047932]
["2023-01-06",{"$f":"IF(DIAS365(CALCULADORA!$C$27,A63)<0,0,DIAS365(CALCULADORA!$C$27,A63))","v":0},{"$f":"+HLOOKUP(CALCULADORA!$C$9,Tablas!B:B,Flujos!J63+1,FALSE)","v":7.3659900000000002E-3},13.567522,0.736599,{"$f":"ROUND(D62*ROUND(((1+CALCULADORA!$C$16)^(1/12)-1),6),6)","v":7.3909000000000002E-2},0.81050800000000001,{"$f":"IF($B63=0,0,G63/POWER(1+CALCULADORA!$C$29,Flujos!$B63/365))","v":0},"2023-01-06",61,{"$f":"+DIAS365($A$2,A63)","v":1856},649621786604.33423,35268839688.704132,3538829866.0561295,38807669554.760262]
["2023-02-06",{"$f":"IF(DIAS365(CALCULADORA!$C$27,A64)<0,0,DIAS365(CALCULADORA!$C$27,A64))","v":0},{"$f":"+HLOOKUP(CALCULADORA!$C$9,Tablas!B:B,Flujos!J64+1,FALSE)","v":6.2080199999999999E-3},12.946719999999999,0.62080199999999996,{"$f":"ROUND(D63*ROUND(((1+CALCULADORA!$C$16)^(1/12)-1),6),6)","v":7.0102999999999999E-2},0.69090499999999999,{"$f":"IF($B64=0,0,G64/POWER(1+CALCULADORA!$C$29,Flujos!$B64/365))","v":0},"2023-02-06",62,{"$f":"+DIAS365($A$2,A64)","v":1887},619897382666.19836,29724403938.135815,3356595771.3845954,33080999709.520409]
["2023-03-06",{"$f":"IF(DIAS365(CALCULADORA!$C$27,A65)<0,0,DIAS365(CALCULADORA!$C$27,A65))","v":0},{"$f":"+HLOOKUP(CALCULADORA!$C$9,Tablas!B:B,Flujos!J65+1,FALSE)","v":6.0392900000000001E-3},12.342791,0.60392900000000005,{"$f":"ROUND(D64*ROUND(((1+CALCULADORA!$C$16)^(1/12)-1),6),6)","v":6.6895999999999997E-2},0.670825,{"$f":"IF($B65=0,0,G65/POWER(1+CALCULADORA!$C$29,Flujos!$B65/365))","v":0},"2023-03-06",63,{"$f":"+DIAS365($A$2,A65)","v":1915},590980868953.36487,28916513712.833439,3203009776.2362475,32119523489.069687]
["2023-04-06",{"$f":"IF(DIAS365(CALCULADORA!$C$27,A66)<0,0,DIAS365(CALCULADORA!$C$27,A66))","v":0},{"$f":"+HLOOKUP(CALCULADORA!$C$9,Tablas!B:B,Flujos!J66+1,FALSE)","v":5.5845199999999999E-3},11.784338999999999,0.55845199999999995,{"$f":"ROUND(D65*ROUND(((1+CALCULADORA!$C$16)^(1/12)-1),6),6)","v":6.3774999999999998E-2},0.62222699999999997,{"$f":"IF($B66=0,0,G66/POWER(1+CALCULADORA!$C$29,Flujos!$B66/365))","v":0},"2023-04-06",64,{"$f":"+DIAS365($A$2,A66)","v":1946},564241823608.69812,26739045344.666775,3053598149.8820367,29792643494.548813]
[{"$f":"EDATE(A66,1)","v":"2023-05-06"},{"$f":"IF(DIAS365(CALCULADORA!$C$27,A67)<0,0,DIAS365(CALCULADORA!$C$27,A67))","v":0},{"$f":"+HLOOKUP(CALCULADORA!$C$9,Tablas!B:B,Flujos!J67+1,FALSE)","v":5.7291099999999999E-3},11.211428,0.57291099999999995,{"$f":"ROUND(D66*ROUND(((1+CALCULADORA!$C$16)^(1/12)-1),6),6)","v":6.089E-2},0.63380099999999995,{"$f":"IF($B67=0,0,G67/POWER(1+CALCULADORA!$C$29,Flujos!$B67/365))","v":0},{"$f":"+A67","v":"2023-05-06"},65,{"$f":"+DIAS365($A$2,A67)","v":1976},536810471930.38306,27431351678.315033,2915437502.5861435,30346789180.901176]
["2023-06-06",{"$f":"IF(DIAS365(CALCULADORA!$C$27,A68)<0,0,DIAS365(CALCULADORA!$C$27,A68))","v":0},{"$f":"+HLOOKUP(CALCULADORA!$C$9,Tablas!B:B,Flujos!J68+1,FALSE)","v":5.8542999999999998E-3},{"$f":"+ROUND(D67-E68,6)","v":10.625997999999999},{"$f":"ROUND(C68*$D$2,6)","v":0.58543000000000001},{"$f":"ROUND(D67*ROUND(((1+CALCULADORA!$C$16)^(1/12)-1),6),6)","v":5.7929000000000001E-2},{"$f":"F68+E68","v":0.64335900000000001},{"$f":"IF($B68=0,0,G68/POWER(1+CALCULADORA!$C$29,Flujos!$B68/365))","v":0},"2023-06-06",66,{"$f":"+DIAS365($A$2,A68)","v":2007},{"$f":"+L67-M68","v":508779702381.47235},{"$f":"+$L$2*C68","v":28030769548.910683},{"$f":"+L67*$F$3%","v":2773699708.4642897},{"$f":"+N68+M68","v":30804469257.374973}]
["2023-07-06",{"$f":"IF(DIAS365(CALCULADORA!$C$27,A69)<0,0,DIAS365(CALCULADORA!$C$27,A69))","v":0},{"$f":"+HLOOKUP(CALCULADORA!$C$9,Tablas!B:B,Flujos!J69+1,FALSE)","v":5.8231999999999997E-3},10.043678,0.58231999999999995,{"$f":"ROUND(D68*ROUND(((1+CALCULADORA!$C$16)^(1/12)-1),6),6)","v":5.4905000000000002E-2},0.63722499999999993,{"$f":"IF($B69=0,0,G69/POWER(1+CALCULADORA!$C$29,Flujos!$B69/365))","v":0},"2023-07-06",67,{"$f":"+DIAS365($A$2,A69)","v":2037},480897841657.35217,27881860724.120167,2628864722.2050681,30510725446.325233]
["2023-08-06",{"$f":"IF(DIAS365(CALCULADORA!$C$27,A70)<0,0,DIAS365(CALCULADORA!$C$27,A70))","v":0},{"$f":"+HLOOKUP(CALCULADORA!$C$9,Tablas!B:B,Flujos!J70+1,FALSE)","v":6.3028800000000003E-3},9.4133899999999997,0.63028799999999996,{"$f":"ROUND(D69*ROUND(((1+CALCULADORA!$C$16)^(1/12)-1),6),6)","v":5.1895999999999998E-2},0.6821839999999999,{"$f":"IF($B70=0,0,G70/POWER(1+CALCULADORA!$C$29,Flujos!$B70/365))","v":0},"2023-08-06",68,{"$f":"+DIAS365($A$2,A70)","v":2068},450719241863.27972,30178599794.072422,2484799147.8435388,32663398941.915962]
["2023-09-06",{"$f":"IF(DIAS365(CALCULADORA!$C$27,A71)<0,0,DIAS365(CALCULADORA!$C$27,A71))","v":0},{"$f":"+HLOOKUP(CALCULADORA!$C$9,Tablas!B:B,Flujos!J71+1,FALSE)","v":4.6673599999999997E-3},8.9466540000000006,0.46673599999999998,{"$f":"ROUND(D70*ROUND(((1+CALCULADORA!$C$16)^(1/12)-1),6),6)","v":4.8639000000000002E-2},0.51537500000000003,{"$f":"IF($B71=0,0,G71/POWER(1+CALCULADORA!$C$29,Flujos!$B71/365))","v":0},"2023-09-06",69,{"$f":"+DIAS365($A$2,A71)","v":2099},428371618311.05249,22347623552.227211,2328866322.7075667,24676489874.934776]
["2023-10-06",{"$f":"IF(DIAS365(CALCULADORA!$C$27,A72)<0,0,DIAS365(CALCULADORA!$C$27,A72))","v":0},{"$f":"+HLOOKUP(CALCULADORA!$C$9,Tablas!B:B,Flujos!J72+1,FALSE)","v":5.4446900000000003E-3},8.4021849999999993,0.54446899999999998,{"$f":"ROUND(D71*ROUND(((1+CALCULADORA!$C$16)^(1/12)-1),6),6)","v":4.6226999999999997E-2},0.590696,{"$f":"IF($B72=0,0,G72/POWER(1+CALCULADORA!$C$29,Flujos!$B72/365))","v":0},"2023-10-06",70,{"$f":"+DIAS365($A$2,A72)","v":2129},402302088110.13037,26069530200.922146,2213396151.8132086,28282926352.735355]
["2023-11-06",{"$f":"IF(DIAS365(CALCULADORA!$C$27,A73)<0,0,DIAS365(CALCULADORA!$C$27,A73))","v":0},{"$f":"+HLOOKUP(CALCULADORA!$C$9,Tablas!B:B,Flujos!J73+1,FALSE)","v":5.5381099999999997E-3},7.8483739999999997,0.55381100000000005,{"$f":"ROUND(D72*ROUND(((1+CALCULADORA!$C$16)^(1/12)-1),6),6)","v":4.3414000000000001E-2},0.59722500000000001,{"$f":"IF($B73=0,0,G73/POWER(1+CALCULADORA!$C$29,Flujos!$B73/365))","v":0},"2023-11-06",71,{"$f":"+DIAS365($A$2,A73)","v":2160},375785256867.02399,26516831243.106392,2078694889.265044,28595526132.371437]
["2023-12-06",{"$f":"IF(DIAS365(CALCULADORA!$C$27,A74)<0,0,DIAS365(CALCULADORA!$C$27,A74))","v":0},{"$f":"+HLOOKUP(CALCULADORA!$C$9,Tablas!B:B,Flujos!J74+1,FALSE)","v":5.7296200000000004E-3},7.2754120000000002,0.57296199999999997,{"$f":"ROUND(D73*ROUND(((1+CALCULADORA!$C$16)^(1/12)-1),6),6)","v":4.0552999999999999E-2},0.61351499999999992,{"$f":"IF($B74=0,0,G74/POWER(1+CALCULADORA!$C$29,Flujos!$B74/365))","v":0},"2023-12-06",72,{"$f":"+DIAS365($A$2,A74)","v":2190},348351463275.505,27433793591.518993,1941682422.2319131,29375476013.750908]
["2024-01-06",{"$f":"IF(DIAS365(CALCULADORA!$C$27,A75)<0,0,DIAS365(CALCULADORA!$C$27,A75))","v":0},{"$f":"+HLOOKUP(CALCULADORA!$C$9,Tablas!B:B,Flujos!J75+1,FALSE)","v":4.62437E-3},6.8129749999999998,0.46243699999999999,{"$f":"ROUND(D74*ROUND(((1+CALCULADORA!$C$16)^(1/12)-1),6),6)","v":3.7592E-2},0.50002899999999995,{"$f":"IF($B75=0,0,G75/POWER(1+CALCULADORA!$C$29,Flujos!$B75/365))","v":0},"2024-01-06",73,{"$f":"+DIAS365($A$2,A75)","v":2221},326209678642.17633,22141784633.328682,1799932010.7445345,23941716644.073215]
["2024-02-06",{"$f":"IF(DIAS365(CALCULADORA!$C$27,A76)<0,0,DIAS365(CALCULADORA!$C$27,A76))","v":0},{"$f":"+HLOOKUP(CALCULADORA!$C$9,Tablas!B:B,Flujos!J76+1,FALSE)","v":5.5207800000000003E-3},6.2608969999999999,0.55207799999999996,{"$f":"ROUND(D75*ROUND(((1+CALCULADORA!$C$16)^(1/12)-1),6),6)","v":3.5202999999999998E-2},0.58728099999999994,{"$f":"IF($B76=0,0,G76/POWER(1+CALCULADORA!$C$29,Flujos!$B76/365))","v":0},"2024-02-06",74,{"$f":"+DIAS365($A$2,A76)","v":2252},299775824567.35352,26433854074.822803,1685525409.5441253,28119379484.366928]
["2024-03-06",{"$f":"IF(DIAS365(CALCULADORA!$C$27,A77)<0,0,DIAS365(CALCULADORA!$C$27,A77))","v":0},{"$f":"+HLOOKUP(CALCULADORA!$C$9,Tablas!B:B,Flujos!J77+1,FALSE)","v":5.3894900000000003E-3},5.7219480000000003,0.53894900000000001,{"$f":"ROUND(D76*ROUND(((1+CALCULADORA!$C$16)^(1/12)-1),6),6)","v":3.2349999999999997E-2},0.571299,{"$f":"IF($B77=0,0,G77/POWER(1+CALCULADORA!$C$29,Flujos!$B77/365))","v":0},"2024-03-06",75,{"$f":"+DIAS365($A$2,A77)","v":2280},273970595560.27176,25805229007.081745,1548941685.5395157,27354170692.621262]
["2024-04-06",{"$f":"IF(DIAS365(CALCULADORA!$C$27,A78)<0,0,DIAS365(CALCULADORA!$C$27,A78))","v":0},{"$f":"+HLOOKUP(CALCULADORA!$C$9,Tablas!B:B,Flujos!J78+1,FALSE)","v":4.4792699999999996E-3},5.2740210000000003,0.44792700000000002,{"$f":"ROUND(D77*ROUND(((1+CALCULADORA!$C$16)^(1/12)-1),6),6)","v":2.9565000000000001E-2},0.47749200000000003,{"$f":"IF($B78=0,0,G78/POWER(1+CALCULADORA!$C$29,Flujos!$B78/365))","v":0},"2024-04-06",76,{"$f":"+DIAS365($A$2,A78)","v":2311},252523559173.79529,21447036386.476463,1415606067.2599244,22862642453.736389]
["2024-05-06",{"$f":"IF(DIAS365(CALCULADORA!$C$27,A79)<0,0,DIAS365(CALCULADORA!$C$27,A79))","v":0},{"$f":"+HLOOKUP(CALCULADORA!$C$9,Tablas!B:B,Flujos!J79+1,FALSE)","v":5.4339799999999997E-3},4.7306229999999996,0.54339800000000005,{"$f":"ROUND(D78*ROUND(((1+CALCULADORA!$C$16)^(1/12)-1),6),6)","v":2.7251000000000001E-2},0.57064900000000007,{"$f":"IF($B79=0,0,G79/POWER(1+CALCULADORA!$C$29,Flujos!$B79/365))","v":0},"2024-05-06",77,{"$f":"+DIAS365($A$2,A79)","v":2341},226505309150.15631,26018250023.638977,1304789230.2510004,27323039253.889977]
["2024-06-06",{"$f":"IF(DIAS365(CALCULADORA!$C$27,A80)<0,0,DIAS365(CALCULADORA!$C$27,A80))","v":0},{"$f":"+HLOOKUP(CALCULADORA!$C$9,Tablas!B:B,Flujos!J80+1,FALSE)","v":4.7519399999999996E-3},4.2554290000000004,0.47519400000000001,{"$f":"ROUND(D79*ROUND(((1+CALCULADORA!$C$16)^(1/12)-1),6),6)","v":2.4442999999999999E-2},0.499637,{"$f":"IF($B80=0,0,G80/POWER(1+CALCULADORA!$C$29,Flujos!$B80/365))","v":0},"2024-06-06",78,{"$f":"+DIAS365($A$2,A80)","v":2372},203752711051.28015,22752598098.876148,1170352932.3788579,23922951031.255005]
["2024-07-06",{"$f":"IF(DIAS365(CALCULADORA!$C$27,A81)<0,0,DIAS365(CALCULADORA!$C$27,A81))","v":0},{"$f":"+HLOOKUP(CALCULADORA!$C$9,Tablas!B:B,Flujos!J81+1,FALSE)","v":4.3758199999999999E-3},3.817847,0.43758200000000003,{"$f":"ROUND(D80*ROUND(((1+CALCULADORA!$C$16)^(1/12)-1),6),6)","v":2.1988000000000001E-2},0.45957000000000003,{"$f":"IF($B81=0,0,G81/POWER(1+CALCULADORA!$C$29,Flujos!$B81/365))","v":0},"2024-07-06",79,{"$f":"+DIAS365($A$2,A81)","v":2402},182800999999.99915,20951711051.280998,1052790258.0019647,22004501309.282963]
["2024-08-06",{"$f":"IF(DIAS365(CALCULADORA!$C$27,A82)<0,0,DIAS365(CALCULADORA!$C$27,A82))","v":5},{"$f":"+HLOOKUP(CALCULADORA!$C$9,Tablas!B:B,Flujos!J82+1,FALSE)","v":3.9686699999999997E-3},3.4209800000000001,0.39686700000000003,{"$f":"ROUND(D81*ROUND(((1+CALCULADORA!$C$16)^(1/12)-1),6),6)","v":1.9727000000000001E-2},0.41659400000000002,{"$f":"IF($B82=0,0,G82/POWER(1+CALCULADORA!$C$29,Flujos!$B82/365))","v":0.41600400342735339},"2024-08-06",80,{"$f":"+DIAS365($A$2,A82)","v":2433},163798749656.54642,19002250343.452736,944532766.99999571,19946783110.452732]
["2024-09-06",{"$f":"IF(DIAS365(CALCULADORA!$C$27,A83)<0,0,DIAS365(CALCULADORA!$C$27,A83))","v":36},{"$f":"+HLOOKUP(CALCULADORA!$C$9,Tablas!B:B,Flujos!J83+1,FALSE)","v":4.2158899999999999E-3},2.9993910000000001,0.42158899999999999,{"$f":"ROUND(D82*ROUND(((1+CALCULADORA!$C$16)^(1/12)-1),6),6)","v":1.7676000000000001E-2},0.43926500000000002,{"$f":"IF($B83=0,0,G83/POWER(1+CALCULADORA!$C$29,Flujos!$B83/365))","v":0.43480546711222567},"2024-09-06",81,{"$f":"+DIAS365($A$2,A83)","v":2464},143612793857.63672,20185955798.909702,846348139.47537541,21032303938.385078]
["2024-10-06",{"$f":"IF(DIAS365(CALCULADORA!$C$27,A84)<0,0,DIAS365(CALCULADORA!$C$27,A84))","v":66},{"$f":"+HLOOKUP(CALCULADORA!$C$9,Tablas!B:B,Flujos!J84+1,FALSE)","v":4.12708E-3},2.5866829999999998,0.41270800000000002,{"$f":"ROUND(D83*ROUND(((1+CALCULADORA!$C$16)^(1/12)-1),6),6)","v":1.5498E-2},0.42820600000000003,{"$f":"IF($B84=0,0,G84/POWER(1+CALCULADORA!$C$29,Flujos!$B84/365))","v":0.42026975803551542},"2024-10-06",82,{"$f":"+DIAS365($A$2,A84)","v":2494},123852066120.7735,19760727736.863213,742047305.862409,20502775042.72562]
["2024-11-06",{"$f":"IF(DIAS365(CALCULADORA!$C$27,A85)<0,0,DIAS365(CALCULADORA!$C$27,A85))","v":97},{"$f":"+HLOOKUP(CALCULADORA!$C$9,Tablas!B:B,Flujos!J85+1,FALSE)","v":4.0929299999999998E-3},2.1773899999999999,0.40929300000000002,{"$f":"ROUND(D84*ROUND(((1+CALCULADORA!$C$16)^(1/12)-1),6),6)","v":1.3365E-2},0.42265800000000003,{"$f":"IF($B85=0,0,G85/POWER(1+CALCULADORA!$C$29,Flujos!$B85/365))","v":0.4111955266562286},"2024-11-06",83,{"$f":"+DIAS365($A$2,A85)","v":2525},104254850807.2735,19597215313.499992,639943625.64603674,20237158939.14603]
["2024-12-06",{"$f":"IF(DIAS365(CALCULADORA!$C$27,A86)<0,0,DIAS365(CALCULADORA!$C$27,A86))","v":127},{"$f":"+HLOOKUP(CALCULADORA!$C$9,Tablas!B:B,Flujos!J86+1,FALSE)","v":3.8408100000000001E-3},1.793309,0.38408100000000001,{"$f":"ROUND(D85*ROUND(((1+CALCULADORA!$C$16)^(1/12)-1),6),6)","v":1.1251000000000001E-2},0.39533200000000002,{"$f":"IF($B86=0,0,G86/POWER(1+CALCULADORA!$C$29,Flujos!$B86/365))","v":0.38135395387656351},"2024-12-06",84,{"$f":"+DIAS365($A$2,A86)","v":2555},85864802468.248901,18390048339.02459,538684814.1211822,18928733153.145771]
["2025-01-06",{"$f":"IF(DIAS365(CALCULADORA!$C$27,A87)<0,0,DIAS365(CALCULADORA!$C$27,A87))","v":158},{"$f":"+HLOOKUP(CALCULADORA!$C$9,Tablas!B:B,Flujos!J87+1,FALSE)","v":4.0087899999999999E-3},1.3924300000000001,0.40087899999999999,{"$f":"ROUND(D86*ROUND(((1+CALCULADORA!$C$16)^(1/12)-1),6),6)","v":9.2659999999999999E-3},0.41014499999999998,{"$f":"IF($B87=0,0,G87/POWER(1+CALCULADORA!$C$29,Flujos!$B87/365))","v":0.39218194996338196},"2025-01-06",85,{"$f":"+DIAS365($A$2,A87)","v":2586},66670454952.751289,19194347515.497612,443663434.35344213,19638010949.851055]
["2025-02-06",{"$f":"IF(DIAS365(CALCULADORA!$C$27,A88)<0,0,DIAS365(CALCULADORA!$C$27,A88))","v":189},{"$f":"+HLOOKUP(CALCULADORA!$C$9,Tablas!B:B,Flujos!J88+1,FALSE)","v":3.9543399999999998E-3},0.99699599999999999,0.39543400000000001,{"$f":"ROUND(D87*ROUND(((1+CALCULADORA!$C$16)^(1/12)-1),6),6)","v":7.195E-3},0.40262900000000001,{"$f":"IF($B88=0,0,G88/POWER(1+CALCULADORA!$C$29,Flujos!$B88/365))","v":0.38162703094160705},"2025-02-06",86,{"$f":"+DIAS365($A$2,A88)","v":2617},47736817582.264725,18933637370.486561,344486240.74086595,19278123611.227428]
["2025-03-06",{"$f":"IF(DIAS365(CALCULADORA!$C$27,A89)<0,0,DIAS365(CALCULADORA!$C$27,A89))","v":217},{"$f":"+HLOOKUP(CALCULADORA!$C$9,Tablas!B:B,Flujos!J89+1,FALSE)","v":3.92319E-3},0.60467700000000002,0.39231899999999997,{"$f":"ROUND(D88*ROUND(((1+CALCULADORA!$C$16)^(1/12)-1),6),6)","v":5.1510000000000002E-3},0.39746999999999999,{"$f":"IF($B89=0,0,G89/POWER(1+CALCULADORA!$C$29,Flujos!$B89/365))","v":0.37375897266955749},"2025-03-06",87,{"$f":"+DIAS365($A$2,A89)","v":2645},28952328439.823971,18784489142.440754,246656136.44756186,19031145278.888317]
["2025-04-06",{"$f":"IF(DIAS365(CALCULADORA!$C$27,A90)<0,0,DIAS365(CALCULADORA!$C$27,A90))","v":248},{"$f":"+HLOOKUP(CALCULADORA!$C$9,Tablas!B:B,Flujos!J90+1,FALSE)","v":3.83827E-3},0.22084999999999999,0.38382699999999997,{"$f":"ROUND(D89*ROUND(((1+CALCULADORA!$C$16)^(1/12)-1),6),6)","v":3.124E-3},0.38695099999999999,{"$f":"IF($B90=0,0,G90/POWER(1+CALCULADORA!$C$29,Flujos!$B90/365))","v":0.36068421976696724},"2025-04-06",88,{"$f":"+DIAS365($A$2,A90)","v":2676},10574441786.168125,18377886653.655846,149596681.04857048,18527483334.704414]
["2025-05-06",{"$f":"IF(DIAS365(CALCULADORA!$C$27,A91)<0,0,DIAS365(CALCULADORA!$C$27,A91))","v":278},{"$f":"+HLOOKUP(CALCULADORA!$C$9,Tablas!B:B,Flujos!J91+1,FALSE)","v":2.2085E-3},0,0.22084999999999999,{"$f":"ROUND(D90*ROUND(((1+CALCULADORA!$C$16)^(1/12)-1),6),6)","v":1.1410000000000001E-3},0.22199099999999999,{"$f":"IF($B91=0,0,G91/POWER(1+CALCULADORA!$C$29,Flujos!$B91/365))","v":0.20516984597121074},"2025-05-06",89,{"$f":"+DIAS365($A$2,A91)","v":2706},-8.869171142578125E-4,10574441786.169012,54638140.709130712,10629079926.878143]
["2025-06-06",{"$f":"IF(DIAS365(CALCULADORA!$C$27,A92)<0,0,DIAS365(CALCULADORA!$C$27,A92))","v":309},{"$f":"+HLOOKUP(CALCULADORA!$C$9,Tablas!B:B,Flujos!J92+1,FALSE)","v":0},0,0,{"$f":"ROUND(D91*ROUND(((1+CALCULADORA!$C$16)^(1/12)-1),6),6)","v":0},0,{"$f":"IF($B92=0,0,G92/POWER(1+CALCULADORA!$C$29,Flujos!$B92/365))","v":0},"2025-06-06",90,{"$f":"+DIAS365($A$2,A92)","v":2737},-8.869171142578125E-4,0,-4.5827007293701176E-6,-4.5827007293701176E-6]
["2025-07-06",{"$f":"IF(DIAS365(CALCULADORA!$C$27,A93)<0,0,DIAS365(CALCULADORA!$C$27,A93))","v":339},{"$f":"+HLOOKUP(CALCULADORA!$C$9,Tablas!B:B,Flujos!J93+1,FALSE)","v":0},0,0,{"$f":"ROUND(D92*ROUND(((1+CALCULADORA!$C$16)^(1/12)-1),6),6)","v":0},0,{"$f":"IF($B93=0,0,G93/POWER(1+CALCULADORA!$C$29,Flujos!$B93/365))","v":0},"2025-07-06",91,{"$f":"+DIAS365($A$2,A93)","v":2767},-8.869171142578125E-4,0,-4.5827007293701176E-6,-4.5827007293701176E-6]
["2025-08-06",{"$f":"IF(DIAS365(CALCULADORA!$C$27,A94)<0,0,DIAS365(CALCULADORA!$C$27,A94))","v":370},{"$f":"+HLOOKUP(CALCULADORA!$C$9,Tablas!B:B,Flujos!J94+1,FALSE)","v":0},0,0,{"$f":"ROUND(D93*ROUND(((1+CALCULADORA!$C$16)^(1/12)-1),6),6)","v":0},0,{"$f":"IF($B94=0,0,G94/POWER(1+CALCULADORA!$C$29,Flujos!$B94/365))","v":0},"2025-08-06",92,{"$f":"+DIAS365($A$2,A94)","v":2798},-8.869171142578125E-4,0,-4.5827007293701176E-6,-4.5827007293701176E-6]
["2025-09-06",{"$f":"IF(DIAS365(CALCULADORA!$C$27,A95)<0,0,DIAS365(CALCULADORA!$C$27,A95))","v":401},{"$f":"+HLOOKUP(CALCULADORA!$C$9,Tablas!B:B,Flujos!J95+1,FALSE)","v":0},0,0,{"$f":"ROUND(D94*ROUND(((1+CALCULADORA!$C$16)^(1/12)-1),6),6)","v":0},0,{"$f":"IF($B95=0,0,G95/POWER(1+CALCULADORA!$C$29,Flujos!$B95/365))","v":0},"2025-09-06",93,{"$f":"+DIAS365($A$2,A95)","v":2829},-8.869171142578125E-4,0,-4.5827007293701176E-6,-4.5827007293701176E-6]
["2025-10-06",{"$f":"IF(DIAS365(CALCULADORA!$C$27,A96)<0,0,DIAS365(CALCULADORA!$C$27,A96))","v":431},{"$f":"+HLOOKUP(CALCULADORA!$C$9,Tablas!B:B,Flujos!J96+1,FALSE)","v":0},0,0,{"$f":"ROUND(D95*ROUND(((1+CALCULADORA!$C$16)^(1/12)-1),6),6)","v":0},0,{"$f":"IF($B96=0,0,G96/POWER(1+CALCULADORA!$C$29,Flujos!$B96/365))","v":0},"2025-10-06",94,{"$f":"+DIAS365($A$2,A96)","v":2859},-8.869171142578125E-4,0,-4.5827007293701176E-6,-4.5827007293701176E-6]
["2025-11-06",{"$f":"IF(DIAS365(CALCULADORA!$C$27,A97)<0,0,DIAS365(CALCULADORA!$C$27,A97))","v":462},{"$f":"+HLOOKUP(CALCULADORA!$C$9,Tablas!B:B,Flujos!J97+1,FALSE)","v":0},0,0,{"$f":"ROUND(D96*ROUND(((1+CALCULADORA!$C$16)^(1/12)-1),6),6)","v":0},0,{"$f":"IF($B97=0,0,G97/POWER(1+CALCULADORA!$C$29,Flujos!$B97/365))","v":0},"2025-11-06",95,{"$f":"+DIAS365($A$2,A97)","v":2890},-8.869171142578125E-4,0,-4.5827007293701176E-6,-4.5827007293701176E-6]
["2025-12-06",{"$f":"IF(DIAS365(CALCULADORA!$C$27,A98)<0,0,DIAS365(CALCULADORA!$C$27,A98))","v":492},{"$f":"+HLOOKUP(CALCULADORA!$C$9,Tablas!B:B,Flujos!J98+1,FALSE)","v":0},0,0,{"$f":"ROUND(D97*ROUND(((1+CALCULADORA!$C$16)^(1/12)-1),6),6)","v":0},0,{"$f":"IF($B98=0,0,G98/POWER(1+CALCULADORA!$C$29,Flujos!$B98/365))","v":0},"2025-12-06",96,{"$f":"+DIAS365($A$2,A98)","v":2920},-8.869171142578125E-4,0,-4.5827007293701176E-6,-4.5827007293701176E-6]
[{"$f":"EDATE(A98,1)","v":"2026-01-06"},{"$f":"IF(DIAS365(CALCULADORA!$C$27,A99)<0,0,DIAS365(CALCULADORA!$C$27,A99))","v":523},{"$f":"+HLOOKUP(CALCULADORA!$C$9,Tablas!B:B,Flujos!J99+1,FALSE)","v":0},0,0,{"$f":"ROUND(D98*ROUND(((1+CALCULADORA!$C$16)^(1/12)-1),6),6)","v":0},0,{"$f":"IF($B99=0,0,G99/POWER(1+CALCULADORA!$C$29,Flujos!$B99/365))","v":0},"2026-01-06",97,{"$f":"+DIAS365($A$2,A99)","v":2951},-8.869171142578125E-4,0,-4.5827007293701176E-6,-4.5827007293701176E-6]
["2026-02-06",{"$f":"IF(DIAS365(CALCULADORA!$C$27,A100)<0,0,DIAS365(CALCULADORA!$C$27,A100))","v":554},{"$f":"+HLOOKUP(CALCULADORA!$C$9,Tablas!B:B,Flujos!J100+1,FALSE)","v":0},0,0,{"$f":"ROUND(D99*ROUND(((1+CALCULADORA!$C$16)^(1/12)-1),6),6)","v":0},0,{"$f":"IF($B100=0,0,G100/POWER(1+CALCULADORA!$C$29,Flujos!$B100/365))","v":0},"2026-02-06",98,{"$f":"+DIAS365($A$2,A100)","v":2982},-8.869171142578125E-4,0,-4.5827007293701176E-6,-4.5827007293701176E-6]
["2026-03-06",{"$f":"IF(DIAS365(CALCULADORA!$C$27,A101)<0,0,DIAS365(CALCULADORA!$C$27,A101))","v":582},{"$f":"+HLOOKUP(CALCULADORA!$C$9,Tablas!B:B,Flujos!J101+1,FALSE)","v":0},0,0,{"$f":"ROUND(D100*ROUND(((1+CALCULADORA!$C$16)^(1/12)-1),6),6)","v":0},0,{"$f":"IF($B101=0,0,G101/POWER(1+CALCULADORA!$C$29,Flujos!$B101/365))","v":0},"2026-03-06",99,{"$f":"+DIAS365($A$2,A101)","v":3010},-8.869171142578125E-4,0,-4.5827007293701176E-6,-4.5827007293701176E-6]
["2026-04-06",{"$f":"IF(DIAS365(CALCULADORA!$C$27,A102)<0,0,DIAS365(CALCULADORA!$C$27,A102))","v":613},{"$f":"+HLOOKUP(CALCULADORA!$C$9,Tablas!B:B,Flujos!J102+1,FALSE)","v":0},0,0,{"$f":"ROUND(D101*ROUND(((1+CALCULADORA!$C$16)^(1/12)-1),6),6)","v":0},0,{"$f":"IF($B102=0,0,G102/POWER(1+CALCULADORA!$C$29,Flujos!$B102/365))","v":0},"2026-04-06",100,{"$f":"+DIAS365($A$2,A102)","v":3041},-8.869171142578125E-4,0,-4.5827007293701176E-6,-4.5827007293701176E-6]
["2026-05-06",{"$f":"IF(DIAS365(CALCULADORA!$C$27,A103)<0,0,DIAS365(CALCULADORA!$C$27,A103))","v":643},{"$f":"+HLOOKUP(CALCULADORA!$C$9,Tablas!B:B,Flujos!J103+1,FALSE)","v":0},0,0,{"$f":"ROUND(D102*ROUND(((1+CALCULADORA!$C$16)^(1/12)-1),6),6)","v":0},0,{"$f":"IF($B103=0,0,G103/POWER(1+CALCULADORA!$C$29,Flujos!$B103/365))","v":0},"2026-05-06",101,{"$f":"+DIAS365($A$2,A103)","v":3071},-8.869171142578125E-4,0,-4.5827007293701176E-6,-4.5827007293701176E-6]
["2026-06-06",{"$f":"IF(DIAS365(CALCULADORA!$C$27,A104)<0,0,DIAS365(CALCULADORA!$C$27,A104))","v":674},{"$f":"+HLOOKUP(CALCULADORA!$C$9,Tablas!B:B,Flujos!J104+1,FALSE)","v":0},0,0,{"$f":"ROUND(D103*ROUND(((1+CALCULADORA!$C$16)^(1/12)-1),6),6)","v":0},0,{"$f":"IF($B104=0,0,G104/POWER(1+CALCULADORA!$C$29,Flujos!$B104/365))","v":0},"2026-06-06",102,{"$f":"+DIAS365($A$2,A104)","v":3102},-8.869171142578125E-4,0,-4.5827007293701176E-6,-4.5827007293701176E-6]
["2026-07-06",{"$f":"IF(DIAS365(CALCULADORA!$C$27,A105)<0,0,DIAS365(CALCULADORA!$C$27,A105))","v":704},{"$f":"+HLOOKUP(CALCULADORA!$C$9,Tablas!B:B,Flujos!J105+1,FALSE)","v":0},0,0,{"$f":"ROUND(D104*ROUND(((1+CALCULADORA!$C$16)^(1/12)-1),6),6)","v":0},0,{"$f":"IF($B105=0,0,G105/POWER(1+CALCULADORA!$C$29,Flujos!$B105/365))","v":0},"2026-07-06",103,{"$f":"+DIAS365($A$2,A105)","v":3132},-8.869171142578125E-4,0,-4.5827007293701176E-6,-4.5827007293701176E-6]
["2026-08-06",{"$f":"IF(DIAS365(CALCULADORA!$C$27,A106)<0,0,DIAS365(CALCULADORA!$C$27,A106))","v":735},{"$f":"+HLOOKUP(CALCULADORA!$C$9,Tablas!B:B,Flujos!J106+1,FALSE)","v":0},0,0,{"$f":"ROUND(D105*ROUND(((1+CALCULADORA!$C$16)^(1/12)-1),6),6)","v":0},0,{"$f":"IF($B106=0,0,G106/POWER(1+CALCULADORA!$C$29,Flujos!$B106/365))","v":0},"2026-08-06",104,{"$f":"+DIAS365($A$2,A106)","v":3163},-8.869171142578125E-4,0,-4.5827007293701176E-6,-4.5827007293701176E-6]
["2026-09-06",{"$f":"IF(DIAS365(CALCULADORA!$C$27,A107)<0,0,DIAS365(CALCULADORA!$C$27,A107))","v":766},{"$f":"+HLOOKUP(CALCULADORA!$C$9,Tablas!B:B,Flujos!J107+1,FALSE)","v":0},0,0,{"$f":"ROUND(D106*ROUND(((1+CALCULADORA!$C$16)^(1/12)-1),6),6)","v":0},0,{"$f":"IF($B107=0,0,G107/POWER(1+CALCULADORA!$C$29,Flujos!$B107/365))","v":0},"2026-09-06",105,{"$f":"+DIAS365($A$2,A107)","v":3194},-8.869171142578125E-4,0,-4.5827007293701176E-6,-4.5827007293701176E-6]
["2026-10-06",{"$f":"IF(DIAS365(CALCULADORA!$C$27,A108)<0,0,DIAS365(CALCULADORA!$C$27,A108))","v":796},{"$f":"+HLOOKUP(CALCULADORA!$C$9,Tablas!B:B,Flujos!J108+1,FALSE)","v":0},0,0,{"$f":"ROUND(D107*ROUND(((1+CALCULADORA!$C$16)^(1/12)-1),6),6)","v":0},0,{"$f":"IF($B108=0,0,G108/POWER(1+CALCULADORA!$C$29,Flujos!$B108/365))","v":0},"2026-10-06",106,{"$f":"+DIAS365($A$2,A108)","v":3224},-8.869171142578125E-4,0,-4.5827007293701176E-6,-4.5827007293701176E-6]
["2026-11-06",{"$f":"IF(DIAS365(CALCULADORA!$C$27,A109)<0,0,DIAS365(CALCULADORA!$C$27,A109))","v":827},{"$f":"+HLOOKUP(CALCULADORA!$C$9,Tablas!B:B,Flujos!J109+1,FALSE)","v":0},0,0,{"$f":"ROUND(D108*ROUND(((1+CALCULADORA!$C$16)^(1/12)-1),6),6)","v":0},0,{"$f":"IF($B109=0,0,G109/POWER(1+CALCULADORA!$C$29,Flujos!$B109/365))","v":0},"2026-11-06",107,{"$f":"+DIAS365($A$2,A109)","v":3255},-8.869171142578125E-4,0,-4.5827007293701176E-6,-4.5827007293701176E-6]
["2026-12-06",{"$f":"IF(DIAS365(CALCULADORA!$C$27,A110)<0,0,DIAS365(CALCULADORA!$C$27,A110))","v":857},{"$f":"+HLOOKUP(CALCULADORA!$C$9,Tablas!B:B,Flujos!J110+1,FALSE)","v":0},0,0,{"$f":"ROUND(D109*ROUND(((1+CALCULADORA!$C$16)^(1/12)-1),6),6)","v":0},0,{"$f":"IF($B110=0,0,G110/POWER(1+CALCULADORA!$C$29,Flujos!$B110/365))","v":0},"2026-12-06",108,{"$f":"+DIAS365($A$2,A110)","v":3285},-8.869171142578125E-4,0,-4.5827007293701176E-6,-4.5827007293701176E-6]
["2027-01-06",{"$f":"IF(DIAS365(CALCULADORA!$C$27,A111)<0,0,DIAS365(CALCULADORA!$C$27,A111))","v":888},{"$f":"+HLOOKUP(CALCULADORA!$C$9,Tablas!B:B,Flujos!J111+1,FALSE)","v":0},0,0,{"$f":"ROUND(D110*ROUND(((1+CALCULADORA!$C$16)^(1/12)-1),6),6)","v":0},0,{"$f":"IF($B111=0,0,G111/POWER(1+CALCULADORA!$C$29,Flujos!$B111/365))","v":0},"2027-01-06",109,{"$f":"+DIAS365($A$2,A111)","v":3316},-8.869171142578125E-4,0,-4.5827007293701176E-6,-4.5827007293701176E-6]
["2027-02-06",{"$f":"IF(DIAS365(CALCULADORA!$C$27,A112)<0,0,DIAS365(CALCULADORA!$C$27,A112))","v":919},{"$f":"+HLOOKUP(CALCULADORA!$C$9,Tablas!B:B,Flujos!J112+1,FALSE)","v":0},0,0,{"$f":"ROUND(D111*ROUND(((1+CALCULADORA!$C$16)^(1/12)-1),6),6)","v":0},0,{"$f":"IF($B112=0,0,G112/POWER(1+CALCULADORA!$C$29,Flujos!$B112/365))","v":0},"2027-02-06",110,{"$f":"+DIAS365($A$2,A112)","v":3347},-8.869171142578125E-4,0,-4.5827007293701176E-6,-4.5827007293701176E-6]
["2027-03-06",{"$f":"IF(DIAS365(CALCULADORA!$C$27,A113)<0,0,DIAS365(CALCULADORA!$C$27,A113))","v":947},{"$f":"+HLOOKUP(CALCULADORA!$C$9,Tablas!B:B,Flujos!J113+1,FALSE)","v":0},0,0,{"$f":"ROUND(D112*ROUND(((1+CALCULADORA!$C$16)^(1/12)-1),6),6)","v":0},0,{"$f":"IF($B113=0,0,G113/POWER(1+CALCULADORA!$C$29,Flujos!$B113/365))","v":0},"2027-03-06",111,{"$f":"+DIAS365($A$2,A113)","v":3375},-8.869171142578125E-4,0,-4.5827007293701176E-6,-4.5827007293701176E-6]
["2027-04-06",{"$f":"IF(DIAS365(CALCULADORA!$C$27,A114)<0,0,DIAS365(CALCULADORA!$C$27,A114))","v":978},{"$f":"+HLOOKUP(CALCULADORA!$C$9,Tablas!B:B,Flujos!J114+1,FALSE)","v":0},0,0,{"$f":"ROUND(D113*ROUND(((1+CALCULADORA!$C$16)^(1/12)-1),6),6)","v":0},0,{"$f":"IF($B114=0,0,G114/POWER(1+CALCULADORA!$C$29,Flujos!$B114/365))","v":0},"2027-04-06",112,{"$f":"+DIAS365($A$2,A114)","v":3406},-8.869171142578125E-4,0,-4.5827007293701176E-6,-4.5827007293701176E-6]
["2027-05-06",{"$f":"IF(DIAS365(CALCULADORA!$C$27,A115)<0,0,DIAS365(CALCULADORA!$C$27,A115))","v":1008},{"$f":"+HLOOKUP(CALCULADORA!$C$9,Tablas!B:B,Flujos!J115+1,FALSE)","v":0},0,0,{"$f":"ROUND(D114*ROUND(((1+CALCULADORA!$C$16)^(1/12)-1),6),6)","v":0},0,{"$f":"IF($B115=0,0,G115/POWER(1+CALCULADORA!$C$29,Flujos!$B115/365))","v":0},"2027-05-06",113,{"$f":"+DIAS365($A$2,A115)","v":3436},-8.869171142578125E-4,0,-4.5827007293701176E-6,-4.5827007293701176E-6]
["2027-06-06",{"$f":"IF(DIAS365(CALCULADORA!$C$27,A116)<0,0,DIAS365(CALCULADORA!$C$27,A116))","v":1039},{"$f":"+HLOOKUP(CALCULADORA!$C$9,Tablas!B:B,Flujos!J116+1,FALSE)","v":0},0,0,{"$f":"ROUND(D115*ROUND(((1+CALCULADORA!$C$16)^(1/12)-1),6),6)","v":0},0,{"$f":"IF($B116=0,0,G116/POWER(1+CALCULADORA!$C$29,Flujos!$B116/365))","v":0},"2027-06-06",114,{"$f":"+DIAS365($A$2,A116)","v":3467},-8.869171142578125E-4,0,-4.5827007293701176E-6,-4.5827007293701176E-6]
["2027-07-06",{"$f":"IF(DIAS365(CALCULADORA!$C$27,A117)<0,0,DIAS365(CALCULADORA!$C$27,A117))","v":1069},{"$f":"+HLOOKUP(CALCULADORA!$C$9,Tablas!B:B,Flujos!J117+1,FALSE)","v":0},0,0,{"$f":"ROUND(D116*ROUND(((1+CALCULADORA!$C$16)^(1/12)-1),6),6)","v":0},0,{"$f":"IF($B117=0,0,G117/POWER(1+CALCULADORA!$C$29,Flujos!$B117/365))","v":0},"2027-07-06",115,{"$f":"+DIAS365($A$2,A117)","v":3497},-8.869171142578125E-4,0,-4.5827007293701176E-6,-4.5827007293701176E-6]
["2027-08-06",{"$f":"IF(DIAS365(CALCULADORA!$C$27,A118)<0,0,DIAS365(CALCULADORA!$C$27,A118))","v":1100},{"$f":"+HLOOKUP(CALCULADORA!$C$9,Tablas!B:B,Flujos!J118+1,FALSE)","v":0},0,0,{"$f":"ROUND(D117*ROUND(((1+CALCULADORA!$C$16)^(1/12)-1),6),6)","v":0},0,{"$f":"IF($B118=0,0,G118/POWER(1+CALCULADORA!$C$29,Flujos!$B118/365))","v":0},"2027-08-06",116,{"$f":"+DIAS365($A$2,A118)","v":3528},-8.869171142578125E-4,0,-4.5827007293701176E-6,-4.5827007293701176E-6]
["2027-09-06",{"$f":"IF(DIAS365(CALCULADORA!$C$27,A119)<0,0,DIAS365(CALCULADORA!$C$27,A119))","v":1131},{"$f":"+HLOOKUP(CALCULADORA!$C$9,Tablas!B:B,Flujos!J119+1,FALSE)","v":0},0,0,{"$f":"ROUND(D118*ROUND(((1+CALCULADORA!$C$16)^(1/12)-1),6),6)","v":0},0,{"$f":"IF($B119=0,0,G119/POWER(1+CALCULADORA!$C$29,Flujos!$B119/365))","v":0},{"$f":"+A119","v":"2027-09-06"},117,{"$f":"+DIAS365($A$2,A119)","v":3559},-8.869171142578125E-4,0,-4.5827007293701176E-6,-4.5827007293701176E-6]
["2027-10-06",{"$f":"IF(DIAS365(CALCULADORA!$C$27,A120)<0,0,DIAS365(CALCULADORA!$C$27,A120))","v":1161},{"$f":"+HLOOKUP(CALCULADORA!$C$9,Tablas!B:B,Flujos!J120+1,FALSE)","v":0},0,0,{"$f":"ROUND(D119*ROUND(((1+CALCULADORA!$C$16)^(1/12)-1),6),6)","v":0},0,{"$f":"IF($B120=0,0,G120/POWER(1+CALCULADORA!$C$29,Flujos!$B120/365))","v":0},{"$f":"+A120","v":"2027-10-06"},118,{"$f":"+DIAS365($A$2,A120)","v":3589},-8.869171142578125E-4,0,-4.5827007293701176E-6,-4.5827007293701176E-6]
["2027-11-06",{"$f":"IF(DIAS365(CALCULADORA!$C$27,A121)<0,0,DIAS365(CALCULADORA!$C$27,A121))","v":1192},{"$f":"+HLOOKUP(CALCULADORA!$C$9,Tablas!B:B,Flujos!J121+1,FALSE)","v":0},0,0,{"$f":"ROUND(D120*ROUND(((1+CALCULADORA!$C$16)^(1/12)-1),6),6)","v":0},0,{"$f":"IF($B121=0,0,G121/POWER(1+CALCULADORA!$C$29,Flujos!$B121/365))","v":0},"2027-11-06",119,{"$f":"+DIAS365($A$2,A121)","v":3620},-8.869171142578125E-4,0,-4.5827007293701176E-6,-4.5827007293701176E-6]
["2027-12-06",{"$f":"IF(DIAS365(CALCULADORA!$C$27,A122)<0,0,DIAS365(CALCULADORA!$C$27,A122))","v":1222},{"$f":"+HLOOKUP(CALCULADORA!$C$9,Tablas!B:B,Flujos!J122+1,FALSE)","v":0},0,0,{"$f":"ROUND(D121*ROUND(((1+CALCULADORA!$C$16)^(1/12)-1),6),6)","v":0},0,{"$f":"IF($B122=0,0,G122/POWER(1+CALCULADORA!$C$29,Flujos!$B122/365))","v":0},"2027-12-06",120,{"$f":"+DIAS365($A$2,A122)","v":3650},-8.869171142578125E-4,0,-4.5827007293701176E-6,-4.5827007293701176E-6]
["2028-01-06",{"$f":"IF(DIAS365(CALCULADORA!$C$27,A123)<0,0,DIAS365(CALCULADORA!$C$27,A123))","v":1253},{"$f":"+HLOOKUP(CALCULADORA!$C$9,Tablas!B:B,Flujos!J123+1,FALSE)","v":0},0,0,{"$f":"ROUND(D122*ROUND(((1+CALCULADORA!$C$16)^(1/12)-1),6),6)","v":0},0,{"$f":"IF($B123=0,0,G123/POWER(1+CALCULADORA!$C$29,Flujos!$B123/365))","v":0},"2028-01-06",121,{"$f":"+DIAS365($A$2,A123)","v":3681},-8.869171142578125E-4,0,-4.5827007293701176E-6,-4.5827007293701176E-6]
["2028-02-06",{"$f":"IF(DIAS365(CALCULADORA!$C$27,A124)<0,0,DIAS365(CALCULADORA!$C$27,A124))","v":1284},{"$f":"+HLOOKUP(CALCULADORA!$C$9,Tablas!B:B,Flujos!J124+1,FALSE)","v":0},0,0,{"$f":"ROUND(D123*ROUND(((1+CALCULADORA!$C$16)^(1/12)-1),6),6)","v":0},0,{"$f":"IF($B124=0,0,G124/POWER(1+CALCULADORA!$C$29,Flujos!$B124/365))","v":0},"2028-02-06",122,{"$f":"+DIAS365($A$2,A124)","v":3712},-8.869171142578125E-4,0,-4.5827007293701176E-6,-4.5827007293701176E-6]
["2028-03-06",{"$f":"IF(DIAS365(CALCULADORA!$C$27,A125)<0,0,DIAS365(CALCULADORA!$C$27,A125))","v":1312},{"$f":"+HLOOKUP(CALCULADORA!$C$9,Tablas!B:B,Flujos!J125+1,FALSE)","v":0},0,0,{"$f":"ROUND(D124*ROUND(((1+CALCULADORA!$C$16)^(1/12)-1),6),6)","v":0},0,{"$f":"IF($B125=0,0,G125/POWER(1+CALCULADORA!$C$29,Flujos!$B125/365))","v":0},"2028-03-06",123,{"$f":"+DIAS365($A$2,A125)","v":3740},-8.869171142578125E-4,0,-4.5827007293701176E-6,-4.5827007293701176E-6]
["2028-04-06",{"$f":"IF(DIAS365(CALCULADORA!$C$27,A126)<0,0,DIAS365(CALCULADORA!$C$27,A126))","v":1343},{"$f":"+HLOOKUP(CALCULADORA!$C$9,Tablas!B:B,Flujos!J126+1,FALSE)","v":0},0,0,{"$f":"ROUND(D125*ROUND(((1+CALCULADORA!$C$16)^(1/12)-1),6),6)","v":0},0,{"$f":"IF($B126=0,0,G126/POWER(1+CALCULADORA!$C$29,Flujos!$B126/365))","v":0},"2028-04-06",124,{"$f":"+DIAS365($A$2,A126)","v":3771},-8.869171142578125E-4,0,-4.5827007293701176E-6,-4.5827007293701176E-6]
["2028-05-06",{"$f":"IF(DIAS365(CALCULADORA!$C$27,A127)<0,0,DIAS365(CALCULADORA!$C$27,A127))","v":1373},{"$f":"+HLOOKUP(CALCULADORA!$C$9,Tablas!B:B,Flujos!J127+1,FALSE)","v":0},0,0,{"$f":"ROUND(D126*ROUND(((1+CALCULADORA!$C$16)^(1/12)-1),6),6)","v":0},0,{"$f":"IF($B127=0,0,G127/POWER(1+CALCULADORA!$C$29,Flujos!$B127/365))","v":0},"2028-05-06",125,{"$f":"+DIAS365($A$2,A127)","v":3801},-8.869171142578125E-4,0,-4.5827007293701176E-6,-4.5827007293701176E-6]
["2028-06-06",{"$f":"IF(DIAS365(CALCULADORA!$C$27,A128)<0,0,DIAS365(CALCULADORA!$C$27,A128))","v":1404},{"$f":"+HLOOKUP(CALCULADORA!$C$9,Tablas!B:B,Flujos!J128+1,FALSE)","v":0},0,0,{"$f":"ROUND(D127*ROUND(((1+CALCULADORA!$C$16)^(1/12)-1),6),6)","v":0},0,{"$f":"IF($B128=0,0,G128/POWER(1+CALCULADORA!$C$29,Flujos!$B128/365))","v":0},"2028-06-06",126,{"$f":"+DIAS365($A$2,A128)","v":3832},-8.869171142578125E-4,0,-4.5827007293701176E-6,-4.5827007293701176E-6]
["2028-07-06",{"$f":"IF(DIAS365(CALCULADORA!$C$27,A129)<0,0,DIAS365(CALCULADORA!$C$27,A129))","v":1434},{"$f":"+HLOOKUP(CALCULADORA!$C$9,Tablas!B:B,Flujos!J129+1,FALSE)","v":0},0,0,{"$f":"ROUND(D128*ROUND(((1+CALCULADORA!$C$16)^(1/12)-1),6),6)","v":0},0,{"$f":"IF($B129=0,0,G129/POWER(1+CALCULADORA!$C$29,Flujos!$B129/365))","v":0},"2028-07-06",127,{"$f":"+DIAS365($A$2,A129)","v":3862},-8.869171142578125E-4,0,-4.5827007293701176E-6,-4.5827007293701176E-6]
["2028-08-06",{"$f":"IF(DIAS365(CALCULADORA!$C$27,A130)<0,0,DIAS365(CALCULADORA!$C$27,A130))","v":1465},{"$f":"+HLOOKUP(CALCULADORA!$C$9,Tablas!B:B,Flujos!J130+1,FALSE)","v":0},0,0,{"$f":"ROUND(D129*ROUND(((1+CALCULADORA!$C$16)^(1/12)-1),6),6)","v":0},0,{"$f":"IF($B130=0,0,G130/POWER(1+CALCULADORA!$C$29,Flujos!$B130/365))","v":0},"2028-08-06",128,{"$f":"+DIAS365($A$2,A130)","v":3893},-8.869171142578125E-4,0,-4.5827007293701176E-6,-4.5827007293701176E-6]
[{"$f":"EDATE(A130,1)","v":"2028-09-06"},{"$f":"IF(DIAS365(CALCULADORA!$C$27,A131)<0,0,DIAS365(CALCULADORA!$C$27,A131))","v":1496},{"$f":"+HLOOKUP(CALCULADORA!$C$9,Tablas!B:B,Flujos!J131+1,FALSE)","v":0},0,0,{"$f":"ROUND(D130*ROUND(((1+CALCULADORA!$C$16)^(1/12)-1),6),6)","v":0},0,{"$f":"IF($B131=0,0,G131/POWER(1+CALCULADORA!$C$29,Flujos!$B131/365))","v":0},{"$f":"+A131","v":"2028-09-06"},129,{"$f":"+DIAS365($A$2,A131)","v":3924},-8.869171142578125E-4,0,-4.5827007293701176E-6,-4.5827007293701176E-6]
["2028-10-06",{"$f":"IF(DIAS365(CALCULADORA!$C$27,A132)<0,0,DIAS365(CALCULADORA!$C$27,A132))","v":1526},{"$f":"+HLOOKUP(CALCULADORA!$C$9,Tablas!B:B,Flujos!J132+1,FALSE)","v":0},{"$f":"+ROUND(D131-E132,6)","v":0},{"$f":"ROUND(C132*$D$2,6)","v":0},{"$f":"ROUND(D131*ROUND(((1+CALCULADORA!$C$16)^(1/12)-1),6),6)","v":0},{"$f":"F132+E132","v":0},{"$f":"IF($B132=0,0,G132/POWER(1+CALCULADORA!$C$29,Flujos!$B132/365))","v":0},"2028-10-06",130,{"$f":"+DIAS365($A$2,A132)","v":3954},{"$f":"+L131-M132","v":-8.869171142578125E-4},{"$f":"+$L$2*C132","v":0},{"$f":"+L131*$F$3%","v":-4.5827007293701176E-6},{"$f":"+N132+M132","v":-4.5827007293701176E-6}]
["2028-11-06",{"$f":"IF(DIAS365(CALCULADORA!$C$27,A133)<0,0,DIAS365(CALCULADORA!$C$27,A133))","v":1557},{"$f":"+HLOOKUP(CALCULADORA!$C$9,Tablas!B:B,Flujos!J133+1,FALSE)","v":0},0,0,{"$f":"ROUND(D132*ROUND(((1+CALCULADORA!$C$16)^(1/12)-1),6),6)","v":0},0,{"$f":"IF($B133=0,0,G133/POWER(1+CALCULADORA!$C$29,Flujos!$B133/365))","v":0},"2028-11-06",131,{"$f":"+DIAS365($A$2,A133)","v":3985},-8.869171142578125E-4,0,-4.5827007293701176E-6,-4.5827007293701176E-6]
["2028-12-06",{"$f":"IF(DIAS365(CALCULADORA!$C$27,A134)<0,0,DIAS365(CALCULADORA!$C$27,A134))","v":1587},{"$f":"+HLOOKUP(CALCULADORA!$C$9,Tablas!B:B,Flujos!J134+1,FALSE)","v":0},0,0,{"$f":"ROUND(D133*ROUND(((1+CALCULADORA!$C$16)^(1/12)-1),6),6)","v":0},0,{"$f":"IF($B134=0,0,G134/POWER(1+CALCULADORA!$C$29,Flujos!$B134/365))","v":0},"2028-12-06",132,{"$f":"+DIAS365($A$2,A134)","v":4015},-8.869171142578125E-4,0,-4.5827007293701176E-6,-4.5827007293701176E-6]
["2029-01-06",{"$f":"IF(DIAS365(CALCULADORA!$C$27,A135)<0,0,DIAS365(CALCULADORA!$C$27,A135))","v":1618},{"$f":"+HLOOKUP(CALCULADORA!$C$9,Tablas!B:B,Flujos!J135+1,FALSE)","v":0},0,0,{"$f":"ROUND(D134*ROUND(((1+CALCULADORA!$C$16)^(1/12)-1),6),6)","v":0},0,{"$f":"IF($B135=0,0,G135/POWER(1+CALCULADORA!$C$29,Flujos!$B135/365))","v":0},"2029-01-06",133,{"$f":"+DIAS365($A$2,A135)","v":4046},-8.869171142578125E-4,0,-4.5827007293701176E-6,-4.5827007293701176E-6]
["2029-02-06",{"$f":"IF(DIAS365(CALCULADORA!$C$27,A136)<0,0,DIAS365(CALCULADORA!$C$27,A136))","v":1649},{"$f":"+HLOOKUP(CALCULADORA!$C$9,Tablas!B:B,Flujos!J136+1,FALSE)","v":0},0,0,{"$f":"ROUND(D135*ROUND(((1+CALCULADORA!$C$16)^(1/12)-1),6),6)","v":0},0,{"$f":"IF($B136=0,0,G136/POWER(1+CALCULADORA!$C$29,Flujos!$B136/365))","v":0},"2029-02-06",134,{"$f":"+DIAS365($A$2,A136)","v":4077},-8.869171142578125E-4,0,-4.5827007293701176E-6,-4.5827007293701176E-6]
["2029-03-06",{"$f":"IF(DIAS365(CALCULADORA!$C$27,A137)<0,0,DIAS365(CALCULADORA!$C$27,A137))","v":1677},{"$f":"+HLOOKUP(CALCULADORA!$C$9,Tablas!B:B,Flujos!J137+1,FALSE)","v":0},0,0,{"$f":"ROUND(D136*ROUND(((1+CALCULADORA!$C$16)^(1/12)-1),6),6)","v":0},0,{"$f":"IF($B137=0,0,G137/POWER(1+CALCULADORA!$C$29,Flujos!$B137/365))","v":0},"2029-03-06",135,{"$f":"+DIAS365($A$2,A137)","v":4105},-8.869171142578125E-4,0,-4.5827007293701176E-6,-4.5827007293701176E-6]
["2029-04-06",{"$f":"IF(DIAS365(CALCULADORA!$C$27,A138)<0,0,DIAS365(CALCULADORA!$C$27,A138))","v":1708},{"$f":"+HLOOKUP(CALCULADORA!$C$9,Tablas!B:B,Flujos!J138+1,FALSE)","v":0},0,0,{"$f":"ROUND(D137*ROUND(((1+CALCULADORA!$C$16)^(1/12)-1),6),6)","v":0},0,{"$f":"IF($B138=0,0,G138/POWER(1+CALCULADORA!$C$29,Flujos!$B138/365))","v":0},"2029-04-06",136,{"$f":"+DIAS365($A$2,A138)","v":4136},-8.869171142578125E-4,0,-4.5827007293701176E-6,-4.5827007293701176E-6]
["2029-05-06",{"$f":"IF(DIAS365(CALCULADORA!$C$27,A139)<0,0,DIAS365(CALCULADORA!$C$27,A139))","v":1738},{"$f":"+HLOOKUP(CALCULADORA!$C$9,Tablas!B:B,Flujos!J139+1,FALSE)","v":0},0,0,{"$f":"ROUND(D138*ROUND(((1+CALCULADORA!$C$16)^(1/12)-1),6),6)","v":0},0,{"$f":"IF($B139=0,0,G139/POWER(1+CALCULADORA!$C$29,Flujos!$B139/365))","v":0},"2029-05-06",137,{"$f":"+DIAS365($A$2,A139)","v":4166},-8.869171142578125E-4,0,-4.5827007293701176E-6,-4.5827007293701176E-6]
["2029-06-06",{"$f":"IF(DIAS365(CALCULADORA!$C$27,A140)<0,0,DIAS365(CALCULADORA!$C$27,A140))","v":1769},{"$f":"+HLOOKUP(CALCULADORA!$C$9,Tablas!B:B,Flujos!J140+1,FALSE)","v":0},0,0,{"$f":"ROUND(D139*ROUND(((1+CALCULADORA!$C$16)^(1/12)-1),6),6)","v":0},0,{"$f":"IF($B140=0,0,G140/POWER(1+CALCULADORA!$C$29,Flujos!$B140/365))","v":0},"2029-06-06",138,{"$f":"+DIAS365($A$2,A140)","v":4197},-8.869171142578125E-4,0,-4.5827007293701176E-6,-4.5827007293701176E-6]
["2029-07-06",{"$f":"IF(DIAS365(CALCULADORA!$C$27,A141)<0,0,DIAS365(CALCULADORA!$C$27,A141))","v":1799},{"$f":"+HLOOKUP(CALCULADORA!$C$9,Tablas!B:B,Flujos!J141+1,FALSE)","v":0},0,0,{"$f":"ROUND(D140*ROUND(((1+CALCULADORA!$C$16)^(1/12)-1),6),6)","v":0},0,{"$f":"IF($B141=0,0,G141/POWER(1+CALCULADORA!$C$29,Flujos!$B141/365))","v":0},"2029-07-06",139,{"$f":"+DIAS365($A$2,A141)","v":4227},-8.869171142578125E-4,0,-4.5827007293701176E-6,-4.5827007293701176E-6]
["2029-08-06",{"$f":"IF(DIAS365(CALCULADORA!$C$27,A142)<0,0,DIAS365(CALCULADORA!$C$27,A142))","v":1830},{"$f":"+HLOOKUP(CALCULADORA!$C$9,Tablas!B:B,Flujos!J142+1,FALSE)","v":0},0,0,{"$f":"ROUND(D141*ROUND(((1+CALCULADORA!$C$16)^(1/12)-1),6),6)","v":0},0,{"$f":"IF($B142=0,0,G142/POWER(1+CALCULADORA!$C$29,Flujos!$B142/365))","v":0},"2029-08-06",140,{"$f":"+DIAS365($A$2,A142)","v":4258},-8.869171142578125E-4,0,-4.5827007293701176E-6,-4.5827007293701176E-6]
["2029-09-06",{"$f":"IF(DIAS365(CALCULADORA!$C$27,A143)<0,0,DIAS365(CALCULADORA!$C$27,A143))","v":1861},{"$f":"+HLOOKUP(CALCULADORA!$C$9,Tablas!B:B,Flujos!J143+1,FALSE)","v":0},0,0,{"$f":"ROUND(D142*ROUND(((1+CALCULADORA!$C$16)^(1/12)-1),6),6)","v":0},0,{"$f":"IF($B143=0,0,G143/POWER(1+CALCULADORA!$C$29,Flujos!$B143/365))","v":0},"2029-09-06",141,{"$f":"+DIAS365($A$2,A143)","v":4289},-8.869171142578125E-4,0,-4.5827007293701176E-6,-4.5827007293701176E-6]
["2029-10-06",{"$f":"IF(DIAS365(CALCULADORA!$C$27,A144)<0,0,DIAS365(CALCULADORA!$C$27,A144))","v":1891},{"$f":"+HLOOKUP(CALCULADORA!$C$9,Tablas!B:B,Flujos!J144+1,FALSE)","v":0},0,0,{"$f":"ROUND(D143*ROUND(((1+CALCULADORA!$C$16)^(1/12)-1),6),6)","v":0},0,{"$f":"IF($B144=0,0,G144/POWER(1+CALCULADORA!$C$29,Flujos!$B144/365))","v":0},"2029-10-06",142,{"$f":"+DIAS365($A$2,A144)","v":4319},-8.869171142578125E-4,0,-4.5827007293701176E-6,-4.5827007293701176E-6]
["2029-11-06",{"$f":"IF(DIAS365(CALCULADORA!$C$27,A145)<0,0,DIAS365(CALCULADORA!$C$27,A145))","v":1922},{"$f":"+HLOOKUP(CALCULADORA!$C$9,Tablas!B:B,Flujos!J145+1,FALSE)","v":0},0,0,{"$f":"ROUND(D144*ROUND(((1+CALCULADORA!$C$16)^(1/12)-1),6),6)","v":0},0,{"$f":"IF($B145=0,0,G145/POWER(1+CALCULADORA!$C$29,Flujos!$B145/365))","v":0},"2029-11-06",143,{"$f":"+DIAS365($A$2,A145)","v":4350},-8.869171142578125E-4,0,-4.5827007293701176E-6,-4.5827007293701176E-6]
["2029-12-06",{"$f":"IF(DIAS365(CALCULADORA!$C$27,A146)<0,0,DIAS365(CALCULADORA!$C$27,A146))","v":1952},{"$f":"+HLOOKUP(CALCULADORA!$C$9,Tablas!B:B,Flujos!J146+1,FALSE)","v":0},0,0,{"$f":"ROUND(D145*ROUND(((1+CALCULADORA!$C$16)^(1/12)-1),6),6)","v":0},0,{"$f":"IF($B146=0,0,G146/POWER(1+CALCULADORA!$C$29,Flujos!$B146/365))","v":0},"2029-12-06",144,{"$f":"+DIAS365($A$2,A146)","v":4380},-8.869171142578125E-4,0,-4.5827007293701176E-6,-4.5827007293701176E-6]
["2030-01-06",{"$f":"IF(DIAS365(CALCULADORA!$C$27,A147)<0,0,DIAS365(CALCULADORA!$C$27,A147))","v":1983},{"$f":"+HLOOKUP(CALCULADORA!$C$9,Tablas!B:B,Flujos!J147+1,FALSE)","v":0},0,0,{"$f":"ROUND(D146*ROUND(((1+CALCULADORA!$C$16)^(1/12)-1),6),6)","v":0},0,{"$f":"IF($B147=0,0,G147/POWER(1+CALCULADORA!$C$29,Flujos!$B147/365))","v":0},"2030-01-06",145,{"$f":"+DIAS365($A$2,A147)","v":4411},-8.869171142578125E-4,0,-4.5827007293701176E-6,-4.5827007293701176E-6]
["2030-02-06",{"$f":"IF(DIAS365(CALCULADORA!$C$27,A148)<0,0,DIAS365(CALCULADORA!$C$27,A148))","v":2014},{"$f":"+HLOOKUP(CALCULADORA!$C$9,Tablas!B:B,Flujos!J148+1,FALSE)","v":0},0,0,{"$f":"ROUND(D147*ROUND(((1+CALCULADORA!$C$16)^(1/12)-1),6),6)","v":0},0,{"$f":"IF($B148=0,0,G148/POWER(1+CALCULADORA!$C$29,Flujos!$B148/365))","v":0},"2030-02-06",146,{"$f":"+DIAS365($A$2,A148)","v":4442},-8.869171142578125E-4,0,-4.5827007293701176E-6,-4.5827007293701176E-6]
["2030-03-06",{"$f":"IF(DIAS365(CALCULADORA!$C$27,A149)<0,0,DIAS365(CALCULADORA!$C$27,A149))","v":2042},{"$f":"+HLOOKUP(CALCULADORA!$C$9,Tablas!B:B,Flujos!J149+1,FALSE)","v":0},0,0,{"$f":"ROUND(D148*ROUND(((1+CALCULADORA!$C$16)^(1/12)-1),6),6)","v":0},0,{"$f":"IF($B149=0,0,G149/POWER(1+CALCULADORA!$C$29,Flujos!$B149/365))","v":0},"2030-03-06",147,{"$f":"+DIAS365($A$2,A149)","v":4470},-8.869171142578125E-4,0,-4.5827007293701176E-6,-4.5827007293701176E-6]
["2030-04-06",{"$f":"IF(DIAS365(CALCULADORA!$C$27,A150)<0,0,DIAS365(CALCULADORA!$C$27,A150))","v":2073},{"$f":"+HLOOKUP(CALCULADORA!$C$9,Tablas!B:B,Flujos!J150+1,FALSE)","v":0},0,0,{"$f":"ROUND(D149*ROUND(((1+CALCULADORA!$C$16)^(1/12)-1),6),6)","v":0},0,{"$f":"IF($B150=0,0,G150/POWER(1+CALCULADORA!$C$29,Flujos!$B150/365))","v":0},"2030-04-06",148,{"$f":"+DIAS365($A$2,A150)","v":4501},-8.869171142578125E-4,0,-4.5827007293701176E-6,-4.5827007293701176E-6]
["2030-05-06",{"$f":"IF(DIAS365(CALCULADORA!$C$27,A151)<0,0,DIAS365(CALCULADORA!$C$27,A151))","v":2103},{"$f":"+HLOOKUP(CALCULADORA!$C$9,Tablas!B:B,Flujos!J151+1,FALSE)","v":0},0,0,{"$f":"ROUND(D150*ROUND(((1+CALCULADORA!$C$16)^(1/12)-1),6),6)","v":0},0,{"$f":"IF($B151=0,0,G151/POWER(1+CALCULADORA!$C$29,Flujos!$B151/365))","v":0},"2030-05-06",149,{"$f":"+DIAS365($A$2,A151)","v":4531},-8.869171142578125E-4,0,-4.5827007293701176E-6,-4.5827007293701176E-6]
["2030-06-06",{"$f":"IF(DIAS365(CALCULADORA!$C$27,A152)<0,0,DIAS365(CALCULADORA!$C$27,A152))","v":2134},{"$f":"+HLOOKUP(CALCULADORA!$C$9,Tablas!B:B,Flujos!J152+1,FALSE)","v":0},0,0,{"$f":"ROUND(D151*ROUND(((1+CALCULADORA!$C$16)^(1/12)-1),6),6)","v":0},0,{"$f":"IF($B152=0,0,G152/POWER(1+CALCULADORA!$C$29,Flujos!$B152/365))","v":0},"2030-06-06",150,{"$f":"+DIAS365($A$2,A152)","v":4562},-8.869171142578125E-4,0,-4.5827007293701176E-6,-4.5827007293701176E-6]
["2030-07-06",{"$f":"IF(DIAS365(CALCULADORA!$C$27,A153)<0,0,DIAS365(CALCULADORA!$C$27,A153))","v":2164},{"$f":"+HLOOKUP(CALCULADORA!$C$9,Tablas!B:B,Flujos!J153+1,FALSE)","v":0},0,0,{"$f":"ROUND(D152*ROUND(((1+CALCULADORA!$C$16)^(1/12)-1),6),6)","v":0},0,{"$f":"IF($B153=0,0,G153/POWER(1+CALCULADORA!$C$29,Flujos!$B153/365))","v":0},"2030-07-06",151,{"$f":"+DIAS365($A$2,A153)","v":4592},-8.869171142578125E-4,0,-4.5827007293701176E-6,-4.5827007293701176E-6]
["2030-08-06",{"$f":"IF(DIAS365(CALCULADORA!$C$27,A154)<0,0,DIAS365(CALCULADORA!$C$27,A154))","v":2195},{"$f":"+HLOOKUP(CALCULADORA!$C$9,Tablas!B:B,Flujos!J154+1,FALSE)","v":0},0,0,{"$f":"ROUND(D153*ROUND(((1+CALCULADORA!$C$16)^(1/12)-1),6),6)","v":0},0,{"$f":"IF($B154=0,0,G154/POWER(1+CALCULADORA!$C$29,Flujos!$B154/365))","v":0},"2030-08-06",152,{"$f":"+DIAS365($A$2,A154)","v":4623},-8.869171142578125E-4,0,-4.5827007293701176E-6,-4.5827007293701176E-6]
["2030-09-06",{"$f":"IF(DIAS365(CALCULADORA!$C$27,A155)<0,0,DIAS365(CALCULADORA!$C$27,A155))","v":2226},{"$f":"+HLOOKUP(CALCULADORA!$C$9,Tablas!B:B,Flujos!J155+1,FALSE)","v":0},0,0,{"$f":"ROUND(D154*ROUND(((1+CALCULADORA!$C$16)^(1/12)-1),6),6)","v":0},0,{"$f":"IF($B155=0,0,G155/POWER(1+CALCULADORA!$C$29,Flujos!$B155/365))","v":0},"2030-09-06",153,{"$f":"+DIAS365($A$2,A155)","v":4654},-8.869171142578125E-4,0,-4.5827007293701176E-6,-4.5827007293701176E-6]
["2030-10-06",{"$f":"IF(DIAS365(CALCULADORA!$C$27,A156)<0,0,DIAS365(CALCULADORA!$C$27,A156))","v":2256},{"$f":"+HLOOKUP(CALCULADORA!$C$9,Tablas!B:B,Flujos!J156+1,FALSE)","v":0},0,0,{"$f":"ROUND(D155*ROUND(((1+CALCULADORA!$C$16)^(1/12)-1),6),6)","v":0},0,{"$f":"IF($B156=0,0,G156/POWER(1+CALCULADORA!$C$29,Flujos!$B156/365))","v":0},"2030-10-06",154,{"$f":"+DIAS365($A$2,A156)","v":4684},-8.869171142578125E-4,0,-4.5827007293701176E-6,-4.5827007293701176E-6]
["2030-11-06",{"$f":"IF(DIAS365(CALCULADORA!$C$27,A157)<0,0,DIAS365(CALCULADORA!$C$27,A157))","v":2287},{"$f":"+HLOOKUP(CALCULADORA!$C$9,Tablas!B:B,Flujos!J157+1,FALSE)","v":0},0,0,{"$f":"ROUND(D156*ROUND(((1+CALCULADORA!$C$16)^(1/12)-1),6),6)","v":0},0,{"$f":"IF($B157=0,0,G157/POWER(1+CALCULADORA!$C$29,Flujos!$B157/365))","v":0},"2030-11-06",155,{"$f":"+DIAS365($A$2,A157)","v":4715},-8.869171142578125E-4,0,-4.5827007293701176E-6,-4.5827007293701176E-6]
["2030-12-06",{"$f":"IF(DIAS365(CALCULADORA!$C$27,A158)<0,0,DIAS365(CALCULADORA!$C$27,A158))","v":2317},{"$f":"+HLOOKUP(CALCULADORA!$C$9,Tablas!B:B,Flujos!J158+1,FALSE)","v":0},0,0,{"$f":"ROUND(D157*ROUND(((1+CALCULADORA!$C$16)^(1/12)-1),6),6)","v":0},0,{"$f":"IF($B158=0,0,G158/POWER(1+CALCULADORA!$C$29,Flujos!$B158/365))","v":0},"2030-12-06",156,{"$f":"+DIAS365($A$2,A158)","v":4745},-8.869171142578125E-4,0,-4.5827007293701176E-6,-4.5827007293701176E-6]
["2031-01-06",{"$f":"IF(DIAS365(CALCULADORA!$C$27,A159)<0,0,DIAS365(CALCULADORA!$C$27,A159))","v":2348},{"$f":"+HLOOKUP(CALCULADORA!$C$9,Tablas!B:B,Flujos!J159+1,FALSE)","v":0},0,0,{"$f":"ROUND(D158*ROUND(((1+CALCULADORA!$C$16)^(1/12)-1),6),6)","v":0},0,{"$f":"IF($B159=0,0,G159/POWER(1+CALCULADORA!$C$29,Flujos!$B159/365))","v":0},"2031-01-06",157,{"$f":"+DIAS365($A$2,A159)","v":4776},-8.869171142578125E-4,0,-4.5827007293701176E-6,-4.5827007293701176E-6]
["2031-02-06",{"$f":"IF(DIAS365(CALCULADORA!$C$27,A160)<0,0,DIAS365(CALCULADORA!$C$27,A160))","v":2379},{"$f":"+HLOOKUP(CALCULADORA!$C$9,Tablas!B:B,Flujos!J160+1,FALSE)","v":0},0,0,{"$f":"ROUND(D159*ROUND(((1+CALCULADORA!$C$16)^(1/12)-1),6),6)","v":0},0,{"$f":"IF($B160=0,0,G160/POWER(1+CALCULADORA!$C$29,Flujos!$B160/365))","v":0},"2031-02-06",158,{"$f":"+DIAS365($A$2,A160)","v":4807},-8.869171142578125E-4,0,-4.5827007293701176E-6,-4.5827007293701176E-6]
["2031-03-06",{"$f":"IF(DIAS365(CALCULADORA!$C$27,A161)<0,0,DIAS365(CALCULADORA!$C$27,A161))","v":2407},{"$f":"+HLOOKUP(CALCULADORA!$C$9,Tablas!B:B,Flujos!J161+1,FALSE)","v":0},0,0,{"$f":"ROUND(D160*ROUND(((1+CALCULADORA!$C$16)^(1/12)-1),6),6)","v":0},0,{"$f":"IF($B161=0,0,G161/POWER(1+CALCULADORA!$C$29,Flujos!$B161/365))","v":0},"2031-03-06",159,{"$f":"+DIAS365($A$2,A161)","v":4835},-8.869171142578125E-4,0,-4.5827007293701176E-6,-4.5827007293701176E-6]
["2031-04-06",{"$f":"IF(DIAS365(CALCULADORA!$C$27,A162)<0,0,DIAS365(CALCULADORA!$C$27,A162))","v":2438},{"$f":"+HLOOKUP(CALCULADORA!$C$9,Tablas!B:B,Flujos!J162+1,FALSE)","v":0},0,0,{"$f":"ROUND(D161*ROUND(((1+CALCULADORA!$C$16)^(1/12)-1),6),6)","v":0},0,{"$f":"IF($B162=0,0,G162/POWER(1+CALCULADORA!$C$29,Flujos!$B162/365))","v":0},"2031-04-06",160,{"$f":"+DIAS365($A$2,A162)","v":4866},-8.869171142578125E-4,0,-4.5827007293701176E-6,-4.5827007293701176E-6]
[{"$f":"EDATE(A162,1)","v":"2031-05-06"},{"$f":"IF(DIAS365(CALCULADORA!$C$27,A163)<0,0,DIAS365(CALCULADORA!$C$27,A163))","v":2468},{"$f":"+HLOOKUP(CALCULADORA!$C$9,Tablas!B:B,Flujos!J163+1,FALSE)","v":0},0,0,{"$f":"ROUND(D162*ROUND(((1+CALCULADORA!$C$16)^(1/12)-1),6),6)","v":0},0,{"$f":"IF($B163=0,0,G163/POWER(1+CALCULADORA!$C$29,Flujos!$B163/365))","v":0},"2031-05-06",161,{"$f":"+DIAS365($A$2,A163)","v":4896},-8.869171142578125E-4,0,-4.5827007293701176E-6,-4.5827007293701176E-6]
["2031-06-06",{"$f":"IF(DIAS365(CALCULADORA!$C$27,A164)<0,0,DIAS365(CALCULADORA!$C$27,A164))","v":2499},{"$f":"+HLOOKUP(CALCULADORA!$C$9,Tablas!B:B,Flujos!J164+1,FALSE)","v":0},0,0,{"$f":"ROUND(D163*ROUND(((1+CALCULADORA!$C$16)^(1/12)-1),6),6)","v":0},0,{"$f":"IF($B164=0,0,G164/POWER(1+CALCULADORA!$C$29,Flujos!$B164/365))","v":0},"2031-06-06",162,{"$f":"+DIAS365($A$2,A164)","v":4927},-8.869171142578125E-4,0,-4.5827007293701176E-6,-4.5827007293701176E-6]
["2031-07-06",{"$f":"IF(DIAS365(CALCULADORA!$C$27,A165)<0,0,DIAS365(CALCULADORA!$C$27,A165))","v":2529},{"$f":"+HLOOKUP(CALCULADORA!$C$9,Tablas!B:B,Flujos!J165+1,FALSE)","v":0},0,0,{"$f":"ROUND(D164*ROUND(((1+CALCULADORA!$C$16)^(1/12)-1),6),6)","v":0},0,{"$f":"IF($B165=0,0,G165/POWER(1+CALCULADORA!$C$29,Flujos!$B165/365))","v":0},"2031-07-06",163,{"$f":"+DIAS365($A$2,A165)","v":4957},-8.869171142578125E-4,0,-4.5827007293701176E-6,-4.5827007293701176E-6]
["2031-08-06",{"$f":"IF(DIAS365(CALCULADORA!$C$27,A166)<0,0,DIAS365(CALCULADORA!$C$27,A166))","v":2560},{"$f":"+HLOOKUP(CALCULADORA!$C$9,Tablas!B:B,Flujos!J166+1,FALSE)","v":0},0,0,{"$f":"ROUND(D165*ROUND(((1+CALCULADORA!$C$16)^(1/12)-1),6),6)","v":0},0,{"$f":"IF($B166=0,0,G166/POWER(1+CALCULADORA!$C$29,Flujos!$B166/365))","v":0},"2031-08-06",164,{"$f":"+DIAS365($A$2,A166)","v":4988},-8.869171142578125E-4,0,-4.5827007293701176E-6,-4.5827007293701176E-6]
["2031-09-06",{"$f":"IF(DIAS365(CALCULADORA!$C$27,A167)<0,0,DIAS365(CALCULADORA!$C$27,A167))","v":2591},{"$f":"+HLOOKUP(CALCULADORA!$C$9,Tablas!B:B,Flujos!J167+1,FALSE)","v":0},0,0,{"$f":"ROUND(D166*ROUND(((1+CALCULADORA!$C$16)^(1/12)-1),6),6)","v":0},0,{"$f":"IF($B167=0,0,G167/POWER(1+CALCULADORA!$C$29,Flujos!$B167/365))","v":0},"2031-09-06",165,{"$f":"+DIAS365($A$2,A167)","v":5019},-8.869171142578125E-4,0,-4.5827007293701176E-6,-4.5827007293701176E-6]
["2031-10-06",{"$f":"IF(DIAS365(CALCULADORA!$C$27,A168)<0,0,DIAS365(CALCULADORA!$C$27,A168))","v":2621},{"$f":"+HLOOKUP(CALCULADORA!$C$9,Tablas!B:B,Flujos!J168+1,FALSE)","v":0},0,0,{"$f":"ROUND(D167*ROUND(((1+CALCULADORA!$C$16)^(1/12)-1),6),6)","v":0},0,{"$f":"IF($B168=0,0,G168/POWER(1+CALCULADORA!$C$29,Flujos!$B168/365))","v":0},"2031-10-06",166,{"$f":"+DIAS365($A$2,A168)","v":5049},-8.869171142578125E-4,0,-4.5827007293701176E-6,-4.5827007293701176E-6]
["2031-11-06",{"$f":"IF(DIAS365(CALCULADORA!$C$27,A169)<0,0,DIAS365(CALCULADORA!$C$27,A169))","v":2652},{"$f":"+HLOOKUP(CALCULADORA!$C$9,Tablas!B:B,Flujos!J169+1,FALSE)","v":0},0,0,{"$f":"ROUND(D168*ROUND(((1+CALCULADORA!$C$16)^(1/12)-1),6),6)","v":0},0,{"$f":"IF($B169=0,0,G169/POWER(1+CALCULADORA!$C$29,Flujos!$B169/365))","v":0},"2031-11-06",167,{"$f":"+DIAS365($A$2,A169)","v":5080},-8.869171142578125E-4,0,-4.5827007293701176E-6,-4.5827007293701176E-6]
["2031-12-06",{"$f":"IF(DIAS365(CALCULADORA!$C$27,A170)<0,0,DIAS365(CALCULADORA!$C$27,A170))","v":2682},{"$f":"+HLOOKUP(CALCULADORA!$C$9,Tablas!B:B,Flujos!J170+1,FALSE)","v":0},0,0,{"$f":"ROUND(D169*ROUND(((1+CALCULADORA!$C$16)^(1/12)-1),6),6)","v":0},0,{"$f":"IF($B170=0,0,G170/POWER(1+CALCULADORA!$C$29,Flujos!$B170/365))","v":0},"2031-12-06",168,{"$f":"+DIAS365($A$2,A170)","v":5110},-8.869171142578125E-4,0,-4.5827007293701176E-6,-4.5827007293701176E-6]
["2032-01-06",{"$f":"IF(DIAS365(CALCULADORA!$C$27,A171)<0,0,DIAS365(CALCULADORA!$C$27,A171))","v":2713},{"$f":"+HLOOKUP(CALCULADORA!$C$9,Tablas!B:B,Flujos!J171+1,FALSE)","v":0},0,0,{"$f":"ROUND(D170*ROUND(((1+CALCULADORA!$C$16)^(1/12)-1),6),6)","v":0},0,{"$f":"IF($B171=0,0,G171/POWER(1+CALCULADORA!$C$29,Flujos!$B171/365))","v":0},"2032-01-06",169,{"$f":"+DIAS365($A$2,A171)","v":5141},-8.869171142578125E-4,0,-4.5827007293701176E-6,-4.5827007293701176E-6]
["2032-02-06",{"$f":"IF(DIAS365(CALCULADORA!$C$27,A172)<0,0,DIAS365(CALCULADORA!$C$27,A172))","v":2744},{"$f":"+HLOOKUP(CALCULADORA!$C$9,Tablas!B:B,Flujos!J172+1,FALSE)","v":0},0,0,{"$f":"ROUND(D171*ROUND(((1+CALCULADORA!$C$16)^(1/12)-1),6),6)","v":0},0,{"$f":"IF($B172=0,0,G172/POWER(1+CALCULADORA!$C$29,Flujos!$B172/365))","v":0},"2032-02-06",170,{"$f":"+DIAS365($A$2,A172)","v":5172},-8.869171142578125E-4,0,-4.5827007293701176E-6,-4.5827007293701176E-6]
["2032-03-06",{"$f":"IF(DIAS365(CALCULADORA!$C$27,A173)<0,0,DIAS365(CALCULADORA!$C$27,A173))","v":2772},{"$f":"+HLOOKUP(CALCULADORA!$C$9,Tablas!B:B,Flujos!J173+1,FALSE)","v":0},0,0,{"$f":"ROUND(D172*ROUND(((1+CALCULADORA!$C$16)^(1/12)-1),6),6)","v":0},0,{"$f":"IF($B173=0,0,G173/POWER(1+CALCULADORA!$C$29,Flujos!$B173/365))","v":0},"2032-03-06",171,{"$f":"+DIAS365($A$2,A173)","v":5200},-8.869171142578125E-4,0,-4.5827007293701176E-6,-4.5827007293701176E-6]
["2032-04-06",{"$f":"IF(DIAS365(CALCULADORA!$C$27,A174)<0,0,DIAS365(CALCULADORA!$C$27,A174))","v":2803},{"$f":"+HLOOKUP(CALCULADORA!$C$9,Tablas!B:B,Flujos!J174+1,FALSE)","v":0},0,0,{"$f":"ROUND(D173*ROUND(((1+CALCULADORA!$C$16)^(1/12)-1),6),6)","v":0},0,{"$f":"IF($B174=0,0,G174/POWER(1+CALCULADORA!$C$29,Flujos!$B174/365))","v":0},"2032-04-06",172,{"$f":"+DIAS365($A$2,A174)","v":5231},-8.869171142578125E-4,0,-4.5827007293701176E-6,-4.5827007293701176E-6]
["2032-05-06",{"$f":"IF(DIAS365(CALCULADORA!$C$27,A175)<0,0,DIAS365(CALCULADORA!$C$27,A175))","v":2833},{"$f":"+HLOOKUP(CALCULADORA!$C$9,Tablas!B:B,Flujos!J175+1,FALSE)","v":0},0,0,{"$f":"ROUND(D174*ROUND(((1+CALCULADORA!$C$16)^(1/12)-1),6),6)","v":0},0,{"$f":"IF($B175=0,0,G175/POWER(1+CALCULADORA!$C$29,Flujos!$B175/365))","v":0},"2032-05-06",173,{"$f":"+DIAS365($A$2,A175)","v":5261},-8.869171142578125E-4,0,-4.5827007293701176E-6,-4.5827007293701176E-6]
["2032-06-06",{"$f":"IF(DIAS365(CALCULADORA!$C$27,A176)<0,0,DIAS365(CALCULADORA!$C$27,A176))","v":2864},{"$f":"+HLOOKUP(CALCULADORA!$C$9,Tablas!B:B,Flujos!J176+1,FALSE)","v":0},0,0,{"$f":"ROUND(D175*ROUND(((1+CALCULADORA!$C$16)^(1/12)-1),6),6)","v":0},0,{"$f":"IF($B176=0,0,G176/POWER(1+CALCULADORA!$C$29,Flujos!$B176/365))","v":0},"2032-06-06",174,{"$f":"+DIAS365($A$2,A176)","v":5292},-8.869171142578125E-4,0,-4.5827007293701176E-6,-4.5827007293701176E-6]
["2032-07-06",{"$f":"IF(DIAS365(CALCULADORA!$C$27,A177)<0,0,DIAS365(CALCULADORA!$C$27,A177))","v":2894},{"$f":"+HLOOKUP(CALCULADORA!$C$9,Tablas!B:B,Flujos!J177+1,FALSE)","v":0},0,0,{"$f":"ROUND(D176*ROUND(((1+CALCULADORA!$C$16)^(1/12)-1),6),6)","v":0},0,{"$f":"IF($B177=0,0,G177/POWER(1+CALCULADORA!$C$29,Flujos!$B177/365))","v":0},"2032-07-06",175,{"$f":"+DIAS365($A$2,A177)","v":5322},-8.869171142578125E-4,0,-4.5827007293701176E-6,-4.5827007293701176E-6]
["2032-08-06",{"$f":"IF(DIAS365(CALCULADORA!$C$27,A178)<0,0,DIAS365(CALCULADORA!$C$27,A178))","v":2925},{"$f":"+HLOOKUP(CALCULADORA!$C$9,Tablas!B:B,Flujos!J178+1,FALSE)","v":0},0,0,{"$f":"ROUND(D177*ROUND(((1+CALCULADORA!$C$16)^(1/12)-1),6),6)","v":0},0,{"$f":"IF($B178=0,0,G178/POWER(1+CALCULADORA!$C$29,Flujos!$B178/365))","v":0},"2032-08-06",176,{"$f":"+DIAS365($A$2,A178)","v":5353},-8.869171142578125E-4,0,-4.5827007293701176E-6,-4.5827007293701176E-6]
["2032-09-06",{"$f":"IF(DIAS365(CALCULADORA!$C$27,A179)<0,0,DIAS365(CALCULADORA!$C$27,A179))","v":2956},{"$f":"+HLOOKUP(CALCULADORA!$C$9,Tablas!B:B,Flujos!J179+1,FALSE)","v":0},0,0,{"$f":"ROUND(D178*ROUND(((1+CALCULADORA!$C$16)^(1/12)-1),6),6)","v":0},0,{"$f":"IF($B179=0,0,G179/POWER(1+CALCULADORA!$C$29,Flujos!$B179/365))","v":0},"2032-09-06",177,{"$f":"+DIAS365($A$2,A179)","v":5384},-8.869171142578125E-4,0,-4.5827007293701176E-6,-4.5827007293701176E-6]
["2032-10-06",{"$f":"IF(DIAS365(CALCULADORA!$C$27,A180)<0,0,DIAS365(CALCULADORA!$C$27,A180))","v":2986},{"$f":"+HLOOKUP(CALCULADORA!$C$9,Tablas!B:B,Flujos!J180+1,FALSE)","v":0},0,0,{"$f":"ROUND(D179*ROUND(((1+CALCULADORA!$C$16)^(1/12)-1),6),6)","v":0},0,{"$f":"IF($B180=0,0,G180/POWER(1+CALCULADORA!$C$29,Flujos!$B180/365))","v":0},"2032-10-06",178,{"$f":"+DIAS365($A$2,A180)","v":5414},-8.869171142578125E-4,0,-4.5827007293701176E-6,-4.5827007293701176E-6]
["2032-11-06",{"$f":"IF(DIAS365(CALCULADORA!$C$27,A181)<0,0,DIAS365(CALCULADORA!$C$27,A181))","v":3017},{"$f":"+HLOOKUP(CALCULADORA!$C$9,Tablas!B:B,Flujos!J181+1,FALSE)","v":0},0,0,{"$f":"ROUND(D180*ROUND(((1+CALCULADORA!$C$16)^(1/12)-1),6),6)","v":0},0,{"$f":"IF($B181=0,0,G181/POWER(1+CALCULADORA!$C$29,Flujos!$B181/365))","v":0},"2032-11-06",179,{"$f":"+DIAS365($A$2,A181)","v":5445},-8.869171142578125E-4,0,-4.5827007293701176E-6,-4.5827007293701176E-6]
["2032-12-06",{"$f":"IF(DIAS365(CALCULADORA!$C$27,A182)<0,0,DIAS365(CALCULADORA!$C$27,A182))","v":3047},{"$f":"+HLOOKUP(CALCULADORA!$C$9,Tablas!B:B,Flujos!J182+1,FALSE)","v":0},0,0,{"$f":"ROUND(D181*ROUND(((1+CALCULADORA!$C$16)^(1/12)-1),6),6)","v":0},0,{"$f":"IF($B182=0,0,G182/POWER(1+CALCULADORA!$C$29,Flujos!$B182/365))","v":0},"2032-12-06",180,{"$f":"+DIAS365($A$2,A182)","v":5475},-8.869171142578125E-4,0,-4.5827007293701176E-6,-4.5827007293701176E-6]
[null,null,{"$f":"+SUMIF(B2:B182,\">0\",C2:C182)","v":3.8178469999999999E-2},null,{"$f":"SUM(E2:E182)","v":99.999999999999972},{"$f":"SUM(F2:F182)","v":16.475691000000005},{"$f":"SUM(G2:G182)","v":116.475691},{"$f":"SUM(H2:H182)","v":3.777050728420611},null,null,null,"Totales",{"$f":"SUM(M2:M182)","v":4788065105804.3984},{"$f":"SUM(N2:N182)","v":788866760550.58362},5576931866354.9805]

{"sheet":"Características","index":2,"n_rows":39,"n_cols":12,"rows_kept":39,"cut":false,"hidden":true,"merged":[[8,0,8,1],[26,0,26,1]]}
["Serie","TIPS N13 A","TIPS N14 A","TIPS N15 A","TIPS N16 A","TIPS N17 A ","TIPS N18 A 2034","TIPS N19 A 2034","TIPS N20 A 2034","TIPS N21 A","TIPS N22 A","TIPS N23 A"]
["Nemo MEC","INST10011226","INST10080327","INST10270627","INST10061227","INST10150328","INST15040434","INST15230534","INST15041034","INST13240634","INST070339A","INST15180739"]
["ISIN"]
["Emisión","2016-12-01","2017-03-08","2017-06-27","2017-12-06","2018-03-15","2021-02-04","2021-07-23","2021-04-04","2021-06-24","2024-03-07","2024-07-18"]
["Vencimiento contractual","2026-12-01","2027-03-08","2042-03-08","2027-12-06","2033-03-15","2034-04-04","2034-05-23","2034-10-04","2034-06-24","2039-03-07","2039-07-18"]
["Cupón EA",8.3699999999999997E-2,7.7499999999999999E-2,6.9000000000000006E-2,6.3799999999999996E-2,6.5699999999999995E-2,6.83E-2,6.8900000000000003E-2,6.0400000000000002E-2,6.0600000000000001E-2,0.109,0.11650000000000001]
["Moneda","COP","COP","COP","COP","COP","COP","COP","COP","COP","COP","COP"]
[]
["Cálculo de tasa y precio sucio a partir del limpio"]
["Fecha de liquidación",{"$f":"+CALCULADORA!C27","v":"2024-08-01"}]
["Fecha último pago cupón",{"$f":"+VLOOKUP(B10,Flujos!$A$2:$A$182,1)","v":"2024-07-06"}]
["Valor Par",{"$f":"+VLOOKUP(B11,Flujos!$A$2:$D$182,4)","v":3.817847}]
["Próximo pago de interés",{"$f":"+VLOOKUP(EDATE(B10,1),Flujos!$A$2:$F$182,6)","v":1.9727000000000001E-2}]
["Días corridos",{"$f":"+DAYS360(B11,B10,TRUE)","v":25}]
["Días entre flujos",30]
["Cupón corrido",{"$f":"ROUND(B13/B12*B14/B15*100,4)","v":0.43059999999999998}]
["Precio limpio",{"$f":"+TRUNC(Flujos!H183/VLOOKUP(CALCULADORA!C27,Flujos!A:D,4)*100,3)","v":98.930999999999997}]
["Nominal",{"$f":"+CALCULADORA!C28","v":182801000000}]
["Moneda",1]
["Contravalor",{"$f":"ROUND(B18*B19*(B17+B16)/100,0)","v":181633998416}]
["Precio unitario",{"$f":"TRUNC(B20/B18,5)","v":0.99360999999999999}]
["Precio sucio MEC",{"$f":"TRUNC(B21/B19*100,3)","v":99.361000000000004}]
["Precio sucio modelo",{"$f":"+B22","v":99.361000000000004}]
["Diferencia",{"$f":"+B22-B23","v":0}]
["Tasa de descuento equivalente",{"$f":"TRUNC(CALCULADORA!C29,5)","v":0.109}]
[]
["Cálculo de precio limpio y sucio a partir de tasa"]
["Tasa de descuento",{"$f":"TRUNC(CALCULADORA!C29,5)","v":0.109}]
["Precio sucio modelo",{"$f":"+B23","v":99.361000000000004}]
["Moneda",{"$f":"+CALCULADORA!$C$43","v":1}]
["Nominal",{"$f":"+CALCULADORA!C28","v":182801000000}]
["Contravalor",{"$f":"+ROUND(B29/100*B31*B30,0)","v":181632901610}]
["Valor Par",{"$f":"+VLOOKUP(B11,Flujos!$A$2:$D$182,4)","v":3.817847}]
["Próximo pago de interés",{"$f":"+VLOOKUP(EDATE(B10,1),Flujos!$A$2:$F$182,6)","v":1.9727000000000001E-2}]
["Días corridos",{"$f":"+DAYS360(B11,B10,TRUE)","v":25}]
["Días entre flujos",30]
["Precio unitario",{"$f":"TRUNC(B32/(B30*B31),5)","v":0.99360999999999999}]
["Cupón corrido",{"$f":"ROUND(B34/B33*B35/B36,6)*100","v":0.43059999999999998}]
["Precio limpio",{"$f":"ROUND((B37-(B38/100))*100,3)","v":98.93}]

{"sheet":"TIR de Tenencia","index":3,"n_rows":65536,"n_cols":17,"rows_kept":4500,"cut":true,"hidden":true,"merged":[],"bounds":{"rows_first":2000,"rows_last":500,"rows_between":2000,"halvings":0}}
[{"$f":"+Flujos!A1","v":"Fecha"},{"$f":"+Flujos!L1","v":"Saldo / Balance"},{"$f":"+Flujos!M1","v":"Pago de Capital"},{"$f":"+Flujos!N1","v":"Pago de Intereses"},{"$f":"+Flujos!O1","v":"Pago Total"},{"$f":"+CALCULADORA!C27","v":"2024-08-01"},"Fecha","Flujo ","Fecha","Flujo 1","TIR",{"$f":"+DAY(A2)","v":6},{"$f":"+MONTH(G2)","v":3},{"$f":"+YEAR(G2)","v":2024},null,{"$f":"MATCH(MAX('TIR de Tenencia'!I:I),'TIR de Tenencia'!I:I,0)","v":7}]
[{"$f":"+Flujos!A2","v":"2017-12-06"},{"$f":"+Flujos!L2","v":4788065105804.3975},{"$f":"+Flujos!M2","v":0},{"$f":"+Flujos!N2","v":0},{"$f":"+Flujos!O2","v":0},null,{"$f":"+CALCULADORA!C23","v":"2024-03-07"},{"$f":"-CALCULADORA!C24","v":-15000000000},{"$f":"+G2","v":"2024-03-07"},{"$f":"+H2","v":-15000000000},{"$f":"+XIRR(J2:J7,I2:I7)","v":1680186736640},{"$f":"+L1","v":6},{"$f":"+IF(M1=12,1,M1+1)","v":4},{"$f":"+IF(M2=1,N1+1,N1)","v":2024},null,1,"Enero"]
[{"$f":"+Flujos!A3","v":"2018-01-06"},{"$f":"+Flujos!L3","v":4675221136526.4248},{"$f":"+Flujos!M3","v":112843969277.97264},{"$f":"+Flujos!N3","v":24739932401.691326},{"$f":"+Flujos!O3","v":137583901679.66397},null,{"$f":"+DATE(N2,M2,L2)","v":"2024-04-06"},{"$f":"IF(G3<CALCULADORA!$C$23,0,IF(CALCULADORA!$C$27>'TIR de Tenencia'!G3,E3,CALCULADORA!$C$33))","v":137583901679.66397},{"$f":"+IF(H3=H2,\" \",G3)","v":"2024-04-06"},{"$f":"+IF(H3=H2,\" \",H3)","v":137583901679.66397},null,{"$f":"+L2","v":6},{"$f":"+IF(M2=12,1,M2+1)","v":5},{"$f":"+IF(M3=1,N2+1,N2)","v":2024},null,2,"Febrero"]
[{"$f":"+Flujos!A4","v":"2018-02-06"},{"$f":"+Flujos!L4","v":4573075141114.3506},{"$f":"+Flujos!M4","v":102145995412.07387},{"$f":"+Flujos!N4","v":24156867612.432041},{"$f":"+Flujos!O4","v":126302863024.50591},null,{"$f":"+DATE(N3,M3,L3)","v":"2024-05-06"},{"$f":"IF(G4<CALCULADORA!$C$23,0,IF(CALCULADORA!$C$27>'TIR de Tenencia'!G4,E4,CALCULADORA!$C$33))","v":126302863024.50591},{"$f":"+IF(H4=H3,\" \",G4)","v":"2024-05-06"},{"$f":"+IF(H4=H3,\" \",H4)","v":126302863024.50591},null,6,6,2024,null,3,"Marzo"]
[{"$f":"+Flujos!A5","v":"2018-03-06"},{"$f":"+Flujos!L5","v":4434350770207.1348},{"$f":"+Flujos!M5","v":138724370907.21552},{"$f":"+Flujos!N5","v":23629079254.137852},{"$f":"+Flujos!O5","v":162353450161.35336},null,"2024-06-06",{"$f":"IF(G5<CALCULADORA!$C$23,0,IF(CALCULADORA!$C$27>'TIR de Tenencia'!G5,E5,CALCULADORA!$C$33))","v":162353450161.35336},{"$f":"+IF(H5=H4,\" \",G5)","v":"2024-06-06"},{"$f":"+IF(H5=H4,\" \",H5)","v":162353450161.35336},null,6,7,2024,null,4,"Abril"]
[{"$f":"+Flujos!A6","v":"2018-04-06"},{"$f":"+Flujos!L6","v":4327901932207.0786},{"$f":"+Flujos!M6","v":106448838000.05606},{"$f":"+Flujos!N6","v":22912290429.660267},{"$f":"+Flujos!O6","v":129361128429.71632},null,"2024-07-06",{"$f":"IF(G6<CALCULADORA!$C$23,0,IF(CALCULADORA!$C$27>'TIR de Tenencia'!G6,E6,CALCULADORA!$C$33))","v":129361128429.71632},"2024-07-06",129361128429.71632,null,6,8,2024,null,5,"Mayo"]
[{"$f":"+Flujos!A7","v":"2018-05-06"},{"$f":"+Flujos!L7","v":4229878365089.8003},{"$f":"+Flujos!M7","v":98023567117.278412},{"$f":"+Flujos!N7","v":22362269283.713978},{"$f":"+Flujos!O7","v":120385836400.99239},null,"2024-08-06",{"$f":"IF(G7<CALCULADORA!$C$23,0,IF(CALCULADORA!$C$27>'TIR de Tenencia'!G7,E7,CALCULADORA!$C$33))","v":181632901610},"2024-08-06",181632901610,null,6,9,2024,null,6,"Junio"]
[{"$f":"+Flujos!A8","v":"2018-06-06"},{"$f":"+Flujos!L8","v":4131218512000.6113},{"$f":"+Flujos!M8","v":98659853089.188766},{"$f":"+Flujos!N8","v":21855781512.418999},{"$f":"+Flujos!O8","v":120515634601.60776},null,"2024-09-06",{"$f":"IF(G8<CALCULADORA!$C$23,0,IF(CALCULADORA!$C$27>'TIR de Tenencia'!G8,E8,CALCULADORA!$C$33))","v":181632901610}," "," ",null,6,10,2024,null,7,"Julio"]
[{"$f":"+Flujos!A9","v":"2018-07-06"},{"$f":"+Flujos!L9","v":4029920243515.52},{"$f":"+Flujos!M9","v":101298268485.09122},{"$f":"+Flujos!N9","v":21346006051.50716},{"$f":"+Flujos!O9","v":122644274536.59837},null,"2024-10-06",{"$f":"IF(G9<CALCULADORA!$C$23,0,IF(CALCULADORA!$C$27>'TIR de Tenencia'!G9,E9,CALCULADORA!$C$33))","v":181632901610}," "," ",null,6,11,2024,null,8,"Agosto"]
[{"$f":"+Flujos!A10","v":"2018-08-06"},{"$f":"+Flujos!L10","v":3941896263087.8076},{"$f":"+Flujos!M10","v":88023980427.71228},{"$f":"+Flujos!N10","v":20822597898.244694},{"$f":"+Flujos!O10","v":108846578325.95697},null,"2024-11-06",{"$f":"IF(G10<CALCULADORA!$C$23,0,IF(CALCULADORA!$C$27>'TIR de Tenencia'!G10,E10,CALCULADORA!$C$33))","v":181632901610}," "," ",null,6,12,2024,null,9,"Septiembre"]
[{"$f":"+Flujos!A11","v":"2018-09-06"},{"$f":"+Flujos!L11","v":3840409919405.3604},{"$f":"+Flujos!M11","v":101486343682.4472},{"$f":"+Flujos!N11","v":20367777991.374702},{"$f":"+Flujos!O11","v":121854121673.8219},null,"2024-12-06",{"$f":"IF(G11<CALCULADORA!$C$23,0,IF(CALCULADORA!$C$27>'TIR de Tenencia'!G11,E11,CALCULADORA!$C$33))","v":181632901610}," "," ",null,6,{"$f":"+IF(M10=12,1,M10+1)","v":1},2025,null,10,"Octubre"]
[{"$f":"+Flujos!A12","v":"2018-10-06"},{"$f":"+Flujos!L12","v":3728480566323.8984},{"$f":"+Flujos!M12","v":111929353081.46188},{"$f":"+Flujos!N12","v":19843398053.567501},{"$f":"+Flujos!O12","v":131772751135.02939},null,"2025-01-06",{"$f":"IF(G12<CALCULADORA!$C$23,0,IF(CALCULADORA!$C$27>'TIR de Tenencia'!G12,E12,CALCULADORA!$C$33))","v":181632901610}," "," ",null,6,2,2025,null,11,"Noviembre"]
[{"$f":"+Flujos!A13","v":"2018-11-06"},{"$f":"+Flujos!L13","v":3662589656251.0225},{"$f":"+Flujos!M13","v":65890910072.876152},{"$f":"+Flujos!N13","v":19265059086.195587},{"$f":"+Flujos!O13","v":85155969159.071747},null,"2025-02-06",{"$f":"IF(G13<CALCULADORA!$C$23,0,IF(CALCULADORA!$C$27>'TIR de Tenencia'!G13,E13,CALCULADORA!$C$33))","v":181632901610}," "," ",null,6,3,2025,null,12,"Diciembre"]
[{"$f":"+Flujos!A14","v":"2018-12-06"},{"$f":"+Flujos!L14","v":3581270355510.3169},{"$f":"+Flujos!M14","v":81319300740.705429},{"$f":"+Flujos!N14","v":18924600753.849033},{"$f":"+Flujos!O14","v":100243901494.55446},null,"2025-03-06",{"$f":"IF(G14<CALCULADORA!$C$23,0,IF(CALCULADORA!$C$27>'TIR de Tenencia'!G14,E14,CALCULADORA!$C$33))","v":181632901610}," "," ",null,6,4,2025]
[{"$f":"+Flujos!A15","v":"2019-01-06"},{"$f":"+Flujos!L15","v":3472849409254.4819},{"$f":"+Flujos!M15","v":108420946255.83478},{"$f":"+Flujos!N15","v":18504423926.92181},{"$f":"+Flujos!O15","v":126925370182.75659},null,"2025-04-06",{"$f":"IF(G15<CALCULADORA!$C$23,0,IF(CALCULADORA!$C$27>'TIR de Tenencia'!G15,E15,CALCULADORA!$C$33))","v":181632901610}," "," ",null,6,{"$f":"+IF(M14=12,1,M14+1)","v":5},2025]
[{"$f":"+Flujos!A16","v":"2019-02-06"},{"$f":"+Flujos!L16","v":3383310054101.4336},{"$f":"+Flujos!M16","v":89539355153.048309},{"$f":"+Flujos!N16","v":17944212897.617908},{"$f":"+Flujos!O16","v":107483568050.66621},null,"2025-05-06",{"$f":"IF(G16<CALCULADORA!$C$23,0,IF(CALCULADORA!$C$27>'TIR de Tenencia'!G16,E16,CALCULADORA!$C$33))","v":181632901610}," "," ",null,6,6,2025]
[{"$f":"+Flujos!A17","v":"2019-03-06"},{"$f":"+Flujos!L17","v":3267205460367.0591},{"$f":"+Flujos!M17","v":116104593734.37437},{"$f":"+Flujos!N17","v":17481563049.54211},{"$f":"+Flujos!O17","v":133586156783.91649},null,"2025-06-06",{"$f":"IF(G17<CALCULADORA!$C$23,0,IF(CALCULADORA!$C$27>'TIR de Tenencia'!G17,E17,CALCULADORA!$C$33))","v":181632901610},{"$f":"+IF(H17=H16,\" \",G17)","v":" "}," ",null,6,7,2025]
[{"$f":"+Flujos!A18","v":"2019-04-06"},{"$f":"+Flujos!L18","v":3184980784395.4971},{"$f":"+Flujos!M18","v":82224675971.561996},{"$f":"+Flujos!N18","v":16881650613.716597},{"$f":"+Flujos!O18","v":99106326585.278595},null,"2025-07-06",{"$f":"IF(G18<CALCULADORA!$C$23,0,IF(CALCULADORA!$C$27>'TIR de Tenencia'!G18,E18,CALCULADORA!$C$33))","v":181632901610}," "," ",null,6,8,2025]
[{"$f":"+Flujos!A19","v":"2019-05-06"},{"$f":"+Flujos!L19","v":3107672014868.0645},{"$f":"+Flujos!M19","v":77308769527.432617},{"$f":"+Flujos!N19","v":16456795712.971535},{"$f":"+Flujos!O19","v":93765565240.404144},null,"2025-08-06",{"$f":"IF(G19<CALCULADORA!$C$23,0,IF(CALCULADORA!$C$27>'TIR de Tenencia'!G19,E19,CALCULADORA!$C$33))","v":181632901610}," "," ",null,6,9,2025]
[{"$f":"+Flujos!A20","v":"2019-06-06"},{"$f":"+Flujos!L20","v":3018105319863.2622},{"$f":"+Flujos!M20","v":89566695004.802444},{"$f":"+Flujos!N20","v":16057341300.823292},{"$f":"+Flujos!O20","v":105624036305.62573},null,"2025-09-06",{"$f":"IF(G20<CALCULADORA!$C$23,0,IF(CALCULADORA!$C$27>'TIR de Tenencia'!G20,E20,CALCULADORA!$C$33))","v":181632901610}," "," ",null,6,{"$f":"+IF(M19=12,1,M19+1)","v":10},2025]
[{"$f":"+Flujos!A21","v":"2019-07-06"},{"$f":"+Flujos!L21","v":2882669152667.458},{"$f":"+Flujos!M21","v":135436167195.80435},{"$f":"+Flujos!N21","v":15594550187.733477},{"$f":"+Flujos!O21","v":151030717383.53784},null,"2025-10-06",{"$f":"IF(G21<CALCULADORA!$C$23,0,IF(CALCULADORA!$C$27>'TIR de Tenencia'!G21,E21,CALCULADORA!$C$33))","v":181632901610}," "," ",null,6,11,2025]
[{"$f":"+Flujos!A22","v":"2019-08-06"},{"$f":"+Flujos!L22","v":2818994637932.0586},{"$f":"+Flujos!M22","v":63674514735.399307},{"$f":"+Flujos!N22","v":14894751511.832758},{"$f":"+Flujos!O22","v":78569266247.232071},null,"2025-11-06",{"$f":"IF(G22<CALCULADORA!$C$23,0,IF(CALCULADORA!$C$27>'TIR de Tenencia'!G22,E22,CALCULADORA!$C$33))","v":181632901610}," "," ",null,6,12,2025]
[{"$f":"+Flujos!A23","v":"2019-09-06"},{"$f":"+Flujos!L23","v":2732122091400.9902},{"$f":"+Flujos!M23","v":86872546531.068436},{"$f":"+Flujos!N23","v":14565745294.194948},{"$f":"+Flujos!O23","v":101438291825.26338},null,"2025-12-06",{"$f":"IF(G23<CALCULADORA!$C$23,0,IF(CALCULADORA!$C$27>'TIR de Tenencia'!G23,E23,CALCULADORA!$C$33))","v":181632901610}," "," ",null,6,1,2026]
[{"$f":"+Flujos!A24","v":"2019-10-06"},{"$f":"+Flujos!L24","v":2655714531487.772},{"$f":"+Flujos!M24","v":76407559913.218109},{"$f":"+Flujos!N24","v":14116874846.268919},{"$f":"+Flujos!O24","v":90524434759.48703},null,"2026-01-06",{"$f":"IF(G24<CALCULADORA!$C$23,0,IF(CALCULADORA!$C$27>'TIR de Tenencia'!G24,E24,CALCULADORA!$C$33))","v":181632901610}," "," ",null,6,2,2026]
[{"$f":"+Flujos!A25","v":"2019-11-06"},{"$f":"+Flujos!L25","v":2575222321113.4434},{"$f":"+Flujos!M25","v":80492210374.328796},{"$f":"+Flujos!N25","v":13722076984.197319},{"$f":"+Flujos!O25","v":94214287358.526123},null,"2026-02-06",{"$f":"IF(G25<CALCULADORA!$C$23,0,IF(CALCULADORA!$C$27>'TIR de Tenencia'!G25,E25,CALCULADORA!$C$33))","v":181632901610}," "," ",null,6,3,2026]
[{"$f":"+Flujos!A26","v":"2019-12-06"},{"$f":"+Flujos!L26","v":2501250928726.0586},{"$f":"+Flujos!M26","v":73971392387.384827},{"$f":"+Flujos!N26","v":13306173733.193163},{"$f":"+Flujos!O26","v":87277566120.577988},null,"2026-03-06",{"$f":"IF(G26<CALCULADORA!$C$23,0,IF(CALCULADORA!$C$27>'TIR de Tenencia'!G26,E26,CALCULADORA!$C$33))","v":181632901610}," ",{"$f":"+IF(H26=H25,\" \",H26)","v":" "},null,6,4,2026]
[{"$f":"+Flujos!A27","v":"2020-01-06"},{"$f":"+Flujos!L27","v":2434867135231.1909},{"$f":"+Flujos!M27","v":66383793494.867668},{"$f":"+Flujos!N27","v":12923963548.727547},{"$f":"+Flujos!O27","v":79307757043.595215},null,"2026-04-06",{"$f":"IF(G27<CALCULADORA!$C$23,0,IF(CALCULADORA!$C$27>'TIR de Tenencia'!G27,E27,CALCULADORA!$C$33))","v":181632901610}," "," ",null,6,5,2026]
[{"$f":"+Flujos!A28","v":"2020-02-06"},{"$f":"+Flujos!L28","v":2359558627782.3594},{"$f":"+Flujos!M28","v":75308507448.831772},{"$f":"+Flujos!N28","v":12580958487.739565},{"$f":"+Flujos!O28","v":87889465936.571335},null,"2026-05-06",{"$f":"IF(G28<CALCULADORA!$C$23,0,IF(CALCULADORA!$C$27>'TIR de Tenencia'!G28,E28,CALCULADORA!$C$33))","v":181632901610}," "," ",null,6,6,2026]
[{"$f":"+Flujos!A29","v":"2020-03-06"},{"$f":"+Flujos!L29","v":2259657851859.6992},{"$f":"+Flujos!M29","v":99900775922.66008},{"$f":"+Flujos!N29","v":12191839429.751451},{"$f":"+Flujos!O29","v":112092615352.41153},null,"2026-06-06",{"$f":"IF(G29<CALCULADORA!$C$23,0,IF(CALCULADORA!$C$27>'TIR de Tenencia'!G29,E29,CALCULADORA!$C$33))","v":181632901610}," "," ",null,6,7,2026]
[{"$f":"+Flujos!A30","v":"2020-04-06"},{"$f":"+Flujos!L30","v":2206815089529.2549},{"$f":"+Flujos!M30","v":52842762330.444366},{"$f":"+Flujos!N30","v":11675652120.559067},{"$f":"+Flujos!O30","v":64518414451.003433},null,"2026-07-06",{"$f":"IF(G30<CALCULADORA!$C$23,0,IF(CALCULADORA!$C$27>'TIR de Tenencia'!G30,E30,CALCULADORA!$C$33))","v":181632901610}," "," ",null,6,8,2026]
[{"$f":"+Flujos!A31","v":"2020-05-06"},{"$f":"+Flujos!L31","v":2191074708539.1313},{"$f":"+Flujos!M31","v":15740380990.123493},{"$f":"+Flujos!N31","v":11402613567.597662},{"$f":"+Flujos!O31","v":27142994557.721153},null,"2026-08-06",{"$f":"IF(G31<CALCULADORA!$C$23,0,IF(CALCULADORA!$C$27>'TIR de Tenencia'!G31,E31,CALCULADORA!$C$33))","v":181632901610}," "," ",null,6,9,2026]
[{"$f":"+Flujos!A32","v":"2020-06-06"},{"$f":"+Flujos!L32","v":2174991406326.1301},{"$f":"+Flujos!M32","v":16083302213.001204},{"$f":"+Flujos!N32","v":11321283019.021692},{"$f":"+Flujos!O32","v":27404585232.022896},null,"2026-09-06",{"$f":"IF(G32<CALCULADORA!$C$23,0,IF(CALCULADORA!$C$27>'TIR de Tenencia'!G32,E32,CALCULADORA!$C$33))","v":181632901610}," "," ",null,6,10,2026]
[{"$f":"+Flujos!A33","v":"2020-07-06"},{"$f":"+Flujos!L33","v":2152473614940.0427},{"$f":"+Flujos!M33","v":22517791386.087502},{"$f":"+Flujos!N33","v":11238180596.487116},{"$f":"+Flujos!O33","v":33755971982.574615},null,"2026-10-06",{"$f":"IF(G33<CALCULADORA!$C$23,0,IF(CALCULADORA!$C$27>'TIR de Tenencia'!G33,E33,CALCULADORA!$C$33))","v":181632901610}," "," ",null,6,11,2026]
[{"$f":"+Flujos!A34","v":"2020-08-06"},{"$f":"+Flujos!L34","v":2124083453224.2903},{"$f":"+Flujos!M34","v":28390161715.752361},{"$f":"+Flujos!N34","v":11121831168.395203},{"$f":"+Flujos!O34","v":39511992884.147568},null,"2026-11-06",{"$f":"IF(G34<CALCULADORA!$C$23,0,IF(CALCULADORA!$C$27>'TIR de Tenencia'!G34,E34,CALCULADORA!$C$33))","v":181632901610}," "," ",null,6,12,2026]
[{"$f":"+Flujos!A35","v":"2020-09-06"},{"$f":"+Flujos!L35","v":2079320407117.9377},{"$f":"+Flujos!M35","v":44763046106.352615},{"$f":"+Flujos!N35","v":10975139202.80991},{"$f":"+Flujos!O35","v":55738185309.162521},null,{"$f":"+DATE(N34,M34,L34)","v":"2026-12-06"},{"$f":"IF(G35<CALCULADORA!$C$23,0,IF(CALCULADORA!$C$27>'TIR de Tenencia'!G35,E35,CALCULADORA!$C$33))","v":181632901610}," "," ",null,6,1,2027]
[{"$f":"+Flujos!A36","v":"2020-10-06"},{"$f":"+Flujos!L36","v":2033989879535.2451},{"$f":"+Flujos!M36","v":45330527582.692558},{"$f":"+Flujos!N36","v":10743848543.578386},{"$f":"+Flujos!O36","v":56074376126.270943},null,"2027-01-06",{"$f":"IF(G36<CALCULADORA!$C$23,0,IF(CALCULADORA!$C$27>'TIR de Tenencia'!G36,E36,CALCULADORA!$C$33))","v":181632901610},{"$f":"+IF(IF(H36=H35,\" \",G36)=CALCULADORA!C27,'TIR de Tenencia'!G36,CALCULADORA!C27)","v":"2024-08-01"}," ",null,6,2,2027]
[{"$f":"+Flujos!A37","v":"2020-11-06"},{"$f":"+Flujos!L37","v":1955206002910.0164},{"$f":"+Flujos!M37","v":78783876625.228821},{"$f":"+Flujos!N37","v":10509625707.558613},{"$f":"+Flujos!O37","v":89293502332.78743},null,"2027-02-06",{"$f":"IF(G37<CALCULADORA!$C$23,0,IF(CALCULADORA!$C$27>'TIR de Tenencia'!G37,E37,CALCULADORA!$C$33))","v":181632901610}," "," ",null,6,3,2027]
[{"$f":"+Flujos!A38","v":"2020-12-06"},{"$f":"+Flujos!L38","v":1890064233503.5942},{"$f":"+Flujos!M38","v":65141769406.422005},{"$f":"+Flujos!N38","v":10102549417.036057},{"$f":"+Flujos!O38","v":75244318823.458069},null,"2027-03-06",{"$f":"IF(G38<CALCULADORA!$C$23,0,IF(CALCULADORA!$C$27>'TIR de Tenencia'!G38,E38,CALCULADORA!$C$33))","v":181632901610}," "," ",null,6,4,2027]
[{"$f":"+Flujos!A39","v":"2021-01-06"},{"$f":"+Flujos!L39","v":1818056713900.0061},{"$f":"+Flujos!M39","v":72007519603.588104},{"$f":"+Flujos!N39","v":9765961894.513073},{"$f":"+Flujos!O39","v":81773481498.101181},null,"2027-04-06",{"$f":"IF(G39<CALCULADORA!$C$23,0,IF(CALCULADORA!$C$27>'TIR de Tenencia'!G39,E39,CALCULADORA!$C$33))","v":181632901610}," "," ",null,6,5,2027]
[{"$f":"+Flujos!A40","v":"2021-02-06"},{"$f":"+Flujos!L40","v":1752604965158.6343},{"$f":"+Flujos!M40","v":65451748741.371773},{"$f":"+Flujos!N40","v":9393899040.7213326},{"$f":"+Flujos!O40","v":74845647782.093109},null,"2027-05-06",{"$f":"IF(G40<CALCULADORA!$C$23,0,IF(CALCULADORA!$C$27>'TIR de Tenencia'!G40,E40,CALCULADORA!$C$33))","v":181632901610}," "," ",null,6,6,2027]
[{"$f":"+Flujos!A41","v":"2021-03-06"},{"$f":"+Flujos!L41","v":1685766497001.3193},{"$f":"+Flujos!M41","v":66838468157.31485},{"$f":"+Flujos!N41","v":9055709854.9746647},{"$f":"+Flujos!O41","v":75894178012.28952},null,"2027-06-06",{"$f":"IF(G41<CALCULADORA!$C$23,0,IF(CALCULADORA!$C$27>'TIR de Tenencia'!G41,E41,CALCULADORA!$C$33))","v":181632901610}," "," ",null,6,7,2027]
[{"$f":"+Flujos!A42","v":"2021-04-06"},{"$f":"+Flujos!L42","v":1628279407279.5469},{"$f":"+Flujos!M42","v":57487089721.772514},{"$f":"+Flujos!N42","v":8710355490.0058174},{"$f":"+Flujos!O42","v":66197445211.778336},null,"2027-07-06",{"$f":"IF(G42<CALCULADORA!$C$23,0,IF(CALCULADORA!$C$27>'TIR de Tenencia'!G42,E42,CALCULADORA!$C$33))","v":181632901610}," "," ",null,6,8,2027]
[{"$f":"+Flujos!A43","v":"2021-05-06"},{"$f":"+Flujos!L43","v":1567451253607.5952},{"$f":"+Flujos!M43","v":60828153671.951759},{"$f":"+Flujos!N43","v":8413319697.4134197},{"$f":"+Flujos!O43","v":69241473369.365173},null,"2027-08-06",{"$f":"IF(G43<CALCULADORA!$C$23,0,IF(CALCULADORA!$C$27>'TIR de Tenencia'!G43,E43,CALCULADORA!$C$33))","v":181632901610}," "," ",null,6,9,2027]
[{"$f":"+Flujos!A44","v":"2021-06-06"},{"$f":"+Flujos!L44","v":1513228139987.7986},{"$f":"+Flujos!M44","v":54223113619.796715},{"$f":"+Flujos!N44","v":8099020627.3904457},{"$f":"+Flujos!O44","v":62322134247.187164},null,"2027-09-06",{"$f":"IF(G44<CALCULADORA!$C$23,0,IF(CALCULADORA!$C$27>'TIR de Tenencia'!G44,E44,CALCULADORA!$C$33))","v":181632901610}," "," ",null,6,10,2027]
[{"$f":"+Flujos!A45","v":"2021-07-06"},{"$f":"+Flujos!L45","v":1466818909217.4194},{"$f":"+Flujos!M45","v":46409230770.379227},{"$f":"+Flujos!N45","v":7818849799.3169565},{"$f":"+Flujos!O45","v":54228080569.696182},null,"2027-10-06",{"$f":"IF(G45<CALCULADORA!$C$23,0,IF(CALCULADORA!$C$27>'TIR de Tenencia'!G45,E45,CALCULADORA!$C$33))","v":181632901610}," "," ",null,6,11,2027]
[{"$f":"+Flujos!A46","v":"2021-08-06"},{"$f":"+Flujos!L46","v":1401521144649.8503},{"$f":"+Flujos!M46","v":65297764567.569107},{"$f":"+Flujos!N46","v":7579053303.9264069},{"$f":"+Flujos!O46","v":72876817871.495514},null,"2027-11-06",{"$f":"IF(G46<CALCULADORA!$C$23,0,IF(CALCULADORA!$C$27>'TIR de Tenencia'!G46,E46,CALCULADORA!$C$33))","v":181632901610}," "," ",null,6,12,2027]
[{"$f":"+Flujos!A47","v":"2021-09-06"},{"$f":"+Flujos!L47","v":1347162576668.2104},{"$f":"+Flujos!M47","v":54358567981.639923},{"$f":"+Flujos!N47","v":7241659754.4057779},{"$f":"+Flujos!O47","v":61600227736.0457},null,"2027-12-06",{"$f":"IF(G47<CALCULADORA!$C$23,0,IF(CALCULADORA!$C$27>'TIR de Tenencia'!G47,E47,CALCULADORA!$C$33))","v":181632901610}," "," ",null,6,1,2028]
[{"$f":"+Flujos!A48","v":"2021-10-06"},{"$f":"+Flujos!L48","v":1298630509352.5217},{"$f":"+Flujos!M48","v":48532067315.688667},{"$f":"+Flujos!N48","v":6960789033.6446438},{"$f":"+Flujos!O48","v":55492856349.333313},null,"2028-01-06",{"$f":"IF(G48<CALCULADORA!$C$23,0,IF(CALCULADORA!$C$27>'TIR de Tenencia'!G48,E48,CALCULADORA!$C$33))","v":181632901610}," "," ",null,6,2,2028]
[{"$f":"+Flujos!A49","v":"2021-11-06"},{"$f":"+Flujos!L49","v":1249625716368.937},{"$f":"+Flujos!M49","v":49004792983.584732},{"$f":"+Flujos!N49","v":6710023841.8244801},{"$f":"+Flujos!O49","v":55714816825.40921},null,"2028-02-06",{"$f":"IF(G49<CALCULADORA!$C$23,0,IF(CALCULADORA!$C$27>'TIR de Tenencia'!G49,E49,CALCULADORA!$C$33))","v":181632901610}," "," ",null,6,3,2028]
[{"$f":"+Flujos!A50","v":"2021-12-06"},{"$f":"+Flujos!L50","v":1210161047347.3655},{"$f":"+Flujos!M50","v":39464669021.571579},{"$f":"+Flujos!N50","v":6456816076.4782982},{"$f":"+Flujos!O50","v":45921485098.049881},null,"2028-03-06",{"$f":"IF(G50<CALCULADORA!$C$23,0,IF(CALCULADORA!$C$27>'TIR de Tenencia'!G50,E50,CALCULADORA!$C$33))","v":181632901610}," "," ",null,6,4,2028]
[{"$f":"+Flujos!A51","v":"2022-01-06"},{"$f":"+Flujos!L51","v":1158452098833.9756},{"$f":"+Flujos!M51","v":51708948513.389877},{"$f":"+Flujos!N51","v":6252902131.6438379},{"$f":"+Flujos!O51","v":57961850645.033714},null,"2028-04-06",{"$f":"IF(G51<CALCULADORA!$C$23,0,IF(CALCULADORA!$C$27>'TIR de Tenencia'!G51,E51,CALCULADORA!$C$33))","v":181632901610}," "," ",null,6,5,2028]
[{"$f":"+Flujos!A52","v":"2022-02-06"},{"$f":"+Flujos!L52","v":1101591718953.9019},{"$f":"+Flujos!M52","v":56860379880.073769},{"$f":"+Flujos!N52","v":5985721994.6751528},{"$f":"+Flujos!O52","v":62846101874.748924},null,"2028-05-06",{"$f":"IF(G52<CALCULADORA!$C$23,0,IF(CALCULADORA!$C$27>'TIR de Tenencia'!G52,E52,CALCULADORA!$C$33))","v":181632901610}," "," ",null,6,6,2028]
[{"$f":"+Flujos!A53","v":"2022-03-06"},{"$f":"+Flujos!L53","v":1052790131453.4075},{"$f":"+Flujos!M53","v":48801587500.494392},{"$f":"+Flujos!N53","v":5691924411.8348112},{"$f":"+Flujos!O53","v":54493511912.329201},null,"2028-06-06",{"$f":"IF(G53<CALCULADORA!$C$23,0,IF(CALCULADORA!$C$27>'TIR de Tenencia'!G53,E53,CALCULADORA!$C$33))","v":181632901610}," "," ",null,6,7,2028]
[{"$f":"+Flujos!A54","v":"2022-04-06"},{"$f":"+Flujos!L54","v":1002063598138.4265},{"$f":"+Flujos!M54","v":50726533314.980934},{"$f":"+Flujos!N54","v":5439766609.2197571},{"$f":"+Flujos!O54","v":56166299924.200691},null,"2028-07-06",{"$f":"IF(G54<CALCULADORA!$C$23,0,IF(CALCULADORA!$C$27>'TIR de Tenencia'!G54,E54,CALCULADORA!$C$33))","v":181632901610}," "," ",null,6,8,2028]
[{"$f":"+Flujos!A55","v":"2022-05-06"},{"$f":"+Flujos!L55","v":948664702045.94299},{"$f":"+Flujos!M55","v":53398896092.483536},{"$f":"+Flujos!N55","v":5177662611.5812502},{"$f":"+Flujos!O55","v":58576558704.064789},null,"2028-08-06",{"$f":"IF(G55<CALCULADORA!$C$23,0,IF(CALCULADORA!$C$27>'TIR de Tenencia'!G55,E55,CALCULADORA!$C$33))","v":181632901610}," "," ",null,6,9,2028]
[{"$f":"+Flujos!A56","v":"2022-06-06"},{"$f":"+Flujos!L56","v":902543090346.46948},{"$f":"+Flujos!M56","v":46121611699.473557},{"$f":"+Flujos!N56","v":4901750515.4713879},{"$f":"+Flujos!O56","v":51023362214.944946},null,"2028-09-06",{"$f":"IF(G56<CALCULADORA!$C$23,0,IF(CALCULADORA!$C$27>'TIR de Tenencia'!G56,E56,CALCULADORA!$C$33))","v":181632901610}," "," ",null,6,10,2028]
[{"$f":"+Flujos!A57","v":"2022-07-06"},{"$f":"+Flujos!L57","v":873270536112.36841},{"$f":"+Flujos!M57","v":29272554234.101055},{"$f":"+Flujos!N57","v":4663440147.8202085},{"$f":"+Flujos!O57","v":33935994381.921265},null,"2028-10-06",{"$f":"IF(G57<CALCULADORA!$C$23,0,IF(CALCULADORA!$C$27>'TIR de Tenencia'!G57,E57,CALCULADORA!$C$33))","v":181632901610}," "," ",null,6,11,2028]
[{"$f":"+Flujos!A58","v":"2022-08-06"},{"$f":"+Flujos!L58","v":834486155381.02954},{"$f":"+Flujos!M58","v":38784380731.338898},{"$f":"+Flujos!N58","v":4512188860.0926085},{"$f":"+Flujos!O58","v":43296569591.431503},null,"2028-11-06",{"$f":"IF(G58<CALCULADORA!$C$23,0,IF(CALCULADORA!$C$27>'TIR de Tenencia'!G58,E58,CALCULADORA!$C$33))","v":181632901610}," "," ",null,6,12,2028]
[{"$f":"+Flujos!A59","v":"2022-09-06"},{"$f":"+Flujos!L59","v":803861978248.21094},{"$f":"+Flujos!M59","v":30624177132.818577},{"$f":"+Flujos!N59","v":4311789964.8537798},{"$f":"+Flujos!O59","v":34935967097.672356},null,"2028-12-06",{"$f":"IF(G59<CALCULADORA!$C$23,0,IF(CALCULADORA!$C$27>'TIR de Tenencia'!G59,E59,CALCULADORA!$C$33))","v":181632901610}," "," ",null,6,1,2029]
[{"$f":"+Flujos!A60","v":"2022-10-06"},{"$f":"+Flujos!L60","v":756379215400.45935},{"$f":"+Flujos!M60","v":47482762847.751625},{"$f":"+Flujos!N60","v":4153554841.6085062},{"$f":"+Flujos!O60","v":51636317689.36013},null,"2029-01-06",{"$f":"IF(G60<CALCULADORA!$C$23,0,IF(CALCULADORA!$C$27>'TIR de Tenencia'!G60,E60,CALCULADORA!$C$33))","v":181632901610}," "," ",null,6,2,2029]
[{"$f":"+Flujos!A61","v":"2022-11-06"},{"$f":"+Flujos!L61","v":711645855297.7627},{"$f":"+Flujos!M61","v":44733360102.696632},{"$f":"+Flujos!N61","v":3908211405.974174},{"$f":"+Flujos!O61","v":48641571508.670807},null,"2029-02-06",{"$f":"IF(G61<CALCULADORA!$C$23,0,IF(CALCULADORA!$C$27>'TIR de Tenencia'!G61,E61,CALCULADORA!$C$33))","v":181632901610}," "," ",null,6,3,2029]
[{"$f":"+Flujos!A62","v":"2022-12-06"},{"$f":"+Flujos!L62","v":684890626293.03833},{"$f":"+Flujos!M62","v":26755229004.724392},{"$f":"+Flujos!N62","v":3677074134.3235402},{"$f":"+Flujos!O62","v":30432303139.047932},null,"2029-03-06",{"$f":"IF(G62<CALCULADORA!$C$23,0,IF(CALCULADORA!$C$27>'TIR de Tenencia'!G62,E62,CALCULADORA!$C$33))","v":181632901610}," "," ",null,6,4,2029]
[{"$f":"+Flujos!A63","v":"2023-01-06"},{"$f":"+Flujos!L63","v":649621786604.33423},{"$f":"+Flujos!M63","v":35268839688.704132},{"$f":"+Flujos!N63","v":3538829866.0561295},{"$f":"+Flujos!O63","v":38807669554.760262},null,"2029-04-06",{"$f":"IF(G63<CALCULADORA!$C$23,0,IF(CALCULADORA!$C$27>'TIR de Tenencia'!G63,E63,CALCULADORA!$C$33))","v":181632901610}," "," ",null,6,5,2029]
[{"$f":"+Flujos!A64","v":"2023-02-06"},{"$f":"+Flujos!L64","v":619897382666.19836},{"$f":"+Flujos!M64","v":29724403938.135815},{"$f":"+Flujos!N64","v":3356595771.3845954},{"$f":"+Flujos!O64","v":33080999709.520409},null,"2029-05-06",{"$f":"IF(G64<CALCULADORA!$C$23,0,IF(CALCULADORA!$C$27>'TIR de Tenencia'!G64,E64,CALCULADORA!$C$33))","v":181632901610}," "," ",null,6,6,2029]
[{"$f":"+Flujos!A65","v":"2023-03-06"},{"$f":"+Flujos!L65","v":590980868953.36487},{"$f":"+Flujos!M65","v":28916513712.833439},{"$f":"+Flujos!N65","v":3203009776.2362475},{"$f":"+Flujos!O65","v":32119523489.069687},null,"2029-06-06",{"$f":"IF(G65<CALCULADORA!$C$23,0,IF(CALCULADORA!$C$27>'TIR de Tenencia'!G65,E65,CALCULADORA!$C$33))","v":181632901610}," "," ",null,6,7,2029]
[{"$f":"+Flujos!A66","v":"2023-04-06"},{"$f":"+Flujos!L66","v":564241823608.69812},{"$f":"+Flujos!M66","v":26739045344.666775},{"$f":"+Flujos!N66","v":3053598149.8820367},{"$f":"+Flujos!O66","v":29792643494.548813},null,"2029-07-06",{"$f":"IF(G66<CALCULADORA!$C$23,0,IF(CALCULADORA!$C$27>'TIR de Tenencia'!G66,E66,CALCULADORA!$C$33))","v":181632901610}," "," ",null,6,8,{"$f":"+IF(M66=1,N65+1,N65)","v":2029}]
[{"$f":"+Flujos!A67","v":"2023-05-06"},{"$f":"+Flujos!L67","v":536810471930.38306},{"$f":"+Flujos!M67","v":27431351678.315033},{"$f":"+Flujos!N67","v":2915437502.5861435},{"$f":"+Flujos!O67","v":30346789180.901176},null,{"$f":"+DATE(N66,M66,L66)","v":"2029-08-06"},{"$f":"IF(G67<CALCULADORA!$C$23,0,IF(CALCULADORA!$C$27>'TIR de Tenencia'!G67,E67,CALCULADORA!$C$33))","v":181632901610}," "," ",null,{"$f":"+L66","v":6},{"$f":"+IF(M66=12,1,M66+1)","v":9},2029]
[{"$f":"+Flujos!A68","v":"2023-06-06"},{"$f":"+Flujos!L68","v":508779702381.47235},{"$f":"+Flujos!M68","v":28030769548.910683},{"$f":"+Flujos!N68","v":2773699708.4642897},{"$f":"+Flujos!O68","v":30804469257.374973},null,"2029-09-06",{"$f":"IF(G68<CALCULADORA!$C$23,0,IF(CALCULADORA!$C$27>'TIR de Tenencia'!G68,E68,CALCULADORA!$C$33))","v":181632901610},{"$f":"+IF(H68=H67,\" \",G68)","v":" "},{"$f":"+IF(H68=H67,\" \",H68)","v":" "},null,6,10,2029]
[{"$f":"+Flujos!A69","v":"2023-07-06"},{"$f":"+Flujos!L69","v":480897841657.35217},{"$f":"+Flujos!M69","v":27881860724.120167},{"$f":"+Flujos!N69","v":2628864722.2050681},{"$f":"+Flujos!O69","v":30510725446.325233},null,"2029-10-06",{"$f":"IF(G69<CALCULADORA!$C$23,0,IF(CALCULADORA!$C$27>'TIR de Tenencia'!G69,E69,CALCULADORA!$C$33))","v":181632901610}," "," ",null,6,11,2029]
[{"$f":"+Flujos!A70","v":"2023-08-06"},{"$f":"+Flujos!L70","v":450719241863.27972},{"$f":"+Flujos!M70","v":30178599794.072422},{"$f":"+Flujos!N70","v":2484799147.8435388},{"$f":"+Flujos!O70","v":32663398941.915962},null,"2029-11-06",{"$f":"IF(G70<CALCULADORA!$C$23,0,IF(CALCULADORA!$C$27>'TIR de Tenencia'!G70,E70,CALCULADORA!$C$33))","v":181632901610}," "," ",null,6,12,2029]
[{"$f":"+Flujos!A71","v":"2023-09-06"},{"$f":"+Flujos!L71","v":428371618311.05249},{"$f":"+Flujos!M71","v":22347623552.227211},{"$f":"+Flujos!N71","v":2328866322.7075667},{"$f":"+Flujos!O71","v":24676489874.934776},null,"2029-12-06",{"$f":"IF(G71<CALCULADORA!$C$23,0,IF(CALCULADORA!$C$27>'TIR de Tenencia'!G71,E71,CALCULADORA!$C$33))","v":181632901610}," "," ",null,6,1,2030]
[{"$f":"+Flujos!A72","v":"2023-10-06"},{"$f":"+Flujos!L72","v":402302088110.13037},{"$f":"+Flujos!M72","v":26069530200.922146},{"$f":"+Flujos!N72","v":2213396151.8132086},{"$f":"+Flujos!O72","v":28282926352.735355},null,"2030-01-06",{"$f":"IF(G72<CALCULADORA!$C$23,0,IF(CALCULADORA!$C$27>'TIR de Tenencia'!G72,E72,CALCULADORA!$C$33))","v":181632901610}," "," ",null,6,2,2030]
[{"$f":"+Flujos!A73","v":"2023-11-06"},{"$f":"+Flujos!L73","v":375785256867.02399},{"$f":"+Flujos!M73","v":26516831243.106392},{"$f":"+Flujos!N73","v":2078694889.265044},{"$f":"+Flujos!O73","v":28595526132.371437},null,"2030-02-06",{"$f":"IF(G73<CALCULADORA!$C$23,0,IF(CALCULADORA!$C$27>'TIR de Tenencia'!G73,E73,CALCULADORA!$C$33))","v":181632901610}," "," ",null,6,3,2030]
[{"$f":"+Flujos!A74","v":"2023-12-06"},{"$f":"+Flujos!L74","v":348351463275.505},{"$f":"+Flujos!M74","v":27433793591.518993},{"$f":"+Flujos!N74","v":1941682422.2319131},{"$f":"+Flujos!O74","v":29375476013.750908},null,"2030-03-06",{"$f":"IF(G74<CALCULADORA!$C$23,0,IF(CALCULADORA!$C$27>'TIR de Tenencia'!G74,E74,CALCULADORA!$C$33))","v":181632901610}," "," ",null,6,4,2030]
[{"$f":"+Flujos!A75","v":"2024-01-06"},{"$f":"+Flujos!L75","v":326209678642.17633},{"$f":"+Flujos!M75","v":22141784633.328682},{"$f":"+Flujos!N75","v":1799932010.7445345},{"$f":"+Flujos!O75","v":23941716644.073215},null,"2030-04-06",{"$f":"IF(G75<CALCULADORA!$C$23,0,IF(CALCULADORA!$C$27>'TIR de Tenencia'!G75,E75,CALCULADORA!$C$33))","v":181632901610}," "," ",null,6,5,2030]
[{"$f":"+Flujos!A76","v":"2024-02-06"},{"$f":"+Flujos!L76","v":299775824567.35352},{"$f":"+Flujos!M76","v":26433854074.822803},{"$f":"+Flujos!N76","v":1685525409.5441253},{"$f":"+Flujos!O76","v":28119379484.366928},null,"2030-05-06",{"$f":"IF(G76<CALCULADORA!$C$23,0,IF(CALCULADORA!$C$27>'TIR de Tenencia'!G76,E76,CALCULADORA!$C$33))","v":181632901610}," "," ",null,6,6,2030]
[{"$f":"+Flujos!A77","v":"2024-03-06"},{"$f":"+Flujos!L77","v":273970595560.27176},{"$f":"+Flujos!M77","v":25805229007.081745},{"$f":"+Flujos!N77","v":1548941685.5395157},{"$f":"+Flujos!O77","v":27354170692.621262},null,"2030-06-06",{"$f":"IF(G77<CALCULADORA!$C$23,0,IF(CALCULADORA!$C$27>'TIR de Tenencia'!G77,E77,CALCULADORA!$C$33))","v":181632901610}," "," ",null,6,7,2030]
[{"$f":"+Flujos!A78","v":"2024-04-06"},{"$f":"+Flujos!L78","v":252523559173.79529},{"$f":"+Flujos!M78","v":21447036386.476463},{"$f":"+Flujos!N78","v":1415606067.2599244},{"$f":"+Flujos!O78","v":22862642453.736389},null,"2030-07-06",{"$f":"IF(G78<CALCULADORA!$C$23,0,IF(CALCULADORA!$C$27>'TIR de Tenencia'!G78,E78,CALCULADORA!$C$33))","v":181632901610}," "," ",null,6,8,2030]
[{"$f":"+Flujos!A79","v":"2024-05-06"},{"$f":"+Flujos!L79","v":226505309150.15631},{"$f":"+Flujos!M79","v":26018250023.638977},{"$f":"+Flujos!N79","v":1304789230.2510004},{"$f":"+Flujos!O79","v":27323039253.889977},null,"2030-08-06",{"$f":"IF(G79<CALCULADORA!$C$23,0,IF(CALCULADORA!$C$27>'TIR de Tenencia'!G79,E79,CALCULADORA!$C$33))","v":181632901610}," "," ",null,6,9,2030]
[{"$f":"+Flujos!A80","v":"2024-06-06"},{"$f":"+Flujos!L80","v":203752711051.28015},{"$f":"+Flujos!M80","v":22752598098.876148},{"$f":"+Flujos!N80","v":1170352932.3788579},{"$f":"+Flujos!O80","v":23922951031.255005},null,"2030-09-06",{"$f":"IF(G80<CALCULADORA!$C$23,0,IF(CALCULADORA!$C$27>'TIR de Tenencia'!G80,E80,CALCULADORA!$C$33))","v":181632901610}," "," ",null,6,10,2030]
[{"$f":"+Flujos!A81","v":"2024-07-06"},{"$f":"+Flujos!L81","v":182800999999.99915},{"$f":"+Flujos!M81","v":20951711051.280998},{"$f":"+Flujos!N81","v":1052790258.0019647},{"$f":"+Flujos!O81","v":22004501309.282963},null,"2030-10-06",{"$f":"IF(G81<CALCULADORA!$C$23,0,IF(CALCULADORA!$C$27>'TIR de Tenencia'!G81,E81,CALCULADORA!$C$33))","v":181632901610}," "," ",null,6,11,2030]
[{"$f":"+Flujos!A82","v":"2024-08-06"},{"$f":"+Flujos!L82","v":163798749656.54642},{"$f":"+Flujos!M82","v":19002250343.452736},{"$f":"+Flujos!N82","v":944532766.99999571},{"$f":"+Flujos!O82","v":19946783110.452732},null,"2030-11-06",{"$f":"IF(G82<CALCULADORA!$C$23,0,IF(CALCULADORA!$C$27>'TIR de Tenencia'!G82,E82,CALCULADORA!$C$33))","v":181632901610}," "," ",null,6,12,2030]
[{"$f":"+Flujos!A83","v":"2024-09-06"},{"$f":"+Flujos!L83","v":143612793857.63672},{"$f":"+Flujos!M83","v":20185955798.909702},{"$f":"+Flujos!N83","v":846348139.47537541},{"$f":"+Flujos!O83","v":21032303938.385078},null,"2030-12-06",{"$f":"IF(G83<CALCULADORA!$C$23,0,IF(CALCULADORA!$C$27>'TIR de Tenencia'!G83,E83,CALCULADORA!$C$33))","v":181632901610}," "," ",null,6,1,2031]
[{"$f":"+Flujos!A84","v":"2024-10-06"},{"$f":"+Flujos!L84","v":123852066120.7735},{"$f":"+Flujos!M84","v":19760727736.863213},{"$f":"+Flujos!N84","v":742047305.862409},{"$f":"+Flujos!O84","v":20502775042.72562},null,"2031-01-06",{"$f":"IF(G84<CALCULADORA!$C$23,0,IF(CALCULADORA!$C$27>'TIR de Tenencia'!G84,E84,CALCULADORA!$C$33))","v":181632901610}," "," ",null,6,2,2031]
[{"$f":"+Flujos!A85","v":"2024-11-06"},{"$f":"+Flujos!L85","v":104254850807.2735},{"$f":"+Flujos!M85","v":19597215313.499992},{"$f":"+Flujos!N85","v":639943625.64603674},{"$f":"+Flujos!O85","v":20237158939.14603},null,"2031-02-06",{"$f":"IF(G85<CALCULADORA!$C$23,0,IF(CALCULADORA!$C$27>'TIR de Tenencia'!G85,E85,CALCULADORA!$C$33))","v":181632901610}," "," ",null,6,3,2031]
[{"$f":"+Flujos!A86","v":"2024-12-06"},{"$f":"+Flujos!L86","v":85864802468.248901},{"$f":"+Flujos!M86","v":18390048339.02459},{"$f":"+Flujos!N86","v":538684814.1211822},{"$f":"+Flujos!O86","v":18928733153.145771},null,"2031-03-06",{"$f":"IF(G86<CALCULADORA!$C$23,0,IF(CALCULADORA!$C$27>'TIR de Tenencia'!G86,E86,CALCULADORA!$C$33))","v":181632901610}," "," ",null,6,4,2031]
[{"$f":"+Flujos!A87","v":"2025-01-06"},{"$f":"+Flujos!L87","v":66670454952.751289},{"$f":"+Flujos!M87","v":19194347515.497612},{"$f":"+Flujos!N87","v":443663434.35344213},{"$f":"+Flujos!O87","v":19638010949.851055},null,"2031-04-06",{"$f":"IF(G87<CALCULADORA!$C$23,0,IF(CALCULADORA!$C$27>'TIR de Tenencia'!G87,E87,CALCULADORA!$C$33))","v":181632901610}," "," ",null,6,5,2031]
[{"$f":"+Flujos!A88","v":"2025-02-06"},{"$f":"+Flujos!L88","v":47736817582.264725},{"$f":"+Flujos!M88","v":18933637370.486561},{"$f":"+Flujos!N88","v":344486240.74086595},{"$f":"+Flujos!O88","v":19278123611.227428},null,"2031-05-06",{"$f":"IF(G88<CALCULADORA!$C$23,0,IF(CALCULADORA!$C$27>'TIR de Tenencia'!G88,E88,CALCULADORA!$C$33))","v":181632901610}," "," ",null,6,6,2031]
[{"$f":"+Flujos!A89","v":"2025-03-06"},{"$f":"+Flujos!L89","v":28952328439.823971},{"$f":"+Flujos!M89","v":18784489142.440754},{"$f":"+Flujos!N89","v":246656136.44756186},{"$f":"+Flujos!O89","v":19031145278.888317},null,"2031-06-06",{"$f":"IF(G89<CALCULADORA!$C$23,0,IF(CALCULADORA!$C$27>'TIR de Tenencia'!G89,E89,CALCULADORA!$C$33))","v":181632901610}," "," ",null,6,7,2031]
[{"$f":"+Flujos!A90","v":"2025-04-06"},{"$f":"+Flujos!L90","v":10574441786.168125},{"$f":"+Flujos!M90","v":18377886653.655846},{"$f":"+Flujos!N90","v":149596681.04857048},{"$f":"+Flujos!O90","v":18527483334.704414},null,"2031-07-06",{"$f":"IF(G90<CALCULADORA!$C$23,0,IF(CALCULADORA!$C$27>'TIR de Tenencia'!G90,E90,CALCULADORA!$C$33))","v":181632901610}," "," ",null,6,8,2031]
[{"$f":"+Flujos!A91","v":"2025-05-06"},{"$f":"+Flujos!L91","v":-8.869171142578125E-4},{"$f":"+Flujos!M91","v":10574441786.169012},{"$f":"+Flujos!N91","v":54638140.709130712},{"$f":"+Flujos!O91","v":10629079926.878143},null,"2031-08-06",{"$f":"IF(G91<CALCULADORA!$C$23,0,IF(CALCULADORA!$C$27>'TIR de Tenencia'!G91,E91,CALCULADORA!$C$33))","v":181632901610}," "," ",null,6,9,2031]
[{"$f":"+Flujos!A92","v":"2025-06-06"},{"$f":"+Flujos!L92","v":-8.869171142578125E-4},{"$f":"+Flujos!M92","v":0},{"$f":"+Flujos!N92","v":-4.5827007293701176E-6},{"$f":"+Flujos!O92","v":-4.5827007293701176E-6},null,"2031-09-06",{"$f":"IF(G92<CALCULADORA!$C$23,0,IF(CALCULADORA!$C$27>'TIR de Tenencia'!G92,E92,CALCULADORA!$C$33))","v":181632901610}," "," ",null,6,10,2031]
[{"$f":"+Flujos!A93","v":"2025-07-06"},{"$f":"+Flujos!L93","v":-8.869171142578125E-4},{"$f":"+Flujos!M93","v":0},{"$f":"+Flujos!N93","v":-4.5827007293701176E-6},{"$f":"+Flujos!O93","v":-4.5827007293701176E-6},null,"2031-10-06",{"$f":"IF(G93<CALCULADORA!$C$23,0,IF(CALCULADORA!$C$27>'TIR de Tenencia'!G93,E93,CALCULADORA!$C$33))","v":181632901610}," "," ",null,6,11,2031]
[{"$f":"+Flujos!A94","v":"2025-08-06"},{"$f":"+Flujos!L94","v":-8.869171142578125E-4},{"$f":"+Flujos!M94","v":0},{"$f":"+Flujos!N94","v":-4.5827007293701176E-6},{"$f":"+Flujos!O94","v":-4.5827007293701176E-6},null,"2031-11-06",{"$f":"IF(G94<CALCULADORA!$C$23,0,IF(CALCULADORA!$C$27>'TIR de Tenencia'!G94,E94,CALCULADORA!$C$33))","v":181632901610}," "," ",null,6,12,2031]
[{"$f":"+Flujos!A95","v":"2025-09-06"},{"$f":"+Flujos!L95","v":-8.869171142578125E-4},{"$f":"+Flujos!M95","v":0},{"$f":"+Flujos!N95","v":-4.5827007293701176E-6},{"$f":"+Flujos!O95","v":-4.5827007293701176E-6},null,"2031-12-06",{"$f":"IF(G95<CALCULADORA!$C$23,0,IF(CALCULADORA!$C$27>'TIR de Tenencia'!G95,E95,CALCULADORA!$C$33))","v":181632901610}," "," ",null,6,1,2032]
[{"$f":"+Flujos!A96","v":"2025-10-06"},{"$f":"+Flujos!L96","v":-8.869171142578125E-4},{"$f":"+Flujos!M96","v":0},{"$f":"+Flujos!N96","v":-4.5827007293701176E-6},{"$f":"+Flujos!O96","v":-4.5827007293701176E-6},null,"2032-01-06",{"$f":"IF(G96<CALCULADORA!$C$23,0,IF(CALCULADORA!$C$27>'TIR de Tenencia'!G96,E96,CALCULADORA!$C$33))","v":181632901610}," "," ",null,6,2,2032]
[{"$f":"+Flujos!A97","v":"2025-11-06"},{"$f":"+Flujos!L97","v":-8.869171142578125E-4},{"$f":"+Flujos!M97","v":0},{"$f":"+Flujos!N97","v":-4.5827007293701176E-6},{"$f":"+Flujos!O97","v":-4.5827007293701176E-6},null,"2032-02-06",{"$f":"IF(G97<CALCULADORA!$C$23,0,IF(CALCULADORA!$C$27>'TIR de Tenencia'!G97,E97,CALCULADORA!$C$33))","v":181632901610}," "," ",null,6,3,2032]
[{"$f":"+Flujos!A98","v":"2025-12-06"},{"$f":"+Flujos!L98","v":-8.869171142578125E-4},{"$f":"+Flujos!M98","v":0},{"$f":"+Flujos!N98","v":-4.5827007293701176E-6},{"$f":"+Flujos!O98","v":-4.5827007293701176E-6},null,"2032-03-06",{"$f":"IF(G98<CALCULADORA!$C$23,0,IF(CALCULADORA!$C$27>'TIR de Tenencia'!G98,E98,CALCULADORA!$C$33))","v":181632901610}," "," ",null,6,4,2032]
[{"$f":"+Flujos!A99","v":"2026-01-06"},{"$f":"+Flujos!L99","v":-8.869171142578125E-4},{"$f":"+Flujos!M99","v":0},{"$f":"+Flujos!N99","v":-4.5827007293701176E-6},{"$f":"+Flujos!O99","v":-4.5827007293701176E-6},null,{"$f":"+DATE(N98,M98,L98)","v":"2032-04-06"},{"$f":"IF(G99<CALCULADORA!$C$23,0,IF(CALCULADORA!$C$27>'TIR de Tenencia'!G99,E99,CALCULADORA!$C$33))","v":181632901610}," "," ",null,6,5,2032]
[{"$f":"+Flujos!A100","v":"2026-02-06"},{"$f":"+Flujos!L100","v":-8.869171142578125E-4},{"$f":"+Flujos!M100","v":0},{"$f":"+Flujos!N100","v":-4.5827007293701176E-6},{"$f":"+Flujos!O100","v":-4.5827007293701176E-6},null,"2032-05-06",{"$f":"IF(G100<CALCULADORA!$C$23,0,IF(CALCULADORA!$C$27>'TIR de Tenencia'!G100,E100,CALCULADORA!$C$33))","v":181632901610}," "," ",null,6,6,2032]
[{"$f":"+Flujos!A101","v":"2026-03-06"},{"$f":"+Flujos!L101","v":-8.869171142578125E-4},{"$f":"+Flujos!M101","v":0},{"$f":"+Flujos!N101","v":-4.5827007293701176E-6},{"$f":"+Flujos!O101","v":-4.5827007293701176E-6},null,"2032-06-06",{"$f":"IF(G101<CALCULADORA!$C$23,0,IF(CALCULADORA!$C$27>'TIR de Tenencia'!G101,E101,CALCULADORA!$C$33))","v":181632901610}," "," ",null,6,7,2032]
[{"$f":"+Flujos!A102","v":"2026-04-06"},{"$f":"+Flujos!L102","v":-8.869171142578125E-4},{"$f":"+Flujos!M102","v":0},{"$f":"+Flujos!N102","v":-4.5827007293701176E-6},{"$f":"+Flujos!O102","v":-4.5827007293701176E-6},null,"2032-07-06",{"$f":"IF(G102<CALCULADORA!$C$23,0,IF(CALCULADORA!$C$27>'TIR de Tenencia'!G102,E102,CALCULADORA!$C$33))","v":181632901610}," "," ",null,6,8,2032]
[{"$f":"+Flujos!A103","v":"2026-05-06"},{"$f":"+Flujos!L103","v":-8.869171142578125E-4},{"$f":"+Flujos!M103","v":0},{"$f":"+Flujos!N103","v":-4.5827007293701176E-6},{"$f":"+Flujos!O103","v":-4.5827007293701176E-6},null,"2032-08-06",{"$f":"IF(G103<CALCULADORA!$C$23,0,IF(CALCULADORA!$C$27>'TIR de Tenencia'!G103,E103,CALCULADORA!$C$33))","v":181632901610}," "," ",null,6,9,2032]
[{"$f":"+Flujos!A104","v":"2026-06-06"},{"$f":"+Flujos!L104","v":-8.869171142578125E-4},{"$f":"+Flujos!M104","v":0},{"$f":"+Flujos!N104","v":-4.5827007293701176E-6},{"$f":"+Flujos!O104","v":-4.5827007293701176E-6},null,"2032-09-06",{"$f":"IF(G104<CALCULADORA!$C$23,0,IF(CALCULADORA!$C$27>'TIR de Tenencia'!G104,E104,CALCULADORA!$C$33))","v":181632901610}," "," ",null,6,10,2032]
[{"$f":"+Flujos!A105","v":"2026-07-06"},{"$f":"+Flujos!L105","v":-8.869171142578125E-4},{"$f":"+Flujos!M105","v":0},{"$f":"+Flujos!N105","v":-4.5827007293701176E-6},{"$f":"+Flujos!O105","v":-4.5827007293701176E-6},null,"2032-10-06",{"$f":"IF(G105<CALCULADORA!$C$23,0,IF(CALCULADORA!$C$27>'TIR de Tenencia'!G105,E105,CALCULADORA!$C$33))","v":181632901610}," "," ",null,6,11,2032]
[{"$f":"+Flujos!A106","v":"2026-08-06"},{"$f":"+Flujos!L106","v":-8.869171142578125E-4},{"$f":"+Flujos!M106","v":0},{"$f":"+Flujos!N106","v":-4.5827007293701176E-6},{"$f":"+Flujos!O106","v":-4.5827007293701176E-6},null,"2032-11-06",{"$f":"IF(G106<CALCULADORA!$C$23,0,IF(CALCULADORA!$C$27>'TIR de Tenencia'!G106,E106,CALCULADORA!$C$33))","v":181632901610}," "," ",null,6,12,2032]
[{"$f":"+Flujos!A107","v":"2026-09-06"},{"$f":"+Flujos!L107","v":-8.869171142578125E-4},{"$f":"+Flujos!M107","v":0},{"$f":"+Flujos!N107","v":-4.5827007293701176E-6},{"$f":"+Flujos!O107","v":-4.5827007293701176E-6},null,"2032-12-06",{"$f":"IF(G107<CALCULADORA!$C$23,0,IF(CALCULADORA!$C$27>'TIR de Tenencia'!G107,E107,CALCULADORA!$C$33))","v":181632901610}," "," ",null,6,1,2033]
[{"$f":"+Flujos!A108","v":"2026-10-06"},{"$f":"+Flujos!L108","v":-8.869171142578125E-4},{"$f":"+Flujos!M108","v":0},{"$f":"+Flujos!N108","v":-4.5827007293701176E-6},{"$f":"+Flujos!O108","v":-4.5827007293701176E-6},null,"2033-01-06",{"$f":"IF(G108<CALCULADORA!$C$23,0,IF(CALCULADORA!$C$27>'TIR de Tenencia'!G108,E108,CALCULADORA!$C$33))","v":181632901610}," "," ",null,6,2,2033]
[{"$f":"+Flujos!A109","v":"2026-11-06"},{"$f":"+Flujos!L109","v":-8.869171142578125E-4},{"$f":"+Flujos!M109","v":0},{"$f":"+Flujos!N109","v":-4.5827007293701176E-6},{"$f":"+Flujos!O109","v":-4.5827007293701176E-6},null,"2033-02-06",{"$f":"IF(G109<CALCULADORA!$C$23,0,IF(CALCULADORA!$C$27>'TIR de Tenencia'!G109,E109,CALCULADORA!$C$33))","v":181632901610}," "," ",null,6,3,2033]
[{"$f":"+Flujos!A110","v":"2026-12-06"},{"$f":"+Flujos!L110","v":-8.869171142578125E-4},{"$f":"+Flujos!M110","v":0},{"$f":"+Flujos!N110","v":-4.5827007293701176E-6},{"$f":"+Flujos!O110","v":-4.5827007293701176E-6},null,"2033-03-06",{"$f":"IF(G110<CALCULADORA!$C$23,0,IF(CALCULADORA!$C$27>'TIR de Tenencia'!G110,E110,CALCULADORA!$C$33))","v":181632901610}," "," ",null,6,4,2033]
[{"$f":"+Flujos!A111","v":"2027-01-06"},{"$f":"+Flujos!L111","v":-8.869171142578125E-4},{"$f":"+Flujos!M111","v":0},{"$f":"+Flujos!N111","v":-4.5827007293701176E-6},{"$f":"+Flujos!O111","v":-4.5827007293701176E-6},null,"2033-04-06",{"$f":"IF(G111<CALCULADORA!$C$23,0,IF(CALCULADORA!$C$27>'TIR de Tenencia'!G111,E111,CALCULADORA!$C$33))","v":181632901610}," "," ",null,6,5,{"$f":"+IF(M111=1,N110+1,N110)","v":2033}]
[{"$f":"+Flujos!A112","v":"2027-02-06"},{"$f":"+Flujos!L112","v":-8.869171142578125E-4},{"$f":"+Flujos!M112","v":0},{"$f":"+Flujos!N112","v":-4.5827007293701176E-6},{"$f":"+Flujos!O112","v":-4.5827007293701176E-6},null,"2033-05-06",{"$f":"IF(G112<CALCULADORA!$C$23,0,IF(CALCULADORA!$C$27>'TIR de Tenencia'!G112,E112,CALCULADORA!$C$33))","v":181632901610}," "," ",null,6,6,2033]
[{"$f":"+Flujos!A113","v":"2027-03-06"},{"$f":"+Flujos!L113","v":-8.869171142578125E-4},{"$f":"+Flujos!M113","v":0},{"$f":"+Flujos!N113","v":-4.5827007293701176E-6},{"$f":"+Flujos!O113","v":-4.5827007293701176E-6},null,"2033-06-06",{"$f":"IF(G113<CALCULADORA!$C$23,0,IF(CALCULADORA!$C$27>'TIR de Tenencia'!G113,E113,CALCULADORA!$C$33))","v":181632901610}," "," ",null,6,7,2033]
[{"$f":"+Flujos!A114","v":"2027-04-06"},{"$f":"+Flujos!L114","v":-8.869171142578125E-4},{"$f":"+Flujos!M114","v":0},{"$f":"+Flujos!N114","v":-4.5827007293701176E-6},{"$f":"+Flujos!O114","v":-4.5827007293701176E-6},null,"2033-07-06",{"$f":"IF(G114<CALCULADORA!$C$23,0,IF(CALCULADORA!$C$27>'TIR de Tenencia'!G114,E114,CALCULADORA!$C$33))","v":181632901610}," "," ",null,6,8,2033]
[{"$f":"+Flujos!A115","v":"2027-05-06"},{"$f":"+Flujos!L115","v":-8.869171142578125E-4},{"$f":"+Flujos!M115","v":0},{"$f":"+Flujos!N115","v":-4.5827007293701176E-6},{"$f":"+Flujos!O115","v":-4.5827007293701176E-6},null,"2033-08-06",{"$f":"IF(G115<CALCULADORA!$C$23,0,IF(CALCULADORA!$C$27>'TIR de Tenencia'!G115,E115,CALCULADORA!$C$33))","v":181632901610}," "," ",null,6,9,2033]
[{"$f":"+Flujos!A116","v":"2027-06-06"},{"$f":"+Flujos!L116","v":-8.869171142578125E-4},{"$f":"+Flujos!M116","v":0},{"$f":"+Flujos!N116","v":-4.5827007293701176E-6},{"$f":"+Flujos!O116","v":-4.5827007293701176E-6},null,"2033-09-06",{"$f":"IF(G116<CALCULADORA!$C$23,0,IF(CALCULADORA!$C$27>'TIR de Tenencia'!G116,E116,CALCULADORA!$C$33))","v":181632901610}," "," ",null,6,10,2033]
[{"$f":"+Flujos!A117","v":"2027-07-06"},{"$f":"+Flujos!L117","v":-8.869171142578125E-4},{"$f":"+Flujos!M117","v":0},{"$f":"+Flujos!N117","v":-4.5827007293701176E-6},{"$f":"+Flujos!O117","v":-4.5827007293701176E-6},null,"2033-10-06",{"$f":"IF(G117<CALCULADORA!$C$23,0,IF(CALCULADORA!$C$27>'TIR de Tenencia'!G117,E117,CALCULADORA!$C$33))","v":181632901610}," "," ",null,6,11,2033]
[{"$f":"+Flujos!A118","v":"2027-08-06"},{"$f":"+Flujos!L118","v":-8.869171142578125E-4},{"$f":"+Flujos!M118","v":0},{"$f":"+Flujos!N118","v":-4.5827007293701176E-6},{"$f":"+Flujos!O118","v":-4.5827007293701176E-6},null,"2033-11-06",{"$f":"IF(G118<CALCULADORA!$C$23,0,IF(CALCULADORA!$C$27>'TIR de Tenencia'!G118,E118,CALCULADORA!$C$33))","v":181632901610}," "," ",null,6,12,2033]
[{"$f":"+Flujos!A119","v":"2027-09-06"},{"$f":"+Flujos!L119","v":-8.869171142578125E-4},{"$f":"+Flujos!M119","v":0},{"$f":"+Flujos!N119","v":-4.5827007293701176E-6},{"$f":"+Flujos!O119","v":-4.5827007293701176E-6},null,"2033-12-06",{"$f":"IF(G119<CALCULADORA!$C$23,0,IF(CALCULADORA!$C$27>'TIR de Tenencia'!G119,E119,CALCULADORA!$C$33))","v":181632901610}," "," ",null,6,1,2034]
[{"$f":"+Flujos!A120","v":"2027-10-06"},{"$f":"+Flujos!L120","v":-8.869171142578125E-4},{"$f":"+Flujos!M120","v":0},{"$f":"+Flujos!N120","v":-4.5827007293701176E-6},{"$f":"+Flujos!O120","v":-4.5827007293701176E-6},null,"2034-01-06",{"$f":"IF(G120<CALCULADORA!$C$23,0,IF(CALCULADORA!$C$27>'TIR de Tenencia'!G120,E120,CALCULADORA!$C$33))","v":181632901610}," "," ",null,6,2,2034]
[{"$f":"+Flujos!A121","v":"2027-11-06"},{"$f":"+Flujos!L121","v":-8.869171142578125E-4},{"$f":"+Flujos!M121","v":0},{"$f":"+Flujos!N121","v":-4.5827007293701176E-6},{"$f":"+Flujos!O121","v":-4.5827007293701176E-6},null,"2034-02-06",{"$f":"IF(G121<CALCULADORA!$C$23,0,IF(CALCULADORA!$C$27>'TIR de Tenencia'!G121,E121,CALCULADORA!$C$33))","v":181632901610}," "," ",null,6,3,2034]
[{"$f":"+Flujos!A122","v":"2027-12-06"},{"$f":"+Flujos!L122","v":-8.869171142578125E-4},{"$f":"+Flujos!M122","v":0},{"$f":"+Flujos!N122","v":-4.5827007293701176E-6},{"$f":"+Flujos!O122","v":-4.5827007293701176E-6},null,"2034-03-06",{"$f":"IF(G122<CALCULADORA!$C$23,0,IF(CALCULADORA!$C$27>'TIR de Tenencia'!G122,E122,CALCULADORA!$C$33))","v":181632901610}," "," ",null,6,4,2034]
[{"$f":"+Flujos!A123","v":"2028-01-06"},{"$f":"+Flujos!L123","v":-8.869171142578125E-4},{"$f":"+Flujos!M123","v":0},{"$f":"+Flujos!N123","v":-4.5827007293701176E-6},{"$f":"+Flujos!O123","v":-4.5827007293701176E-6},null,"2034-04-06",{"$f":"IF(G123<CALCULADORA!$C$23,0,IF(CALCULADORA!$C$27>'TIR de Tenencia'!G123,E123,CALCULADORA!$C$33))","v":181632901610}," "," ",null,6,5,2034]
[{"$f":"+Flujos!A124","v":"2028-02-06"},{"$f":"+Flujos!L124","v":-8.869171142578125E-4},{"$f":"+Flujos!M124","v":0},{"$f":"+Flujos!N124","v":-4.5827007293701176E-6},{"$f":"+Flujos!O124","v":-4.5827007293701176E-6},null,"2034-05-06",{"$f":"IF(G124<CALCULADORA!$C$23,0,IF(CALCULADORA!$C$27>'TIR de Tenencia'!G124,E124,CALCULADORA!$C$33))","v":181632901610}," "," ",null,6,6,2034]
[{"$f":"+Flujos!A125","v":"2028-03-06"},{"$f":"+Flujos!L125","v":-8.869171142578125E-4},{"$f":"+Flujos!M125","v":0},{"$f":"+Flujos!N125","v":-4.5827007293701176E-6},{"$f":"+Flujos!O125","v":-4.5827007293701176E-6},null,"2034-06-06",{"$f":"IF(G125<CALCULADORA!$C$23,0,IF(CALCULADORA!$C$27>'TIR de Tenencia'!G125,E125,CALCULADORA!$C$33))","v":181632901610}," "," ",null,6,7,2034]
[{"$f":"+Flujos!A126","v":"2028-04-06"},{"$f":"+Flujos!L126","v":-8.869171142578125E-4},{"$f":"+Flujos!M126","v":0},{"$f":"+Flujos!N126","v":-4.5827007293701176E-6},{"$f":"+Flujos!O126","v":-4.5827007293701176E-6},null,"2034-07-06",{"$f":"IF(G126<CALCULADORA!$C$23,0,IF(CALCULADORA!$C$27>'TIR de Tenencia'!G126,E126,CALCULADORA!$C$33))","v":181632901610}," "," ",null,6,8,2034]
[{"$f":"+Flujos!A127","v":"2028-05-06"},{"$f":"+Flujos!L127","v":-8.869171142578125E-4},{"$f":"+Flujos!M127","v":0},{"$f":"+Flujos!N127","v":-4.5827007293701176E-6},{"$f":"+Flujos!O127","v":-4.5827007293701176E-6},null,"2034-08-06",{"$f":"IF(G127<CALCULADORA!$C$23,0,IF(CALCULADORA!$C$27>'TIR de Tenencia'!G127,E127,CALCULADORA!$C$33))","v":181632901610}," "," ",null,6,9,2034]
[{"$f":"+Flujos!A128","v":"2028-06-06"},{"$f":"+Flujos!L128","v":-8.869171142578125E-4},{"$f":"+Flujos!M128","v":0},{"$f":"+Flujos!N128","v":-4.5827007293701176E-6},{"$f":"+Flujos!O128","v":-4.5827007293701176E-6},null,"2034-09-06",{"$f":"IF(G128<CALCULADORA!$C$23,0,IF(CALCULADORA!$C$27>'TIR de Tenencia'!G128,E128,CALCULADORA!$C$33))","v":181632901610}," "," ",null,6,10,2034]
[{"$f":"+Flujos!A129","v":"2028-07-06"},{"$f":"+Flujos!L129","v":-8.869171142578125E-4},{"$f":"+Flujos!M129","v":0},{"$f":"+Flujos!N129","v":-4.5827007293701176E-6},{"$f":"+Flujos!O129","v":-4.5827007293701176E-6},null,"2034-10-06",{"$f":"IF(G129<CALCULADORA!$C$23,0,IF(CALCULADORA!$C$27>'TIR de Tenencia'!G129,E129,CALCULADORA!$C$33))","v":181632901610}," "," ",null,6,11,2034]
[{"$f":"+Flujos!A130","v":"2028-08-06"},{"$f":"+Flujos!L130","v":-8.869171142578125E-4},{"$f":"+Flujos!M130","v":0},{"$f":"+Flujos!N130","v":-4.5827007293701176E-6},{"$f":"+Flujos!O130","v":-4.5827007293701176E-6},null,"2034-11-06",{"$f":"IF(G130<CALCULADORA!$C$23,0,IF(CALCULADORA!$C$27>'TIR de Tenencia'!G130,E130,CALCULADORA!$C$33))","v":181632901610}," "," ",null,6,12,2034]
[{"$f":"+Flujos!A131","v":"2028-09-06"},{"$f":"+Flujos!L131","v":-8.869171142578125E-4},{"$f":"+Flujos!M131","v":0},{"$f":"+Flujos!N131","v":-4.5827007293701176E-6},{"$f":"+Flujos!O131","v":-4.5827007293701176E-6},null,{"$f":"+DATE(N130,M130,L130)","v":"2034-12-06"},{"$f":"IF(G131<CALCULADORA!$C$23,0,IF(CALCULADORA!$C$27>'TIR de Tenencia'!G131,E131,CALCULADORA!$C$33))","v":181632901610}," "," ",null,{"$f":"+L130","v":6},{"$f":"+IF(M130=12,1,M130+1)","v":1},{"$f":"+IF(M131=1,N130+1,N130)","v":2035}]
[{"$f":"+Flujos!A132","v":"2028-10-06"},{"$f":"+Flujos!L132","v":-8.869171142578125E-4},{"$f":"+Flujos!M132","v":0},{"$f":"+Flujos!N132","v":-4.5827007293701176E-6},{"$f":"+Flujos!O132","v":-4.5827007293701176E-6},null,"2035-01-06",{"$f":"IF(G132<CALCULADORA!$C$23,0,IF(CALCULADORA!$C$27>'TIR de Tenencia'!G132,E132,CALCULADORA!$C$33))","v":181632901610},{"$f":"+IF(H132=H131,\" \",G132)","v":" "},{"$f":"+IF(H132=H131,\" \",H132)","v":" "},null,6,2,2035]
[{"$f":"+Flujos!A133","v":"2028-11-06"},{"$f":"+Flujos!L133","v":-8.869171142578125E-4},{"$f":"+Flujos!M133","v":0},{"$f":"+Flujos!N133","v":-4.5827007293701176E-6},{"$f":"+Flujos!O133","v":-4.5827007293701176E-6},null,"2035-02-06",{"$f":"IF(G133<CALCULADORA!$C$23,0,IF(CALCULADORA!$C$27>'TIR de Tenencia'!G133,E133,CALCULADORA!$C$33))","v":181632901610}," "," ",null,6,3,2035]
[{"$f":"+Flujos!A134","v":"2028-12-06"},{"$f":"+Flujos!L134","v":-8.869171142578125E-4},{"$f":"+Flujos!M134","v":0},{"$f":"+Flujos!N134","v":-4.5827007293701176E-6},{"$f":"+Flujos!O134","v":-4.5827007293701176E-6},null,"2035-03-06",{"$f":"IF(G134<CALCULADORA!$C$23,0,IF(CALCULADORA!$C$27>'TIR de Tenencia'!G134,E134,CALCULADORA!$C$33))","v":181632901610}," "," ",null,6,4,2035]
[{"$f":"+Flujos!A135","v":"2029-01-06"},{"$f":"+Flujos!L135","v":-8.869171142578125E-4},{"$f":"+Flujos!M135","v":0},{"$f":"+Flujos!N135","v":-4.5827007293701176E-6},{"$f":"+Flujos!O135","v":-4.5827007293701176E-6},null,"2035-04-06",{"$f":"IF(G135<CALCULADORA!$C$23,0,IF(CALCULADORA!$C$27>'TIR de Tenencia'!G135,E135,CALCULADORA!$C$33))","v":181632901610}," "," ",null,6,5,2035]
[{"$f":"+Flujos!A136","v":"2029-02-06"},{"$f":"+Flujos!L136","v":-8.869171142578125E-4},{"$f":"+Flujos!M136","v":0},{"$f":"+Flujos!N136","v":-4.5827007293701176E-6},{"$f":"+Flujos!O136","v":-4.5827007293701176E-6},null,"2035-05-06",{"$f":"IF(G136<CALCULADORA!$C$23,0,IF(CALCULADORA!$C$27>'TIR de Tenencia'!G136,E136,CALCULADORA!$C$33))","v":181632901610}," "," ",null,6,6,2035]
[{"$f":"+Flujos!A137","v":"2029-03-06"},{"$f":"+Flujos!L137","v":-8.869171142578125E-4},{"$f":"+Flujos!M137","v":0},{"$f":"+Flujos!N137","v":-4.5827007293701176E-6},{"$f":"+Flujos!O137","v":-4.5827007293701176E-6},null,"2035-06-06",{"$f":"IF(G137<CALCULADORA!$C$23,0,IF(CALCULADORA!$C$27>'TIR de Tenencia'!G137,E137,CALCULADORA!$C$33))","v":181632901610}," "," ",null,6,7,2035]
[{"$f":"+Flujos!A138","v":"2029-04-06"},{"$f":"+Flujos!L138","v":-8.869171142578125E-4},{"$f":"+Flujos!M138","v":0},{"$f":"+Flujos!N138","v":-4.5827007293701176E-6},{"$f":"+Flujos!O138","v":-4.5827007293701176E-6},null,"2035-07-06",{"$f":"IF(G138<CALCULADORA!$C$23,0,IF(CALCULADORA!$C$27>'TIR de Tenencia'!G138,E138,CALCULADORA!$C$33))","v":181632901610}," "," ",null,6,8,2035]
[{"$f":"+Flujos!A139","v":"2029-05-06"},{"$f":"+Flujos!L139","v":-8.869171142578125E-4},{"$f":"+Flujos!M139","v":0},{"$f":"+Flujos!N139","v":-4.5827007293701176E-6},{"$f":"+Flujos!O139","v":-4.5827007293701176E-6},null,"2035-08-06",{"$f":"IF(G139<CALCULADORA!$C$23,0,IF(CALCULADORA!$C$27>'TIR de Tenencia'!G139,E139,CALCULADORA!$C$33))","v":181632901610}," "," ",null,6,9,2035]
[{"$f":"+Flujos!A140","v":"2029-06-06"},{"$f":"+Flujos!L140","v":-8.869171142578125E-4},{"$f":"+Flujos!M140","v":0},{"$f":"+Flujos!N140","v":-4.5827007293701176E-6},{"$f":"+Flujos!O140","v":-4.5827007293701176E-6},null,"2035-09-06",{"$f":"IF(G140<CALCULADORA!$C$23,0,IF(CALCULADORA!$C$27>'TIR de Tenencia'!G140,E140,CALCULADORA!$C$33))","v":181632901610}," "," ",null,6,10,2035]
[{"$f":"+Flujos!A141","v":"2029-07-06"},{"$f":"+Flujos!L141","v":-8.869171142578125E-4},{"$f":"+Flujos!M141","v":0},{"$f":"+Flujos!N141","v":-4.5827007293701176E-6},{"$f":"+Flujos!O141","v":-4.5827007293701176E-6},null,"2035-10-06",{"$f":"IF(G141<CALCULADORA!$C$23,0,IF(CALCULADORA!$C$27>'TIR de Tenencia'!G141,E141,CALCULADORA!$C$33))","v":181632901610}," "," ",null,6,11,2035]
[{"$f":"+Flujos!A142","v":"2029-08-06"},{"$f":"+Flujos!L142","v":-8.869171142578125E-4},{"$f":"+Flujos!M142","v":0},{"$f":"+Flujos!N142","v":-4.5827007293701176E-6},{"$f":"+Flujos!O142","v":-4.5827007293701176E-6},null,"2035-11-06",{"$f":"IF(G142<CALCULADORA!$C$23,0,IF(CALCULADORA!$C$27>'TIR de Tenencia'!G142,E142,CALCULADORA!$C$33))","v":181632901610}," "," ",null,6,12,2035]
[{"$f":"+Flujos!A143","v":"2029-09-06"},{"$f":"+Flujos!L143","v":-8.869171142578125E-4},{"$f":"+Flujos!M143","v":0},{"$f":"+Flujos!N143","v":-4.5827007293701176E-6},{"$f":"+Flujos!O143","v":-4.5827007293701176E-6},null,"2035-12-06",{"$f":"IF(G143<CALCULADORA!$C$23,0,IF(CALCULADORA!$C$27>'TIR de Tenencia'!G143,E143,CALCULADORA!$C$33))","v":181632901610}," "," ",null,6,1,2036]
[{"$f":"+Flujos!A144","v":"2029-10-06"},{"$f":"+Flujos!L144","v":-8.869171142578125E-4},{"$f":"+Flujos!M144","v":0},{"$f":"+Flujos!N144","v":-4.5827007293701176E-6},{"$f":"+Flujos!O144","v":-4.5827007293701176E-6},null,"2036-01-06",{"$f":"IF(G144<CALCULADORA!$C$23,0,IF(CALCULADORA!$C$27>'TIR de Tenencia'!G144,E144,CALCULADORA!$C$33))","v":181632901610}," "," ",null,6,2,2036]
[{"$f":"+Flujos!A145","v":"2029-11-06"},{"$f":"+Flujos!L145","v":-8.869171142578125E-4},{"$f":"+Flujos!M145","v":0},{"$f":"+Flujos!N145","v":-4.5827007293701176E-6},{"$f":"+Flujos!O145","v":-4.5827007293701176E-6},null,"2036-02-06",{"$f":"IF(G145<CALCULADORA!$C$23,0,IF(CALCULADORA!$C$27>'TIR de Tenencia'!G145,E145,CALCULADORA!$C$33))","v":181632901610}," "," ",null,6,3,2036]
[{"$f":"+Flujos!A146","v":"2029-12-06"},{"$f":"+Flujos!L146","v":-8.869171142578125E-4},{"$f":"+Flujos!M146","v":0},{"$f":"+Flujos!N146","v":-4.5827007293701176E-6},{"$f":"+Flujos!O146","v":-4.5827007293701176E-6},null,"2036-03-06",{"$f":"IF(G146<CALCULADORA!$C$23,0,IF(CALCULADORA!$C$27>'TIR de Tenencia'!G146,E146,CALCULADORA!$C$33))","v":181632901610}," "," ",null,6,4,2036]
[{"$f":"+Flujos!A147","v":"2030-01-06"},{"$f":"+Flujos!L147","v":-8.869171142578125E-4},{"$f":"+Flujos!M147","v":0},{"$f":"+Flujos!N147","v":-4.5827007293701176E-6},{"$f":"+Flujos!O147","v":-4.5827007293701176E-6},null,"2036-04-06",{"$f":"IF(G147<CALCULADORA!$C$23,0,IF(CALCULADORA!$C$27>'TIR de Tenencia'!G147,E147,CALCULADORA!$C$33))","v":181632901610}," "," ",null,6,5,2036]
[{"$f":"+Flujos!A148","v":"2030-02-06"},{"$f":"+Flujos!L148","v":-8.869171142578125E-4},{"$f":"+Flujos!M148","v":0},{"$f":"+Flujos!N148","v":-4.5827007293701176E-6},{"$f":"+Flujos!O148","v":-4.5827007293701176E-6},null,"2036-05-06",{"$f":"IF(G148<CALCULADORA!$C$23,0,IF(CALCULADORA!$C$27>'TIR de Tenencia'!G148,E148,CALCULADORA!$C$33))","v":181632901610}," "," ",null,6,6,2036]
[{"$f":"+Flujos!A149","v":"2030-03-06"},{"$f":"+Flujos!L149","v":-8.869171142578125E-4},{"$f":"+Flujos!M149","v":0},{"$f":"+Flujos!N149","v":-4.5827007293701176E-6},{"$f":"+Flujos!O149","v":-4.5827007293701176E-6},null,"2036-06-06",{"$f":"IF(G149<CALCULADORA!$C$23,0,IF(CALCULADORA!$C$27>'TIR de Tenencia'!G149,E149,CALCULADORA!$C$33))","v":181632901610}," "," ",null,6,7,2036]
[{"$f":"+Flujos!A150","v":"2030-04-06"},{"$f":"+Flujos!L150","v":-8.869171142578125E-4},{"$f":"+Flujos!M150","v":0},{"$f":"+Flujos!N150","v":-4.5827007293701176E-6},{"$f":"+Flujos!O150","v":-4.5827007293701176E-6},null,"2036-07-06",{"$f":"IF(G150<CALCULADORA!$C$23,0,IF(CALCULADORA!$C$27>'TIR de Tenencia'!G150,E150,CALCULADORA!$C$33))","v":181632901610}," "," ",null,6,8,2036]
[{"$f":"+Flujos!A151","v":"2030-05-06"},{"$f":"+Flujos!L151","v":-8.869171142578125E-4},{"$f":"+Flujos!M151","v":0},{"$f":"+Flujos!N151","v":-4.5827007293701176E-6},{"$f":"+Flujos!O151","v":-4.5827007293701176E-6},null,"2036-08-06",{"$f":"IF(G151<CALCULADORA!$C$23,0,IF(CALCULADORA!$C$27>'TIR de Tenencia'!G151,E151,CALCULADORA!$C$33))","v":181632901610}," "," ",null,6,9,2036]
[{"$f":"+Flujos!A152","v":"2030-06-06"},{"$f":"+Flujos!L152","v":-8.869171142578125E-4},{"$f":"+Flujos!M152","v":0},{"$f":"+Flujos!N152","v":-4.5827007293701176E-6},{"$f":"+Flujos!O152","v":-4.5827007293701176E-6},null,"2036-09-06",{"$f":"IF(G152<CALCULADORA!$C$23,0,IF(CALCULADORA!$C$27>'TIR de Tenencia'!G152,E152,CALCULADORA!$C$33))","v":181632901610}," "," ",null,6,10,2036]
[{"$f":"+Flujos!A153","v":"2030-07-06"},{"$f":"+Flujos!L153","v":-8.869171142578125E-4},{"$f":"+Flujos!M153","v":0},{"$f":"+Flujos!N153","v":-4.5827007293701176E-6},{"$f":"+Flujos!O153","v":-4.5827007293701176E-6},null,"2036-10-06",{"$f":"IF(G153<CALCULADORA!$C$23,0,IF(CALCULADORA!$C$27>'TIR de Tenencia'!G153,E153,CALCULADORA!$C$33))","v":181632901610}," "," ",null,6,11,2036]
[{"$f":"+Flujos!A154","v":"2030-08-06"},{"$f":"+Flujos!L154","v":-8.869171142578125E-4},{"$f":"+Flujos!M154","v":0},{"$f":"+Flujos!N154","v":-4.5827007293701176E-6},{"$f":"+Flujos!O154","v":-4.5827007293701176E-6},null,"2036-11-06",{"$f":"IF(G154<CALCULADORA!$C$23,0,IF(CALCULADORA!$C$27>'TIR de Tenencia'!G154,E154,CALCULADORA!$C$33))","v":181632901610}," "," ",null,6,12,2036]
[{"$f":"+Flujos!A155","v":"2030-09-06"},{"$f":"+Flujos!L155","v":-8.869171142578125E-4},{"$f":"+Flujos!M155","v":0},{"$f":"+Flujos!N155","v":-4.5827007293701176E-6},{"$f":"+Flujos!O155","v":-4.5827007293701176E-6},null,"2036-12-06",{"$f":"IF(G155<CALCULADORA!$C$23,0,IF(CALCULADORA!$C$27>'TIR de Tenencia'!G155,E155,CALCULADORA!$C$33))","v":181632901610}," "," ",null,6,1,2037]
[{"$f":"+Flujos!A156","v":"2030-10-06"},{"$f":"+Flujos!L156","v":-8.869171142578125E-4},{"$f":"+Flujos!M156","v":0},{"$f":"+Flujos!N156","v":-4.5827007293701176E-6},{"$f":"+Flujos!O156","v":-4.5827007293701176E-6},null,"2037-01-06",{"$f":"IF(G156<CALCULADORA!$C$23,0,IF(CALCULADORA!$C$27>'TIR de Tenencia'!G156,E156,CALCULADORA!$C$33))","v":181632901610}," "," ",null,6,2,2037]
[{"$f":"+Flujos!A157","v":"2030-11-06"},{"$f":"+Flujos!L157","v":-8.869171142578125E-4},{"$f":"+Flujos!M157","v":0},{"$f":"+Flujos!N157","v":-4.5827007293701176E-6},{"$f":"+Flujos!O157","v":-4.5827007293701176E-6},null,"2037-02-06",{"$f":"IF(G157<CALCULADORA!$C$23,0,IF(CALCULADORA!$C$27>'TIR de Tenencia'!G157,E157,CALCULADORA!$C$33))","v":181632901610}," "," ",null,6,3,2037]
[{"$f":"+Flujos!A158","v":"2030-12-06"},{"$f":"+Flujos!L158","v":-8.869171142578125E-4},{"$f":"+Flujos!M158","v":0},{"$f":"+Flujos!N158","v":-4.5827007293701176E-6},{"$f":"+Flujos!O158","v":-4.5827007293701176E-6},null,"2037-03-06",{"$f":"IF(G158<CALCULADORA!$C$23,0,IF(CALCULADORA!$C$27>'TIR de Tenencia'!G158,E158,CALCULADORA!$C$33))","v":181632901610}," "," ",null,6,4,2037]
[{"$f":"+Flujos!A159","v":"2031-01-06"},{"$f":"+Flujos!L159","v":-8.869171142578125E-4},{"$f":"+Flujos!M159","v":0},{"$f":"+Flujos!N159","v":-4.5827007293701176E-6},{"$f":"+Flujos!O159","v":-4.5827007293701176E-6},null,"2037-04-06",{"$f":"IF(G159<CALCULADORA!$C$23,0,IF(CALCULADORA!$C$27>'TIR de Tenencia'!G159,E159,CALCULADORA!$C$33))","v":181632901610}," "," ",null,6,5,2037]
[{"$f":"+Flujos!A160","v":"2031-02-06"},{"$f":"+Flujos!L160","v":-8.869171142578125E-4},{"$f":"+Flujos!M160","v":0},{"$f":"+Flujos!N160","v":-4.5827007293701176E-6},{"$f":"+Flujos!O160","v":-4.5827007293701176E-6},null,"2037-05-06",{"$f":"IF(G160<CALCULADORA!$C$23,0,IF(CALCULADORA!$C$27>'TIR de Tenencia'!G160,E160,CALCULADORA!$C$33))","v":181632901610}," "," ",null,6,6,2037]
[{"$f":"+Flujos!A161","v":"2031-03-06"},{"$f":"+Flujos!L161","v":-8.869171142578125E-4},{"$f":"+Flujos!M161","v":0},{"$f":"+Flujos!N161","v":-4.5827007293701176E-6},{"$f":"+Flujos!O161","v":-4.5827007293701176E-6},null,"2037-06-06",{"$f":"IF(G161<CALCULADORA!$C$23,0,IF(CALCULADORA!$C$27>'TIR de Tenencia'!G161,E161,CALCULADORA!$C$33))","v":181632901610}," "," ",null,6,7,2037]
[{"$f":"+Flujos!A162","v":"2031-04-06"},{"$f":"+Flujos!L162","v":-8.869171142578125E-4},{"$f":"+Flujos!M162","v":0},{"$f":"+Flujos!N162","v":-4.5827007293701176E-6},{"$f":"+Flujos!O162","v":-4.5827007293701176E-6},null,"2037-07-06",{"$f":"IF(G162<CALCULADORA!$C$23,0,IF(CALCULADORA!$C$27>'TIR de Tenencia'!G162,E162,CALCULADORA!$C$33))","v":181632901610}," "," ",null,6,8,2037]
[{"$f":"+Flujos!A163","v":"2031-05-06"},{"$f":"+Flujos!L163","v":-8.869171142578125E-4},{"$f":"+Flujos!M163","v":0},{"$f":"+Flujos!N163","v":-4.5827007293701176E-6},{"$f":"+Flujos!O163","v":-4.5827007293701176E-6},null,{"$f":"+DATE(N162,M162,L162)","v":"2037-08-06"},{"$f":"IF(G163<CALCULADORA!$C$23,0,IF(CALCULADORA!$C$27>'TIR de Tenencia'!G163,E163,CALCULADORA!$C$33))","v":181632901610}," "," ",null,6,9,2037]
[{"$f":"+Flujos!A164","v":"2031-06-06"},{"$f":"+Flujos!L164","v":-8.869171142578125E-4},{"$f":"+Flujos!M164","v":0},{"$f":"+Flujos!N164","v":-4.5827007293701176E-6},{"$f":"+Flujos!O164","v":-4.5827007293701176E-6},null,"2037-09-06",{"$f":"IF(G164<CALCULADORA!$C$23,0,IF(CALCULADORA!$C$27>'TIR de Tenencia'!G164,E164,CALCULADORA!$C$33))","v":181632901610}," "," ",null,6,10,2037]
[{"$f":"+Flujos!A165","v":"2031-07-06"},{"$f":"+Flujos!L165","v":-8.869171142578125E-4},{"$f":"+Flujos!M165","v":0},{"$f":"+Flujos!N165","v":-4.5827007293701176E-6},{"$f":"+Flujos!O165","v":-4.5827007293701176E-6},null,"2037-10-06",{"$f":"IF(G165<CALCULADORA!$C$23,0,IF(CALCULADORA!$C$27>'TIR de Tenencia'!G165,E165,CALCULADORA!$C$33))","v":181632901610}," "," ",null,6,11,2037]
[{"$f":"+Flujos!A166","v":"2031-08-06"},{"$f":"+Flujos!L166","v":-8.869171142578125E-4},{"$f":"+Flujos!M166","v":0},{"$f":"+Flujos!N166","v":-4.5827007293701176E-6},{"$f":"+Flujos!O166","v":-4.5827007293701176E-6},null,"2037-11-06",{"$f":"IF(G166<CALCULADORA!$C$23,0,IF(CALCULADORA!$C$27>'TIR de Tenencia'!G166,E166,CALCULADORA!$C$33))","v":181632901610}," "," ",null,6,12,2037]
[{"$f":"+Flujos!A167","v":"2031-09-06"},{"$f":"+Flujos!L167","v":-8.869171142578125E-4},{"$f":"+Flujos!M167","v":0},{"$f":"+Flujos!N167","v":-4.5827007293701176E-6},{"$f":"+Flujos!O167","v":-4.5827007293701176E-6},null,"2037-12-06",{"$f":"IF(G167<CALCULADORA!$C$23,0,IF(CALCULADORA!$C$27>'TIR de Tenencia'!G167,E167,CALCULADORA!$C$33))","v":181632901610}," "," ",null,6,1,2038]
[{"$f":"+Flujos!A168","v":"2031-10-06"},{"$f":"+Flujos!L168","v":-8.869171142578125E-4},{"$f":"+Flujos!M168","v":0},{"$f":"+Flujos!N168","v":-4.5827007293701176E-6},{"$f":"+Flujos!O168","v":-4.5827007293701176E-6},null,"2038-01-06",{"$f":"IF(G168<CALCULADORA!$C$23,0,IF(CALCULADORA!$C$27>'TIR de Tenencia'!G168,E168,CALCULADORA!$C$33))","v":181632901610}," "," ",null,6,2,2038]
[{"$f":"+Flujos!A169","v":"2031-11-06"},{"$f":"+Flujos!L169","v":-8.869171142578125E-4},{"$f":"+Flujos!M169","v":0},{"$f":"+Flujos!N169","v":-4.5827007293701176E-6},{"$f":"+Flujos!O169","v":-4.5827007293701176E-6},null,"2038-02-06",{"$f":"IF(G169<CALCULADORA!$C$23,0,IF(CALCULADORA!$C$27>'TIR de Tenencia'!G169,E169,CALCULADORA!$C$33))","v":181632901610}," "," ",null,6,3,2038]
[{"$f":"+Flujos!A170","v":"2031-12-06"},{"$f":"+Flujos!L170","v":-8.869171142578125E-4},{"$f":"+Flujos!M170","v":0},{"$f":"+Flujos!N170","v":-4.5827007293701176E-6},{"$f":"+Flujos!O170","v":-4.5827007293701176E-6},null,"2038-03-06",{"$f":"IF(G170<CALCULADORA!$C$23,0,IF(CALCULADORA!$C$27>'TIR de Tenencia'!G170,E170,CALCULADORA!$C$33))","v":181632901610}," "," ",null,6,4,2038]
[{"$f":"+Flujos!A171","v":"2032-01-06"},{"$f":"+Flujos!L171","v":-8.869171142578125E-4},{"$f":"+Flujos!M171","v":0},{"$f":"+Flujos!N171","v":-4.5827007293701176E-6},{"$f":"+Flujos!O171","v":-4.5827007293701176E-6},null,"2038-04-06",{"$f":"IF(G171<CALCULADORA!$C$23,0,IF(CALCULADORA!$C$27>'TIR de Tenencia'!G171,E171,CALCULADORA!$C$33))","v":181632901610}," "," ",null,6,5,2038]
[{"$f":"+Flujos!A172","v":"2032-02-06"},{"$f":"+Flujos!L172","v":-8.869171142578125E-4},{"$f":"+Flujos!M172","v":0},{"$f":"+Flujos!N172","v":-4.5827007293701176E-6},{"$f":"+Flujos!O172","v":-4.5827007293701176E-6},null,"2038-05-06",{"$f":"IF(G172<CALCULADORA!$C$23,0,IF(CALCULADORA!$C$27>'TIR de Tenencia'!G172,E172,CALCULADORA!$C$33))","v":181632901610}," "," ",null,6,6,2038]
[{"$f":"+Flujos!A173","v":"2032-03-06"},{"$f":"+Flujos!L173","v":-8.869171142578125E-4},{"$f":"+Flujos!M173","v":0},{"$f":"+Flujos!N173","v":-4.5827007293701176E-6},{"$f":"+Flujos!O173","v":-4.5827007293701176E-6},null,"2038-06-06",{"$f":"IF(G173<CALCULADORA!$C$23,0,IF(CALCULADORA!$C$27>'TIR de Tenencia'!G173,E173,CALCULADORA!$C$33))","v":181632901610}," "," ",null,6,7,2038]
[{"$f":"+Flujos!A174","v":"2032-04-06"},{"$f":"+Flujos!L174","v":-8.869171142578125E-4},{"$f":"+Flujos!M174","v":0},{"$f":"+Flujos!N174","v":-4.5827007293701176E-6},{"$f":"+Flujos!O174","v":-4.5827007293701176E-6},null,"2038-07-06",{"$f":"IF(G174<CALCULADORA!$C$23,0,IF(CALCULADORA!$C$27>'TIR de Tenencia'!G174,E174,CALCULADORA!$C$33))","v":181632901610}," "," ",null,6,8,2038]
[{"$f":"+Flujos!A175","v":"2032-05-06"},{"$f":"+Flujos!L175","v":-8.869171142578125E-4},{"$f":"+Flujos!M175","v":0},{"$f":"+Flujos!N175","v":-4.5827007293701176E-6},{"$f":"+Flujos!O175","v":-4.5827007293701176E-6},null,"2038-08-06",{"$f":"IF(G175<CALCULADORA!$C$23,0,IF(CALCULADORA!$C$27>'TIR de Tenencia'!G175,E175,CALCULADORA!$C$33))","v":181632901610}," "," ",null,6,9,2038]
[{"$f":"+Flujos!A176","v":"2032-06-06"},{"$f":"+Flujos!L176","v":-8.869171142578125E-4},{"$f":"+Flujos!M176","v":0},{"$f":"+Flujos!N176","v":-4.5827007293701176E-6},{"$f":"+Flujos!O176","v":-4.5827007293701176E-6},null,"2038-09-06",{"$f":"IF(G176<CALCULADORA!$C$23,0,IF(CALCULADORA!$C$27>'TIR de Tenencia'!G176,E176,CALCULADORA!$C$33))","v":181632901610}," "," ",null,6,10,2038]
[{"$f":"+Flujos!A177","v":"2032-07-06"},{"$f":"+Flujos!L177","v":-8.869171142578125E-4},{"$f":"+Flujos!M177","v":0},{"$f":"+Flujos!N177","v":-4.5827007293701176E-6},{"$f":"+Flujos!O177","v":-4.5827007293701176E-6},null,"2038-10-06",{"$f":"IF(G177<CALCULADORA!$C$23,0,IF(CALCULADORA!$C$27>'TIR de Tenencia'!G177,E177,CALCULADORA!$C$33))","v":181632901610}," "," ",null,6,11,2038]
[{"$f":"+Flujos!A178","v":"2032-08-06"},{"$f":"+Flujos!L178","v":-8.869171142578125E-4},{"$f":"+Flujos!M178","v":0},{"$f":"+Flujos!N178","v":-4.5827007293701176E-6},{"$f":"+Flujos!O178","v":-4.5827007293701176E-6},null,"2038-11-06",{"$f":"IF(G178<CALCULADORA!$C$23,0,IF(CALCULADORA!$C$27>'TIR de Tenencia'!G178,E178,CALCULADORA!$C$33))","v":181632901610}," "," ",null,6,12,2038]
[{"$f":"+Flujos!A179","v":"2032-09-06"},{"$f":"+Flujos!L179","v":-8.869171142578125E-4},{"$f":"+Flujos!M179","v":0},{"$f":"+Flujos!N179","v":-4.5827007293701176E-6},{"$f":"+Flujos!O179","v":-4.5827007293701176E-6},null,"2038-12-06",{"$f":"IF(G179<CALCULADORA!$C$23,0,IF(CALCULADORA!$C$27>'TIR de Tenencia'!G179,E179,CALCULADORA!$C$33))","v":181632901610}," "," ",null,6,1,2039]
[{"$f":"+Flujos!A180","v":"2032-10-06"},{"$f":"+Flujos!L180","v":-8.869171142578125E-4},{"$f":"+Flujos!M180","v":0},{"$f":"+Flujos!N180","v":-4.5827007293701176E-6},{"$f":"+Flujos!O180","v":-4.5827007293701176E-6},null,"2039-01-06",{"$f":"IF(G180<CALCULADORA!$C$23,0,IF(CALCULADORA!$C$27>'TIR de Tenencia'!G180,E180,CALCULADORA!$C$33))","v":181632901610}," "," ",null,6,2,2039]
[{"$f":"+Flujos!A181","v":"2032-11-06"},{"$f":"+Flujos!L181","v":-8.869171142578125E-4},{"$f":"+Flujos!M181","v":0},{"$f":"+Flujos!N181","v":-4.5827007293701176E-6},{"$f":"+Flujos!O181","v":-4.5827007293701176E-6},null,"2039-02-06",{"$f":"IF(G181<CALCULADORA!$C$23,0,IF(CALCULADORA!$C$27>'TIR de Tenencia'!G181,E181,CALCULADORA!$C$33))","v":181632901610}," "," ",null,6,3,2039]
[{"$f":"+Flujos!A182","v":"2032-12-06"},{"$f":"+Flujos!L182","v":-8.869171142578125E-4},{"$f":"+Flujos!M182","v":0},{"$f":"+Flujos!N182","v":-4.5827007293701176E-6},{"$f":"+Flujos!O182","v":-4.5827007293701176E-6},null,"2039-03-06",{"$f":"IF(G182<CALCULADORA!$C$23,0,IF(CALCULADORA!$C$27>'TIR de Tenencia'!G182,E182,CALCULADORA!$C$33))","v":181632901610}," "," ",null,6,4,2039]
[null,"Totales",{"$f":"SUM(C2:C182)","v":4788065105804.3984},788866760550.58362,5576931866354.9805]
[null,null,null,null,null,null,null,null,{"$f":"+IF(H184=H183,\" \",H184)","v":" "},null,{"$f":"+MONTH(A184)","v":1},{"$f":"+YEAR(A184)","v":1900}]
[null,null,null,null,null,null,null,null," ",null,1,1900]
[null,null,null,null,null,null,null,null," ",null,1,1900]
[null,null,null,null,null,null,null,null," ",null,1,1900]
[null,null,null,null,null,null,null,null," ",null,1,1900]
[null,null,null,null,null,null,null,null," ",null,1,1900]
[null,null,null,null,null,null,null,null," ",null,1,1900]
[null,null,null,null,null,null,null,null," ",null,1,1900]
[null,null,null,null,null,null,null,null," ",null,1,1900]
[null,null,null,null,null,null,null,null," ",null,1,1900]
[null,null,null,null,null,null,null,null," ",null,1,1900]
[null,null,null,null,null,null,null,null," ",null,1,1900]
[null,null,null,null,null,null,null,null," ",null,1,1900]
[null,null,null,null,null,null,null,null," ",null,1,1900]
[null,null,null,null,null,null,null,null," ",null,1,1900]
[null,null,null,null,null,null,null,null," ",null,1,1900]
[null,null,null,null,null,null,null,null," ",null,1,1900]
[null,null,null,null,null,null,null,null," ",null,1,1900]
[null,null,null,null,null,null,null,null," ",null,1,1900]
[null,null,null,null,null,null,null,null," ",null,1,1900]
[null,null,null,null,null,null,null,null," ",null,1,1900]
[null,null,null,null,null,null,null,null," ",null,1,1900]
[null,null,null,null,null,null,null,null," ",null,1,1900]
[null,null,null,null,null,null,null,null," ",null,1,1900]
[null,null,null,null,null,null,null,null," ",null,1,1900]
[null,null,null,null,null,null,null,null," ",null,1,1900]
[null,null,null,null,null,null,null,null," ",null,1,1900]
[null,null,null,null,null,null,null,null," ",null,1,1900]
[null,null,null,null,null,null,null,null," ",null,1,1900]
[null,null,null,null,null,null,null,null," ",null,1,1900]
[null,null,null,null,null,null,null,null," ",null,1,1900]
[null,null,null,null,null,null,null,null," ",null,1,1900]
[null,null,null,null,null,null,null,null," ",null,1,1900]
[null,null,null,null,null,null,null,null," ",null,1,1900]
[null,null,null,null,null,null,null,null," ",null,1,1900]
[null,null,null,null,null,null,null,null," ",null,1,1900]
[null,null,null,null,null,null,null,null," ",null,1,1900]
[null,null,null,null,null,null,null,null," ",null,1,1900]
[null,null,null,null,null,null,null,null," ",null,1,1900]
[null,null,null,null,null,null,null,null," ",null,1,1900]
[null,null,null,null,null,null,null,null," ",null,1,1900]
[null,null,null,null,null,null,null,null," ",null,1,1900]
[null,null,null,null,null,null,null,null," ",null,1,1900]
[null,null,null,null,null,null,null,null," ",null,1,1900]
[null,null,null,null,null,null,null,null," ",null,1,1900]
[null,null,null,null,null,null,null,null," ",null,1,1900]
[null,null,null,null,null,null,null,null," ",null,1,1900]
[null,null,null,null,null,null,null,null," ",null,1,1900]
[null,null,null,null,null,null,null,null," ",null,1,1900]
[null,null,null,null,null,null,null,null," ",null,1,1900]
[null,null,null,null,null,null,null,null," ",null,1,1900]
[null,null,null,null,null,null,null,null," ",null,1,1900]
[null,null,null,null,null,null,null,null," ",null,1,1900]
[null,null,null,null,null,null,null,null," ",null,1,1900]
[null,null,null,null,null,null,null,null," ",null,1,1900]
[null,null,null,null,null,null,null,null," ",null,1,1900]
[null,null,null,null,null,null,null,null," ",null,1,1900]
[null,null,null,null,null,null,null,null," ",null,1,1900]
[null,null,null,null,null,null,null,null," ",null,1,1900]
[null,null,null,null,null,null,null,null," ",null,1,1900]
[null,null,null,null,null,null,null,null," ",null,1,1900]
[null,null,null,null,null,null,null,null," ",null,1,1900]
[null,null,null,null,null,null,null,null," ",null,1,1900]
[null,null,null,null,null,null,null,null," ",null,1,1900]
[null,null,null,null,null,null,null,null,{"$f":"+IF(H248=H247,\" \",H248)","v":" "},null,{"$f":"+MONTH(A248)","v":1},{"$f":"+YEAR(A248)","v":1900}]
[null,null,null,null,null,null,null,null," ",null,1,1900]
[null,null,null,null,null,null,null,null," ",null,1,1900]
[null,null,null,null,null,null,null,null," ",null,1,1900]
[null,null,null,null,null,null,null,null," ",null,1,1900]
[null,null,null,null,null,null,null,null," ",null,1,1900]
[null,null,null,null,null,null,null,null," ",null,1,1900]
[null,null,null,null,null,null,null,null," ",null,1,1900]
[null,null,null,null,null,null,null,null," ",null,1,1900]
[null,null,null,null,null,null,null,null," ",null,1,1900]
[null,null,null,null,null,null,null,null," ",null,1,1900]
[null,null,null,null,null,null,null,null," ",null,1,1900]
[null,null,null,null,null,null,null,null," ",null,1,1900]
[null,null,null,null,null,null,null,null," ",null,1,1900]
[null,null,null,null,null,null,null,null," ",null,1,1900]
[null,null,null,null,null,null,null,null," ",null,1,1900]
[null,null,null,null,null,null,null,null," ",null,1,1900]
[null,null,null,null,null,null,null,null," ",null,1,1900]
[null,null,null,null,null,null,null,null," ",null,1,1900]
[null,null,null,null,null,null,null,null," ",null,1,1900]
[null,null,null,null,null,null,null,null," ",null,1,1900]
[null,null,null,null,null,null,null,null," ",null,1,1900]
[null,null,null,null,null,null,null,null," ",null,1,1900]
[null,null,null,null,null,null,null,null," ",null,1,1900]
[null,null,null,null,null,null,null,null," ",null,1,1900]
[null,null,null,null,null,null,null,null," ",null,1,1900]
[null,null,null,null,null,null,null,null," ",null,1,1900]
[null,null,null,null,null,null,null,null," ",null,1,1900]
[null,null,null,null,null,null,null,null," ",null,1,1900]
[null,null,null,null,null,null,null,null," ",null,1,1900]
[null,null,null,null,null,null,null,null," ",null,1,1900]
[null,null,null,null,null,null,null,null," ",null,1,1900]
[null,null,null,null,null,null,null,null," ",null,1,1900]
[null,null,null,null,null,null,null,null," ",null,1,1900]
[null,null,null,null,null,null,null,null," ",null,1,1900]
[null,null,null,null,null,null,null,null," ",null,1,1900]
[null,null,null,null,null,null,null,null," ",null,1,1900]
[null,null,null,null,null,null,null,null," ",null,1,1900]
[null,null,null,null,null,null,null,null," ",null,1,1900]
[null,null,null,null,null,null,null,null," ",null,1,1900]
[null,null,null,null,null,null,null,null," ",null,1,1900]
[null,null,null,null,null,null,null,null," ",null,1,1900]
[null,null,null,null,null,null,null,null," ",null,1,1900]
[null,null,null,null,null,null,null,null," ",null,1,1900]
[null,null,null,null,null,null,null,null," ",null,1,1900]
[null,null,null,null,null,null,null,null," ",null,1,1900]
[null,null,null,null,null,null,null,null," ",null,1,1900]
[null,null,null,null,null,null,null,null," ",null,1,1900]
[null,null,null,null,null,null,null,null," ",null,1,1900]
[null,null,null,null,null,null,null,null," ",null,1,1900]
[null,null,null,null,null,null,null,null," ",null,1,1900]
[null,null,null,null,null,null,null,null," ",null,1,1900]
[null,null,null,null,null,null,null,null," ",null,1,1900]
[null,null,null,null,null,null,null,null," ",null,1,1900]
[null,null,null,null,null,null,null,null," ",null,1,1900]
[null,null,null,null,null,null,null,null," ",null,1,1900]
[null,null,null,null,null,null,null,null," ",null,1,1900]
[null,null,null,null,null,null,null,null," ",null,1,1900]
[null,null,null,null,null,null,null,null," ",null,1,1900]
[null,null,null,null,null,null,null,null," ",null,1,1900]
[null,null,null,null,null,null,null,null," ",null,1,1900]
[null,null,null,null,null,null,null,null," ",null,1,1900]
[null,null,null,null,null,null,null,null," ",null,1,1900]
[null,null,null,null,null,null,null,null," ",null,1,1900]
[null,null,null,null,null,null,null,null,{"$f":"+IF(H312=H311,\" \",H312)","v":" "},null,{"$f":"+MONTH(A312)","v":1},{"$f":"+YEAR(A312)","v":1900}]
[null,null,null,null,null,null,null,null," ",null,1,1900]
[null,null,null,null,null,null,null,null," ",null,1,1900]
[null,null,null,null,null,null,null,null," ",null,1,1900]
[null,null,null,null,null,null,null,null," ",null,1,1900]
[null,null,null,null,null,null,null,null," ",null,1,1900]
[null,null,null,null,null,null,null,null," ",null,1,1900]
[null,null,null,null,null,null,null,null," ",null,1,1900]
[null,null,null,null,null,null,null,null," ",null,1,1900]
[null,null,null,null,null,null,null,null," ",null,1,1900]
[null,null,null,null,null,null,null,null," ",null,1,1900]
[null,null,null,null,null,null,null,null," ",null,1,1900]
[null,null,null,null,null,null,null,null," ",null,1,1900]
[null,null,null,null,null,null,null,null," ",null,1,1900]
[null,null,null,null,null,null,null,null," ",null,1,1900]
[null,null,null,null,null,null,null,null," ",null,1,1900]
[null,null,null,null,null,null,null,null," ",null,1,1900]
[null,null,null,null,null,null,null,null," ",null,1,1900]
[null,null,null,null,null,null,null,null," ",null,1,1900]
[null,null,null,null,null,null,null,null," ",null,1,1900]
[null,null,null,null,null,null,null,null," ",null,1,1900]
[null,null,null,null,null,null,null,null," ",null,1,1900]
[null,null,null,null,null,null,null,null," ",null,1,1900]
[null,null,null,null,null,null,null,null," ",null,1,1900]
[null,null,null,null,null,null,null,null," ",null,1,1900]
[null,null,null,null,null,null,null,null," ",null,1,1900]
[null,null,null,null,null,null,null,null," ",null,1,1900]
[null,null,null,null,null,null,null,null," ",null,1,1900]
[null,null,null,null,null,null,null,null," ",null,1,1900]
[null,null,null,null,null,null,null,null," ",null,1,1900]
[null,null,null,null,null,null,null,null," ",null,1,1900]
[null,null,null,null,null,null,null,null," ",null,1,1900]
[null,null,null,null,null,null,null,null," ",null,1,1900]
[null,null,null,null,null,null,null,null," ",null,1,1900]
[null,null,null,null,null,null,null,null," ",null,1,1900]
[null,null,null,null,null,null,null,null," ",null,1,1900]
[null,null,null,null,null,null,null,null," ",null,1,1900]
[null,null,null,null,null,null,null,null," ",null,1,1900]
[null,null,null,null,null,null,null,null," ",null,1,1900]
[null,null,null,null,null,null,null,null," ",null,1,1900]
[null,null,null,null,null,null,null,null," ",null,1,1900]
[null,null,null,null,null,null,null,null," ",null,1,1900]
[null,null,null,null,null,null,null,null," ",null,1,1900]
[null,null,null,null,null,null,null,null," ",null,1,1900]
[null,null,null,null,null,null,null,null," ",null,1,1900]
[null,null,null,null,null,null,null,null," ",null,1,1900]
[null,null,null,null,null,null,null,null," ",null,1,1900]
[null,null,null,null,null,null,null,null," ",null,1,1900]
[null,null,null,null,null,null,null,null," ",null,1,1900]
[null,null,null,null,null,null,null,null," ",null,1,1900]
[null,null,null,null,null,null,null,null," ",null,1,1900]
[null,null,null,null,null,null,null,null," ",null,1,1900]
[null,null,null,null,null,null,null,null," ",null,1,1900]
[null,null,null,null,null,null,null,null," ",null,1,1900]
[null,null,null,null,null,null,null,null," ",null,1,1900]
[null,null,null,null,null,null,null,null," ",null,1,1900]
[null,null,null,null,null,null,null,null," ",null,1,1900]
[null,null,null,null,null,null,null,null," ",null,1,1900]
[null,null,null,null,null,null,null,null," ",null,1,1900]
[null,null,null,null,null,null,null,null," ",null,1,1900]
[null,null,null,null,null,null,null,null," ",null,1,1900]
[null,null,null,null,null,null,null,null," ",null,1,1900]
[null,null,null,null,null,null,null,null," ",null,1,1900]
[null,null,null,null,null,null,null,null," ",null,1,1900]
[null,null,null,null,null,null,null,null,{"$f":"+IF(H376=H375,\" \",H376)","v":" "},null,{"$f":"+MONTH(A376)","v":1},{"$f":"+YEAR(A376)","v":1900}]
[null,null,null,null,null,null,null,null," ",null,1,1900]
[null,null,null,null,null,null,null,null," ",null,1,1900]
[null,null,null,null,null,null,null,null," ",null,1,1900]
[null,null,null,null,null,null,null,null," ",null,1,1900]
[null,null,null,null,null,null,null,null," ",null,1,1900]
[null,null,null,null,null,null,null,null," ",null,1,1900]
[null,null,null,null,null,null,null,null," ",null,1,1900]
[null,null,null,null,null,null,null,null," ",null,1,1900]
[null,null,null,null,null,null,null,null," ",null,1,1900]
[null,null,null,null,null,null,null,null," ",null,1,1900]
[null,null,null,null,null,null,null,null," ",null,1,1900]
[null,null,null,null,null,null,null,null," ",null,1,1900]
[null,null,null,null,null,null,null,null," ",null,1,1900]
[null,null,null,null,null,null,null,null," ",null,1,1900]
[null,null,null,null,null,null,null,null," ",null,1,1900]
[null,null,null,null,null,null,null,null," ",null,1,1900]
[null,null,null,null,null,null,null,null," ",null,1,1900]
[null,null,null,null,null,null,null,null," ",null,1,1900]
[null,null,null,null,null,null,null,null," ",null,1,1900]
[null,null,null,null,null,null,null,null," ",null,1,1900]
[null,null,null,null,null,null,null,null," ",null,1,1900]
[null,null,null,null,null,null,null,null," ",null,1,1900]
[null,null,null,null,null,null,null,null," ",null,1,1900]
[null,null,null,null,null,null,null,null," ",null,1,1900]
[null,null,null,null,null,null,null,null," ",null,1,1900]
[null,null,null,null,null,null,null,null," ",null,1,1900]
[null,null,null,null,null,null,null,null," ",null,1,1900]
[null,null,null,null,null,null,null,null," ",null,1,1900]
[null,null,null,null,null,null,null,null," ",null,1,1900]
[null,null,null,null,null,null,null,null," ",null,1,1900]
[null,null,null,null,null,null,null,null," ",null,1,1900]
[null,null,null,null,null,null,null,null," ",null,1,1900]
[null,null,null,null,null,null,null,null," ",null,1,1900]
[null,null,null,null,null,null,null,null," ",null,1,1900]
[null,null,null,null,null,null,null,null," ",null,1,1900]
[null,null,null,null,null,null,null,null," ",null,1,1900]
[null,null,null,null,null,null,null,null," ",null,1,1900]
[null,null,null,null,null,null,null,null," ",null,1,1900]
[null,null,null,null,null,null,null,null," ",null,1,1900]
[null,null,null,null,null,null,null,null," ",null,1,1900]
[null,null,null,null,null,null,null,null," ",null,1,1900]
[null,null,null,null,null,null,null,null," ",null,1,1900]
[null,null,null,null,null,null,null,null," ",null,1,1900]
[null,null,null,null,null,null,null,null," ",null,1,1900]
[null,null,null,null,null,null,null,null," ",null,1,1900]
[null,null,null,null,null,null,null,null," ",null,1,1900]
[null,null,null,null,null,null,null,null," ",null,1,1900]
[null,null,null,null,null,null,null,null," ",null,1,1900]
[null,null,null,null,null,null,null,null," ",null,1,1900]
[null,null,null,null,null,null,null,null," ",null,1,1900]
[null,null,null,null,null,null,null,null," ",null,1,1900]
[null,null,null,null,null,null,null,null," ",null,1,1900]
[null,null,null,null,null,null,null,null," ",null,1,1900]
[null,null,null,null,null,null,null,null," ",null,1,1900]
[null,null,null,null,null,null,null,null," ",null,1,1900]
[null,null,null,null,null,null,null,null," ",null,1,1900]
[null,null,null,null,null,null,null,null," ",null,1,1900]
[null,null,null,null,null,null,null,null," ",null,1,1900]
[null,null,null,null,null,null,null,null," ",null,1,1900]
[null,null,null,null,null,null,null,null," ",null,1,1900]
[null,null,null,null,null,null,null,null," ",null,1,1900]
[null,null,null,null,null,null,null,null," ",null,1,1900]
[null,null,null,null,null,null,null,null," ",null,1,1900]
[null,null,null,null,null,null,null,null,{"$f":"+IF(H440=H439,\" \",H440)","v":" "},null,{"$f":"+MONTH(A440)","v":1},{"$f":"+YEAR(A440)","v":1900}]
[null,null,null,null,null,null,null,null," ",null,1,1900]
[null,null,null,null,null,null,null,null," ",null,1,1900]
[null,null,null,null,null,null,null,null," ",null,1,1900]
[null,null,null,null,null,null,null,null," ",null,1,1900]
[null,null,null,null,null,null,null,null," ",null,1,1900]
[null,null,null,null,null,null,null,null," ",null,1,1900]
[null,null,null,null,null,null,null,null," ",null,1,1900]
[null,null,null,null,null,null,null,null," ",null,1,1900]
[null,null,null,null,null,null,null,null," ",null,1,1900]
[null,null,null,null,null,null,null,null," ",null,1,1900]
[null,null,null,null,null,null,null,null," ",null,1,1900]
[null,null,null,null,null,null,null,null," ",null,1,1900]
[null,null,null,null,null,null,null,null," ",null,1,1900]
[null,null,null,null,null,null,null,null," ",null,1,1900]
[null,null,null,null,null,null,null,null," ",null,1,1900]
[null,null,null,null,null,null,null,null," ",null,1,1900]
[null,null,null,null,null,null,null,null," ",null,1,1900]
[null,null,null,null,null,null,null,null," ",null,1,1900]
[null,null,null,null,null,null,null,null," ",null,1,1900]
[null,null,null,null,null,null,null,null," ",null,1,1900]
[null,null,null,null,null,null,null,null," ",null,1,1900]
[null,null,null,null,null,null,null,null," ",null,1,1900]
[null,null,null,null,null,null,null,null," ",null,1,1900]
[null,null,null,null,null,null,null,null," ",null,1,1900]
[null,null,null,null,null,null,null,null," ",null,1,1900]
[null,null,null,null,null,null,null,null," ",null,1,1900]
[null,null,null,null,null,null,null,null," ",null,1,1900]
[null,null,null,null,null,null,null,null," ",null,1,1900]
[null,null,null,null,null,null,null,null," ",null,1,1900]
[null,null,null,null,null,null,null,null," ",null,1,1900]
[null,null,null,null,null,null,null,null," ",null,1,1900]
[null,null,null,null,null,null,null,null," ",null,1,1900]
[null,null,null,null,null,null,null,null," ",null,1,1900]
[null,null,null,null,null,null,null,null," ",null,1,1900]
[null,null,null,null,null,null,null,null," ",null,1,1900]
[null,null,null,null,null,null,null,null," ",null,1,1900]
[null,null,null,null,null,null,null,null," ",null,1,1900]
[null,null,null,null,null,null,null,null," ",null,1,1900]
[null,null,null,null,null,null,null,null," ",null,1,1900]
[null,null,null,null,null,null,null,null," ",null,1,1900]
[null,null,null,null,null,null,null,null," ",null,1,1900]
[null,null,null,null,null,null,null,null," ",null,1,1900]
[null,null,null,null,null,null,null,null," ",null,1,1900]
[null,null,null,null,null,null,null,null," ",null,1,1900]
[null,null,null,null,null,null,null,null," ",null,1,1900]
[null,null,null,null,null,null,null,null," ",null,1,1900]
[null,null,null,null,null,null,null,null," ",null,1,1900]
[null,null,null,null,null,null,null,null," ",null,1,1900]
[null,null,null,null,null,null,null,null," ",null,1,1900]
[null,null,null,null,null,null,null,null," ",null,1,1900]
[null,null,null,null,null,null,null,null," ",null,1,1900]
[null,null,null,null,null,null,null,null," ",null,1,1900]
[null,null,null,null,null,null,null,null," ",null,1,1900]
[null,null,null,null,null,null,null,null," ",null,1,1900]
[null,null,null,null,null,null,null,null," ",null,1,1900]
[null,null,null,null,null,null,null,null," ",null,1,1900]
[null,null,null,null,null,null,null,null," ",null,1,1900]
[null,null,null,null,null,null,null,null," ",null,1,1900]
[null,null,null,null,null,null,null,null," ",null,1,1900]
[null,null,null,null,null,null,null,null," ",null,1,1900]
[null,null,null,null,null,null,null,null," ",null,1,1900]
[null,null,null,null,null,null,null,null," ",null,1,1900]
[null,null,null,null,null,null,null,null," ",null,1,1900]
[null,null,null,null,null,null,null,null,{"$f":"+IF(H504=H503,\" \",H504)","v":" "},null,{"$f":"+MONTH(A504)","v":1},{"$f":"+YEAR(A504)","v":1900}]
[null,null,null,null,null,null,null,null," ",null,1,1900]
[null,null,null,null,null,null,null,null," ",null,1,1900]
[null,null,null,null,null,null,null,null," ",null,1,1900]
[null,null,null,null,null,null,null,null," ",null,1,1900]
[null,null,null,null,null,null,null,null," ",null,1,1900]
[null,null,null,null,null,null,null,null," ",null,1,1900]
[null,null,null,null,null,null,null,null," ",null,1,1900]
[null,null,null,null,null,null,null,null," ",null,1,1900]
[null,null,null,null,null,null,null,null," ",null,1,1900]
[null,null,null,null,null,null,null,null," ",null,1,1900]
[null,null,null,null,null,null,null,null," ",null,1,1900]
[null,null,null,null,null,null,null,null," ",null,1,1900]
[null,null,null,null,null,null,null,null," ",null,1,1900]
[null,null,null,null,null,null,null,null," ",null,1,1900]
[null,null,null,null,null,null,null,null," ",null,1,1900]
[null,null,null,null,null,null,null,null," ",null,1,1900]
[null,null,null,null,null,null,null,null," ",null,1,1900]
[null,null,null,null,null,null,null,null," ",null,1,1900]
[null,null,null,null,null,null,null,null," ",null,1,1900]
[null,null,null,null,null,null,null,null," ",null,1,1900]
[null,null,null,null,null,null,null,null," ",null,1,1900]
[null,null,null,null,null,null,null,null," ",null,1,1900]
[null,null,null,null,null,null,null,null," ",null,1,1900]
[null,null,null,null,null,null,null,null," ",null,1,1900]
[null,null,null,null,null,null,null,null," ",null,1,1900]
[null,null,null,null,null,null,null,null," ",null,1,1900]
[null,null,null,null,null,null,null,null," ",null,1,1900]
[null,null,null,null,null,null,null,null," ",null,1,1900]
[null,null,null,null,null,null,null,null," ",null,1,1900]
[null,null,null,null,null,null,null,null," ",null,1,1900]
[null,null,null,null,null,null,null,null," ",null,1,1900]
[null,null,null,null,null,null,null,null," ",null,1,1900]
[null,null,null,null,null,null,null,null," ",null,1,1900]
[null,null,null,null,null,null,null,null," ",null,1,1900]
[null,null,null,null,null,null,null,null," ",null,1,1900]
[null,null,null,null,null,null,null,null," ",null,1,1900]
[null,null,null,null,null,null,null,null," ",null,1,1900]
[null,null,null,null,null,null,null,null," ",null,1,1900]
[null,null,null,null,null,null,null,null," ",null,1,1900]
[null,null,null,null,null,null,null,null," ",null,1,1900]
[null,null,null,null,null,null,null,null," ",null,1,1900]
[null,null,null,null,null,null,null,null," ",null,1,1900]
[null,null,null,null,null,null,null,null," ",null,1,1900]
[null,null,null,null,null,null,null,null," ",null,1,1900]
[null,null,null,null,null,null,null,null," ",null,1,1900]
[null,null,null,null,null,null,null,null," ",null,1,1900]
[null,null,null,null,null,null,null,null," ",null,1,1900]
[null,null,null,null,null,null,null,null," ",null,1,1900]
[null,null,null,null,null,null,null,null," ",null,1,1900]
[null,null,null,null,null,null,null,null," ",null,1,1900]
[null,null,null,null,null,null,null,null," ",null,1,1900]
[null,null,null,null,null,null,null,null," ",null,1,1900]
[null,null,null,null,null,null,null,null," ",null,1,1900]
[null,null,null,null,null,null,null,null," ",null,1,1900]
[null,null,null,null,null,null,null,null," ",null,1,1900]
[null,null,null,null,null,null,null,null," ",null,1,1900]
[null,null,null,null,null,null,null,null," ",null,1,1900]
[null,null,null,null,null,null,null,null," ",null,1,1900]
[null,null,null,null,null,null,null,null," ",null,1,1900]
[null,null,null,null,null,null,null,null," ",null,1,1900]
[null,null,null,null,null,null,null,null," ",null,1,1900]
[null,null,null,null,null,null,null,null," ",null,1,1900]
[null,null,null,null,null,null,null,null," ",null,1,1900]
[null,null,null,null,null,null,null,null,{"$f":"+IF(H568=H567,\" \",H568)","v":" "},null,{"$f":"+MONTH(A568)","v":1},{"$f":"+YEAR(A568)","v":1900}]
[null,null,null,null,null,null,null,null," ",null,1,1900]
[null,null,null,null,null,null,null,null," ",null,1,1900]
[null,null,null,null,null,null,null,null," ",null,1,1900]
[null,null,null,null,null,null,null,null," ",null,1,1900]
[null,null,null,null,null,null,null,null," ",null,1,1900]
[null,null,null,null,null,null,null,null," ",null,1,1900]
[null,null,null,null,null,null,null,null," ",null,1,1900]
[null,null,null,null,null,null,null,null," ",null,1,1900]
[null,null,null,null,null,null,null,null," ",null,1,1900]
[null,null,null,null,null,null,null,null," ",null,1,1900]
[null,null,null,null,null,null,null,null," ",null,1,1900]
[null,null,null,null,null,null,null,null," ",null,1,1900]
[null,null,null,null,null,null,null,null," ",null,1,1900]
[null,null,null,null,null,null,null,null," ",null,1,1900]
[null,null,null,null,null,null,null,null," ",null,1,1900]
[null,null,null,null,null,null,null,null," ",null,1,1900]
[null,null,null,null,null,null,null,null," ",null,1,1900]
[null,null,null,null,null,null,null,null," ",null,1,1900]
[null,null,null,null,null,null,null,null," ",null,1,1900]
[null,null,null,null,null,null,null,null," ",null,1,1900]
[null,null,null,null,null,null,null,null," ",null,1,1900]
[null,null,null,null,null,null,null,null," ",null,1,1900]
[null,null,null,null,null,null,null,null," ",null,1,1900]
[null,null,null,null,null,null,null,null," ",null,1,1900]
[null,null,null,null,null,null,null,null," ",null,1,1900]
[null,null,null,null,null,null,null,null," ",null,1,1900]
[null,null,null,null,null,null,null,null," ",null,1,1900]
[null,null,null,null,null,null,null,null," ",null,1,1900]
[null,null,null,null,null,null,null,null," ",null,1,1900]
[null,null,null,null,null,null,null,null," ",null,1,1900]
[null,null,null,null,null,null,null,null," ",null,1,1900]
[null,null,null,null,null,null,null,null," ",null,1,1900]
[null,null,null,null,null,null,null,null," ",null,1,1900]
[null,null,null,null,null,null,null,null," ",null,1,1900]
[null,null,null,null,null,null,null,null," ",null,1,1900]
[null,null,null,null,null,null,null,null," ",null,1,1900]
[null,null,null,null,null,null,null,null," ",null,1,1900]
[null,null,null,null,null,null,null,null," ",null,1,1900]
[null,null,null,null,null,null,null,null," ",null,1,1900]
[null,null,null,null,null,null,null,null," ",null,1,1900]
[null,null,null,null,null,null,null,null," ",null,1,1900]
[null,null,null,null,null,null,null,null," ",null,1,1900]
[null,null,null,null,null,null,null,null," ",null,1,1900]
[null,null,null,null,null,null,null,null," ",null,1,1900]
[null,null,null,null,null,null,null,null," ",null,1,1900]
[null,null,null,null,null,null,null,null," ",null,1,1900]
[null,null,null,null,null,null,null,null," ",null,1,1900]
[null,null,null,null,null,null,null,null," ",null,1,1900]
[null,null,null,null,null,null,null,null," ",null,1,1900]
[null,null,null,null,null,null,null,null," ",null,1,1900]
[null,null,null,null,null,null,null,null," ",null,1,1900]
[null,null,null,null,null,null,null,null," ",null,1,1900]
[null,null,null,null,null,null,null,null," ",null,1,1900]
[null,null,null,null,null,null,null,null," ",null,1,1900]
[null,null,null,null,null,null,null,null," ",null,1,1900]
[null,null,null,null,null,null,null,null," ",null,1,1900]
[null,null,null,null,null,null,null,null," ",null,1,1900]
[null,null,null,null,null,null,null,null," ",null,1,1900]
[null,null,null,null,null,null,null,null," ",null,1,1900]
[null,null,null,null,null,null,null,null," ",null,1,1900]
[null,null,null,null,null,null,null,null," ",null,1,1900]
[null,null,null,null,null,null,null,null," ",null,1,1900]
[null,null,null,null,null,null,null,null," ",null,1,1900]
[null,null,null,null,null,null,null,null,{"$f":"+IF(H632=H631,\" \",H632)","v":" "},null,{"$f":"+MONTH(A632)","v":1},{"$f":"+YEAR(A632)","v":1900}]
[null,null,null,null,null,null,null,null," ",null,1,1900]
[null,null,null,null,null,null,null,null," ",null,1,1900]
[null,null,null,null,null,null,null,null," ",null,1,1900]
[null,null,null,null,null,null,null,null," ",null,1,1900]
[null,null,null,null,null,null,null,null," ",null,1,1900]
[null,null,null,null,null,null,null,null," ",null,1,1900]
[null,null,null,null,null,null,null,null," ",null,1,1900]
[null,null,null,null,null,null,null,null," ",null,1,1900]
[null,null,null,null,null,null,null,null," ",null,1,1900]
[null,null,null,null,null,null,null,null," ",null,1,1900]
[null,null,null,null,null,null,null,null," ",null,1,1900]
[null,null,null,null,null,null,null,null," ",null,1,1900]
[null,null,null,null,null,null,null,null," ",null,1,1900]
[null,null,null,null,null,null,null,null," ",null,1,1900]
[null,null,null,null,null,null,null,null," ",null,1,1900]
[null,null,null,null,null,null,null,null," ",null,1,1900]
[null,null,null,null,null,null,null,null," ",null,1,1900]
[null,null,null,null,null,null,null,null," ",null,1,1900]
[null,null,null,null,null,null,null,null," ",null,1,1900]
[null,null,null,null,null,null,null,null," ",null,1,1900]
[null,null,null,null,null,null,null,null," ",null,1,1900]
[null,null,null,null,null,null,null,null," ",null,1,1900]
[null,null,null,null,null,null,null,null," ",null,1,1900]
[null,null,null,null,null,null,null,null," ",null,1,1900]
[null,null,null,null,null,null,null,null," ",null,1,1900]
[null,null,null,null,null,null,null,null," ",null,1,1900]
[null,null,null,null,null,null,null,null," ",null,1,1900]
[null,null,null,null,null,null,null,null," ",null,1,1900]
[null,null,null,null,null,null,null,null," ",null,1,1900]
[null,null,null,null,null,null,null,null," ",null,1,1900]
[null,null,null,null,null,null,null,null," ",null,1,1900]
[null,null,null,null,null,null,null,null," ",null,1,1900]
[null,null,null,null,null,null,null,null," ",null,1,1900]
[null,null,null,null,null,null,null,null," ",null,1,1900]
[null,null,null,null,null,null,null,null," ",null,1,1900]
[null,null,null,null,null,null,null,null," ",null,1,1900]
[null,null,null,null,null,null,null,null," ",null,1,1900]
[null,null,null,null,null,null,null,null," ",null,1,1900]
[null,null,null,null,null,null,null,null," ",null,1,1900]
[null,null,null,null,null,null,null,null," ",null,1,1900]
[null,null,null,null,null,null,null,null," ",null,1,1900]
[null,null,null,null,null,null,null,null," ",null,1,1900]
[null,null,null,null,null,null,null,null," ",null,1,1900]
[null,null,null,null,null,null,null,null," ",null,1,1900]
[null,null,null,null,null,null,null,null," ",null,1,1900]
[null,null,null,null,null,null,null,null," ",null,1,1900]
[null,null,null,null,null,null,null,null," ",null,1,1900]
[null,null,null,null,null,null,null,null," ",null,1,1900]
[null,null,null,null,null,null,null,null," ",null,1,1900]
[null,null,null,null,null,null,null,null," ",null,1,1900]
[null,null,null,null,null,null,null,null," ",null,1,1900]
[null,null,null,null,null,null,null,null," ",null,1,1900]
[null,null,null,null,null,null,null,null," ",null,1,1900]
[null,null,null,null,null,null,null,null," ",null,1,1900]
[null,null,null,null,null,null,null,null," ",null,1,1900]
[null,null,null,null,null,null,null,null," ",null,1,1900]
[null,null,null,null,null,null,null,null," ",null,1,1900]
[null,null,null,null,null,null,null,null," ",null,1,1900]
[null,null,null,null,null,null,null,null," ",null,1,1900]
[null,null,null,null,null,null,null,null," ",null,1,1900]
[null,null,null,null,null,null,null,null," ",null,1,1900]
[null,null,null,null,null,null,null,null," ",null,1,1900]
[null,null,null,null,null,null,null,null," ",null,1,1900]
[null,null,null,null,null,null,null,null,{"$f":"+IF(H696=H695,\" \",H696)","v":" "},null,{"$f":"+MONTH(A696)","v":1},{"$f":"+YEAR(A696)","v":1900}]
[null,null,null,null,null,null,null,null," ",null,1,1900]
[null,null,null,null,null,null,null,null," ",null,1,1900]
[null,null,null,null,null,null,null,null," ",null,1,1900]
[null,null,null,null,null,null,null,null," ",null,1,1900]
[null,null,null,null,null,null,null,null," ",null,1,1900]
[null,null,null,null,null,null,null,null," ",null,1,1900]
[null,null,null,null,null,null,null,null," ",null,1,1900]
[null,null,null,null,null,null,null,null," ",null,1,1900]
[null,null,null,null,null,null,null,null," ",null,1,1900]
[null,null,null,null,null,null,null,null," ",null,1,1900]
[null,null,null,null,null,null,null,null," ",null,1,1900]
[null,null,null,null,null,null,null,null," ",null,1,1900]
[null,null,null,null,null,null,null,null," ",null,1,1900]
[null,null,null,null,null,null,null,null," ",null,1,1900]
[null,null,null,null,null,null,null,null," ",null,1,1900]
[null,null,null,null,null,null,null,null," ",null,1,1900]
[null,null,null,null,null,null,null,null," ",null,1,1900]
[null,null,null,null,null,null,null,null," ",null,1,1900]
[null,null,null,null,null,null,null,null," ",null,1,1900]
[null,null,null,null,null,null,null,null," ",null,1,1900]
[null,null,null,null,null,null,null,null," ",null,1,1900]
[null,null,null,null,null,null,null,null," ",null,1,1900]
[null,null,null,null,null,null,null,null," ",null,1,1900]
[null,null,null,null,null,null,null,null," ",null,1,1900]
[null,null,null,null,null,null,null,null," ",null,1,1900]
[null,null,null,null,null,null,null,null," ",null,1,1900]
[null,null,null,null,null,null,null,null," ",null,1,1900]
[null,null,null,null,null,null,null,null," ",null,1,1900]
[null,null,null,null,null,null,null,null," ",null,1,1900]
[null,null,null,null,null,null,null,null," ",null,1,1900]
[null,null,null,null,null,null,null,null," ",null,1,1900]
[null,null,null,null,null,null,null,null," ",null,1,1900]
[null,null,null,null,null,null,null,null," ",null,1,1900]
[null,null,null,null,null,null,null,null," ",null,1,1900]
[null,null,null,null,null,null,null,null," ",null,1,1900]
[null,null,null,null,null,null,null,null," ",null,1,1900]
[null,null,null,null,null,null,null,null," ",null,1,1900]
[null,null,null,null,null,null,null,null," ",null,1,1900]
[null,null,null,null,null,null,null,null," ",null,1,1900]
[null,null,null,null,null,null,null,null," ",null,1,1900]
[null,null,null,null,null,null,null,null," ",null,1,1900]
[null,null,null,null,null,null,null,null," ",null,1,1900]
[null,null,null,null,null,null,null,null," ",null,1,1900]
[null,null,null,null,null,null,null,null," ",null,1,1900]
[null,null,null,null,null,null,null,null," ",null,1,1900]
[null,null,null,null,null,null,null,null," ",null,1,1900]
[null,null,null,null,null,null,null,null," ",null,1,1900]
[null,null,null,null,null,null,null,null," ",null,1,1900]
[null,null,null,null,null,null,null,null," ",null,1,1900]
[null,null,null,null,null,null,null,null," ",null,1,1900]
[null,null,null,null,null,null,null,null," ",null,1,1900]
[null,null,null,null,null,null,null,null," ",null,1,1900]
[null,null,null,null,null,null,null,null," ",null,1,1900]
[null,null,null,null,null,null,null,null," ",null,1,1900]
[null,null,null,null,null,null,null,null," ",null,1,1900]
[null,null,null,null,null,null,null,null," ",null,1,1900]
[null,null,null,null,null,null,null,null," ",null,1,1900]
[null,null,null,null,null,null,null,null," ",null,1,1900]
[null,null,null,null,null,null,null,null," ",null,1,1900]
[null,null,null,null,null,null,null,null," ",null,1,1900]
[null,null,null,null,null,null,null,null," ",null,1,1900]
[null,null,null,null,null,null,null,null," ",null,1,1900]
[null,null,null,null,null,null,null,null," ",null,1,1900]
[null,null,null,null,null,null,null,null,{"$f":"+IF(H760=H759,\" \",H760)","v":" "},null,{"$f":"+MONTH(A760)","v":1},{"$f":"+YEAR(A760)","v":1900}]
[null,null,null,null,null,null,null,null," ",null,1,1900]
[null,null,null,null,null,null,null,null," ",null,1,1900]
[null,null,null,null,null,null,null,null," ",null,1,1900]
[null,null,null,null,null,null,null,null," ",null,1,1900]
[null,null,null,null,null,null,null,null," ",null,1,1900]
[null,null,null,null,null,null,null,null," ",null,1,1900]
[null,null,null,null,null,null,null,null," ",null,1,1900]
[null,null,null,null,null,null,null,null," ",null,1,1900]
[null,null,null,null,null,null,null,null," ",null,1,1900]
[null,null,null,null,null,null,null,null," ",null,1,1900]
[null,null,null,null,null,null,null,null," ",null,1,1900]
[null,null,null,null,null,null,null,null," ",null,1,1900]
[null,null,null,null,null,null,null,null," ",null,1,1900]
[null,null,null,null,null,null,null,null," ",null,1,1900]
[null,null,null,null,null,null,null,null," ",null,1,1900]
[null,null,null,null,null,null,null,null," ",null,1,1900]
[null,null,null,null,null,null,null,null," ",null,1,1900]
[null,null,null,null,null,null,null,null," ",null,1,1900]
[null,null,null,null,null,null,null,null," ",null,1,1900]
[null,null,null,null,null,null,null,null," ",null,1,1900]
[null,null,null,null,null,null,null,null," ",null,1,1900]
[null,null,null,null,null,null,null,null," ",null,1,1900]
[null,null,null,null,null,null,null,null," ",null,1,1900]
[null,null,null,null,null,null,null,null," ",null,1,1900]
[null,null,null,null,null,null,null,null," ",null,1,1900]
[null,null,null,null,null,null,null,null," ",null,1,1900]
[null,null,null,null,null,null,null,null," ",null,1,1900]
[null,null,null,null,null,null,null,null," ",null,1,1900]
[null,null,null,null,null,null,null,null," ",null,1,1900]
[null,null,null,null,null,null,null,null," ",null,1,1900]
[null,null,null,null,null,null,null,null," ",null,1,1900]
[null,null,null,null,null,null,null,null," ",null,1,1900]
[null,null,null,null,null,null,null,null," ",null,1,1900]
[null,null,null,null,null,null,null,null," ",null,1,1900]
[null,null,null,null,null,null,null,null," ",null,1,1900]
[null,null,null,null,null,null,null,null," ",null,1,1900]
[null,null,null,null,null,null,null,null," ",null,1,1900]
[null,null,null,null,null,null,null,null," ",null,1,1900]
[null,null,null,null,null,null,null,null," ",null,1,1900]
[null,null,null,null,null,null,null,null," ",null,1,1900]
[null,null,null,null,null,null,null,null," ",null,1,1900]
[null,null,null,null,null,null,null,null," ",null,1,1900]
[null,null,null,null,null,null,null,null," ",null,1,1900]
[null,null,null,null,null,null,null,null," ",null,1,1900]
[null,null,null,null,null,null,null,null," ",null,1,1900]
[null,null,null,null,null,null,null,null," ",null,1,1900]
[null,null,null,null,null,null,null,null," ",null,1,1900]
[null,null,null,null,null,null,null,null," ",null,1,1900]
[null,null,null,null,null,null,null,null," ",null,1,1900]
[null,null,null,null,null,null,null,null," ",null,1,1900]
[null,null,null,null,null,null,null,null," ",null,1,1900]
[null,null,null,null,null,null,null,null," ",null,1,1900]
[null,null,null,null,null,null,null,null," ",null,1,1900]
[null,null,null,null,null,null,null,null," ",null,1,1900]
[null,null,null,null,null,null,null,null," ",null,1,1900]
[null,null,null,null,null,null,null,null," ",null,1,1900]
[null,null,null,null,null,null,null,null," ",null,1,1900]
[null,null,null,null,null,null,null,null," ",null,1,1900]
[null,null,null,null,null,null,null,null," ",null,1,1900]
[null,null,null,null,null,null,null,null," ",null,1,1900]
[null,null,null,null,null,null,null,null," ",null,1,1900]
[null,null,null,null,null,null,null,null," ",null,1,1900]
[null,null,null,null,null,null,null,null," ",null,1,1900]
[null,null,null,null,null,null,null,null,{"$f":"+IF(H824=H823,\" \",H824)","v":" "},null,{"$f":"+MONTH(A824)","v":1},{"$f":"+YEAR(A824)","v":1900}]
[null,null,null,null,null,null,null,null," ",null,1,1900]
[null,null,null,null,null,null,null,null," ",null,1,1900]
[null,null,null,null,null,null,null,null," ",null,1,1900]
[null,null,null,null,null,null,null,null," ",null,1,1900]
[null,null,null,null,null,null,null,null," ",null,1,1900]
[null,null,null,null,null,null,null,null," ",null,1,1900]
[null,null,null,null,null,null,null,null," ",null,1,1900]
[null,null,null,null,null,null,null,null," ",null,1,1900]
[null,null,null,null,null,null,null,null," ",null,1,1900]
[null,null,null,null,null,null,null,null," ",null,1,1900]
[null,null,null,null,null,null,null,null," ",null,1,1900]
[null,null,null,null,null,null,null,null," ",null,1,1900]
[null,null,null,null,null,null,null,null," ",null,1,1900]
[null,null,null,null,null,null,null,null," ",null,1,1900]
[null,null,null,null,null,null,null,null," ",null,1,1900]
[null,null,null,null,null,null,null,null," ",null,1,1900]
[null,null,null,null,null,null,null,null," ",null,1,1900]
[null,null,null,null,null,null,null,null," ",null,1,1900]
[null,null,null,null,null,null,null,null," ",null,1,1900]
[null,null,null,null,null,null,null,null," ",null,1,1900]
[null,null,null,null,null,null,null,null," ",null,1,1900]
[null,null,null,null,null,null,null,null," ",null,1,1900]
[null,null,null,null,null,null,null,null," ",null,1,1900]
[null,null,null,null,null,null,null,null," ",null,1,1900]
[null,null,null,null,null,null,null,null," ",null,1,1900]
[null,null,null,null,null,null,null,null," ",null,1,1900]
[null,null,null,null,null,null,null,null," ",null,1,1900]
[null,null,null,null,null,null,null,null," ",null,1,1900]
[null,null,null,null,null,null,null,null," ",null,1,1900]
[null,null,null,null,null,null,null,null," ",null,1,1900]
[null,null,null,null,null,null,null,null," ",null,1,1900]
[null,null,null,null,null,null,null,null," ",null,1,1900]
[null,null,null,null,null,null,null,null," ",null,1,1900]
[null,null,null,null,null,null,null,null," ",null,1,1900]
[null,null,null,null,null,null,null,null," ",null,1,1900]
[null,null,null,null,null,null,null,null," ",null,1,1900]
[null,null,null,null,null,null,null,null," ",null,1,1900]
[null,null,null,null,null,null,null,null," ",null,1,1900]
[null,null,null,null,null,null,null,null," ",null,1,1900]
[null,null,null,null,null,null,null,null," ",null,1,1900]
[null,null,null,null,null,null,null,null," ",null,1,1900]
[null,null,null,null,null,null,null,null," ",null,1,1900]
[null,null,null,null,null,null,null,null," ",null,1,1900]
[null,null,null,null,null,null,null,null," ",null,1,1900]
[null,null,null,null,null,null,null,null," ",null,1,1900]
[null,null,null,null,null,null,null,null," ",null,1,1900]
[null,null,null,null,null,null,null,null," ",null,1,1900]
[null,null,null,null,null,null,null,null," ",null,1,1900]
[null,null,null,null,null,null,null,null," ",null,1,1900]
[null,null,null,null,null,null,null,null," ",null,1,1900]
[null,null,null,null,null,null,null,null," ",null,1,1900]
[null,null,null,null,null,null,null,null," ",null,1,1900]
[null,null,null,null,null,null,null,null," ",null,1,1900]
[null,null,null,null,null,null,null,null," ",null,1,1900]
[null,null,null,null,null,null,null,null," ",null,1,1900]
[null,null,null,null,null,null,null,null," ",null,1,1900]
[null,null,null,null,null,null,null,null," ",null,1,1900]
[null,null,null,null,null,null,null,null," ",null,1,1900]
[null,null,null,null,null,null,null,null," ",null,1,1900]
[null,null,null,null,null,null,null,null," ",null,1,1900]
[null,null,null,null,null,null,null,null," ",null,1,1900]
[null,null,null,null,null,null,null,null," ",null,1,1900]
[null,null,null,null,null,null,null,null," ",null,1,1900]
[null,null,null,null,null,null,null,null,{"$f":"+IF(H888=H887,\" \",H888)","v":" "},null,{"$f":"+MONTH(A888)","v":1},{"$f":"+YEAR(A888)","v":1900}]
[null,null,null,null,null,null,null,null," ",null,1,1900]
[null,null,null,null,null,null,null,null," ",null,1,1900]
[null,null,null,null,null,null,null,null," ",null,1,1900]
[null,null,null,null,null,null,null,null," ",null,1,1900]
[null,null,null,null,null,null,null,null," ",null,1,1900]
[null,null,null,null,null,null,null,null," ",null,1,1900]
[null,null,null,null,null,null,null,null," ",null,1,1900]
[null,null,null,null,null,null,null,null," ",null,1,1900]
[null,null,null,null,null,null,null,null," ",null,1,1900]
[null,null,null,null,null,null,null,null," ",null,1,1900]
[null,null,null,null,null,null,null,null," ",null,1,1900]
[null,null,null,null,null,null,null,null," ",null,1,1900]
[null,null,null,null,null,null,null,null," ",null,1,1900]
[null,null,null,null,null,null,null,null," ",null,1,1900]
[null,null,null,null,null,null,null,null," ",null,1,1900]
[null,null,null,null,null,null,null,null," ",null,1,1900]
[null,null,null,null,null,null,null,null," ",null,1,1900]
[null,null,null,null,null,null,null,null," ",null,1,1900]
[null,null,null,null,null,null,null,null," ",null,1,1900]
[null,null,null,null,null,null,null,null," ",null,1,1900]
[null,null,null,null,null,null,null,null," ",null,1,1900]
[null,null,null,null,null,null,null,null," ",null,1,1900]
[null,null,null,null,null,null,null,null," ",null,1,1900]
[null,null,null,null,null,null,null,null," ",null,1,1900]
[null,null,null,null,null,null,null,null," ",null,1,1900]
[null,null,null,null,null,null,null,null," ",null,1,1900]
[null,null,null,null,null,null,null,null," ",null,1,1900]
[null,null,null,null,null,null,null,null," ",null,1,1900]
[null,null,null,null,null,null,null,null," ",null,1,1900]
[null,null,null,null,null,null,null,null," ",null,1,1900]
[null,null,null,null,null,null,null,null," ",null,1,1900]
[null,null,null,null,null,null,null,null," ",null,1,1900]
[null,null,null,null,null,null,null,null," ",null,1,1900]
[null,null,null,null,null,null,null,null," ",null,1,1900]
[null,null,null,null,null,null,null,null," ",null,1,1900]
[null,null,null,null,null,null,null,null," ",null,1,1900]
[null,null,null,null,null,null,null,null," ",null,1,1900]
[null,null,null,null,null,null,null,null," ",null,1,1900]
[null,null,null,null,null,null,null,null," ",null,1,1900]
[null,null,null,null,null,null,null,null," ",null,1,1900]
[null,null,null,null,null,null,null,null," ",null,1,1900]
[null,null,null,null,null,null,null,null," ",null,1,1900]
[null,null,null,null,null,null,null,null," ",null,1,1900]
[null,null,null,null,null,null,null,null," ",null,1,1900]
[null,null,null,null,null,null,null,null," ",null,1,1900]
[null,null,null,null,null,null,null,null," ",null,1,1900]
[null,null,null,null,null,null,null,null," ",null,1,1900]
[null,null,null,null,null,null,null,null," ",null,1,1900]
[null,null,null,null,null,null,null,null," ",null,1,1900]
[null,null,null,null,null,null,null,null," ",null,1,1900]
[null,null,null,null,null,null,null,null," ",null,1,1900]
[null,null,null,null,null,null,null,null," ",null,1,1900]
[null,null,null,null,null,null,null,null," ",null,1,1900]
[null,null,null,null,null,null,null,null," ",null,1,1900]
[null,null,null,null,null,null,null,null," ",null,1,1900]
[null,null,null,null,null,null,null,null," ",null,1,1900]
[null,null,null,null,null,null,null,null," ",null,1,1900]
[null,null,null,null,null,null,null,null," ",null,1,1900]
[null,null,null,null,null,null,null,null," ",null,1,1900]
[null,null,null,null,null,null,null,null," ",null,1,1900]
[null,null,null,null,null,null,null,null," ",null,1,1900]
[null,null,null,null,null,null,null,null," ",null,1,1900]
[null,null,null,null,null,null,null,null," ",null,1,1900]
[null,null,null,null,null,null,null,null,{"$f":"+IF(H952=H951,\" \",H952)","v":" "},null,{"$f":"+MONTH(A952)","v":1},{"$f":"+YEAR(A952)","v":1900}]
[null,null,null,null,null,null,null,null," ",null,1,1900]
[null,null,null,null,null,null,null,null," ",null,1,1900]
[null,null,null,null,null,null,null,null," ",null,1,1900]
[null,null,null,null,null,null,null,null," ",null,1,1900]
[null,null,null,null,null,null,null,null," ",null,1,1900]
[null,null,null,null,null,null,null,null," ",null,1,1900]
[null,null,null,null,null,null,null,null," ",null,1,1900]
[null,null,null,null,null,null,null,null," ",null,1,1900]
[null,null,null,null,null,null,null,null," ",null,1,1900]
[null,null,null,null,null,null,null,null," ",null,1,1900]
[null,null,null,null,null,null,null,null," ",null,1,1900]
[null,null,null,null,null,null,null,null," ",null,1,1900]
[null,null,null,null,null,null,null,null," ",null,1,1900]
[null,null,null,null,null,null,null,null," ",null,1,1900]
[null,null,null,null,null,null,null,null," ",null,1,1900]
[null,null,null,null,null,null,null,null," ",null,1,1900]
[null,null,null,null,null,null,null,null," ",null,1,1900]
[null,null,null,null,null,null,null,null," ",null,1,1900]
[null,null,null,null,null,null,null,null," ",null,1,1900]
[null,null,null,null,null,null,null,null," ",null,1,1900]
[null,null,null,null,null,null,null,null," ",null,1,1900]
[null,null,null,null,null,null,null,null," ",null,1,1900]
[null,null,null,null,null,null,null,null," ",null,1,1900]
[null,null,null,null,null,null,null,null," ",null,1,1900]
[null,null,null,null,null,null,null,null," ",null,1,1900]
[null,null,null,null,null,null,null,null," ",null,1,1900]
[null,null,null,null,null,null,null,null," ",null,1,1900]
[null,null,null,null,null,null,null,null," ",null,1,1900]
[null,null,null,null,null,null,null,null," ",null,1,1900]
[null,null,null,null,null,null,null,null," ",null,1,1900]
[null,null,null,null,null,null,null,null," ",null,1,1900]
[null,null,null,null,null,null,null,null," ",null,1,1900]
[null,null,null,null,null,null,null,null," ",null,1,1900]
[null,null,null,null,null,null,null,null," ",null,1,1900]
[null,null,null,null,null,null,null,null," ",null,1,1900]
[null,null,null,null,null,null,null,null," ",null,1,1900]
[null,null,null,null,null,null,null,null," ",null,1,1900]
[null,null,null,null,null,null,null,null," ",null,1,1900]
[null,null,null,null,null,null,null,null," ",null,1,1900]
[null,null,null,null,null,null,null,null," ",null,1,1900]
[null,null,null,null,null,null,null,null," ",null,1,1900]
[null,null,null,null,null,null,null,null," ",null,1,1900]
[null,null,null,null,null,null,null,null," ",null,1,1900]
[null,null,null,null,null,null,null,null," ",null,1,1900]
[null,null,null,null,null,null,null,null," ",null,1,1900]
[null,null,null,null,null,null,null,null," ",null,1,1900]
[null,null,null,null,null,null,null,null," ",null,1,1900]
[null,null,null,null,null,null,null,null," ",null,1,1900]
[null,null,null,null,null,null,null,null," ",null,1,1900]
[null,null,null,null,null,null,null,null," ",null,1,1900]
[null,null,null,null,null,null,null,null," ",null,1,1900]
[null,null,null,null,null,null,null,null," ",null,1,1900]
[null,null,null,null,null,null,null,null," ",null,1,1900]
[null,null,null,null,null,null,null,null," ",null,1,1900]
[null,null,null,null,null,null,null,null," ",null,1,1900]
[null,null,null,null,null,null,null,null," ",null,1,1900]
[null,null,null,null,null,null,null,null," ",null,1,1900]
[null,null,null,null,null,null,null,null," ",null,1,1900]
[null,null,null,null,null,null,null,null," ",null,1,1900]
[null,null,null,null,null,null,null,null," ",null,1,1900]
[null,null,null,null,null,null,null,null," ",null,1,1900]
[null,null,null,null,null,null,null,null," ",null,1,1900]
[null,null,null,null,null,null,null,null," ",null,1,1900]
[null,null,null,null,null,null,null,null,{"$f":"+IF(H1016=H1015,\" \",H1016)","v":" "},null,{"$f":"+MONTH(A1016)","v":1},{"$f":"+YEAR(A1016)","v":1900}]
[null,null,null,null,null,null,null,null," ",null,1,1900]
[null,null,null,null,null,null,null,null," ",null,1,1900]
[null,null,null,null,null,null,null,null," ",null,1,1900]
[null,null,null,null,null,null,null,null," ",null,1,1900]
[null,null,null,null,null,null,null,null," ",null,1,1900]
[null,null,null,null,null,null,null,null," ",null,1,1900]
[null,null,null,null,null,null,null,null," ",null,1,1900]
[null,null,null,null,null,null,null,null," ",null,1,1900]
[null,null,null,null,null,null,null,null," ",null,1,1900]
[null,null,null,null,null,null,null,null," ",null,1,1900]
[null,null,null,null,null,null,null,null," ",null,1,1900]
[null,null,null,null,null,null,null,null," ",null,1,1900]
[null,null,null,null,null,null,null,null," ",null,1,1900]
[null,null,null,null,null,null,null,null," ",null,1,1900]
[null,null,null,null,null,null,null,null," ",null,1,1900]
[null,null,null,null,null,null,null,null," ",null,1,1900]
[null,null,null,null,null,null,null,null," ",null,1,1900]
[null,null,null,null,null,null,null,null," ",null,1,1900]
[null,null,null,null,null,null,null,null," ",null,1,1900]
[null,null,null,null,null,null,null,null," ",null,1,1900]
[null,null,null,null,null,null,null,null," ",null,1,1900]
[null,null,null,null,null,null,null,null," ",null,1,1900]
[null,null,null,null,null,null,null,null," ",null,1,1900]
[null,null,null,null,null,null,null,null," ",null,1,1900]
[null,null,null,null,null,null,null,null," ",null,1,1900]
[null,null,null,null,null,null,null,null," ",null,1,1900]
[null,null,null,null,null,null,null,null," ",null,1,1900]
[null,null,null,null,null,null,null,null," ",null,1,1900]
[null,null,null,null,null,null,null,null," ",null,1,1900]
[null,null,null,null,null,null,null,null," ",null,1,1900]
[null,null,null,null,null,null,null,null," ",null,1,1900]
[null,null,null,null,null,null,null,null," ",null,1,1900]
[null,null,null,null,null,null,null,null," ",null,1,1900]
[null,null,null,null,null,null,null,null," ",null,1,1900]
[null,null,null,null,null,null,null,null," ",null,1,1900]
[null,null,null,null,null,null,null,null," ",null,1,1900]
[null,null,null,null,null,null,null,null," ",null,1,1900]
[null,null,null,null,null,null,null,null," ",null,1,1900]
[null,null,null,null,null,null,null,null," ",null,1,1900]
[null,null,null,null,null,null,null,null," ",null,1,1900]
[null,null,null,null,null,null,null,null," ",null,1,1900]
[null,null,null,null,null,null,null,null," ",null,1,1900]
[null,null,null,null,null,null,null,null," ",null,1,1900]
[null,null,null,null,null,null,null,null," ",null,1,1900]
[null,null,null,null,null,null,null,null," ",null,1,1900]
[null,null,null,null,null,null,null,null," ",null,1,1900]
[null,null,null,null,null,null,null,null," ",null,1,1900]
[null,null,null,null,null,null,null,null," ",null,1,1900]
[null,null,null,null,null,null,null,null," ",null,1,1900]
[null,null,null,null,null,null,null,null," ",null,1,1900]
[null,null,null,null,null,null,null,null," ",null,1,1900]
[null,null,null,null,null,null,null,null," ",null,1,1900]
[null,null,null,null,null,null,null,null," ",null,1,1900]
[null,null,null,null,null,null,null,null," ",null,1,1900]
[null,null,null,null,null,null,null,null," ",null,1,1900]
[null,null,null,null,null,null,null,null," ",null,1,1900]
[null,null,null,null,null,null,null,null," ",null,1,1900]
[null,null,null,null,null,null,null,null," ",null,1,1900]
[null,null,null,null,null,null,null,null," ",null,1,1900]
[null,null,null,null,null,null,null,null," ",null,1,1900]
[null,null,null,null,null,null,null,null," ",null,1,1900]
[null,null,null,null,null,null,null,null," ",null,1,1900]
[null,null,null,null,null,null,null,null," ",null,1,1900]
[null,null,null,null,null,null,null,null,{"$f":"+IF(H1080=H1079,\" \",H1080)","v":" "},null,{"$f":"+MONTH(A1080)","v":1},{"$f":"+YEAR(A1080)","v":1900}]
[null,null,null,null,null,null,null,null," ",null,1,1900]
[null,null,null,null,null,null,null,null," ",null,1,1900]
[null,null,null,null,null,null,null,null," ",null,1,1900]
[null,null,null,null,null,null,null,null," ",null,1,1900]
[null,null,null,null,null,null,null,null," ",null,1,1900]
[null,null,null,null,null,null,null,null," ",null,1,1900]
[null,null,null,null,null,null,null,null," ",null,1,1900]
[null,null,null,null,null,null,null,null," ",null,1,1900]
[null,null,null,null,null,null,null,null," ",null,1,1900]
[null,null,null,null,null,null,null,null," ",null,1,1900]
[null,null,null,null,null,null,null,null," ",null,1,1900]
[null,null,null,null,null,null,null,null," ",null,1,1900]
[null,null,null,null,null,null,null,null," ",null,1,1900]
[null,null,null,null,null,null,null,null," ",null,1,1900]
[null,null,null,null,null,null,null,null," ",null,1,1900]
[null,null,null,null,null,null,null,null," ",null,1,1900]
[null,null,null,null,null,null,null,null," ",null,1,1900]
[null,null,null,null,null,null,null,null," ",null,1,1900]
[null,null,null,null,null,null,null,null," ",null,1,1900]
[null,null,null,null,null,null,null,null," ",null,1,1900]
[null,null,null,null,null,null,null,null," ",null,1,1900]
[null,null,null,null,null,null,null,null," ",null,1,1900]
[null,null,null,null,null,null,null,null," ",null,1,1900]
[null,null,null,null,null,null,null,null," ",null,1,1900]
[null,null,null,null,null,null,null,null," ",null,1,1900]
[null,null,null,null,null,null,null,null," ",null,1,1900]
[null,null,null,null,null,null,null,null," ",null,1,1900]
[null,null,null,null,null,null,null,null," ",null,1,1900]
[null,null,null,null,null,null,null,null," ",null,1,1900]
[null,null,null,null,null,null,null,null," ",null,1,1900]
[null,null,null,null,null,null,null,null," ",null,1,1900]
[null,null,null,null,null,null,null,null," ",null,1,1900]
[null,null,null,null,null,null,null,null," ",null,1,1900]
[null,null,null,null,null,null,null,null," ",null,1,1900]
[null,null,null,null,null,null,null,null," ",null,1,1900]
[null,null,null,null,null,null,null,null," ",null,1,1900]
[null,null,null,null,null,null,null,null," ",null,1,1900]
[null,null,null,null,null,null,null,null," ",null,1,1900]
[null,null,null,null,null,null,null,null," ",null,1,1900]
[null,null,null,null,null,null,null,null," ",null,1,1900]
[null,null,null,null,null,null,null,null," ",null,1,1900]
[null,null,null,null,null,null,null,null," ",null,1,1900]
[null,null,null,null,null,null,null,null," ",null,1,1900]
[null,null,null,null,null,null,null,null," ",null,1,1900]
[null,null,null,null,null,null,null,null," ",null,1,1900]
[null,null,null,null,null,null,null,null," ",null,1,1900]
[null,null,null,null,null,null,null,null," ",null,1,1900]
[null,null,null,null,null,null,null,null," ",null,1,1900]
[null,null,null,null,null,null,null,null," ",null,1,1900]
[null,null,null,null,null,null,null,null," ",null,1,1900]
[null,null,null,null,null,null,null,null," ",null,1,1900]
[null,null,null,null,null,null,null,null," ",null,1,1900]
[null,null,null,null,null,null,null,null," ",null,1,1900]
[null,null,null,null,null,null,null,null," ",null,1,1900]
[null,null,null,null,null,null,null,null," ",null,1,1900]
[null,null,null,null,null,null,null,null," ",null,1,1900]
[null,null,null,null,null,null,null,null," ",null,1,1900]
[null,null,null,null,null,null,null,null," ",null,1,1900]
[null,null,null,null,null,null,null,null," ",null,1,1900]
[null,null,null,null,null,null,null,null," ",null,1,1900]
[null,null,null,null,null,null,null,null," ",null,1,1900]
[null,null,null,null,null,null,null,null," ",null,1,1900]
[null,null,null,null,null,null,null,null," ",null,1,1900]
[null,null,null,null,null,null,null,null,{"$f":"+IF(H1144=H1143,\" \",H1144)","v":" "},null,{"$f":"+MONTH(A1144)","v":1},{"$f":"+YEAR(A1144)","v":1900}]
[null,null,null,null,null,null,null,null," ",null,1,1900]
[null,null,null,null,null,null,null,null," ",null,1,1900]
[null,null,null,null,null,null,null,null," ",null,1,1900]
[null,null,null,null,null,null,null,null," ",null,1,1900]
[null,null,null,null,null,null,null,null," ",null,1,1900]
[null,null,null,null,null,null,null,null," ",null,1,1900]
[null,null,null,null,null,null,null,null," ",null,1,1900]
[null,null,null,null,null,null,null,null," ",null,1,1900]
[null,null,null,null,null,null,null,null," ",null,1,1900]
[null,null,null,null,null,null,null,null," ",null,1,1900]
[null,null,null,null,null,null,null,null," ",null,1,1900]
[null,null,null,null,null,null,null,null," ",null,1,1900]
[null,null,null,null,null,null,null,null," ",null,1,1900]
[null,null,null,null,null,null,null,null," ",null,1,1900]
[null,null,null,null,null,null,null,null," ",null,1,1900]
[null,null,null,null,null,null,null,null," ",null,1,1900]
[null,null,null,null,null,null,null,null," ",null,1,1900]
[null,null,null,null,null,null,null,null," ",null,1,1900]
[null,null,null,null,null,null,null,null," ",null,1,1900]
[null,null,null,null,null,null,null,null," ",null,1,1900]
[null,null,null,null,null,null,null,null," ",null,1,1900]
[null,null,null,null,null,null,null,null," ",null,1,1900]
[null,null,null,null,null,null,null,null," ",null,1,1900]
[null,null,null,null,null,null,null,null," ",null,1,1900]
[null,null,null,null,null,null,null,null," ",null,1,1900]
[null,null,null,null,null,null,null,null," ",null,1,1900]
[null,null,null,null,null,null,null,null," ",null,1,1900]
[null,null,null,null,null,null,null,null," ",null,1,1900]
[null,null,null,null,null,null,null,null," ",null,1,1900]
[null,null,null,null,null,null,null,null," ",null,1,1900]
[null,null,null,null,null,null,null,null," ",null,1,1900]
[null,null,null,null,null,null,null,null," ",null,1,1900]
[null,null,null,null,null,null,null,null," ",null,1,1900]
[null,null,null,null,null,null,null,null," ",null,1,1900]
[null,null,null,null,null,null,null,null," ",null,1,1900]
[null,null,null,null,null,null,null,null," ",null,1,1900]
[null,null,null,null,null,null,null,null," ",null,1,1900]
[null,null,null,null,null,null,null,null," ",null,1,1900]
[null,null,null,null,null,null,null,null," ",null,1,1900]
[null,null,null,null,null,null,null,null," ",null,1,1900]
[null,null,null,null,null,null,null,null," ",null,1,1900]
[null,null,null,null,null,null,null,null," ",null,1,1900]
[null,null,null,null,null,null,null,null," ",null,1,1900]
[null,null,null,null,null,null,null,null," ",null,1,1900]
[null,null,null,null,null,null,null,null," ",null,1,1900]
[null,null,null,null,null,null,null,null," ",null,1,1900]
[null,null,null,null,null,null,null,null," ",null,1,1900]
[null,null,null,null,null,null,null,null," ",null,1,1900]
[null,null,null,null,null,null,null,null," ",null,1,1900]
[null,null,null,null,null,null,null,null," ",null,1,1900]
[null,null,null,null,null,null,null,null," ",null,1,1900]
[null,null,null,null,null,null,null,null," ",null,1,1900]
[null,null,null,null,null,null,null,null," ",null,1,1900]
[null,null,null,null,null,null,null,null," ",null,1,1900]
[null,null,null,null,null,null,null,null," ",null,1,1900]
[null,null,null,null,null,null,null,null," ",null,1,1900]
[null,null,null,null,null,null,null,null," ",null,1,1900]
[null,null,null,null,null,null,null,null," ",null,1,1900]
[null,null,null,null,null,null,null,null," ",null,1,1900]
[null,null,null,null,null,null,null,null," ",null,1,1900]
[null,null,null,null,null,null,null,null," ",null,1,1900]
[null,null,null,null,null,null,null,null," ",null,1,1900]
[null,null,null,null,null,null,null,null," ",null,1,1900]
[null,null,null,null,null,null,null,null,{"$f":"+IF(H1208=H1207,\" \",H1208)","v":" "},null,{"$f":"+MONTH(A1208)","v":1},{"$f":"+YEAR(A1208)","v":1900}]
[null,null,null,null,null,null,null,null," ",null,1,1900]
[null,null,null,null,null,null,null,null," ",null,1,1900]
[null,null,null,null,null,null,null,null," ",null,1,1900]
[null,null,null,null,null,null,null,null," ",null,1,1900]
[null,null,null,null,null,null,null,null," ",null,1,1900]
[null,null,null,null,null,null,null,null," ",null,1,1900]
[null,null,null,null,null,null,null,null," ",null,1,1900]
[null,null,null,null,null,null,null,null," ",null,1,1900]
[null,null,null,null,null,null,null,null," ",null,1,1900]
[null,null,null,null,null,null,null,null," ",null,1,1900]
[null,null,null,null,null,null,null,null," ",null,1,1900]
[null,null,null,null,null,null,null,null," ",null,1,1900]
[null,null,null,null,null,null,null,null," ",null,1,1900]
[null,null,null,null,null,null,null,null," ",null,1,1900]
[null,null,null,null,null,null,null,null," ",null,1,1900]
[null,null,null,null,null,null,null,null," ",null,1,1900]
[null,null,null,null,null,null,null,null," ",null,1,1900]
[null,null,null,null,null,null,null,null," ",null,1,1900]
[null,null,null,null,null,null,null,null," ",null,1,1900]
[null,null,null,null,null,null,null,null," ",null,1,1900]
[null,null,null,null,null,null,null,null," ",null,1,1900]
[null,null,null,null,null,null,null,null," ",null,1,1900]
[null,null,null,null,null,null,null,null," ",null,1,1900]
[null,null,null,null,null,null,null,null," ",null,1,1900]
[null,null,null,null,null,null,null,null," ",null,1,1900]
[null,null,null,null,null,null,null,null," ",null,1,1900]
[null,null,null,null,null,null,null,null," ",null,1,1900]
[null,null,null,null,null,null,null,null," ",null,1,1900]
[null,null,null,null,null,null,null,null," ",null,1,1900]
[null,null,null,null,null,null,null,null," ",null,1,1900]
[null,null,null,null,null,null,null,null," ",null,1,1900]
[null,null,null,null,null,null,null,null," ",null,1,1900]
[null,null,null,null,null,null,null,null," ",null,1,1900]
[null,null,null,null,null,null,null,null," ",null,1,1900]
[null,null,null,null,null,null,null,null," ",null,1,1900]
[null,null,null,null,null,null,null,null," ",null,1,1900]
[null,null,null,null,null,null,null,null," ",null,1,1900]
[null,null,null,null,null,null,null,null," ",null,1,1900]
[null,null,null,null,null,null,null,null," ",null,1,1900]
[null,null,null,null,null,null,null,null," ",null,1,1900]
[null,null,null,null,null,null,null,null," ",null,1,1900]
[null,null,null,null,null,null,null,null," ",null,1,1900]
[null,null,null,null,null,null,null,null," ",null,1,1900]
[null,null,null,null,null,null,null,null," ",null,1,1900]
[null,null,null,null,null,null,null,null," ",null,1,1900]
[null,null,null,null,null,null,null,null," ",null,1,1900]
[null,null,null,null,null,null,null,null," ",null,1,1900]
[null,null,null,null,null,null,null,null," ",null,1,1900]
[null,null,null,null,null,null,null,null," ",null,1,1900]
[null,null,null,null,null,null,null,null," ",null,1,1900]
[null,null,null,null,null,null,null,null," ",null,1,1900]
[null,null,null,null,null,null,null,null," ",null,1,1900]
[null,null,null,null,null,null,null,null," ",null,1,1900]
[null,null,null,null,null,null,null,null," ",null,1,1900]
[null,null,null,null,null,null,null,null," ",null,1,1900]
[null,null,null,null,null,null,null,null," ",null,1,1900]
[null,null,null,null,null,null,null,null," ",null,1,1900]
[null,null,null,null,null,null,null,null," ",null,1,1900]
[null,null,null,null,null,null,null,null," ",null,1,1900]
[null,null,null,null,null,null,null,null," ",null,1,1900]
[null,null,null,null,null,null,null,null," ",null,1,1900]
[null,null,null,null,null,null,null,null," ",null,1,1900]
[null,null,null,null,null,null,null,null," ",null,1,1900]
[null,null,null,null,null,null,null,null,{"$f":"+IF(H1272=H1271,\" \",H1272)","v":" "},null,{"$f":"+MONTH(A1272)","v":1},{"$f":"+YEAR(A1272)","v":1900}]
[null,null,null,null,null,null,null,null," ",null,1,1900]
[null,null,null,null,null,null,null,null," ",null,1,1900]
[null,null,null,null,null,null,null,null," ",null,1,1900]
[null,null,null,null,null,null,null,null," ",null,1,1900]
[null,null,null,null,null,null,null,null," ",null,1,1900]
[null,null,null,null,null,null,null,null," ",null,1,1900]
[null,null,null,null,null,null,null,null," ",null,1,1900]
[null,null,null,null,null,null,null,null," ",null,1,1900]
[null,null,null,null,null,null,null,null," ",null,1,1900]
[null,null,null,null,null,null,null,null," ",null,1,1900]
[null,null,null,null,null,null,null,null," ",null,1,1900]
[null,null,null,null,null,null,null,null," ",null,1,1900]
[null,null,null,null,null,null,null,null," ",null,1,1900]
[null,null,null,null,null,null,null,null," ",null,1,1900]
[null,null,null,null,null,null,null,null," ",null,1,1900]
[null,null,null,null,null,null,null,null," ",null,1,1900]
[null,null,null,null,null,null,null,null," ",null,1,1900]
[null,null,null,null,null,null,null,null," ",null,1,1900]
[null,null,null,null,null,null,null,null," ",null,1,1900]
[null,null,null,null,null,null,null,null," ",null,1,1900]
[null,null,null,null,null,null,null,null," ",null,1,1900]
[null,null,null,null,null,null,null,null," ",null,1,1900]
[null,null,null,null,null,null,null,null," ",null,1,1900]
[null,null,null,null,null,null,null,null," ",null,1,1900]
[null,null,null,null,null,null,null,null," ",null,1,1900]
[null,null,null,null,null,null,null,null," ",null,1,1900]
[null,null,null,null,null,null,null,null," ",null,1,1900]
[null,null,null,null,null,null,null,null," ",null,1,1900]
[null,null,null,null,null,null,null,null," ",null,1,1900]
[null,null,null,null,null,null,null,null," ",null,1,1900]
[null,null,null,null,null,null,null,null," ",null,1,1900]
[null,null,null,null,null,null,null,null," ",null,1,1900]
[null,null,null,null,null,null,null,null," ",null,1,1900]
[null,null,null,null,null,null,null,null," ",null,1,1900]
[null,null,null,null,null,null,null,null," ",null,1,1900]
[null,null,null,null,null,null,null,null," ",null,1,1900]
[null,null,null,null,null,null,null,null," ",null,1,1900]
[null,null,null,null,null,null,null,null," ",null,1,1900]
[null,null,null,null,null,null,null,null," ",null,1,1900]
[null,null,null,null,null,null,null,null," ",null,1,1900]
[null,null,null,null,null,null,null,null," ",null,1,1900]
[null,null,null,null,null,null,null,null," ",null,1,1900]
[null,null,null,null,null,null,null,null," ",null,1,1900]
[null,null,null,null,null,null,null,null," ",null,1,1900]
[null,null,null,null,null,null,null,null," ",null,1,1900]
[null,null,null,null,null,null,null,null," ",null,1,1900]
[null,null,null,null,null,null,null,null," ",null,1,1900]
[null,null,null,null,null,null,null,null," ",null,1,1900]
[null,null,null,null,null,null,null,null," ",null,1,1900]
[null,null,null,null,null,null,null,null," ",null,1,1900]
[null,null,null,null,null,null,null,null," ",null,1,1900]
[null,null,null,null,null,null,null,null," ",null,1,1900]
[null,null,null,null,null,null,null,null," ",null,1,1900]
[null,null,null,null,null,null,null,null," ",null,1,1900]
[null,null,null,null,null,null,null,null," ",null,1,1900]
[null,null,null,null,null,null,null,null," ",null,1,1900]
[null,null,null,null,null,null,null,null," ",null,1,1900]
[null,null,null,null,null,null,null,null," ",null,1,1900]
[null,null,null,null,null,null,null,null," ",null,1,1900]
[null,null,null,null,null,null,null,null," ",null,1,1900]
[null,null,null,null,null,null,null,null," ",null,1,1900]
[null,null,null,null,null,null,null,null," ",null,1,1900]
[null,null,null,null,null,null,null,null," ",null,1,1900]
[null,null,null,null,null,null,null,null,{"$f":"+IF(H1336=H1335,\" \",H1336)","v":" "},null,{"$f":"+MONTH(A1336)","v":1},{"$f":"+YEAR(A1336)","v":1900}]
[null,null,null,null,null,null,null,null," ",null,1,1900]
[null,null,null,null,null,null,null,null," ",null,1,1900]
[null,null,null,null,null,null,null,null," ",null,1,1900]
[null,null,null,null,null,null,null,null," ",null,1,1900]
[null,null,null,null,null,null,null,null," ",null,1,1900]
[null,null,null,null,null,null,null,null," ",null,1,1900]
[null,null,null,null,null,null,null,null," ",null,1,1900]
[null,null,null,null,null,null,null,null," ",null,1,1900]
[null,null,null,null,null,null,null,null," ",null,1,1900]
[null,null,null,null,null,null,null,null," ",null,1,1900]
[null,null,null,null,null,null,null,null," ",null,1,1900]
[null,null,null,null,null,null,null,null," ",null,1,1900]
[null,null,null,null,null,null,null,null," ",null,1,1900]
[null,null,null,null,null,null,null,null," ",null,1,1900]
[null,null,null,null,null,null,null,null," ",null,1,1900]
[null,null,null,null,null,null,null,null," ",null,1,1900]
[null,null,null,null,null,null,null,null," ",null,1,1900]
[null,null,null,null,null,null,null,null," ",null,1,1900]
[null,null,null,null,null,null,null,null," ",null,1,1900]
[null,null,null,null,null,null,null,null," ",null,1,1900]
[null,null,null,null,null,null,null,null," ",null,1,1900]
[null,null,null,null,null,null,null,null," ",null,1,1900]
[null,null,null,null,null,null,null,null," ",null,1,1900]
[null,null,null,null,null,null,null,null," ",null,1,1900]
[null,null,null,null,null,null,null,null," ",null,1,1900]
[null,null,null,null,null,null,null,null," ",null,1,1900]
[null,null,null,null,null,null,null,null," ",null,1,1900]
[null,null,null,null,null,null,null,null," ",null,1,1900]
[null,null,null,null,null,null,null,null," ",null,1,1900]
[null,null,null,null,null,null,null,null," ",null,1,1900]
[null,null,null,null,null,null,null,null," ",null,1,1900]
[null,null,null,null,null,null,null,null," ",null,1,1900]
[null,null,null,null,null,null,null,null," ",null,1,1900]
[null,null,null,null,null,null,null,null," ",null,1,1900]
[null,null,null,null,null,null,null,null," ",null,1,1900]
[null,null,null,null,null,null,null,null," ",null,1,1900]
[null,null,null,null,null,null,null,null," ",null,1,1900]
[null,null,null,null,null,null,null,null," ",null,1,1900]
[null,null,null,null,null,null,null,null," ",null,1,1900]
[null,null,null,null,null,null,null,null," ",null,1,1900]
[null,null,null,null,null,null,null,null," ",null,1,1900]
[null,null,null,null,null,null,null,null," ",null,1,1900]
[null,null,null,null,null,null,null,null," ",null,1,1900]
[null,null,null,null,null,null,null,null," ",null,1,1900]
[null,null,null,null,null,null,null,null," ",null,1,1900]
[null,null,null,null,null,null,null,null," ",null,1,1900]
[null,null,null,null,null,null,null,null," ",null,1,1900]
[null,null,null,null,null,null,null,null," ",null,1,1900]
[null,null,null,null,null,null,null,null," ",null,1,1900]
[null,null,null,null,null,null,null,null," ",null,1,1900]
[null,null,null,null,null,null,null,null," ",null,1,1900]
[null,null,null,null,null,null,null,null," ",null,1,1900]
[null,null,null,null,null,null,null,null," ",null,1,1900]
[null,null,null,null,null,null,null,null," ",null,1,1900]
[null,null,null,null,null,null,null,null," ",null,1,1900]
[null,null,null,null,null,null,null,null," ",null,1,1900]
[null,null,null,null,null,null,null,null," ",null,1,1900]
[null,null,null,null,null,null,null,null," ",null,1,1900]
[null,null,null,null,null,null,null,null," ",null,1,1900]
[null,null,null,null,null,null,null,null," ",null,1,1900]
[null,null,null,null,null,null,null,null," ",null,1,1900]
[null,null,null,null,null,null,null,null," ",null,1,1900]
[null,null,null,null,null,null,null,null," ",null,1,1900]
[null,null,null,null,null,null,null,null,{"$f":"+IF(H1400=H1399,\" \",H1400)","v":" "},null,{"$f":"+MONTH(A1400)","v":1},{"$f":"+YEAR(A1400)","v":1900}]
[null,null,null,null,null,null,null,null," ",null,1,1900]
[null,null,null,null,null,null,null,null," ",null,1,1900]
[null,null,null,null,null,null,null,null," ",null,1,1900]
[null,null,null,null,null,null,null,null," ",null,1,1900]
[null,null,null,null,null,null,null,null," ",null,1,1900]
[null,null,null,null,null,null,null,null," ",null,1,1900]
[null,null,null,null,null,null,null,null," ",null,1,1900]
[null,null,null,null,null,null,null,null," ",null,1,1900]
[null,null,null,null,null,null,null,null," ",null,1,1900]
[null,null,null,null,null,null,null,null," ",null,1,1900]
[null,null,null,null,null,null,null,null," ",null,1,1900]
[null,null,null,null,null,null,null,null," ",null,1,1900]
[null,null,null,null,null,null,null,null," ",null,1,1900]
[null,null,null,null,null,null,null,null," ",null,1,1900]
[null,null,null,null,null,null,null,null," ",null,1,1900]
[null,null,null,null,null,null,null,null," ",null,1,1900]
[null,null,null,null,null,null,null,null," ",null,1,1900]
[null,null,null,null,null,null,null,null," ",null,1,1900]
[null,null,null,null,null,null,null,null," ",null,1,1900]
[null,null,null,null,null,null,null,null," ",null,1,1900]
[null,null,null,null,null,null,null,null," ",null,1,1900]
[null,null,null,null,null,null,null,null," ",null,1,1900]
[null,null,null,null,null,null,null,null," ",null,1,1900]
[null,null,null,null,null,null,null,null," ",null,1,1900]
[null,null,null,null,null,null,null,null," ",null,1,1900]
[null,null,null,null,null,null,null,null," ",null,1,1900]
[null,null,null,null,null,null,null,null," ",null,1,1900]
[null,null,null,null,null,null,null,null," ",null,1,1900]
[null,null,null,null,null,null,null,null," ",null,1,1900]
[null,null,null,null,null,null,null,null," ",null,1,1900]
[null,null,null,null,null,null,null,null," ",null,1,1900]
[null,null,null,null,null,null,null,null," ",null,1,1900]
[null,null,null,null,null,null,null,null," ",null,1,1900]
[null,null,null,null,null,null,null,null," ",null,1,1900]
[null,null,null,null,null,null,null,null," ",null,1,1900]
[null,null,null,null,null,null,null,null," ",null,1,1900]
[null,null,null,null,null,null,null,null," ",null,1,1900]
[null,null,null,null,null,null,null,null," ",null,1,1900]
[null,null,null,null,null,null,null,null," ",null,1,1900]
[null,null,null,null,null,null,null,null," ",null,1,1900]
[null,null,null,null,null,null,null,null," ",null,1,1900]
[null,null,null,null,null,null,null,null," ",null,1,1900]
[null,null,null,null,null,null,null,null," ",null,1,1900]
[null,null,null,null,null,null,null,null," ",null,1,1900]
[null,null,null,null,null,null,null,null," ",null,1,1900]
[null,null,null,null,null,null,null,null," ",null,1,1900]
[null,null,null,null,null,null,null,null," ",null,1,1900]
[null,null,null,null,null,null,null,null," ",null,1,1900]
[null,null,null,null,null,null,null,null," ",null,1,1900]
[null,null,null,null,null,null,null,null," ",null,1,1900]
[null,null,null,null,null,null,null,null," ",null,1,1900]
[null,null,null,null,null,null,null,null," ",null,1,1900]
[null,null,null,null,null,null,null,null," ",null,1,1900]
[null,null,null,null,null,null,null,null," ",null,1,1900]
[null,null,null,null,null,null,null,null," ",null,1,1900]
[null,null,null,null,null,null,null,null," ",null,1,1900]
[null,null,null,null,null,null,null,null," ",null,1,1900]
[null,null,null,null,null,null,null,null," ",null,1,1900]
[null,null,null,null,null,null,null,null," ",null,1,1900]
[null,null,null,null,null,null,null,null," ",null,1,1900]
[null,null,null,null,null,null,null,null," ",null,1,1900]
[null,null,null,null,null,null,null,null," ",null,1,1900]
[null,null,null,null,null,null,null,null," ",null,1,1900]
[null,null,null,null,null,null,null,null,{"$f":"+IF(H1464=H1463,\" \",H1464)","v":" "},null,{"$f":"+MONTH(A1464)","v":1},{"$f":"+YEAR(A1464)","v":1900}]
[null,null,null,null,null,null,null,null," ",null,1,1900]
[null,null,null,null,null,null,null,null," ",null,1,1900]
[null,null,null,null,null,null,null,null," ",null,1,1900]
[null,null,null,null,null,null,null,null," ",null,1,1900]
[null,null,null,null,null,null,null,null," ",null,1,1900]
[null,null,null,null,null,null,null,null," ",null,1,1900]
[null,null,null,null,null,null,null,null," ",null,1,1900]
[null,null,null,null,null,null,null,null," ",null,1,1900]
[null,null,null,null,null,null,null,null," ",null,1,1900]
[null,null,null,null,null,null,null,null," ",null,1,1900]
[null,null,null,null,null,null,null,null," ",null,1,1900]
[null,null,null,null,null,null,null,null," ",null,1,1900]
[null,null,null,null,null,null,null,null," ",null,1,1900]
[null,null,null,null,null,null,null,null," ",null,1,1900]
[null,null,null,null,null,null,null,null," ",null,1,1900]
[null,null,null,null,null,null,null,null," ",null,1,1900]
[null,null,null,null,null,null,null,null," ",null,1,1900]
[null,null,null,null,null,null,null,null," ",null,1,1900]
[null,null,null,null,null,null,null,null," ",null,1,1900]
[null,null,null,null,null,null,null,null," ",null,1,1900]
[null,null,null,null,null,null,null,null," ",null,1,1900]
[null,null,null,null,null,null,null,null," ",null,1,1900]
[null,null,null,null,null,null,null,null," ",null,1,1900]
[null,null,null,null,null,null,null,null," ",null,1,1900]
[null,null,null,null,null,null,null,null," ",null,1,1900]
[null,null,null,null,null,null,null,null," ",null,1,1900]
[null,null,null,null,null,null,null,null," ",null,1,1900]
[null,null,null,null,null,null,null,null," ",null,1,1900]
[null,null,null,null,null,null,null,null," ",null,1,1900]
[null,null,null,null,null,null,null,null," ",null,1,1900]
[null,null,null,null,null,null,null,null," ",null,1,1900]
[null,null,null,null,null,null,null,null," ",null,1,1900]
[null,null,null,null,null,null,null,null," ",null,1,1900]
[null,null,null,null,null,null,null,null," ",null,1,1900]
[null,null,null,null,null,null,null,null," ",null,1,1900]
[null,null,null,null,null,null,null,null," ",null,1,1900]
[null,null,null,null,null,null,null,null," ",null,1,1900]
[null,null,null,null,null,null,null,null," ",null,1,1900]
[null,null,null,null,null,null,null,null," ",null,1,1900]
[null,null,null,null,null,null,null,null," ",null,1,1900]
[null,null,null,null,null,null,null,null," ",null,1,1900]
[null,null,null,null,null,null,null,null," ",null,1,1900]
[null,null,null,null,null,null,null,null," ",null,1,1900]
[null,null,null,null,null,null,null,null," ",null,1,1900]
[null,null,null,null,null,null,null,null," ",null,1,1900]
[null,null,null,null,null,null,null,null," ",null,1,1900]
[null,null,null,null,null,null,null,null," ",null,1,1900]
[null,null,null,null,null,null,null,null," ",null,1,1900]
[null,null,null,null,null,null,null,null," ",null,1,1900]
[null,null,null,null,null,null,null,null," ",null,1,1900]
[null,null,null,null,null,null,null,null," ",null,1,1900]
[null,null,null,null,null,null,null,null," ",null,1,1900]
[null,null,null,null,null,null,null,null," ",null,1,1900]
[null,null,null,null,null,null,null,null," ",null,1,1900]
[null,null,null,null,null,null,null,null," ",null,1,1900]
[null,null,null,null,null,null,null,null," ",null,1,1900]
[null,null,null,null,null,null,null,null," ",null,1,1900]
[null,null,null,null,null,null,null,null," ",null,1,1900]
[null,null,null,null,null,null,null,null," ",null,1,1900]
[null,null,null,null,null,null,null,null," ",null,1,1900]
[null,null,null,null,null,null,null,null," ",null,1,1900]
[null,null,null,null,null,null,null,null," ",null,1,1900]
[null,null,null,null,null,null,null,null," ",null,1,1900]
[null,null,null,null,null,null,null,null,{"$f":"+IF(H1528=H1527,\" \",H1528)","v":" "},null,{"$f":"+MONTH(A1528)","v":1},{"$f":"+YEAR(A1528)","v":1900}]
[null,null,null,null,null,null,null,null," ",null,1,1900]
[null,null,null,null,null,null,null,null," ",null,1,1900]
[null,null,null,null,null,null,null,null," ",null,1,1900]
[null,null,null,null,null,null,null,null," ",null,1,1900]
[null,null,null,null,null,null,null,null," ",null,1,1900]
[null,null,null,null,null,null,null,null," ",null,1,1900]
[null,null,null,null,null,null,null,null," ",null,1,1900]
[null,null,null,null,null,null,null,null," ",null,1,1900]
[null,null,null,null,null,null,null,null," ",null,1,1900]
[null,null,null,null,null,null,null,null," ",null,1,1900]
[null,null,null,null,null,null,null,null," ",null,1,1900]
[null,null,null,null,null,null,null,null," ",null,1,1900]
[null,null,null,null,null,null,null,null," ",null,1,1900]
[null,null,null,null,null,null,null,null," ",null,1,1900]
[null,null,null,null,null,null,null,null," ",null,1,1900]
[null,null,null,null,null,null,null,null," ",null,1,1900]
[null,null,null,null,null,null,null,null," ",null,1,1900]
[null,null,null,null,null,null,null,null," ",null,1,1900]
[null,null,null,null,null,null,null,null," ",null,1,1900]
[null,null,null,null,null,null,null,null," ",null,1,1900]
[null,null,null,null,null,null,null,null," ",null,1,1900]
[null,null,null,null,null,null,null,null," ",null,1,1900]
[null,null,null,null,null,null,null,null," ",null,1,1900]
[null,null,null,null,null,null,null,null," ",null,1,1900]
[null,null,null,null,null,null,null,null," ",null,1,1900]
[null,null,null,null,null,null,null,null," ",null,1,1900]
[null,null,null,null,null,null,null,null," ",null,1,1900]
[null,null,null,null,null,null,null,null," ",null,1,1900]
[null,null,null,null,null,null,null,null," ",null,1,1900]
[null,null,null,null,null,null,null,null," ",null,1,1900]
[null,null,null,null,null,null,null,null," ",null,1,1900]
[null,null,null,null,null,null,null,null," ",null,1,1900]
[null,null,null,null,null,null,null,null," ",null,1,1900]
[null,null,null,null,null,null,null,null," ",null,1,1900]
[null,null,null,null,null,null,null,null," ",null,1,1900]
[null,null,null,null,null,null,null,null," ",null,1,1900]
[null,null,null,null,null,null,null,null," ",null,1,1900]
[null,null,null,null,null,null,null,null," ",null,1,1900]
[null,null,null,null,null,null,null,null," ",null,1,1900]
[null,null,null,null,null,null,null,null," ",null,1,1900]
[null,null,null,null,null,null,null,null," ",null,1,1900]
[null,null,null,null,null,null,null,null," ",null,1,1900]
[null,null,null,null,null,null,null,null," ",null,1,1900]
[null,null,null,null,null,null,null,null," ",null,1,1900]
[null,null,null,null,null,null,null,null," ",null,1,1900]
[null,null,null,null,null,null,null,null," ",null,1,1900]
[null,null,null,null,null,null,null,null," ",null,1,1900]
[null,null,null,null,null,null,null,null," ",null,1,1900]
[null,null,null,null,null,null,null,null," ",null,1,1900]
[null,null,null,null,null,null,null,null," ",null,1,1900]
[null,null,null,null,null,null,null,null," ",null,1,1900]
[null,null,null,null,null,null,null,null," ",null,1,1900]
[null,null,null,null,null,null,null,null," ",null,1,1900]
[null,null,null,null,null,null,null,null," ",null,1,1900]
[null,null,null,null,null,null,null,null," ",null,1,1900]
[null,null,null,null,null,null,null,null," ",null,1,1900]
[null,null,null,null,null,null,null,null," ",null,1,1900]
[null,null,null,null,null,null,null,null," ",null,1,1900]
[null,null,null,null,null,null,null,null," ",null,1,1900]
[null,null,null,null,null,null,null,null," ",null,1,1900]
[null,null,null,null,null,null,null,null," ",null,1,1900]
[null,null,null,null,null,null,null,null," ",null,1,1900]
[null,null,null,null,null,null,null,null," ",null,1,1900]
[null,null,null,null,null,null,null,null,{"$f":"+IF(H1592=H1591,\" \",H1592)","v":" "},null,{"$f":"+MONTH(A1592)","v":1},{"$f":"+YEAR(A1592)","v":1900}]
[null,null,null,null,null,null,null,null," ",null,1,1900]
[null,null,null,null,null,null,null,null," ",null,1,1900]
[null,null,null,null,null,null,null,null," ",null,1,1900]
[null,null,null,null,null,null,null,null," ",null,1,1900]
[null,null,null,null,null,null,null,null," ",null,1,1900]
[null,null,null,null,null,null,null,null," ",null,1,1900]
[null,null,null,null,null,null,null,null," ",null,1,1900]
[null,null,null,null,null,null,null,null," ",null,1,1900]
[null,null,null,null,null,null,null,null," ",null,1,1900]
[null,null,null,null,null,null,null,null," ",null,1,1900]
[null,null,null,null,null,null,null,null," ",null,1,1900]
[null,null,null,null,null,null,null,null," ",null,1,1900]
[null,null,null,null,null,null,null,null," ",null,1,1900]
[null,null,null,null,null,null,null,null," ",null,1,1900]
[null,null,null,null,null,null,null,null," ",null,1,1900]
[null,null,null,null,null,null,null,null," ",null,1,1900]
[null,null,null,null,null,null,null,null," ",null,1,1900]
[null,null,null,null,null,null,null,null," ",null,1,1900]
[null,null,null,null,null,null,null,null," ",null,1,1900]
[null,null,null,null,null,null,null,null," ",null,1,1900]
[null,null,null,null,null,null,null,null," ",null,1,1900]
[null,null,null,null,null,null,null,null," ",null,1,1900]
[null,null,null,null,null,null,null,null," ",null,1,1900]
[null,null,null,null,null,null,null,null," ",null,1,1900]
[null,null,null,null,null,null,null,null," ",null,1,1900]
[null,null,null,null,null,null,null,null," ",null,1,1900]
[null,null,null,null,null,null,null,null," ",null,1,1900]
[null,null,null,null,null,null,null,null," ",null,1,1900]
[null,null,null,null,null,null,null,null," ",null,1,1900]
[null,null,null,null,null,null,null,null," ",null,1,1900]
[null,null,null,null,null,null,null,null," ",null,1,1900]
[null,null,null,null,null,null,null,null," ",null,1,1900]
[null,null,null,null,null,null,null,null," ",null,1,1900]
[null,null,null,null,null,null,null,null," ",null,1,1900]
[null,null,null,null,null,null,null,null," ",null,1,1900]
[null,null,null,null,null,null,null,null," ",null,1,1900]
[null,null,null,null,null,null,null,null," ",null,1,1900]
[null,null,null,null,null,null,null,null," ",null,1,1900]
[null,null,null,null,null,null,null,null," ",null,1,1900]
[null,null,null,null,null,null,null,null," ",null,1,1900]
[null,null,null,null,null,null,null,null," ",null,1,1900]
[null,null,null,null,null,null,null,null," ",null,1,1900]
[null,null,null,null,null,null,null,null," ",null,1,1900]
[null,null,null,null,null,null,null,null," ",null,1,1900]
[null,null,null,null,null,null,null,null," ",null,1,1900]
[null,null,null,null,null,null,null,null," ",null,1,1900]
[null,null,null,null,null,null,null,null," ",null,1,1900]
[null,null,null,null,null,null,null,null," ",null,1,1900]
[null,null,null,null,null,null,null,null," ",null,1,1900]
[null,null,null,null,null,null,null,null," ",null,1,1900]
[null,null,null,null,null,null,null,null," ",null,1,1900]
[null,null,null,null,null,null,null,null," ",null,1,1900]
[null,null,null,null,null,null,null,null," ",null,1,1900]
[null,null,null,null,null,null,null,null," ",null,1,1900]
[null,null,null,null,null,null,null,null," ",null,1,1900]
[null,null,null,null,null,null,null,null," ",null,1,1900]
[null,null,null,null,null,null,null,null," ",null,1,1900]
[null,null,null,null,null,null,null,null," ",null,1,1900]
[null,null,null,null,null,null,null,null," ",null,1,1900]
[null,null,null,null,null,null,null,null," ",null,1,1900]
[null,null,null,null,null,null,null,null," ",null,1,1900]
[null,null,null,null,null,null,null,null," ",null,1,1900]
[null,null,null,null,null,null,null,null," ",null,1,1900]
[null,null,null,null,null,null,null,null,{"$f":"+IF(H1656=H1655,\" \",H1656)","v":" "},null,{"$f":"+MONTH(A1656)","v":1},{"$f":"+YEAR(A1656)","v":1900}]
[null,null,null,null,null,null,null,null," ",null,1,1900]
[null,null,null,null,null,null,null,null," ",null,1,1900]
[null,null,null,null,null,null,null,null," ",null,1,1900]
[null,null,null,null,null,null,null,null," ",null,1,1900]
[null,null,null,null,null,null,null,null," ",null,1,1900]
[null,null,null,null,null,null,null,null," ",null,1,1900]
[null,null,null,null,null,null,null,null," ",null,1,1900]
[null,null,null,null,null,null,null,null," ",null,1,1900]
[null,null,null,null,null,null,null,null," ",null,1,1900]
[null,null,null,null,null,null,null,null," ",null,1,1900]
[null,null,null,null,null,null,null,null," ",null,1,1900]
[null,null,null,null,null,null,null,null," ",null,1,1900]
[null,null,null,null,null,null,null,null," ",null,1,1900]
[null,null,null,null,null,null,null,null," ",null,1,1900]
[null,null,null,null,null,null,null,null," ",null,1,1900]
[null,null,null,null,null,null,null,null," ",null,1,1900]
[null,null,null,null,null,null,null,null," ",null,1,1900]
[null,null,null,null,null,null,null,null," ",null,1,1900]
[null,null,null,null,null,null,null,null," ",null,1,1900]
[null,null,null,null,null,null,null,null," ",null,1,1900]
[null,null,null,null,null,null,null,null," ",null,1,1900]
[null,null,null,null,null,null,null,null," ",null,1,1900]
[null,null,null,null,null,null,null,null," ",null,1,1900]
[null,null,null,null,null,null,null,null," ",null,1,1900]
[null,null,null,null,null,null,null,null," ",null,1,1900]
[null,null,null,null,null,null,null,null," ",null,1,1900]
[null,null,null,null,null,null,null,null," ",null,1,1900]
[null,null,null,null,null,null,null,null," ",null,1,1900]
[null,null,null,null,null,null,null,null," ",null,1,1900]
[null,null,null,null,null,null,null,null," ",null,1,1900]
[null,null,null,null,null,null,null,null," ",null,1,1900]
[null,null,null,null,null,null,null,null," ",null,1,1900]
[null,null,null,null,null,null,null,null," ",null,1,1900]
[null,null,null,null,null,null,null,null," ",null,1,1900]
[null,null,null,null,null,null,null,null," ",null,1,1900]
[null,null,null,null,null,null,null,null," ",null,1,1900]
[null,null,null,null,null,null,null,null," ",null,1,1900]
[null,null,null,null,null,null,null,null," ",null,1,1900]
[null,null,null,null,null,null,null,null," ",null,1,1900]
[null,null,null,null,null,null,null,null," ",null,1,1900]
[null,null,null,null,null,null,null,null," ",null,1,1900]
[null,null,null,null,null,null,null,null," ",null,1,1900]
[null,null,null,null,null,null,null,null," ",null,1,1900]
[null,null,null,null,null,null,null,null," ",null,1,1900]
[null,null,null,null,null,null,null,null," ",null,1,1900]
[null,null,null,null,null,null,null,null," ",null,1,1900]
[null,null,null,null,null,null,null,null," ",null,1,1900]
[null,null,null,null,null,null,null,null," ",null,1,1900]
[null,null,null,null,null,null,null,null," ",null,1,1900]
[null,null,null,null,null,null,null,null," ",null,1,1900]
[null,null,null,null,null,null,null,null," ",null,1,1900]
[null,null,null,null,null,null,null,null," ",null,1,1900]
[null,null,null,null,null,null,null,null," ",null,1,1900]
[null,null,null,null,null,null,null,null," ",null,1,1900]
[null,null,null,null,null,null,null,null," ",null,1,1900]
[null,null,null,null,null,null,null,null," ",null,1,1900]
[null,null,null,null,null,null,null,null," ",null,1,1900]
[null,null,null,null,null,null,null,null," ",null,1,1900]
[null,null,null,null,null,null,null,null," ",null,1,1900]
[null,null,null,null,null,null,null,null," ",null,1,1900]
[null,null,null,null,null,null,null,null," ",null,1,1900]
[null,null,null,null,null,null,null,null," ",null,1,1900]
[null,null,null,null,null,null,null,null," ",null,1,1900]
[null,null,null,null,null,null,null,null,{"$f":"+IF(H1720=H1719,\" \",H1720)","v":" "},null,{"$f":"+MONTH(A1720)","v":1},{"$f":"+YEAR(A1720)","v":1900}]
[null,null,null,null,null,null,null,null," ",null,1,1900]
[null,null,null,null,null,null,null,null," ",null,1,1900]
[null,null,null,null,null,null,null,null," ",null,1,1900]
[null,null,null,null,null,null,null,null," ",null,1,1900]
[null,null,null,null,null,null,null,null," ",null,1,1900]
[null,null,null,null,null,null,null,null," ",null,1,1900]
[null,null,null,null,null,null,null,null," ",null,1,1900]
[null,null,null,null,null,null,null,null," ",null,1,1900]
[null,null,null,null,null,null,null,null," ",null,1,1900]
[null,null,null,null,null,null,null,null," ",null,1,1900]
[null,null,null,null,null,null,null,null," ",null,1,1900]
[null,null,null,null,null,null,null,null," ",null,1,1900]
[null,null,null,null,null,null,null,null," ",null,1,1900]
[null,null,null,null,null,null,null,null," ",null,1,1900]
[null,null,null,null,null,null,null,null," ",null,1,1900]
[null,null,null,null,null,null,null,null," ",null,1,1900]
[null,null,null,null,null,null,null,null," ",null,1,1900]
[null,null,null,null,null,null,null,null," ",null,1,1900]
[null,null,null,null,null,null,null,null," ",null,1,1900]
[null,null,null,null,null,null,null,null," ",null,1,1900]
[null,null,null,null,null,null,null,null," ",null,1,1900]
[null,null,null,null,null,null,null,null," ",null,1,1900]
[null,null,null,null,null,null,null,null," ",null,1,1900]
[null,null,null,null,null,null,null,null," ",null,1,1900]
[null,null,null,null,null,null,null,null," ",null,1,1900]
[null,null,null,null,null,null,null,null," ",null,1,1900]
[null,null,null,null,null,null,null,null," ",null,1,1900]
[null,null,null,null,null,null,null,null," ",null,1,1900]
[null,null,null,null,null,null,null,null," ",null,1,1900]
[null,null,null,null,null,null,null,null," ",null,1,1900]
[null,null,null,null,null,null,null,null," ",null,1,1900]
[null,null,null,null,null,null,null,null," ",null,1,1900]
[null,null,null,null,null,null,null,null," ",null,1,1900]
[null,null,null,null,null,null,null,null," ",null,1,1900]
[null,null,null,null,null,null,null,null," ",null,1,1900]
[null,null,null,null,null,null,null,null," ",null,1,1900]
[null,null,null,null,null,null,null,null," ",null,1,1900]
[null,null,null,null,null,null,null,null," ",null,1,1900]
[null,null,null,null,null,null,null,null," ",null,1,1900]
[null,null,null,null,null,null,null,null," ",null,1,1900]
[null,null,null,null,null,null,null,null," ",null,1,1900]
[null,null,null,null,null,null,null,null," ",null,1,1900]
[null,null,null,null,null,null,null,null," ",null,1,1900]
[null,null,null,null,null,null,null,null," ",null,1,1900]
[null,null,null,null,null,null,null,null," ",null,1,1900]
[null,null,null,null,null,null,null,null," ",null,1,1900]
[null,null,null,null,null,null,null,null," ",null,1,1900]
[null,null,null,null,null,null,null,null," ",null,1,1900]
[null,null,null,null,null,null,null,null," ",null,1,1900]
[null,null,null,null,null,null,null,null," ",null,1,1900]
[null,null,null,null,null,null,null,null," ",null,1,1900]
[null,null,null,null,null,null,null,null," ",null,1,1900]
[null,null,null,null,null,null,null,null," ",null,1,1900]
[null,null,null,null,null,null,null,null," ",null,1,1900]
[null,null,null,null,null,null,null,null," ",null,1,1900]
[null,null,null,null,null,null,null,null," ",null,1,1900]
[null,null,null,null,null,null,null,null," ",null,1,1900]
[null,null,null,null,null,null,null,null," ",null,1,1900]
[null,null,null,null,null,null,null,null," ",null,1,1900]
[null,null,null,null,null,null,null,null," ",null,1,1900]
[null,null,null,null,null,null,null,null," ",null,1,1900]
[null,null,null,null,null,null,null,null," ",null,1,1900]
[null,null,null,null,null,null,null,null," ",null,1,1900]
[null,null,null,null,null,null,null,null,{"$f":"+IF(H1784=H1783,\" \",H1784)","v":" "},null,{"$f":"+MONTH(A1784)","v":1},{"$f":"+YEAR(A1784)","v":1900}]
[null,null,null,null,null,null,null,null," ",null,1,1900]
[null,null,null,null,null,null,null,null," ",null,1,1900]
[null,null,null,null,null,null,null,null," ",null,1,1900]
[null,null,null,null,null,null,null,null," ",null,1,1900]
[null,null,null,null,null,null,null,null," ",null,1,1900]
[null,null,null,null,null,null,null,null," ",null,1,1900]
[null,null,null,null,null,null,null,null," ",null,1,1900]
[null,null,null,null,null,null,null,null," ",null,1,1900]
[null,null,null,null,null,null,null,null," ",null,1,1900]
[null,null,null,null,null,null,null,null," ",null,1,1900]
[null,null,null,null,null,null,null,null," ",null,1,1900]
[null,null,null,null,null,null,null,null," ",null,1,1900]
[null,null,null,null,null,null,null,null," ",null,1,1900]
[null,null,null,null,null,null,null,null," ",null,1,1900]
[null,null,null,null,null,null,null,null," ",null,1,1900]
[null,null,null,null,null,null,null,null," ",null,1,1900]
[null,null,null,null,null,null,null,null," ",null,1,1900]
[null,null,null,null,null,null,null,null," ",null,1,1900]
[null,null,null,null,null,null,null,null," ",null,1,1900]
[null,null,null,null,null,null,null,null," ",null,1,1900]
[null,null,null,null,null,null,null,null," ",null,1,1900]
[null,null,null,null,null,null,null,null," ",null,1,1900]
[null,null,null,null,null,null,null,null," ",null,1,1900]
[null,null,null,null,null,null,null,null," ",null,1,1900]
[null,null,null,null,null,null,null,null," ",null,1,1900]
[null,null,null,null,null,null,null,null," ",null,1,1900]
[null,null,null,null,null,null,null,null," ",null,1,1900]
[null,null,null,null,null,null,null,null," ",null,1,1900]
[null,null,null,null,null,null,null,null," ",null,1,1900]
[null,null,null,null,null,null,null,null," ",null,1,1900]
[null,null,null,null,null,null,null,null," ",null,1,1900]
[null,null,null,null,null,null,null,null," ",null,1,1900]
[null,null,null,null,null,null,null,null," ",null,1,1900]
[null,null,null,null,null,null,null,null," ",null,1,1900]
[null,null,null,null,null,null,null,null," ",null,1,1900]
[null,null,null,null,null,null,null,null," ",null,1,1900]
[null,null,null,null,null,null,null,null," ",null,1,1900]
[null,null,null,null,null,null,null,null," ",null,1,1900]
[null,null,null,null,null,null,null,null," ",null,1,1900]
[null,null,null,null,null,null,null,null," ",null,1,1900]
[null,null,null,null,null,null,null,null," ",null,1,1900]
[null,null,null,null,null,null,null,null," ",null,1,1900]
[null,null,null,null,null,null,null,null," ",null,1,1900]
[null,null,null,null,null,null,null,null," ",null,1,1900]
[null,null,null,null,null,null,null,null," ",null,1,1900]
[null,null,null,null,null,null,null,null," ",null,1,1900]
[null,null,null,null,null,null,null,null," ",null,1,1900]
[null,null,null,null,null,null,null,null," ",null,1,1900]
[null,null,null,null,null,null,null,null," ",null,1,1900]
[null,null,null,null,null,null,null,null," ",null,1,1900]
[null,null,null,null,null,null,null,null," ",null,1,1900]
[null,null,null,null,null,null,null,null," ",null,1,1900]
[null,null,null,null,null,null,null,null," ",null,1,1900]
[null,null,null,null,null,null,null,null," ",null,1,1900]
[null,null,null,null,null,null,null,null," ",null,1,1900]
[null,null,null,null,null,null,null,null," ",null,1,1900]
[null,null,null,null,null,null,null,null," ",null,1,1900]
[null,null,null,null,null,null,null,null," ",null,1,1900]
[null,null,null,null,null,null,null,null," ",null,1,1900]
[null,null,null,null,null,null,null,null," ",null,1,1900]
[null,null,null,null,null,null,null,null," ",null,1,1900]
[null,null,null,null,null,null,null,null," ",null,1,1900]
[null,null,null,null,null,null,null,null," ",null,1,1900]
[null,null,null,null,null,null,null,null,{"$f":"+IF(H1848=H1847,\" \",H1848)","v":" "},null,{"$f":"+MONTH(A1848)","v":1},{"$f":"+YEAR(A1848)","v":1900}]
[null,null,null,null,null,null,null,null," ",null,1,1900]
[null,null,null,null,null,null,null,null," ",null,1,1900]
[null,null,null,null,null,null,null,null," ",null,1,1900]
[null,null,null,null,null,null,null,null," ",null,1,1900]
[null,null,null,null,null,null,null,null," ",null,1,1900]
[null,null,null,null,null,null,null,null," ",null,1,1900]
[null,null,null,null,null,null,null,null," ",null,1,1900]
[null,null,null,null,null,null,null,null," ",null,1,1900]
[null,null,null,null,null,null,null,null," ",null,1,1900]
[null,null,null,null,null,null,null,null," ",null,1,1900]
[null,null,null,null,null,null,null,null," ",null,1,1900]
[null,null,null,null,null,null,null,null," ",null,1,1900]
[null,null,null,null,null,null,null,null," ",null,1,1900]
[null,null,null,null,null,null,null,null," ",null,1,1900]
[null,null,null,null,null,null,null,null," ",null,1,1900]
[null,null,null,null,null,null,null,null," ",null,1,1900]
[null,null,null,null,null,null,null,null," ",null,1,1900]
[null,null,null,null,null,null,null,null," ",null,1,1900]
[null,null,null,null,null,null,null,null," ",null,1,1900]
[null,null,null,null,null,null,null,null," ",null,1,1900]
[null,null,null,null,null,null,null,null," ",null,1,1900]
[null,null,null,null,null,null,null,null," ",null,1,1900]
[null,null,null,null,null,null,null,null," ",null,1,1900]
[null,null,null,null,null,null,null,null," ",null,1,1900]
[null,null,null,null,null,null,null,null," ",null,1,1900]
[null,null,null,null,null,null,null,null," ",null,1,1900]
[null,null,null,null,null,null,null,null," ",null,1,1900]
[null,null,null,null,null,null,null,null," ",null,1,1900]
[null,null,null,null,null,null,null,null," ",null,1,1900]
[null,null,null,null,null,null,null,null," ",null,1,1900]
[null,null,null,null,null,null,null,null," ",null,1,1900]
[null,null,null,null,null,null,null,null," ",null,1,1900]
[null,null,null,null,null,null,null,null," ",null,1,1900]
[null,null,null,null,null,null,null,null," ",null,1,1900]
[null,null,null,null,null,null,null,null," ",null,1,1900]
[null,null,null,null,null,null,null,null," ",null,1,1900]
[null,null,null,null,null,null,null,null," ",null,1,1900]
[null,null,null,null,null,null,null,null," ",null,1,1900]
[null,null,null,null,null,null,null,null," ",null,1,1900]
[null,null,null,null,null,null,null,null," ",null,1,1900]
[null,null,null,null,null,null,null,null," ",null,1,1900]
[null,null,null,null,null,null,null,null," ",null,1,1900]
[null,null,null,null,null,null,null,null," ",null,1,1900]
[null,null,null,null,null,null,null,null," ",null,1,1900]
[null,null,null,null,null,null,null,null," ",null,1,1900]
[null,null,null,null,null,null,null,null," ",null,1,1900]
[null,null,null,null,null,null,null,null," ",null,1,1900]
[null,null,null,null,null,null,null,null," ",null,1,1900]
[null,null,null,null,null,null,null,null," ",null,1,1900]
[null,null,null,null,null,null,null,null," ",null,1,1900]
[null,null,null,null,null,null,null,null," ",null,1,1900]
[null,null,null,null,null,null,null,null," ",null,1,1900]
[null,null,null,null,null,null,null,null," ",null,1,1900]
[null,null,null,null,null,null,null,null," ",null,1,1900]
[null,null,null,null,null,null,null,null," ",null,1,1900]
[null,null,null,null,null,null,null,null," ",null,1,1900]
[null,null,null,null,null,null,null,null," ",null,1,1900]
[null,null,null,null,null,null,null,null," ",null,1,1900]
[null,null,null,null,null,null,null,null," ",null,1,1900]
[null,null,null,null,null,null,null,null," ",null,1,1900]
[null,null,null,null,null,null,null,null," ",null,1,1900]
[null,null,null,null,null,null,null,null," ",null,1,1900]
[null,null,null,null,null,null,null,null," ",null,1,1900]
[null,null,null,null,null,null,null,null,{"$f":"+IF(H1912=H1911,\" \",H1912)","v":" "},null,{"$f":"+MONTH(A1912)","v":1},{"$f":"+YEAR(A1912)","v":1900}]
[null,null,null,null,null,null,null,null," ",null,1,1900]
[null,null,null,null,null,null,null,null," ",null,1,1900]
[null,null,null,null,null,null,null,null," ",null,1,1900]
[null,null,null,null,null,null,null,null," ",null,1,1900]
[null,null,null,null,null,null,null,null," ",null,1,1900]
[null,null,null,null,null,null,null,null," ",null,1,1900]
[null,null,null,null,null,null,null,null," ",null,1,1900]
[null,null,null,null,null,null,null,null," ",null,1,1900]
[null,null,null,null,null,null,null,null," ",null,1,1900]
[null,null,null,null,null,null,null,null," ",null,1,1900]
[null,null,null,null,null,null,null,null," ",null,1,1900]
[null,null,null,null,null,null,null,null," ",null,1,1900]
[null,null,null,null,null,null,null,null," ",null,1,1900]
[null,null,null,null,null,null,null,null," ",null,1,1900]
[null,null,null,null,null,null,null,null," ",null,1,1900]
[null,null,null,null,null,null,null,null," ",null,1,1900]
[null,null,null,null,null,null,null,null," ",null,1,1900]
[null,null,null,null,null,null,null,null," ",null,1,1900]
[null,null,null,null,null,null,null,null," ",null,1,1900]
[null,null,null,null,null,null,null,null," ",null,1,1900]
[null,null,null,null,null,null,null,null," ",null,1,1900]
[null,null,null,null,null,null,null,null," ",null,1,1900]
[null,null,null,null,null,null,null,null," ",null,1,1900]
[null,null,null,null,null,null,null,null," ",null,1,1900]
[null,null,null,null,null,null,null,null," ",null,1,1900]
[null,null,null,null,null,null,null,null," ",null,1,1900]
[null,null,null,null,null,null,null,null," ",null,1,1900]
[null,null,null,null,null,null,null,null," ",null,1,1900]
[null,null,null,null,null,null,null,null," ",null,1,1900]
[null,null,null,null,null,null,null,null," ",null,1,1900]
[null,null,null,null,null,null,null,null," ",null,1,1900]
[null,null,null,null,null,null,null,null," ",null,1,1900]
[null,null,null,null,null,null,null,null," ",null,1,1900]
[null,null,null,null,null,null,null,null," ",null,1,1900]
[null,null,null,null,null,null,null,null," ",null,1,1900]
[null,null,null,null,null,null,null,null," ",null,1,1900]
[null,null,null,null,null,null,null,null," ",null,1,1900]
[null,null,null,null,null,null,null,null," ",null,1,1900]
[null,null,null,null,null,null,null,null," ",null,1,1900]
[null,null,null,null,null,null,null,null," ",null,1,1900]
[null,null,null,null,null,null,null,null," ",null,1,1900]
[null,null,null,null,null,null,null,null," ",null,1,1900]
[null,null,null,null,null,null,null,null," ",null,1,1900]
[null,null,null,null,null,null,null,null," ",null,1,1900]
[null,null,null,null,null,null,null,null," ",null,1,1900]
[null,null,null,null,null,null,null,null," ",null,1,1900]
[null,null,null,null,null,null,null,null," ",null,1,1900]
[null,null,null,null,null,null,null,null," ",null,1,1900]
[null,null,null,null,null,null,null,null," ",null,1,1900]
[null,null,null,null,null,null,null,null," ",null,1,1900]
[null,null,null,null,null,null,null,null," ",null,1,1900]
[null,null,null,null,null,null,null,null," ",null,1,1900]
[null,null,null,null,null,null,null,null," ",null,1,1900]
[null,null,null,null,null,null,null,null," ",null,1,1900]
[null,null,null,null,null,null,null,null," ",null,1,1900]
[null,null,null,null,null,null,null,null," ",null,1,1900]
[null,null,null,null,null,null,null,null," ",null,1,1900]
[null,null,null,null,null,null,null,null," ",null,1,1900]
[null,null,null,null,null,null,null,null," ",null,1,1900]
[null,null,null,null,null,null,null,null," ",null,1,1900]
[null,null,null,null,null,null,null,null," ",null,1,1900]
[null,null,null,null,null,null,null,null," ",null,1,1900]
[null,null,null,null,null,null,null,null," ",null,1,1900]
[null,null,null,null,null,null,null,null,{"$f":"+IF(H1976=H1975,\" \",H1976)","v":" "},null,{"$f":"+MONTH(A1976)","v":1},{"$f":"+YEAR(A1976)","v":1900}]
[null,null,null,null,null,null,null,null," ",null,1,1900]
[null,null,null,null,null,null,null,null," ",null,1,1900]
[null,null,null,null,null,null,null,null," ",null,1,1900]
[null,null,null,null,null,null,null,null," ",null,1,1900]
[null,null,null,null,null,null,null,null," ",null,1,1900]
[null,null,null,null,null,null,null,null," ",null,1,1900]
[null,null,null,null,null,null,null,null," ",null,1,1900]
[null,null,null,null,null,null,null,null," ",null,1,1900]
[null,null,null,null,null,null,null,null," ",null,1,1900]
[null,null,null,null,null,null,null,null," ",null,1,1900]
[null,null,null,null,null,null,null,null," ",null,1,1900]
[null,null,null,null,null,null,null,null," ",null,1,1900]
[null,null,null,null,null,null,null,null," ",null,1,1900]
[null,null,null,null,null,null,null,null," ",null,1,1900]
[null,null,null,null,null,null,null,null," ",null,1,1900]
[null,null,null,null,null,null,null,null," ",null,1,1900]
[null,null,null,null,null,null,null,null," ",null,1,1900]
[null,null,null,null,null,null,null,null," ",null,1,1900]
[null,null,null,null,null,null,null,null," ",null,1,1900]
[null,null,null,null,null,null,null,null," ",null,1,1900]
[null,null,null,null,null,null,null,null," ",null,1,1900]
[null,null,null,null,null,null,null,null," ",null,1,1900]
[null,null,null,null,null,null,null,null," ",null,1,1900]
[null,null,null,null,null,null,null,null," ",null,1,1900]
[null,null,null,null,null,null,null,null," ",null,1,1900]
[null,null,null,null,null,null,null,null," ",null,1,1900]
[null,null,null,null,null,null,null,null," ",null,1,1900]
[null,null,null,null,null,null,null,null," ",null,1,1900]
[null,null,null,null,null,null,null,null," ",null,1,1900]
[null,null,null,null,null,null,null,null," ",null,1,1900]
[null,null,null,null,null,null,null,null," ",null,1,1900]
[null,null,null,null,null,null,null,null," ",null,1,1900]
[null,null,null,null,null,null,null,null," ",null,1,1900]
[null,null,null,null,null,null,null,null," ",null,1,1900]
[null,null,null,null,null,null,null,null," ",null,1,1900]
[null,null,null,null,null,null,null,null," ",null,1,1900]
[null,null,null,null,null,null,null,null," ",null,1,1900]
[null,null,null,null,null,null,null,null," ",null,1,1900]
[null,null,null,null,null,null,null,null," ",null,1,1900]
[null,null,null,null,null,null,null,null," ",null,1,1900]
[null,null,null,null,null,null,null,null," ",null,1,1900]
[null,null,null,null,null,null,null,null," ",null,1,1900]
[null,null,null,null,null,null,null,null," ",null,1,1900]
[null,null,null,null,null,null,null,null," ",null,1,1900]
[null,null,null,null,null,null,null,null," ",null,1,1900]
[null,null,null,null,null,null,null,null," ",null,1,1900]
[null,null,null,null,null,null,null,null," ",null,1,1900]
[null,null,null,null,null,null,null,null," ",null,1,1900]
[null,null,null,null,null,null,null,null," ",null,1,1900]
[null,null,null,null,null,null,null,null," ",null,1,1900]
[null,null,null,null,null,null,null,null," ",null,1,1900]
[null,null,null,null,null,null,null,null," ",null,1,1900]
[null,null,null,null,null,null,null,null," ",null,1,1900]
[null,null,null,null,null,null,null,null," ",null,1,1900]
[null,null,null,null,null,null,null,null," ",null,1,1900]
[null,null,null,null,null,null,null,null," ",null,1,1900]
[null,null,null,null,null,null,null,null," ",null,1,1900]
[null,null,null,null,null,null,null,null," ",null,1,1900]
[null,null,null,null,null,null,null,null," ",null,1,1900]
[null,null,null,null,null,null,null,null," ",null,1,1900]
[null,null,null,null,null,null,null,null," ",null,1,1900]
[null,null,null,null,null,null,null,null," ",null,1,1900]
[null,null,null,null,null,null,null,null," ",null,1,1900]
[null,null,null,null,null,null,null,null," ",null,1,1900]
[null,null,null,null,null,null,null,null," ",null,1,1900]
[null,null,null,null,null,null,null,null," ",null,1,1900]
[null,null,null,null,null,null,null,null," ",null,1,1900]
[null,null,null,null,null,null,null,null," ",null,1,1900]
[null,null,null,null,null,null,null,null," ",null,1,1900]
[null,null,null,null,null,null,null,null," ",null,1,1900]
[null,null,null,null,null,null,null,null," ",null,1,1900]
[null,null,null,null,null,null,null,null," ",null,1,1900]
[null,null,null,null,null,null,null,null," ",null,1,1900]
[null,null,null,null,null,null,null,null," ",null,1,1900]
[null,null,null,null,null,null,null,null," ",null,1,1900]
[null,null,null,null,null,null,null,null," ",null,1,1900]
[null,null,null,null,null,null,null,null," ",null,1,1900]
[null,null,null,null,null,null,null,null," ",null,1,1900]
[null,null,null,null,null,null,null,null," ",null,1,1900]
[null,null,null,null,null,null,null,null," ",null,1,1900]
[null,null,null,null,null,null,null,null," ",null,1,1900]
[null,null,null,null,null,null,null,null," ",null,1,1900]
[null,null,null,null,null,null,null,null," ",null,1,1900]
[null,null,null,null,null,null,null,null," ",null,1,1900]
[null,null,null,null,null,null,null,null," ",null,1,1900]
[null,null,null,null,null,null,null,null," ",null,1,1900]
[null,null,null,null,null,null,null,null," ",null,1,1900]
[null,null,null,null,null,null,null,null," ",null,1,1900]
[null,null,null,null,null,null,null,null," ",null,1,1900]
[null,null,null,null,null,null,null,null," ",null,1,1900]
[null,null,null,null,null,null,null,null," ",null,1,1900]
[null,null,null,null,null,null,null,null," ",null,1,1900]
[null,null,null,null,null,null,null,null," ",null,1,1900]
[null,null,null,null,null,null,null,null," ",null,1,1900]
[null,null,null,null,null,null,null,null," ",null,1,1900]
[null,null,null,null,null,null,null,null," ",null,1,1900]
[null,null,null,null,null,null,null,null," ",null,1,1900]
[null,null,null,null,null,null,null,null," ",null,1,1900]
[null,null,null,null,null,null,null,null," ",null,1,1900]
[null,null,null,null,null,null,null,null," ",null,1,1900]
[null,null,null,null,null,null,null,null," ",null,1,1900]
[null,null,null,null,null,null,null,null," ",null,1,1900]
[null,null,null,null,null,null,null,null," ",null,1,1900]
[null,null,null,null,null,null,null,null," ",null,1,1900]
[null,null,null,null,null,null,null,null," ",null,1,1900]
[null,null,null,null,null,null,null,null," ",null,1,1900]
[null,null,null,null,null,null,null,null," ",null,1,1900]
[null,null,null,null,null,null,null,null," ",null,1,1900]
[null,null,null,null,null,null,null,null," ",null,1,1900]
[null,null,null,null,null,null,null,null," ",null,1,1900]
[null,null,null,null,null,null,null,null," ",null,1,1900]
[null,null,null,null,null,null,null,null," ",null,1,1900]
[null,null,null,null,null,null,null,null," ",null,1,1900]
[null,null,null,null,null,null,null,null," ",null,1,1900]
[null,null,null,null,null,null,null,null,{"$f":"+IF(H4856=H4855,\" \",H4856)","v":" "},null,{"$f":"+MONTH(A4856)","v":1},{"$f":"+YEAR(A4856)","v":1900}]
[null,null,null,null,null,null,null,null," ",null,1,1900]
[null,null,null,null,null,null,null,null," ",null,1,1900]
[null,null,null,null,null,null,null,null," ",null,1,1900]
[null,null,null,null,null,null,null,null," ",null,1,1900]
[null,null,null,null,null,null,null,null," ",null,1,1900]
[null,null,null,null,null,null,null,null," ",null,1,1900]
[null,null,null,null,null,null,null,null," ",null,1,1900]
[null,null,null,null,null,null,null,null," ",null,1,1900]
[null,null,null,null,null,null,null,null," ",null,1,1900]
[null,null,null,null,null,null,null,null," ",null,1,1900]
[null,null,null,null,null,null,null,null," ",null,1,1900]
[null,null,null,null,null,null,null,null," ",null,1,1900]
[null,null,null,null,null,null,null,null," ",null,1,1900]
[null,null,null,null,null,null,null,null," ",null,1,1900]
[null,null,null,null,null,null,null,null," ",null,1,1900]
[null,null,null,null,null,null,null,null," ",null,1,1900]
[null,null,null,null,null,null,null,null," ",null,1,1900]
[null,null,null,null,null,null,null,null," ",null,1,1900]
[null,null,null,null,null,null,null,null," ",null,1,1900]
[null,null,null,null,null,null,null,null," ",null,1,1900]
[null,null,null,null,null,null,null,null," ",null,1,1900]
[null,null,null,null,null,null,null,null,{"$f":"+IF(H5560=H5559,\" \",H5560)","v":" "},null,{"$f":"+MONTH(A5560)","v":1},{"$f":"+YEAR(A5560)","v":1900}]
[null,null,null,null,null,null,null,null," ",null,1,1900]
[null,null,null,null,null,null,null,null," ",null,1,1900]
[null,null,null,null,null,null,null,null," ",null,1,1900]
[null,null,null,null,null,null,null,null," ",null,1,1900]
[null,null,null,null,null,null,null,null," ",null,1,1900]
[null,null,null,null,null,null,null,null," ",null,1,1900]
[null,null,null,null,null,null,null,null," ",null,1,1900]
[null,null,null,null,null,null,null,null," ",null,1,1900]
[null,null,null,null,null,null,null,null,{"$f":"+IF(H5816=H5815,\" \",H5816)","v":" "},null,{"$f":"+MONTH(A5816)","v":1},{"$f":"+YEAR(A5816)","v":1900}]
[null,null,null,null,null,null,null,null," ",null,1,1900]
[null,null,null,null,null,null,null,null," ",null,1,1900]
[null,null,null,null,null,null,null,null," ",null,1,1900]
[null,null,null,null,null,null,null,null," ",null,1,1900]
[null,null,null,null,null,null,null,null," ",null,1,1900]
[null,null,null,null,null,null,null,null," ",null,1,1900]
[null,null,null,null,null,null,null,null," ",null,1,1900]
[null,null,null,null,null,null,null,null," ",null,1,1900]
[null,null,null,null,null,null,null,null," ",null,1,1900]
[null,null,null,null,null,null,null,null," ",null,1,1900]
[null,null,null,null,null,null,null,null," ",null,1,1900]
[null,null,null,null,null,null,null,null," ",null,1,1900]
[null,null,null,null,null,null,null,null," ",null,1,1900]
[null,null,null,null,null,null,null,null," ",null,1,1900]
[null,null,null,null,null,null,null,null," ",null,1,1900]
[null,null,null,null,null,null,null,null," ",null,1,1900]
[null,null,null,null,null,null,null,null," ",null,1,1900]
[null,null,null,null,null,null,null,null," ",null,1,1900]
[null,null,null,null,null,null,null,null," ",null,1,1900]
[null,null,null,null,null,null,null,null," ",null,1,1900]
[null,null,null,null,null,null,null,null," ",null,1,1900]
[null,null,null,null,null,null,null,null," ",null,1,1900]
[null,null,null,null,null,null,null,null," ",null,1,1900]
[null,null,null,null,null,null,null,null,{"$f":"+IF(H6584=H6583,\" \",H6584)","v":" "},null,{"$f":"+MONTH(A6584)","v":1},{"$f":"+YEAR(A6584)","v":1900}]
[null,null,null,null,null,null,null,null," ",null,1,1900]
[null,null,null,null,null,null,null,null," ",null,1,1900]
[null,null,null,null,null,null,null,null," ",null,1,1900]
[null,null,null,null,null,null,null,null," ",null,1,1900]
[null,null,null,null,null,null,null,null," ",null,1,1900]
[null,null,null,null,null,null,null,null," ",null,1,1900]
[null,null,null,null,null,null,null,null," ",null,1,1900]
[null,null,null,null,null,null,null,null," ",null,1,1900]
[null,null,null,null,null,null,null,null," ",null,1,1900]
[null,null,null,null,null,null,null,null," ",null,1,1900]
[null,null,null,null,null,null,null,null," ",null,1,1900]
[null,null,null,null,null,null,null,null," ",null,1,1900]
[null,null,null,null,null,null,null,null," ",null,1,1900]
[null,null,null,null,null,null,null,null," ",null,1,1900]
[null,null,null,null,null,null,null,null," ",null,1,1900]
[null,null,null,null,null,null,null,null," ",null,1,1900]
[null,null,null,null,null,null,null,null," ",null,1,1900]
[null,null,null,null,null,null,null,null," ",null,1,1900]
[null,null,null,null,null,null,null,null," ",null,1,1900]
[null,null,null,null,null,null,null,null," ",null,1,1900]
[null,null,null,null,null,null,null,null," ",null,1,1900]
[null,null,null,null,null,null,null,null," ",null,1,1900]
[null,null,null,null,null,null,null,null," ",null,1,1900]
[null,null,null,null,null,null,null,null," ",null,1,1900]
[null,null,null,null,null,null,null,null," ",null,1,1900]
[null,null,null,null,null,null,null,null," ",null,1,1900]
[null,null,null,null,null,null,null,null," ",null,1,1900]
[null,null,null,null,null,null,null,null," ",null,1,1900]
[null,null,null,null,null,null,null,null," ",null,1,1900]
[null,null,null,null,null,null,null,null," ",null,1,1900]
[null,null,null,null,null,null,null,null," ",null,1,1900]
[null,null,null,null,null,null,null,null," ",null,1,1900]
[null,null,null,null,null,null,null,null," ",null,1,1900]
[null,null,null,null,null,null,null,null," ",null,1,1900]
[null,null,null,null,null,null,null,null," ",null,1,1900]
[null,null,null,null,null,null,null,null," ",null,1,1900]
[null,null,null,null,null,null,null,null," ",null,1,1900]
[null,null,null,null,null,null,null,null," ",null,1,1900]
[null,null,null,null,null,null,null,null," ",null,1,1900]
[null,null,null,null,null,null,null,null," ",null,1,1900]
[null,null,null,null,null,null,null,null," ",null,1,1900]
[null,null,null,null,null,null,null,null," ",null,1,1900]
[null,null,null,null,null,null,null,null," ",null,1,1900]
[null,null,null,null,null,null,null,null," ",null,1,1900]
[null,null,null,null,null,null,null,null," ",null,1,1900]
[null,null,null,null,null,null,null,null," ",null,1,1900]
[null,null,null,null,null,null,null,null," ",null,1,1900]
[null,null,null,null,null,null,null,null," ",null,1,1900]
[null,null,null,null,null,null,null,null," ",null,1,1900]
[null,null,null,null,null,null,null,null," ",null,1,1900]
[null,null,null,null,null,null,null,null," ",null,1,1900]
[null,null,null,null,null,null,null,null," ",null,1,1900]
[null,null,null,null,null,null,null,null," ",null,1,1900]
[null,null,null,null,null,null,null,null," ",null,1,1900]
[null,null,null,null,null,null,null,null," ",null,1,1900]
[null,null,null,null,null,null,null,null," ",null,1,1900]
[null,null,null,null,null,null,null,null," ",null,1,1900]
[null,null,null,null,null,null,null,null," ",null,1,1900]
[null,null,null,null,null,null,null,null," ",null,1,1900]
[null,null,null,null,null,null,null,null," ",null,1,1900]
[null,null,null,null,null,null,null,null," ",null,1,1900]
[null,null,null,null,null,null,null,null," ",null,1,1900]
[null,null,null,null,null,null,null,null," ",null,1,1900]
[null,null,null,null,null,null,null,null," ",null,1,1900]
[null,null,null,null,null,null,null,null," ",null,1,1900]
[null,null,null,null,null,null,null,null," ",null,1,1900]
[null,null,null,null,null,null,null,null," ",null,1,1900]
[null,null,null,null,null,null,null,null," ",null,1,1900]
[null,null,null,null,null,null,null,null,{"$f":"+IF(H8760=H8759,\" \",H8760)","v":" "},null,{"$f":"+MONTH(A8760)","v":1},{"$f":"+YEAR(A8760)","v":1900}]
[null,null,null,null,null,null,null,null," ",null,1,1900]
[null,null,null,null,null,null,null,null," ",null,1,1900]
[null,null,null,null,null,null,null,null," ",null,1,1900]
[null,null,null,null,null,null,null,null," ",null,1,1900]
[null,null,null,null,null,null,null,null," ",null,1,1900]
[null,null,null,null,null,null,null,null," ",null,1,1900]
[null,null,null,null,null,null,null,null," ",null,1,1900]
[null,null,null,null,null,null,null,null," ",null,1,1900]
[null,null,null,null,null,null,null,null," ",null,1,1900]
[null,null,null,null,null,null,null,null," ",null,1,1900]
[null,null,null,null,null,null,null,null," ",null,1,1900]
[null,null,null,null,null,null,null,null," ",null,1,1900]
[null,null,null,null,null,null,null,null," ",null,1,1900]
[null,null,null,null,null,null,null,null," ",null,1,1900]
[null,null,null,null,null,null,null,null," ",null,1,1900]
[null,null,null,null,null,null,null,null," ",null,1,1900]
[null,null,null,null,null,null,null,null," ",null,1,1900]
[null,null,null,null,null,null,null,null," ",null,1,1900]
[null,null,null,null,null,null,null,null," ",null,1,1900]
[null,null,null,null,null,null,null,null," ",null,1,1900]
[null,null,null,null,null,null,null,null," ",null,1,1900]
[null,null,null,null,null,null,null,null," ",null,1,1900]
[null,null,null,null,null,null,null,null," ",null,1,1900]
[null,null,null,null,null,null,null,null," ",null,1,1900]
[null,null,null,null,null,null,null,null," ",null,1,1900]
[null,null,null,null,null,null,null,null,{"$f":"+IF(H9592=H9591,\" \",H9592)","v":" "},null,{"$f":"+MONTH(A9592)","v":1},{"$f":"+YEAR(A9592)","v":1900}]
[null,null,null,null,null,null,null,null," ",null,1,1900]
[null,null,null,null,null,null,null,null," ",null,1,1900]
[null,null,null,null,null,null,null,null," ",null,1,1900]
[null,null,null,null,null,null,null,null," ",null,1,1900]
[null,null,null,null,null,null,null,null," ",null,1,1900]
[null,null,null,null,null,null,null,null," ",null,1,1900]
[null,null,null,null,null,null,null,null," ",null,1,1900]
[null,null,null,null,null,null,null,null," ",null,1,1900]
[null,null,null,null,null,null,null,null," ",null,1,1900]
[null,null,null,null,null,null,null,null," ",null,1,1900]
[null,null,null,null,null,null,null,null," ",null,1,1900]
[null,null,null,null,null,null,null,null," ",null,1,1900]
[null,null,null,null,null,null,null,null," ",null,1,1900]
[null,null,null,null,null,null,null,null," ",null,1,1900]
[null,null,null,null,null,null,null,null," ",null,1,1900]
[null,null,null,null,null,null,null,null," ",null,1,1900]
[null,null,null,null,null,null,null,null," ",null,1,1900]
[null,null,null,null,null,null,null,null," ",null,1,1900]
[null,null,null,null,null,null,null,null," ",null,1,1900]
[null,null,null,null,null,null,null,null," ",null,1,1900]
[null,null,null,null,null,null,null,null," ",null,1,1900]
[null,null,null,null,null,null,null,null," ",null,1,1900]
[null,null,null,null,null,null,null,null," ",null,1,1900]
[null,null,null,null,null,null,null,null," ",null,1,1900]
[null,null,null,null,null,null,null,null," ",null,1,1900]
[null,null,null,null,null,null,null,null," ",null,1,1900]
[null,null,null,null,null,null,null,null," ",null,1,1900]
[null,null,null,null,null,null,null,null," ",null,1,1900]
[null,null,null,null,null,null,null,null," ",null,1,1900]
[null,null,null,null,null,null,null,null," ",null,1,1900]
[null,null,null,null,null,null,null,null," ",null,1,1900]
[null,null,null,null,null,null,null,null," ",null,1,1900]
[null,null,null,null,null,null,null,null,{"$f":"+IF(H10616=H10615,\" \",H10616)","v":" "},null,{"$f":"+MONTH(A10616)","v":1},{"$f":"+YEAR(A10616)","v":1900}]
[null,null,null,null,null,null,null,null," ",null,1,1900]
[null,null,null,null,null,null,null,null," ",null,1,1900]
[null,null,null,null,null,null,null,null," ",null,1,1900]
[null,null,null,null,null,null,null,null," ",null,1,1900]
[null,null,null,null,null,null,null,null," ",null,1,1900]
[null,null,null,null,null,null,null,null," ",null,1,1900]
[null,null,null,null,null,null,null,null," ",null,1,1900]
[null,null,null,null,null,null,null,null," ",null,1,1900]
[null,null,null,null,null,null,null,null," ",null,1,1900]
[null,null,null,null,null,null,null,null," ",null,1,1900]
[null,null,null,null,null,null,null,null," ",null,1,1900]
[null,null,null,null,null,null,null,null," ",null,1,1900]
[null,null,null,null,null,null,null,null," ",null,1,1900]
[null,null,null,null,null,null,null,null," ",null,1,1900]
[null,null,null,null,null,null,null,null," ",null,1,1900]
[null,null,null,null,null,null,null,null," ",null,1,1900]
[null,null,null,null,null,null,null,null," ",null,1,1900]
[null,null,null,null,null,null,null,null," ",null,1,1900]
[null,null,null,null,null,null,null,null," ",null,1,1900]
[null,null,null,null,null,null,null,null," ",null,1,1900]
[null,null,null,null,null,null,null,null," ",null,1,1900]
[null,null,null,null,null,null,null,null," ",null,1,1900]
[null,null,null,null,null,null,null,null," ",null,1,1900]
[null,null,null,null,null,null,null,null," ",null,1,1900]
[null,null,null,null,null,null,null,null," ",null,1,1900]
[null,null,null,null,null,null,null,null," ",null,1,1900]
[null,null,null,null,null,null,null,null," ",null,1,1900]
[null,null,null,null,null,null,null,null," ",null,1,1900]
[null,null,null,null,null,null,null,null," ",null,1,1900]
[null,null,null,null,null,null,null,null," ",null,1,1900]
[null,null,null,null,null,null,null,null," ",null,1,1900]
[null,null,null,null,null,null,null,null," ",null,1,1900]
[null,null,null,null,null,null,null,null," ",null,1,1900]
[null,null,null,null,null,null,null,null," ",null,1,1900]
[null,null,null,null,null,null,null,null," ",null,1,1900]
[null,null,null,null,null,null,null,null," ",null,1,1900]
[null,null,null,null,null,null,null,null," ",null,1,1900]
[null,null,null,null,null,null,null,null," ",null,1,1900]
[null,null,null,null,null,null,null,null," ",null,1,1900]
[null,null,null,null,null,null,null,null," ",null,1,1900]
[null,null,null,null,null,null,null,null," ",null,1,1900]
[null,null,null,null,null,null,null,null," ",null,1,1900]
[null,null,null,null,null,null,null,null," ",null,1,1900]
[null,null,null,null,null,null,null,null," ",null,1,1900]
[null,null,null,null,null,null,null,null," ",null,1,1900]
[null,null,null,null,null,null,null,null," ",null,1,1900]
[null,null,null,null,null,null,null,null," ",null,1,1900]
[null,null,null,null,null,null,null,null," ",null,1,1900]
[null,null,null,null,null,null,null,null," ",null,1,1900]
[null,null,null,null,null,null,null,null," ",null,1,1900]
[null,null,null,null,null,null,null,null," ",null,1,1900]
[null,null,null,null,null,null,null,null," ",null,1,1900]
[null,null,null,null,null,null,null,null," ",null,1,1900]
[null,null,null,null,null,null,null,null," ",null,1,1900]
[null,null,null,null,null,null,null,null," ",null,1,1900]
[null,null,null,null,null,null,null,null," ",null,1,1900]
[null,null,null,null,null,null,null,null," ",null,1,1900]
[null,null,null,null,null,null,null,null," ",null,1,1900]
[null,null,null,null,null,null,null,null," ",null,1,1900]
[null,null,null,null,null,null,null,null," ",null,1,1900]
[null,null,null,null,null,null,null,null," ",null,1,1900]
[null,null,null,null,null,null,null,null," ",null,1,1900]
[null,null,null,null,null,null,null,null," ",null,1,1900]
[null,null,null,null,null,null,null,null," ",null,1,1900]
[null,null,null,null,null,null,null,null," ",null,1,1900]
[null,null,null,null,null,null,null,null," ",null,1,1900]
[null,null,null,null,null,null,null,null," ",null,1,1900]
[null,null,null,null,null,null,null,null," ",null,1,1900]
[null,null,null,null,null,null,null,null," ",null,1,1900]
[null,null,null,null,null,null,null,null," ",null,1,1900]
[null,null,null,null,null,null,null,null," ",null,1,1900]
[null,null,null,null,null,null,null,null," ",null,1,1900]
[null,null,null,null,null,null,null,null," ",null,1,1900]
[null,null,null,null,null,null,null,null," ",null,1,1900]
[null,null,null,null,null,null,null,null," ",null,1,1900]
[null,null,null,null,null,null,null,null," ",null,1,1900]
[null,null,null,null,null,null,null,null," ",null,1,1900]
[null,null,null,null,null,null,null,null," ",null,1,1900]
[null,null,null,null,null,null,null,null," ",null,1,1900]
[null,null,null,null,null,null,null,null," ",null,1,1900]
[null,null,null,null,null,null,null,null," ",null,1,1900]
[null,null,null,null,null,null,null,null," ",null,1,1900]
[null,null,null,null,null,null,null,null," ",null,1,1900]
[null,null,null,null,null,null,null,null," ",null,1,1900]
[null,null,null,null,null,null,null,null," ",null,1,1900]
[null,null,null,null,null,null,null,null," ",null,1,1900]
[null,null,null,null,null,null,null,null," ",null,1,1900]
[null,null,null,null,null,null,null,null," ",null,1,1900]
[null,null,null,null,null,null,null,null," ",null,1,1900]
[null,null,null,null,null,null,null,null," ",null,1,1900]
[null,null,null,null,null,null,null,null," ",null,1,1900]
[null,null,null,null,null,null,null,null," ",null,1,1900]
[null,null,null,null,null,null,null,null," ",null,1,1900]
[null,null,null,null,null,null,null,null," ",null,1,1900]
[null,null,null,null,null,null,null,null," ",null,1,1900]
[null,null,null,null,null,null,null,null," ",null,1,1900]
[null,null,null,null,null,null,null,null," ",null,1,1900]
[null,null,null,null,null,null,null,null," ",null,1,1900]
[null,null,null,null,null,null,null,null," ",null,1,1900]
[null,null,null,null,null,null,null,null," ",null,1,1900]
[null,null,null,null,null,null,null,null," ",null,1,1900]
[null,null,null,null,null,null,null,null," ",null,1,1900]
[null,null,null,null,null,null,null,null," ",null,1,1900]
[null,null,null,null,null,null,null,null," ",null,1,1900]
[null,null,null,null,null,null,null,null," ",null,1,1900]
[null,null,null,null,null,null,null,null," ",null,1,1900]
[null,null,null,null,null,null,null,null," ",null,1,1900]
[null,null,null,null,null,null,null,null," ",null,1,1900]
[null,null,null,null,null,null,null,null," ",null,1,1900]
[null,null,null,null,null,null,null,null," ",null,1,1900]
[null,null,null,null,null,null,null,null," ",null,1,1900]
[null,null,null,null,null,null,null,null," ",null,1,1900]
[null,null,null,null,null,null,null,null," ",null,1,1900]
[null,null,null,null,null,null,null,null," ",null,1,1900]
[null,null,null,null,null,null,null,null," ",null,1,1900]
[null,null,null,null,null,null,null,null," ",null,1,1900]
[null,null,null,null,null,null,null,null," ",null,1,1900]
[null,null,null,null,null,null,null,null," ",null,1,1900]
[null,null,null,null,null,null,null,null," ",null,1,1900]
[null,null,null,null,null,null,null,null," ",null,1,1900]
[null,null,null,null,null,null,null,null," ",null,1,1900]
[null,null,null,null,null,null,null,null," ",null,1,1900]
[null,null,null,null,null,null,null,null," ",null,1,1900]
[null,null,null,null,null,null,null,null," ",null,1,1900]
[null,null,null,null,null,null,null,null," ",null,1,1900]
[null,null,null,null,null,null,null,null," ",null,1,1900]
[null,null,null,null,null,null,null,null," ",null,1,1900]
[null,null,null,null,null,null,null,null," ",null,1,1900]
[null,null,null,null,null,null,null,null," ",null,1,1900]
[null,null,null,null,null,null,null,null," ",null,1,1900]
[null,null,null,null,null,null,null,null," ",null,1,1900]
[null,null,null,null,null,null,null,null," ",null,1,1900]
[null,null,null,null,null,null,null,null," ",null,1,1900]
[null,null,null,null,null,null,null,null," ",null,1,1900]
[null,null,null,null,null,null,null,null," ",null,1,1900]
[null,null,null,null,null,null,null,null," ",null,1,1900]
[null,null,null,null,null,null,null,null," ",null,1,1900]
[null,null,null,null,null,null,null,null," ",null,1,1900]
[null,null,null,null,null,null,null,null," ",null,1,1900]
[null,null,null,null,null,null,null,null," ",null,1,1900]
[null,null,null,null,null,null,null,null," ",null,1,1900]
[null,null,null,null,null,null,null,null," ",null,1,1900]
[null,null,null,null,null,null,null,null," ",null,1,1900]
[null,null,null,null,null,null,null,null,{"$f":"+IF(H15160=H15159,\" \",H15160)","v":" "},null,{"$f":"+MONTH(A15160)","v":1},{"$f":"+YEAR(A15160)","v":1900}]
[null,null,null,null,null,null,null,null," ",null,1,1900]
[null,null,null,null,null,null,null,null," ",null,1,1900]
[null,null,null,null,null,null,null,null," ",null,1,1900]
[null,null,null,null,null,null,null,null," ",null,1,1900]
[null,null,null,null,null,null,null,null," ",null,1,1900]
[null,null,null,null,null,null,null,null," ",null,1,1900]
[null,null,null,null,null,null,null,null," ",null,1,1900]
[null,null,null,null,null,null,null,null," ",null,1,1900]
[null,null,null,null,null,null,null,null," ",null,1,1900]
[null,null,null,null,null,null,null,null," ",null,1,1900]
[null,null,null,null,null,null,null,null," ",null,1,1900]
[null,null,null,null,null,null,null,null," ",null,1,1900]
[null,null,null,null,null,null,null,null," ",null,1,1900]
[null,null,null,null,null,null,null,null," ",null,1,1900]
[null,null,null,null,null,null,null,null," ",null,1,1900]
[null,null,null,null,null,null,null,null," ",null,1,1900]
[null,null,null,null,null,null,null,null," ",null,1,1900]
[null,null,null,null,null,null,null,null," ",null,1,1900]
[null,null,null,null,null,null,null,null," ",null,1,1900]
[null,null,null,null,null,null,null,null," ",null,1,1900]
[null,null,null,null,null,null,null,null," ",null,1,1900]
[null,null,null,null,null,null,null,null," ",null,1,1900]
[null,null,null,null,null,null,null,null," ",null,1,1900]
[null,null,null,null,null,null,null,null," ",null,1,1900]
[null,null,null,null,null,null,null,null," ",null,1,1900]
[null,null,null,null,null,null,null,null," ",null,1,1900]
[null,null,null,null,null,null,null,null," ",null,1,1900]
[null,null,null,null,null,null,null,null," ",null,1,1900]
[null,null,null,null,null,null,null,null," ",null,1,1900]
[null,null,null,null,null,null,null,null," ",null,1,1900]
[null,null,null,null,null,null,null,null," ",null,1,1900]
[null,null,null,null,null,null,null,null," ",null,1,1900]
[null,null,null,null,null,null,null,null," ",null,1,1900]
[null,null,null,null,null,null,null,null," ",null,1,1900]
[null,null,null,null,null,null,null,null," ",null,1,1900]
[null,null,null,null,null,null,null,null," ",null,1,1900]
[null,null,null,null,null,null,null,null," ",null,1,1900]
[null,null,null,null,null,null,null,null," ",null,1,1900]
[null,null,null,null,null,null,null,null," ",null,1,1900]
[null,null,null,null,null,null,null,null," ",null,1,1900]
[null,null,null,null,null,null,null,null," ",null,1,1900]
[null,null,null,null,null,null,null,null," ",null,1,1900]
[null,null,null,null,null,null,null,null," ",null,1,1900]
[null,null,null,null,null,null,null,null," ",null,1,1900]
[null,null,null,null,null,null,null,null," ",null,1,1900]
[null,null,null,null,null,null,null,null," ",null,1,1900]
[null,null,null,null,null,null,null,null," ",null,1,1900]
[null,null,null,null,null,null,null,null," ",null,1,1900]
[null,null,null,null,null,null,null,null," ",null,1,1900]
[null,null,null,null,null,null,null,null," ",null,1,1900]
[null,null,null,null,null,null,null,null," ",null,1,1900]
[null,null,null,null,null,null,null,null," ",null,1,1900]
[null,null,null,null,null,null,null,null," ",null,1,1900]
[null,null,null,null,null,null,null,null," ",null,1,1900]
[null,null,null,null,null,null,null,null," ",null,1,1900]
[null,null,null,null,null,null,null,null," ",null,1,1900]
[null,null,null,null,null,null,null,null," ",null,1,1900]
[null,null,null,null,null,null,null,null," ",null,1,1900]
[null,null,null,null,null,null,null,null," ",null,1,1900]
[null,null,null,null,null,null,null,null," ",null,1,1900]
[null,null,null,null,null,null,null,null," ",null,1,1900]
[null,null,null,null,null,null,null,null," ",null,1,1900]
[null,null,null,null,null,null,null,null," ",null,1,1900]
[null,null,null,null,null,null,null,null," ",null,1,1900]
[null,null,null,null,null,null,null,null," ",null,1,1900]
[null,null,null,null,null,null,null,null," ",null,1,1900]
[null,null,null,null,null,null,null,null," ",null,1,1900]
[null,null,null,null,null,null,null,null," ",null,1,1900]
[null,null,null,null,null,null,null,null," ",null,1,1900]
[null,null,null,null,null,null,null,null," ",null,1,1900]
[null,null,null,null,null,null,null,null," ",null,1,1900]
[null,null,null,null,null,null,null,null," ",null,1,1900]
[null,null,null,null,null,null,null,null," ",null,1,1900]
[null,null,null,null,null,null,null,null," ",null,1,1900]
[null,null,null,null,null,null,null,null," ",null,1,1900]
[null,null,null,null,null,null,null,null," ",null,1,1900]
[null,null,null,null,null,null,null,null," ",null,1,1900]
[null,null,null,null,null,null,null,null," ",null,1,1900]
[null,null,null,null,null,null,null,null," ",null,1,1900]
[null,null,null,null,null,null,null,null," ",null,1,1900]
[null,null,null,null,null,null,null,null," ",null,1,1900]
[null,null,null,null,null,null,null,null," ",null,1,1900]
[null,null,null,null,null,null,null,null," ",null,1,1900]
[null,null,null,null,null,null,null,null," ",null,1,1900]
[null,null,null,null,null,null,null,null," ",null,1,1900]
[null,null,null,null,null,null,null,null," ",null,1,1900]
[null,null,null,null,null,null,null,null," ",null,1,1900]
[null,null,null,null,null,null,null,null," ",null,1,1900]
[null,null,null,null,null,null,null,null," ",null,1,1900]
[null,null,null,null,null,null,null,null," ",null,1,1900]
[null,null,null,null,null,null,null,null," ",null,1,1900]
[null,null,null,null,null,null,null,null," ",null,1,1900]
[null,null,null,null,null,null,null,null," ",null,1,1900]
[null,null,null,null,null,null,null,null," ",null,1,1900]
[null,null,null,null,null,null,null,null,{"$f":"+IF(H18168=H18167,\" \",H18168)","v":" "},null,{"$f":"+MONTH(A18168)","v":1},{"$f":"+YEAR(A18168)","v":1900}]
[null,null,null,null,null,null,null,null," ",null,1,1900]
[null,null,null,null,null,null,null,null," ",null,1,1900]
[null,null,null,null,null,null,null,null," ",null,1,1900]
[null,null,null,null,null,null,null,null," ",null,1,1900]
[null,null,null,null,null,null,null,null," ",null,1,1900]
[null,null,null,null,null,null,null,null," ",null,1,1900]
[null,null,null,null,null,null,null,null," ",null,1,1900]
[null,null,null,null,null,null,null,null," ",null,1,1900]
[null,null,null,null,null,null,null,null," ",null,1,1900]
[null,null,null,null,null,null,null,null," ",null,1,1900]
[null,null,null,null,null,null,null,null," ",null,1,1900]
[null,null,null,null,null,null,null,null," ",null,1,1900]
[null,null,null,null,null,null,null,null," ",null,1,1900]
[null,null,null,null,null,null,null,null," ",null,1,1900]
[null,null,null,null,null,null,null,null," ",null,1,1900]
[null,null,null,null,null,null,null,null," ",null,1,1900]
[null,null,null,null,null,null,null,null," ",null,1,1900]
[null,null,null,null,null,null,null,null," ",null,1,1900]
[null,null,null,null,null,null,null,null," ",null,1,1900]
[null,null,null,null,null,null,null,null," ",null,1,1900]
[null,null,null,null,null,null,null,null," ",null,1,1900]
[null,null,null,null,null,null,null,null," ",null,1,1900]
[null,null,null,null,null,null,null,null," ",null,1,1900]
[null,null,null,null,null,null,null,null," ",null,1,1900]
[null,null,null,null,null,null,null,null," ",null,1,1900]
[null,null,null,null,null,null,null,null," ",null,1,1900]
[null,null,null,null,null,null,null,null," ",null,1,1900]
[null,null,null,null,null,null,null,null," ",null,1,1900]
[null,null,null,null,null,null,null,null," ",null,1,1900]
[null,null,null,null,null,null,null,null," ",null,1,1900]
[null,null,null,null,null,null,null,null," ",null,1,1900]
[null,null,null,null,null,null,null,null," ",null,1,1900]
[null,null,null,null,null,null,null,null,{"$f":"+IF(H19192=H19191,\" \",H19192)","v":" "},null,{"$f":"+MONTH(A19192)","v":1},{"$f":"+YEAR(A19192)","v":1900}]
[null,null,null,null,null,null,null,null," ",null,1,1900]
[null,null,null,null,null,null,null,null," ",null,1,1900]
[null,null,null,null,null,null,null,null," ",null,1,1900]
[null,null,null,null,null,null,null,null," ",null,1,1900]
[null,null,null,null,null,null,null,null," ",null,1,1900]
[null,null,null,null,null,null,null,null," ",null,1,1900]
[null,null,null,null,null,null,null,null," ",null,1,1900]
[null,null,null,null,null,null,null,null," ",null,1,1900]
[null,null,null,null,null,null,null,null," ",null,1,1900]
[null,null,null,null,null,null,null,null," ",null,1,1900]
[null,null,null,null,null,null,null,null," ",null,1,1900]
[null,null,null,null,null,null,null,null," ",null,1,1900]
[null,null,null,null,null,null,null,null," ",null,1,1900]
[null,null,null,null,null,null,null,null," ",null,1,1900]
[null,null,null,null,null,null,null,null," ",null,1,1900]
[null,null,null,null,null,null,null,null," ",null,1,1900]
[null,null,null,null,null,null,null,null," ",null,1,1900]
[null,null,null,null,null,null,null,null," ",null,1,1900]
[null,null,null,null,null,null,null,null," ",null,1,1900]
[null,null,null,null,null,null,null,null," ",null,1,1900]
[null,null,null,null,null,null,null,null," ",null,1,1900]
[null,null,null,null,null,null,null,null," ",null,1,1900]
[null,null,null,null,null,null,null,null," ",null,1,1900]
[null,null,null,null,null,null,null,null," ",null,1,1900]
[null,null,null,null,null,null,null,null," ",null,1,1900]
[null,null,null,null,null,null,null,null," ",null,1,1900]
[null,null,null,null,null,null,null,null," ",null,1,1900]
[null,null,null,null,null,null,null,null," ",null,1,1900]
[null,null,null,null,null,null,null,null," ",null,1,1900]
[null,null,null,null,null,null,null,null," ",null,1,1900]
[null,null,null,null,null,null,null,null," ",null,1,1900]
[null,null,null,null,null,null,null,null," ",null,1,1900]
[null,null,null,null,null,null,null,null," ",null,1,1900]
[null,null,null,null,null,null,null,null," ",null,1,1900]
[null,null,null,null,null,null,null,null," ",null,1,1900]
[null,null,null,null,null,null,null,null," ",null,1,1900]
[null,null,null,null,null,null,null,null," ",null,1,1900]
[null,null,null,null,null,null,null,null," ",null,1,1900]
[null,null,null,null,null,null,null,null,{"$f":"+IF(H20408=H20407,\" \",H20408)","v":" "},null,{"$f":"+MONTH(A20408)","v":1},{"$f":"+YEAR(A20408)","v":1900}]
[null,null,null,null,null,null,null,null," ",null,1,1900]
[null,null,null,null,null,null,null,null," ",null,1,1900]
[null,null,null,null,null,null,null,null," ",null,1,1900]
[null,null,null,null,null,null,null,null," ",null,1,1900]
[null,null,null,null,null,null,null,null," ",null,1,1900]
[null,null,null,null,null,null,null,null," ",null,1,1900]
[null,null,null,null,null,null,null,null," ",null,1,1900]
[null,null,null,null,null,null,null,null," ",null,1,1900]
[null,null,null,null,null,null,null,null," ",null,1,1900]
[null,null,null,null,null,null,null,null," ",null,1,1900]
[null,null,null,null,null,null,null,null," ",null,1,1900]
[null,null,null,null,null,null,null,null," ",null,1,1900]
[null,null,null,null,null,null,null,null," ",null,1,1900]
[null,null,null,null,null,null,null,null," ",null,1,1900]
[null,null,null,null,null,null,null,null," ",null,1,1900]
[null,null,null,null,null,null,null,null," ",null,1,1900]
[null,null,null,null,null,null,null,null," ",null,1,1900]
[null,null,null,null,null,null,null,null," ",null,1,1900]
[null,null,null,null,null,null,null,null," ",null,1,1900]
[null,null,null,null,null,null,null,null," ",null,1,1900]
[null,null,null,null,null,null,null,null," ",null,1,1900]
[null,null,null,null,null,null,null,null," ",null,1,1900]
[null,null,null,null,null,null,null,null," ",null,1,1900]
[null,null,null,null,null,null,null,null," ",null,1,1900]
[null,null,null,null,null,null,null,null," ",null,1,1900]
[null,null,null,null,null,null,null,null," ",null,1,1900]
[null,null,null,null,null,null,null,null," ",null,1,1900]
[null,null,null,null,null,null,null,null," ",null,1,1900]
[null,null,null,null,null,null,null,null," ",null,1,1900]
[null,null,null,null,null,null,null,null," ",null,1,1900]
[null,null,null,null,null,null,null,null," ",null,1,1900]
[null,null,null,null,null,null,null,null," ",null,1,1900]
[null,null,null,null,null,null,null,null," ",null,1,1900]
[null,null,null,null,null,null,null,null," ",null,1,1900]
[null,null,null,null,null,null,null,null," ",null,1,1900]
[null,null,null,null,null,null,null,null," ",null,1,1900]
[null,null,null,null,null,null,null,null," ",null,1,1900]
[null,null,null,null,null,null,null,null," ",null,1,1900]
[null,null,null,null,null,null,null,null," ",null,1,1900]
[null,null,null,null,null,null,null,null," ",null,1,1900]
[null,null,null,null,null,null,null,null," ",null,1,1900]
[null,null,null,null,null,null,null,null," ",null,1,1900]
[null,null,null,null,null,null,null,null," ",null,1,1900]
[null,null,null,null,null,null,null,null," ",null,1,1900]
[null,null,null,null,null,null,null,null," ",null,1,1900]
[null,null,null,null,null,null,null,null," ",null,1,1900]
[null,null,null,null,null,null,null,null," ",null,1,1900]
[null,null,null,null,null,null,null,null," ",null,1,1900]
[null,null,null,null,null,null,null,null," ",null,1,1900]
[null,null,null,null,null,null,null,null," ",null,1,1900]
[null,null,null,null,null,null,null,null," ",null,1,1900]
[null,null,null,null,null,null,null,null," ",null,1,1900]
[null,null,null,null,null,null,null,null," ",null,1,1900]
[null,null,null,null,null,null,null,null," ",null,1,1900]
[null,null,null,null,null,null,null,null," ",null,1,1900]
[null,null,null,null,null,null,null,null," ",null,1,1900]
[null,null,null,null,null,null,null,null," ",null,1,1900]
[null,null,null,null,null,null,null,null," ",null,1,1900]
[null,null,null,null,null,null,null,null," ",null,1,1900]
[null,null,null,null,null,null,null,null," ",null,1,1900]
[null,null,null,null,null,null,null,null," ",null,1,1900]
[null,null,null,null,null,null,null,null,{"$f":"+IF(H22392=H22391,\" \",H22392)","v":" "},null,{"$f":"+MONTH(A22392)","v":1},{"$f":"+YEAR(A22392)","v":1900}]
[null,null,null,null,null,null,null,null," ",null,1,1900]
[null,null,null,null,null,null,null,null," ",null,1,1900]
[null,null,null,null,null,null,null,null," ",null,1,1900]
[null,null,null,null,null,null,null,null," ",null,1,1900]
[null,null,null,null,null,null,null,null," ",null,1,1900]
[null,null,null,null,null,null,null,null," ",null,1,1900]
[null,null,null,null,null,null,null,null," ",null,1,1900]
[null,null,null,null,null,null,null,null," ",null,1,1900]
[null,null,null,null,null,null,null,null," ",null,1,1900]
[null,null,null,null,null,null,null,null," ",null,1,1900]
[null,null,null,null,null,null,null,null," ",null,1,1900]
[null,null,null,null,null,null,null,null," ",null,1,1900]
[null,null,null,null,null,null,null,null," ",null,1,1900]
[null,null,null,null,null,null,null,null," ",null,1,1900]
[null,null,null,null,null,null,null,null," ",null,1,1900]
[null,null,null,null,null,null,null,null," ",null,1,1900]
[null,null,null,null,null,null,null,null," ",null,1,1900]
[null,null,null,null,null,null,null,null," ",null,1,1900]
[null,null,null,null,null,null,null,null," ",null,1,1900]
[null,null,null,null,null,null,null,null," ",null,1,1900]
[null,null,null,null,null,null,null,null," ",null,1,1900]
[null,null,null,null,null,null,null,null," ",null,1,1900]
[null,null,null,null,null,null,null,null," ",null,1,1900]
[null,null,null,null,null,null,null,null," ",null,1,1900]
[null,null,null,null,null,null,null,null," ",null,1,1900]
[null,null,null,null,null,null,null,null," ",null,1,1900]
[null,null,null,null,null,null,null,null," ",null,1,1900]
[null,null,null,null,null,null,null,null," ",null,1,1900]
[null,null,null,null,null,null,null,null," ",null,1,1900]
[null,null,null,null,null,null,null,null," ",null,1,1900]
[null,null,null,null,null,null,null,null,{"$f":"+IF(H23352=H23351,\" \",H23352)","v":" "},null,{"$f":"+MONTH(A23352)","v":1},{"$f":"+YEAR(A23352)","v":1900}]
[null,null,null,null,null,null,null,null," ",null,1,1900]
[null,null,null,null,null,null,null,null," ",null,1,1900]
[null,null,null,null,null,null,null,null," ",null,1,1900]
[null,null,null,null,null,null,null,null," ",null,1,1900]
[null,null,null,null,null,null,null,null," ",null,1,1900]
[null,null,null,null,null,null,null,null," ",null,1,1900]
[null,null,null,null,null,null,null,null," ",null,1,1900]
[null,null,null,null,null,null,null,null," ",null,1,1900]
[null,null,null,null,null,null,null,null," ",null,1,1900]
[null,null,null,null,null,null,null,null," ",null,1,1900]
[null,null,null,null,null,null,null,null," ",null,1,1900]
[null,null,null,null,null,null,null,null," ",null,1,1900]
[null,null,null,null,null,null,null,null," ",null,1,1900]
[null,null,null,null,null,null,null,null," ",null,1,1900]
[null,null,null,null,null,null,null,null," ",null,1,1900]
[null,null,null,null,null,null,null,null," ",null,1,1900]
[null,null,null,null,null,null,null,null," ",null,1,1900]
[null,null,null,null,null,null,null,null," ",null,1,1900]
[null,null,null,null,null,null,null,null," ",null,1,1900]
[null,null,null,null,null,null,null,null," ",null,1,1900]
[null,null,null,null,null,null,null,null," ",null,1,1900]
[null,null,null,null,null,null,null,null," ",null,1,1900]
[null,null,null,null,null,null,null,null," ",null,1,1900]
[null,null,null,null,null,null,null,null," ",null,1,1900]
[null,null,null,null,null,null,null,null," ",null,1,1900]
[null,null,null,null,null,null,null,null," ",null,1,1900]
[null,null,null,null,null,null,null,null," ",null,1,1900]
[null,null,null,null,null,null,null,null," ",null,1,1900]
[null,null,null,null,null,null,null,null," ",null,1,1900]
[null,null,null,null,null,null,null,null," ",null,1,1900]
[null,null,null,null,null,null,null,null," ",null,1,1900]
[null,null,null,null,null,null,null,null," ",null,1,1900]
[null,null,null,null,null,null,null,null," ",null,1,1900]
[null,null,null,null,null,null,null,null," ",null,1,1900]
[null,null,null,null,null,null,null,null," ",null,1,1900]
[null,null,null,null,null,null,null,null," ",null,1,1900]
[null,null,null,null,null,null,null,null," ",null,1,1900]
[null,null,null,null,null,null,null,null," ",null,1,1900]
[null,null,null,null,null,null,null,null," ",null,1,1900]
[null,null,null,null,null,null,null,null," ",null,1,1900]
[null,null,null,null,null,null,null,null," ",null,1,1900]
[null,null,null,null,null,null,null,null," ",null,1,1900]
[null,null,null,null,null,null,null,null," ",null,1,1900]
[null,null,null,null,null,null,null,null," ",null,1,1900]
[null,null,null,null,null,null,null,null," ",null,1,1900]
[null,null,null,null,null,null,null,null," ",null,1,1900]
[null,null,null,null,null,null,null,null," ",null,1,1900]
[null,null,null,null,null,null,null,null," ",null,1,1900]
[null,null,null,null,null,null,null,null," ",null,1,1900]
[null,null,null,null,null,null,null,null," ",null,1,1900]
[null,null,null,null,null,null,null,null," ",null,1,1900]
[null,null,null,null,null,null,null,null," ",null,1,1900]
[null,null,null,null,null,null,null,null," ",null,1,1900]
[null,null,null,null,null,null,null,null," ",null,1,1900]
[null,null,null,null,null,null,null,null," ",null,1,1900]
[null,null,null,null,null,null,null,null," ",null,1,1900]
[null,null,null,null,null,null,null,null," ",null,1,1900]
[null,null,null,null,null,null,null,null," ",null,1,1900]
[null,null,null,null,null,null,null,null," ",null,1,1900]
[null,null,null,null,null,null,null,null," ",null,1,1900]
[null,null,null,null,null,null,null,null," ",null,1,1900]
[null,null,null,null,null,null,null,null," ",null,1,1900]
[null,null,null,null,null,null,null,null," ",null,1,1900]
[null,null,null,null,null,null,null,null," ",null,1,1900]
[null,null,null,null,null,null,null,null," ",null,1,1900]
[null,null,null,null,null,null,null,null," ",null,1,1900]
[null,null,null,null,null,null,null,null," ",null,1,1900]
[null,null,null,null,null,null,null,null," ",null,1,1900]
[null,null,null,null,null,null,null,null," ",null,1,1900]
[null,null,null,null,null,null,null,null," ",null,1,1900]
[null,null,null,null,null,null,null,null," ",null,1,1900]
[null,null,null,null,null,null,null,null," ",null,1,1900]
[null,null,null,null,null,null,null,null," ",null,1,1900]
[null,null,null,null,null,null,null,null," ",null,1,1900]
[null,null,null,null,null,null,null,null," ",null,1,1900]
[null,null,null,null,null,null,null,null," ",null,1,1900]
[null,null,null,null,null,null,null,null," ",null,1,1900]
[null,null,null,null,null,null,null,null," ",null,1,1900]
[null,null,null,null,null,null,null,null," ",null,1,1900]
[null,null,null,null,null,null,null,null," ",null,1,1900]
[null,null,null,null,null,null,null,null," ",null,1,1900]
[null,null,null,null,null,null,null,null," ",null,1,1900]
[null,null,null,null,null,null,null,null," ",null,1,1900]
[null,null,null,null,null,null,null,null," ",null,1,1900]
[null,null,null,null,null,null,null,null," ",null,1,1900]
[null,null,null,null,null,null,null,null," ",null,1,1900]
[null,null,null,null,null,null,null,null," ",null,1,1900]
[null,null,null,null,null,null,null,null," ",null,1,1900]
[null,null,null,null,null,null,null,null," ",null,1,1900]
[null,null,null,null,null,null,null,null," ",null,1,1900]
[null,null,null,null,null,null,null,null," ",null,1,1900]
[null,null,null,null,null,null,null,null," ",null,1,1900]
[null,null,null,null,null,null,null,null,{"$f":"+IF(H26296=H26295,\" \",H26296)","v":" "},null,{"$f":"+MONTH(A26296)","v":1},{"$f":"+YEAR(A26296)","v":1900}]
[null,null,null,null,null,null,null,null," ",null,1,1900]
[null,null,null,null,null,null,null,null," ",null,1,1900]
[null,null,null,null,null,null,null,null," ",null,1,1900]
[null,null,null,null,null,null,null,null," ",null,1,1900]
[null,null,null,null,null,null,null,null," ",null,1,1900]
[null,null,null,null,null,null,null,null," ",null,1,1900]
[null,null,null,null,null,null,null,null," ",null,1,1900]
[null,null,null,null,null,null,null,null," ",null,1,1900]
[null,null,null,null,null,null,null,null," ",null,1,1900]
[null,null,null,null,null,null,null,null," ",null,1,1900]
[null,null,null,null,null,null,null,null," ",null,1,1900]
[null,null,null,null,null,null,null,null," ",null,1,1900]
[null,null,null,null,null,null,null,null," ",null,1,1900]
[null,null,null,null,null,null,null,null," ",null,1,1900]
[null,null,null,null,null,null,null,null," ",null,1,1900]
[null,null,null,null,null,null,null,null," ",null,1,1900]
[null,null,null,null,null,null,null,null," ",null,1,1900]
[null,null,null,null,null,null,null,null," ",null,1,1900]
[null,null,null,null,null,null,null,null," ",null,1,1900]
[null,null,null,null,null,null,null,null," ",null,1,1900]
[null,null,null,null,null,null,null,null," ",null,1,1900]
[null,null,null,null,null,null,null,null," ",null,1,1900]
[null,null,null,null,null,null,null,null," ",null,1,1900]
[null,null,null,null,null,null,null,null," ",null,1,1900]
[null,null,null,null,null,null,null,null," ",null,1,1900]
[null,null,null,null,null,null,null,null," ",null,1,1900]
[null,null,null,null,null,null,null,null," ",null,1,1900]
[null,null,null,null,null,null,null,null," ",null,1,1900]
[null,null,null,null,null,null,null,null," ",null,1,1900]
[null,null,null,null,null,null,null,null," ",null,1,1900]
[null,null,null,null,null,null,null,null,{"$f":"+IF(H27256=H27255,\" \",H27256)","v":" "},null,{"$f":"+MONTH(A27256)","v":1},{"$f":"+YEAR(A27256)","v":1900}]
[null,null,null,null,null,null,null,null," ",null,1,1900]
[null,null,null,null,null,null,null,null," ",null,1,1900]
[null,null,null,null,null,null,null,null," ",null,1,1900]
[null,null,null,null,null,null,null,null," ",null,1,1900]
[null,null,null,null,null,null,null,null," ",null,1,1900]
[null,null,null,null,null,null,null,null," ",null,1,1900]
[null,null,null,null,null,null,null,null," ",null,1,1900]
[null,null,null,null,null,null,null,null," ",null,1,1900]
[null,null,null,null,null,null,null,null," ",null,1,1900]
[null,null,null,null,null,null,null,null," ",null,1,1900]
[null,null,null,null,null,null,null,null," ",null,1,1900]
[null,null,null,null,null,null,null,null," ",null,1,1900]
[null,null,null,null,null,null,null,null," ",null,1,1900]
[null,null,null,null,null,null,null,null," ",null,1,1900]
[null,null,null,null,null,null,null,null," ",null,1,1900]
[null,null,null,null,null,null,null,null,{"$f":"+IF(H27768=H27767,\" \",H27768)","v":" "},null,{"$f":"+MONTH(A27768)","v":1},{"$f":"+YEAR(A27768)","v":1900}]
[null,null,null,null,null,null,null,null," ",null,1,1900]
[null,null,null,null,null,null,null,null," ",null,1,1900]
[null,null,null,null,null,null,null,null," ",null,1,1900]
[null,null,null,null,null,null,null,null," ",null,1,1900]
[null,null,null,null,null,null,null,null," ",null,1,1900]
[null,null,null,null,null,null,null,null," ",null,1,1900]
[null,null,null,null,null,null,null,null," ",null,1,1900]
[null,null,null,null,null,null,null,null," ",null,1,1900]
[null,null,null,null,null,null,null,null," ",null,1,1900]
[null,null,null,null,null,null,null,null," ",null,1,1900]
[null,null,null,null,null,null,null,null," ",null,1,1900]
[null,null,null,null,null,null,null,null," ",null,1,1900]
[null,null,null,null,null,null,null,null," ",null,1,1900]
[null,null,null,null,null,null,null,null," ",null,1,1900]
[null,null,null,null,null,null,null,null," ",null,1,1900]
[null,null,null,null,null,null,null,null," ",null,1,1900]
[null,null,null,null,null,null,null,null," ",null,1,1900]
[null,null,null,null,null,null,null,null," ",null,1,1900]
[null,null,null,null,null,null,null,null," ",null,1,1900]
[null,null,null,null,null,null,null,null," ",null,1,1900]
[null,null,null,null,null,null,null,null," ",null,1,1900]
[null,null,null,null,null,null,null,null," ",null,1,1900]
[null,null,null,null,null,null,null,null," ",null,1,1900]
[null,null,null,null,null,null,null,null," ",null,1,1900]
[null,null,null,null,null,null,null,null," ",null,1,1900]
[null,null,null,null,null,null,null,null," ",null,1,1900]
[null,null,null,null,null,null,null,null," ",null,1,1900]
[null,null,null,null,null,null,null,null," ",null,1,1900]
[null,null,null,null,null,null,null,null," ",null,1,1900]
[null,null,null,null,null,null,null,null," ",null,1,1900]
[null,null,null,null,null,null,null,null," ",null,1,1900]
[null,null,null,null,null,null,null,null," ",null,1,1900]
[null,null,null,null,null,null,null,null," ",null,1,1900]
[null,null,null,null,null,null,null,null," ",null,1,1900]
[null,null,null,null,null,null,null,null," ",null,1,1900]
[null,null,null,null,null,null,null,null," ",null,1,1900]
[null,null,null,null,null,null,null,null," ",null,1,1900]
[null,null,null,null,null,null,null,null," ",null,1,1900]
[null,null,null,null,null,null,null,null," ",null,1,1900]
[null,null,null,null,null,null,null,null," ",null,1,1900]
[null,null,null,null,null,null,null,null," ",null,1,1900]
[null,null,null,null,null,null,null,null," ",null,1,1900]
[null,null,null,null,null,null,null,null," ",null,1,1900]
[null,null,null,null,null,null,null,null," ",null,1,1900]
[null,null,null,null,null,null,null,null," ",null,1,1900]
[null,null,null,null,null,null,null,null," ",null,1,1900]
[null,null,null,null,null,null,null,null," ",null,1,1900]
[null,null,null,null,null,null,null,null," ",null,1,1900]
[null,null,null,null,null,null,null,null," ",null,1,1900]
[null,null,null,null,null,null,null,null," ",null,1,1900]
[null,null,null,null,null,null,null,null," ",null,1,1900]
[null,null,null,null,null,null,null,null," ",null,1,1900]
[null,null,null,null,null,null,null,null," ",null,1,1900]
[null,null,null,null,null,null,null,null," ",null,1,1900]
[null,null,null,null,null,null,null,null," ",null,1,1900]
[null,null,null,null,null,null,null,null," ",null,1,1900]
[null,null,null,null,null,null,null,null," ",null,1,1900]
[null,null,null,null,null,null,null,null," ",null,1,1900]
[null,null,null,null,null,null,null,null," ",null,1,1900]
[null,null,null,null,null,null,null,null," ",null,1,1900]
[null,null,null,null,null,null,null,null," ",null,1,1900]
[null,null,null,null,null,null,null,null," ",null,1,1900]
[null,null,null,null,null,null,null,null," ",null,1,1900]
[null,null,null,null,null,null,null,null," ",null,1,1900]
[null,null,null,null,null,null,null,null," ",null,1,1900]
[null,null,null,null,null,null,null,null," ",null,1,1900]
[null,null,null,null,null,null,null,null," ",null,1,1900]
[null,null,null,null,null,null,null,null," ",null,1,1900]
[null,null,null,null,null,null,null,null," ",null,1,1900]
[null,null,null,null,null,null,null,null," ",null,1,1900]
[null,null,null,null,null,null,null,null," ",null,1,1900]
[null,null,null,null,null,null,null,null," ",null,1,1900]
[null,null,null,null,null,null,null,null," ",null,1,1900]
[null,null,null,null,null,null,null,null," ",null,1,1900]
[null,null,null,null,null,null,null,null," ",null,1,1900]
[null,null,null,null,null,null,null,null," ",null,1,1900]
[null,null,null,null,null,null,null,null," ",null,1,1900]
[null,null,null,null,null,null,null,null," ",null,1,1900]
[null,null,null,null,null,null,null,null," ",null,1,1900]
[null,null,null,null,null,null,null,null," ",null,1,1900]
[null,null,null,null,null,null,null,null," ",null,1,1900]
[null,null,null,null,null,null,null,null," ",null,1,1900]
[null,null,null,null,null,null,null,null," ",null,1,1900]
[null,null,null,null,null,null,null,null," ",null,1,1900]
[null,null,null,null,null,null,null,null," ",null,1,1900]
[null,null,null,null,null,null,null,null," ",null,1,1900]
[null,null,null,null,null,null,null,null," ",null,1,1900]
[null,null,null,null,null,null,null,null," ",null,1,1900]
[null,null,null,null,null,null,null,null," ",null,1,1900]
[null,null,null,null,null,null,null,null," ",null,1,1900]
[null,null,null,null,null,null,null,null," ",null,1,1900]
[null,null,null,null,null,null,null,null," ",null,1,1900]
[null,null,null,null,null,null,null,null," ",null,1,1900]
[null,null,null,null,null,null,null,null," ",null,1,1900]
[null,null,null,null,null,null,null,null," ",null,1,1900]
[null,null,null,null,null,null,null,null," ",null,1,1900]
[null,null,null,null,null,null,null,null," ",null,1,1900]
[null,null,null,null,null,null,null,null," ",null,1,1900]
[null,null,null,null,null,null,null,null," ",null,1,1900]
[null,null,null,null,null,null,null,null," ",null,1,1900]
[null,null,null,null,null,null,null,null," ",null,1,1900]
[null,null,null,null,null,null,null,null," ",null,1,1900]
[null,null,null,null,null,null,null,null," ",null,1,1900]
[null,null,null,null,null,null,null,null," ",null,1,1900]
[null,null,null,null,null,null,null,null," ",null,1,1900]
[null,null,null,null,null,null,null,null," ",null,1,1900]
[null,null,null,null,null,null,null,null," ",null,1,1900]
[null,null,null,null,null,null,null,null," ",null,1,1900]
[null,null,null,null,null,null,null,null," ",null,1,1900]
[null,null,null,null,null,null,null,null," ",null,1,1900]
[null,null,null,null,null,null,null,null," ",null,1,1900]
[null,null,null,null,null,null,null,null," ",null,1,1900]
[null,null,null,null,null,null,null,null," ",null,1,1900]
[null,null,null,null,null,null,null,null," ",null,1,1900]
[null,null,null,null,null,null,null,null," ",null,1,1900]
[null,null,null,null,null,null,null,null," ",null,1,1900]
[null,null,null,null,null,null,null,null," ",null,1,1900]
[null,null,null,null,null,null,null,null," ",null,1,1900]
[null,null,null,null,null,null,null,null," ",null,1,1900]
[null,null,null,null,null,null,null,null," ",null,1,1900]
[null,null,null,null,null,null,null,null," ",null,1,1900]
[null,null,null,null,null,null,null,null," ",null,1,1900]
[null,null,null,null,null,null,null,null," ",null,1,1900]
[null,null,null,null,null,null,null,null," ",null,1,1900]
[null,null,null,null,null,null,null,null," ",null,1,1900]
[null,null,null,null,null,null,null,null," ",null,1,1900]
[null,null,null,null,null,null,null,null," ",null,1,1900]
[null,null,null,null,null,null,null,null," ",null,1,1900]
[null,null,null,null,null,null,null,null," ",null,1,1900]
[null,null,null,null,null,null,null,null," ",null,1,1900]
[null,null,null,null,null,null,null,null," ",null,1,1900]
[null,null,null,null,null,null,null,null," ",null,1,1900]
[null,null,null,null,null,null,null,null," ",null,1,1900]
[null,null,null,null,null,null,null,null," ",null,1,1900]
[null,null,null,null,null,null,null,null," ",null,1,1900]
[null,null,null,null,null,null,null,null," ",null,1,1900]
[null,null,null,null,null,null,null,null," ",null,1,1900]
[null,null,null,null,null,null,null,null," ",null,1,1900]
[null,null,null,null,null,null,null,null," ",null,1,1900]
[null,null,null,null,null,null,null,null," ",null,1,1900]
[null,null,null,null,null,null,null,null," ",null,1,1900]
[null,null,null,null,null,null,null,null," ",null,1,1900]
[null,null,null,null,null,null,null,null," ",null,1,1900]
[null,null,null,null,null,null,null,null," ",null,1,1900]
[null,null,null,null,null,null,null,null," ",null,1,1900]
[null,null,null,null,null,null,null,null," ",null,1,1900]
[null,null,null,null,null,null,null,null," ",null,1,1900]
[null,null,null,null,null,null,null,null," ",null,1,1900]
[null,null,null,null,null,null,null,null," ",null,1,1900]
[null,null,null,null,null,null,null,null," ",null,1,1900]
[null,null,null,null,null,null,null,null," ",null,1,1900]
[null,null,null,null,null,null,null,null," ",null,1,1900]
[null,null,null,null,null,null,null,null," ",null,1,1900]
[null,null,null,null,null,null,null,null," ",null,1,1900]
[null,null,null,null,null,null,null,null," ",null,1,1900]
[null,null,null,null,null,null,null,null," ",null,1,1900]
[null,null,null,null,null,null,null,null," ",null,1,1900]
[null,null,null,null,null,null,null,null," ",null,1,1900]
[null,null,null,null,null,null,null,null," ",null,1,1900]
[null,null,null,null,null,null,null,null," ",null,1,1900]
[null,null,null,null,null,null,null,null," ",null,1,1900]
[null,null,null,null,null,null,null,null," ",null,1,1900]
[null,null,null,null,null,null,null,null," ",null,1,1900]
[null,null,null,null,null,null,null,null," ",null,1,1900]
[null,null,null,null,null,null,null,null," ",null,1,1900]
[null,null,null,null,null,null,null,null," ",null,1,1900]
[null,null,null,null,null,null,null,null," ",null,1,1900]
[null,null,null,null,null,null,null,null," ",null,1,1900]
[null,null,null,null,null,null,null,null," ",null,1,1900]
[null,null,null,null,null,null,null,null," ",null,1,1900]
[null,null,null,null,null,null,null,null," ",null,1,1900]
[null,null,null,null,null,null,null,null," ",null,1,1900]
[null,null,null,null,null,null,null,null," ",null,1,1900]
[null,null,null,null,null,null,null,null," ",null,1,1900]
[null,null,null,null,null,null,null,null," ",null,1,1900]
[null,null,null,null,null,null,null,null," ",null,1,1900]
[null,null,null,null,null,null,null,null," ",null,1,1900]
[null,null,null,null,null,null,null,null," ",null,1,1900]
[null,null,null,null,null,null,null,null," ",null,1,1900]
[null,null,null,null,null,null,null,null," ",null,1,1900]
[null,null,null,null,null,null,null,null," ",null,1,1900]
[null,null,null,null,null,null,null,null," ",null,1,1900]
[null,null,null,null,null,null,null,null," ",null,1,1900]
[null,null,null,null,null,null,null,null," ",null,1,1900]
[null,null,null,null,null,null,null,null," ",null,1,1900]
[null,null,null,null,null,null,null,null," ",null,1,1900]
[null,null,null,null,null,null,null,null," ",null,1,1900]
[null,null,null,null,null,null,null,null," ",null,1,1900]
[null,null,null,null,null,null,null,null," ",null,1,1900]
[null,null,null,null,null,null,null,null," ",null,1,1900]
[null,null,null,null,null,null,null,null," ",null,1,1900]
[null,null,null,null,null,null,null,null," ",null,1,1900]
[null,null,null,null,null,null,null,null," ",null,1,1900]
[null,null,null,null,null,null,null,null," ",null,1,1900]
[null,null,null,null,null,null,null,null," ",null,1,1900]
[null,null,null,null,null,null,null,null," ",null,1,1900]
[null,null,null,null,null,null,null,null," ",null,1,1900]
[null,null,null,null,null,null,null,null," ",null,1,1900]
[null,null,null,null,null,null,null,null," ",null,1,1900]
[null,null,null,null,null,null,null,null," ",null,1,1900]
[null,null,null,null,null,null,null,null," ",null,1,1900]
[null,null,null,null,null,null,null,null," ",null,1,1900]
[null,null,null,null,null,null,null,null," ",null,1,1900]
[null,null,null,null,null,null,null,null," ",null,1,1900]
[null,null,null,null,null,null,null,null," ",null,1,1900]
[null,null,null,null,null,null,null,null," ",null,1,1900]
[null,null,null,null,null,null,null,null," ",null,1,1900]
[null,null,null,null,null,null,null,null," ",null,1,1900]
[null,null,null,null,null,null,null,null," ",null,1,1900]
[null,null,null,null,null,null,null,null," ",null,1,1900]
[null,null,null,null,null,null,null,null," ",null,1,1900]
[null,null,null,null,null,null,null,null," ",null,1,1900]
[null,null,null,null,null,null,null,null," ",null,1,1900]
[null,null,null,null,null,null,null,null," ",null,1,1900]
[null,null,null,null,null,null,null,null," ",null,1,1900]
[null,null,null,null,null,null,null,null," ",null,1,1900]
[null,null,null,null,null,null,null,null," ",null,1,1900]
[null,null,null,null,null,null,null,null," ",null,1,1900]
[null,null,null,null,null,null,null,null," ",null,1,1900]
[null,null,null,null,null,null,null,null," ",null,1,1900]
[null,null,null,null,null,null,null,null," ",null,1,1900]
[null,null,null,null,null,null,null,null," ",null,1,1900]
[null,null,null,null,null,null,null,null," ",null,1,1900]
[null,null,null,null,null,null,null,null," ",null,1,1900]
[null,null,null,null,null,null,null,null," ",null,1,1900]
[null,null,null,null,null,null,null,null," ",null,1,1900]
[null,null,null,null,null,null,null,null," ",null,1,1900]
[null,null,null,null,null,null,null,null," ",null,1,1900]
[null,null,null,null,null,null,null,null," ",null,1,1900]
[null,null,null,null,null,null,null,null," ",null,1,1900]
[null,null,null,null,null,null,null,null," ",null,1,1900]
[null,null,null,null,null,null,null,null," ",null,1,1900]
[null,null,null,null,null,null,null,null," ",null,1,1900]
[null,null,null,null,null,null,null,null," ",null,1,1900]
[null,null,null,null,null,null,null,null," ",null,1,1900]
[null,null,null,null,null,null,null,null," ",null,1,1900]
[null,null,null,null,null,null,null,null," ",null,1,1900]
[null,null,null,null,null,null,null,null," ",null,1,1900]
[null,null,null,null,null,null,null,null," ",null,1,1900]
[null,null,null,null,null,null,null,null," ",null,1,1900]
[null,null,null,null,null,null,null,null," ",null,1,1900]
[null,null,null,null,null,null,null,null," ",null,1,1900]
[null,null,null,null,null,null,null,null," ",null,1,1900]
[null,null,null,null,null,null,null,null," ",null,1,1900]
[null,null,null,null,null,null,null,null," ",null,1,1900]
[null,null,null,null,null,null,null,null," ",null,1,1900]
[null,null,null,null,null,null,null,null," ",null,1,1900]
[null,null,null,null,null,null,null,null," ",null,1,1900]
[null,null,null,null,null,null,null,null," ",null,1,1900]
[null,null,null,null,null,null,null,null," ",null,1,1900]
[null,null,null,null,null,null,null,null," ",null,1,1900]
[null,null,null,null,null,null,null,null," ",null,1,1900]
[null,null,null,null,null,null,null,null," ",null,1,1900]
[null,null,null,null,null,null,null,null," ",null,1,1900]
[null,null,null,null,null,null,null,null," ",null,1,1900]
[null,null,null,null,null,null,null,null," ",null,1,1900]
[null,null,null,null,null,null,null,null," ",null,1,1900]
[null,null,null,null,null,null,null,null," ",null,1,1900]
[null,null,null,null,null,null,null,null," ",null,1,1900]
[null,null,null,null,null,null,null,null," ",null,1,1900]
[null,null,null,null,null,null,null,null," ",null,1,1900]
[null,null,null,null,null,null,null,null," ",null,1,1900]
[null,null,null,null,null,null,null,null," ",null,1,1900]
[null,null,null,null,null,null,null,null," ",null,1,1900]
[null,null,null,null,null,null,null,null," ",null,1,1900]
[null,null,null,null,null,null,null,null," ",null,1,1900]
[null,null,null,null,null,null,null,null," ",null,1,1900]
[null,null,null,null,null,null,null,null," ",null,1,1900]
[null,null,null,null,null,null,null,null," ",null,1,1900]
[null,null,null,null,null,null,null,null," ",null,1,1900]
[null,null,null,null,null,null,null,null," ",null,1,1900]
[null,null,null,null,null,null,null,null," ",null,1,1900]
[null,null,null,null,null,null,null,null," ",null,1,1900]
[null,null,null,null,null,null,null,null," ",null,1,1900]
[null,null,null,null,null,null,null,null," ",null,1,1900]
[null,null,null,null,null,null,null,null," ",null,1,1900]
[null,null,null,null,null,null,null,null," ",null,1,1900]
[null,null,null,null,null,null,null,null," ",null,1,1900]
[null,null,null,null,null,null,null,null," ",null,1,1900]
[null,null,null,null,null,null,null,null," ",null,1,1900]
[null,null,null,null,null,null,null,null," ",null,1,1900]
[null,null,null,null,null,null,null,null," ",null,1,1900]
[null,null,null,null,null,null,null,null," ",null,1,1900]
[null,null,null,null,null,null,null,null," ",null,1,1900]
[null,null,null,null,null,null,null,null," ",null,1,1900]
[null,null,null,null,null,null,null,null," ",null,1,1900]
[null,null,null,null,null,null,null,null," ",null,1,1900]
[null,null,null,null,null,null,null,null," ",null,1,1900]
[null,null,null,null,null,null,null,null," ",null,1,1900]
[null,null,null,null,null,null,null,null," ",null,1,1900]
[null,null,null,null,null,null,null,null," ",null,1,1900]
[null,null,null,null,null,null,null,null," ",null,1,1900]
[null,null,null,null,null,null,null,null," ",null,1,1900]
[null,null,null,null,null,null,null,null," ",null,1,1900]
[null,null,null,null,null,null,null,null," ",null,1,1900]
[null,null,null,null,null,null,null,null," ",null,1,1900]
[null,null,null,null,null,null,null,null," ",null,1,1900]
[null,null,null,null,null,null,null,null," ",null,1,1900]
[null,null,null,null,null,null,null,null," ",null,1,1900]
[null,null,null,null,null,null,null,null," ",null,1,1900]
[null,null,null,null,null,null,null,null," ",null,1,1900]
[null,null,null,null,null,null,null,null," ",null,1,1900]
[null,null,null,null,null,null,null,null," ",null,1,1900]
[null,null,null,null,null,null,null,null," ",null,1,1900]
[null,null,null,null,null,null,null,null," ",null,1,1900]
[null,null,null,null,null,null,null,null," ",null,1,1900]
[null,null,null,null,null,null,null,null," ",null,1,1900]
[null,null,null,null,null,null,null,null," ",null,1,1900]
[null,null,null,null,null,null,null,null," ",null,1,1900]
[null,null,null,null,null,null,null,null," ",null,1,1900]
[null,null,null,null,null,null,null,null," ",null,1,1900]
[null,null,null,null,null,null,null,null," ",null,1,1900]
[null,null,null,null,null,null,null,null," ",null,1,1900]
[null,null,null,null,null,null,null,null," ",null,1,1900]
[null,null,null,null,null,null,null,null," ",null,1,1900]
[null,null,null,null,null,null,null,null," ",null,1,1900]
[null,null,null,null,null,null,null,null," ",null,1,1900]
[null,null,null,null,null,null,null,null," ",null,1,1900]
[null,null,null,null,null,null,null,null," ",null,1,1900]
[null,null,null,null,null,null,null,null," ",null,1,1900]
[null,null,null,null,null,null,null,null," ",null,1,1900]
[null,null,null,null,null,null,null,null," ",null,1,1900]
[null,null,null,null,null,null,null,null,{"$f":"+IF(H37944=H37943,\" \",H37944)","v":" "},null,{"$f":"+MONTH(A37944)","v":1},{"$f":"+YEAR(A37944)","v":1900}]
[null,null,null,null,null,null,null,null," ",null,1,1900]
[null,null,null,null,null,null,null,null," ",null,1,1900]
[null,null,null,null,null,null,null,null," ",null,1,1900]
[null,null,null,null,null,null,null,null," ",null,1,1900]
[null,null,null,null,null,null,null,null," ",null,1,1900]
[null,null,null,null,null,null,null,null," ",null,1,1900]
[null,null,null,null,null,null,null,null," ",null,1,1900]
[null,null,null,null,null,null,null,null," ",null,1,1900]
[null,null,null,null,null,null,null,null," ",null,1,1900]
[null,null,null,null,null,null,null,null," ",null,1,1900]
[null,null,null,null,null,null,null,null," ",null,1,1900]
[null,null,null,null,null,null,null,null," ",null,1,1900]
[null,null,null,null,null,null,null,null," ",null,1,1900]
[null,null,null,null,null,null,null,null," ",null,1,1900]
[null,null,null,null,null,null,null,null," ",null,1,1900]
[null,null,null,null,null,null,null,null," ",null,1,1900]
[null,null,null,null,null,null,null,null," ",null,1,1900]
[null,null,null,null,null,null,null,null," ",null,1,1900]
[null,null,null,null,null,null,null,null," ",null,1,1900]
[null,null,null,null,null,null,null,null," ",null,1,1900]
[null,null,null,null,null,null,null,null," ",null,1,1900]
[null,null,null,null,null,null,null,null," ",null,1,1900]
[null,null,null,null,null,null,null,null," ",null,1,1900]
[null,null,null,null,null,null,null,null," ",null,1,1900]
[null,null,null,null,null,null,null,null," ",null,1,1900]
[null,null,null,null,null,null,null,null," ",null,1,1900]
[null,null,null,null,null,null,null,null," ",null,1,1900]
[null,null,null,null,null,null,null,null," ",null,1,1900]
[null,null,null,null,null,null,null,null," ",null,1,1900]
[null,null,null,null,null,null,null,null," ",null,1,1900]
[null,null,null,null,null,null,null,null," ",null,1,1900]
[null,null,null,null,null,null,null,null," ",null,1,1900]
[null,null,null,null,null,null,null,null," ",null,1,1900]
[null,null,null,null,null,null,null,null," ",null,1,1900]
[null,null,null,null,null,null,null,null," ",null,1,1900]
[null,null,null,null,null,null,null,null," ",null,1,1900]
[null,null,null,null,null,null,null,null," ",null,1,1900]
[null,null,null,null,null,null,null,null," ",null,1,1900]
[null,null,null,null,null,null,null,null," ",null,1,1900]
[null,null,null,null,null,null,null,null," ",null,1,1900]
[null,null,null,null,null,null,null,null," ",null,1,1900]
[null,null,null,null,null,null,null,null," ",null,1,1900]
[null,null,null,null,null,null,null,null," ",null,1,1900]
[null,null,null,null,null,null,null,null," ",null,1,1900]
[null,null,null,null,null,null,null,null," ",null,1,1900]
[null,null,null,null,null,null,null,null," ",null,1,1900]
[null,null,null,null,null,null,null,null," ",null,1,1900]
[null,null,null,null,null,null,null,null," ",null,1,1900]
[null,null,null,null,null,null,null,null," ",null,1,1900]
[null,null,null,null,null,null,null,null," ",null,1,1900]
[null,null,null,null,null,null,null,null," ",null,1,1900]
[null,null,null,null,null,null,null,null," ",null,1,1900]
[null,null,null,null,null,null,null,null," ",null,1,1900]
[null,null,null,null,null,null,null,null," ",null,1,1900]
[null,null,null,null,null,null,null,null," ",null,1,1900]
[null,null,null,null,null,null,null,null," ",null,1,1900]
[null,null,null,null,null,null,null,null," ",null,1,1900]
[null,null,null,null,null,null,null,null," ",null,1,1900]
[null,null,null,null,null,null,null,null,{"$f":"+IF(H39800=H39799,\" \",H39800)","v":" "},null,{"$f":"+MONTH(A39800)","v":1},{"$f":"+YEAR(A39800)","v":1900}]
[null,null,null,null,null,null,null,null," ",null,1,1900]
[null,null,null,null,null,null,null,null," ",null,1,1900]
[null,null,null,null,null,null,null,null," ",null,1,1900]
[null,null,null,null,null,null,null,null," ",null,1,1900]
[null,null,null,null,null,null,null,null," ",null,1,1900]
[null,null,null,null,null,null,null,null," ",null,1,1900]
[null,null,null,null,null,null,null,null," ",null,1,1900]
[null,null,null,null,null,null,null,null," ",null,1,1900]
[null,null,null,null,null,null,null,null," ",null,1,1900]
[null,null,null,null,null,null,null,null," ",null,1,1900]
[null,null,null,null,null,null,null,null," ",null,1,1900]
[null,null,null,null,null,null,null,null," ",null,1,1900]
[null,null,null,null,null,null,null,null," ",null,1,1900]
[null,null,null,null,null,null,null,null," ",null,1,1900]
[null,null,null,null,null,null,null,null," ",null,1,1900]
[null,null,null,null,null,null,null,null," ",null,1,1900]
[null,null,null,null,null,null,null,null," ",null,1,1900]
[null,null,null,null,null,null,null,null," ",null,1,1900]
[null,null,null,null,null,null,null,null," ",null,1,1900]
[null,null,null,null,null,null,null,null," ",null,1,1900]
[null,null,null,null,null,null,null,null," ",null,1,1900]
[null,null,null,null,null,null,null,null," ",null,1,1900]
[null,null,null,null,null,null,null,null," ",null,1,1900]
[null,null,null,null,null,null,null,null," ",null,1,1900]
[null,null,null,null,null,null,null,null," ",null,1,1900]
[null,null,null,null,null,null,null,null," ",null,1,1900]
[null,null,null,null,null,null,null,null," ",null,1,1900]
[null,null,null,null,null,null,null,null," ",null,1,1900]
[null,null,null,null,null,null,null,null," ",null,1,1900]
[null,null,null,null,null,null,null,null," ",null,1,1900]
[null,null,null,null,null,null,null,null," ",null,1,1900]
[null,null,null,null,null,null,null,null," ",null,1,1900]
[null,null,null,null,null,null,null,null," ",null,1,1900]
[null,null,null,null,null,null,null,null,{"$f":"+IF(H40888=H40887,\" \",H40888)","v":" "},null,{"$f":"+MONTH(A40888)","v":1},{"$f":"+YEAR(A40888)","v":1900}]
[null,null,null,null,null,null,null,null," ",null,1,1900]
[null,null,null,null,null,null,null,null," ",null,1,1900]
[null,null,null,null,null,null,null,null," ",null,1,1900]
[null,null,null,null,null,null,null,null," ",null,1,1900]
[null,null,null,null,null,null,null,null," ",null,1,1900]
[null,null,null,null,null,null,null,null," ",null,1,1900]
[null,null,null,null,null,null,null,null," ",null,1,1900]
[null,null,null,null,null,null,null,null," ",null,1,1900]
[null,null,null,null,null,null,null,null," ",null,1,1900]
[null,null,null,null,null,null,null,null," ",null,1,1900]
[null,null,null,null,null,null,null,null," ",null,1,1900]
[null,null,null,null,null,null,null,null," ",null,1,1900]
[null,null,null,null,null,null,null,null," ",null,1,1900]
[null,null,null,null,null,null,null,null," ",null,1,1900]
[null,null,null,null,null,null,null,null," ",null,1,1900]
[null,null,null,null,null,null,null,null," ",null,1,1900]
[null,null,null,null,null,null,null,null," ",null,1,1900]
[null,null,null,null,null,null,null,null," ",null,1,1900]
[null,null,null,null,null,null,null,null," ",null,1,1900]
[null,null,null,null,null,null,null,null," ",null,1,1900]
[null,null,null,null,null,null,null,null," ",null,1,1900]
[null,null,null,null,null,null,null,null," ",null,1,1900]
[null,null,null,null,null,null,null,null," ",null,1,1900]
[null,null,null,null,null,null,null,null," ",null,1,1900]
[null,null,null,null,null,null,null,null," ",null,1,1900]
[null,null,null,null,null,null,null,null," ",null,1,1900]
[null,null,null,null,null,null,null,null," ",null,1,1900]
[null,null,null,null,null,null,null,null," ",null,1,1900]
[null,null,null,null,null,null,null,null," ",null,1,1900]
[null,null,null,null,null,null,null,null," ",null,1,1900]
[null,null,null,null,null,null,null,null,{"$f":"+IF(H41848=H41847,\" \",H41848)","v":" "},null,{"$f":"+MONTH(A41848)","v":1},{"$f":"+YEAR(A41848)","v":1900}]
[null,null,null,null,null,null,null,null," ",null,1,1900]
[null,null,null,null,null,null,null,null," ",null,1,1900]
[null,null,null,null,null,null,null,null," ",null,1,1900]
[null,null,null,null,null,null,null,null," ",null,1,1900]
[null,null,null,null,null,null,null,null," ",null,1,1900]
[null,null,null,null,null,null,null,null," ",null,1,1900]
[null,null,null,null,null,null,null,null," ",null,1,1900]
[null,null,null,null,null,null,null,null," ",null,1,1900]
[null,null,null,null,null,null,null,null," ",null,1,1900]
[null,null,null,null,null,null,null,null," ",null,1,1900]
[null,null,null,null,null,null,null,null," ",null,1,1900]
[null,null,null,null,null,null,null,null," ",null,1,1900]
[null,null,null,null,null,null,null,null," ",null,1,1900]
[null,null,null,null,null,null,null,null," ",null,1,1900]
[null,null,null,null,null,null,null,null," ",null,1,1900]
[null,null,null,null,null,null,null,null," ",null,1,1900]
[null,null,null,null,null,null,null,null," ",null,1,1900]
[null,null,null,null,null,null,null,null," ",null,1,1900]
[null,null,null,null,null,null,null,null," ",null,1,1900]
[null,null,null,null,null,null,null,null," ",null,1,1900]
[null,null,null,null,null,null,null,null," ",null,1,1900]
[null,null,null,null,null,null,null,null," ",null,1,1900]
[null,null,null,null,null,null,null,null," ",null,1,1900]
[null,null,null,null,null,null,null,null," ",null,1,1900]
[null,null,null,null,null,null,null,null," ",null,1,1900]
[null,null,null,null,null,null,null,null," ",null,1,1900]
[null,null,null,null,null,null,null,null," ",null,1,1900]
[null,null,null,null,null,null,null,null," ",null,1,1900]
[null,null,null,null,null,null,null,null," ",null,1,1900]
[null,null,null,null,null,null,null,null," ",null,1,1900]
[null,null,null,null,null,null,null,null," ",null,1,1900]
[null,null,null,null,null,null,null,null," ",null,1,1900]
[null,null,null,null,null,null,null,null," ",null,1,1900]
[null,null,null,null,null,null,null,null," ",null,1,1900]
[null,null,null,null,null,null,null,null," ",null,1,1900]
[null,null,null,null,null,null,null,null," ",null,1,1900]
[null,null,null,null,null,null,null,null," ",null,1,1900]
[null,null,null,null,null,null,null,null," ",null,1,1900]
[null,null,null,null,null,null,null,null," ",null,1,1900]
[null,null,null,null,null,null,null,null," ",null,1,1900]
[null,null,null,null,null,null,null,null," ",null,1,1900]
[null,null,null,null,null,null,null,null," ",null,1,1900]
[null,null,null,null,null,null,null,null," ",null,1,1900]
[null,null,null,null,null,null,null,null," ",null,1,1900]
[null,null,null,null,null,null,null,null," ",null,1,1900]
[null,null,null,null,null,null,null,null," ",null,1,1900]
[null,null,null,null,null,null,null,null," ",null,1,1900]
[null,null,null,null,null,null,null,null," ",null,1,1900]
[null,null,null,null,null,null,null,null," ",null,1,1900]
[null,null,null,null,null,null,null,null," ",null,1,1900]
[null,null,null,null,null,null,null,null," ",null,1,1900]
[null,null,null,null,null,null,null,null," ",null,1,1900]
[null,null,null,null,null,null,null,null," ",null,1,1900]
[null,null,null,null,null,null,null,null," ",null,1,1900]
[null,null,null,null,null,null,null,null," ",null,1,1900]
[null,null,null,null,null,null,null,null," ",null,1,1900]
[null,null,null,null,null,null,null,null," ",null,1,1900]
[null,null,null,null,null,null,null,null," ",null,1,1900]
[null,null,null,null,null,null,null,null," ",null,1,1900]
[null,null,null,null,null,null,null,null," ",null,1,1900]
[null,null,null,null,null,null,null,null," ",null,1,1900]
[null,null,null,null,null,null,null,null," ",null,1,1900]
[null,null,null,null,null,null,null,null,{"$f":"+IF(H43832=H43831,\" \",H43832)","v":" "},null,{"$f":"+MONTH(A43832)","v":1},{"$f":"+YEAR(A43832)","v":1900}]
[null,null,null,null,null,null,null,null," ",null,1,1900]
[null,null,null,null,null,null,null,null," ",null,1,1900]
[null,null,null,null,null,null,null,null," ",null,1,1900]
[null,null,null,null,null,null,null,null," ",null,1,1900]
[null,null,null,null,null,null,null,null," ",null,1,1900]
[null,null,null,null,null,null,null,null," ",null,1,1900]
[null,null,null,null,null,null,null,null," ",null,1,1900]
[null,null,null,null,null,null,null,null," ",null,1,1900]
[null,null,null,null,null,null,null,null," ",null,1,1900]
[null,null,null,null,null,null,null,null," ",null,1,1900]
[null,null,null,null,null,null,null,null," ",null,1,1900]
[null,null,null,null,null,null,null,null," ",null,1,1900]
[null,null,null,null,null,null,null,null," ",null,1,1900]
[null,null,null,null,null,null,null,null," ",null,1,1900]
[null,null,null,null,null,null,null,null," ",null,1,1900]
[null,null,null,null,null,null,null,null," ",null,1,1900]
[null,null,null,null,null,null,null,null," ",null,1,1900]
[null,null,null,null,null,null,null,null," ",null,1,1900]
[null,null,null,null,null,null,null,null," ",null,1,1900]
[null,null,null,null,null,null,null,null," ",null,1,1900]
[null,null,null,null,null,null,null,null," ",null,1,1900]
[null,null,null,null,null,null,null,null," ",null,1,1900]
[null,null,null,null,null,null,null,null," ",null,1,1900]
[null,null,null,null,null,null,null,null," ",null,1,1900]
[null,null,null,null,null,null,null,null," ",null,1,1900]
[null,null,null,null,null,null,null,null," ",null,1,1900]
[null,null,null,null,null,null,null,null," ",null,1,1900]
[null,null,null,null,null,null,null,null," ",null,1,1900]
[null,null,null,null,null,null,null,null," ",null,1,1900]
[null,null,null,null,null,null,null,null,{"$f":"+IF(H44792=H44791,\" \",H44792)","v":" "},null,{"$f":"+MONTH(A44792)","v":1},{"$f":"+YEAR(A44792)","v":1900}]
[null,null,null,null,null,null,null,null," ",null,1,1900]
[null,null,null,null,null,null,null,null," ",null,1,1900]
[null,null,null,null,null,null,null,null," ",null,1,1900]
[null,null,null,null,null,null,null,null," ",null,1,1900]
[null,null,null,null,null,null,null,null," ",null,1,1900]
[null,null,null,null,null,null,null,null," ",null,1,1900]
[null,null,null,null,null,null,null,null," ",null,1,1900]
[null,null,null,null,null,null,null,null," ",null,1,1900]
[null,null,null,null,null,null,null,null," ",null,1,1900]
[null,null,null,null,null,null,null,null," ",null,1,1900]
[null,null,null,null,null,null,null,null," ",null,1,1900]
[null,null,null,null,null,null,null,null," ",null,1,1900]
[null,null,null,null,null,null,null,null," ",null,1,1900]
[null,null,null,null,null,null,null,null," ",null,1,1900]
[null,null,null,null,null,null,null,null," ",null,1,1900]
[null,null,null,null,null,null,null,null," ",null,1,1900]
[null,null,null,null,null,null,null,null," ",null,1,1900]
[null,null,null,null,null,null,null,null," ",null,1,1900]
[null,null,null,null,null,null,null,null," ",null,1,1900]
[null,null,null,null,null,null,null,null," ",null,1,1900]
[null,null,null,null,null,null,null,null," ",null,1,1900]
[null,null,null,null,null,null,null,null," ",null,1,1900]
[null,null,null,null,null,null,null,null," ",null,1,1900]
[null,null,null,null,null,null,null,null," ",null,1,1900]
[null,null,null,null,null,null,null,null," ",null,1,1900]
[null,null,null,null,null,null,null,null," ",null,1,1900]
[null,null,null,null,null,null,null,null," ",null,1,1900]
[null,null,null,null,null,null,null,null," ",null,1,1900]
[null,null,null,null,null,null,null,null," ",null,1,1900]
[null,null,null,null,null,null,null,null," ",null,1,1900]
[null,null,null,null,null,null,null,null,{"$f":"+IF(H45752=H45751,\" \",H45752)","v":" "},null,{"$f":"+MONTH(A45752)","v":1},{"$f":"+YEAR(A45752)","v":1900}]
[null,null,null,null,null,null,null,null," ",null,1,1900]
[null,null,null,null,null,null,null,null," ",null,1,1900]
[null,null,null,null,null,null,null,null," ",null,1,1900]
[null,null,null,null,null,null,null,null," ",null,1,1900]
[null,null,null,null,null,null,null,null," ",null,1,1900]
[null,null,null,null,null,null,null,null," ",null,1,1900]
[null,null,null,null,null,null,null,null," ",null,1,1900]
[null,null,null,null,null,null,null,null," ",null,1,1900]
[null,null,null,null,null,null,null,null," ",null,1,1900]
[null,null,null,null,null,null,null,null," ",null,1,1900]
[null,null,null,null,null,null,null,null," ",null,1,1900]
[null,null,null,null,null,null,null,null," ",null,1,1900]
[null,null,null,null,null,null,null,null," ",null,1,1900]
[null,null,null,null,null,null,null,null," ",null,1,1900]
[null,null,null,null,null,null,null,null," ",null,1,1900]
[null,null,null,null,null,null,null,null," ",null,1,1900]
[null,null,null,null,null,null,null,null," ",null,1,1900]
[null,null,null,null,null,null,null,null," ",null,1,1900]
[null,null,null,null,null,null,null,null," ",null,1,1900]
[null,null,null,null,null,null,null,null," ",null,1,1900]
[null,null,null,null,null,null,null,null," ",null,1,1900]
[null,null,null,null,null,null,null,null," ",null,1,1900]
[null,null,null,null,null,null,null,null," ",null,1,1900]
[null,null,null,null,null,null,null,null," ",null,1,1900]
[null,null,null,null,null,null,null,null," ",null,1,1900]
[null,null,null,null,null,null,null,null," ",null,1,1900]
[null,null,null,null,null,null,null,null," ",null,1,1900]
[null,null,null,null,null,null,null,null," ",null,1,1900]
[null,null,null,null,null,null,null,null," ",null,1,1900]
[null,null,null,null,null,null,null,null," ",null,1,1900]
[null,null,null,null,null,null,null,null," ",null,1,1900]
[null,null,null,null,null,null,null,null," ",null,1,1900]
[null,null,null,null,null,null,null,null," ",null,1,1900]
[null,null,null,null,null,null,null,null," ",null,1,1900]
[null,null,null,null,null,null,null,null," ",null,1,1900]
[null,null,null,null,null,null,null,null," ",null,1,1900]
[null,null,null,null,null,null,null,null," ",null,1,1900]
[null,null,null,null,null,null,null,null," ",null,1,1900]
[null,null,null,null,null,null,null,null," ",null,1,1900]
[null,null,null,null,null,null,null,null," ",null,1,1900]
[null,null,null,null,null,null,null,null," ",null,1,1900]
[null,null,null,null,null,null,null,null," ",null,1,1900]
[null,null,null,null,null,null,null,null," ",null,1,1900]
[null,null,null,null,null,null,null,null," ",null,1,1900]
[null,null,null,null,null,null,null,null," ",null,1,1900]
[null,null,null,null,null,null,null,null," ",null,1,1900]
[null,null,null,null,null,null,null,null," ",null,1,1900]
[null,null,null,null,null,null,null,null," ",null,1,1900]
[null,null,null,null,null,null,null,null," ",null,1,1900]
[null,null,null,null,null,null,null,null," ",null,1,1900]
[null,null,null,null,null,null,null,null," ",null,1,1900]
[null,null,null,null,null,null,null,null," ",null,1,1900]
[null,null,null,null,null,null,null,null," ",null,1,1900]
[null,null,null,null,null,null,null,null," ",null,1,1900]
[null,null,null,null,null,null,null,null," ",null,1,1900]
[null,null,null,null,null,null,null,null," ",null,1,1900]
[null,null,null,null,null,null,null,null," ",null,1,1900]
[null,null,null,null,null,null,null,null," ",null,1,1900]
[null,null,null,null,null,null,null,null," ",null,1,1900]
[null,null,null,null,null,null,null,null," ",null,1,1900]
[null,null,null,null,null,null,null,null," ",null,1,1900]
[null,null,null,null,null,null,null,null," ",null,1,1900]
[null,null,null,null,null,null,null,null," ",null,1,1900]
[null,null,null,null,null,null,null,null," ",null,1,1900]
[null,null,null,null,null,null,null,null," ",null,1,1900]
[null,null,null,null,null,null,null,null," ",null,1,1900]
[null,null,null,null,null,null,null,null," ",null,1,1900]
[null,null,null,null,null,null,null,null," ",null,1,1900]
[null,null,null,null,null,null,null,null," ",null,1,1900]
[null,null,null,null,null,null,null,null," ",null,1,1900]
[null,null,null,null,null,null,null,null," ",null,1,1900]
[null,null,null,null,null,null,null,null," ",null,1,1900]
[null,null,null,null,null,null,null,null," ",null,1,1900]
[null,null,null,null,null,null,null,null," ",null,1,1900]
[null,null,null,null,null,null,null,null," ",null,1,1900]
[null,null,null,null,null,null,null,null," ",null,1,1900]
[null,null,null,null,null,null,null,null," ",null,1,1900]
[null,null,null,null,null,null,null,null," ",null,1,1900]
[null,null,null,null,null,null,null,null," ",null,1,1900]
[null,null,null,null,null,null,null,null," ",null,1,1900]
[null,null,null,null,null,null,null,null," ",null,1,1900]
[null,null,null,null,null,null,null,null," ",null,1,1900]
[null,null,null,null,null,null,null,null," ",null,1,1900]
[null,null,null,null,null,null,null,null," ",null,1,1900]
[null,null,null,null,null,null,null,null," ",null,1,1900]
[null,null,null,null,null,null,null,null," ",null,1,1900]
[null,null,null,null,null,null,null,null," ",null,1,1900]
[null,null,null,null,null,null,null,null," ",null,1,1900]
[null,null,null,null,null,null,null,null," ",null,1,1900]
[null,null,null,null,null,null,null,null," ",null,1,1900]
[null,null,null,null,null,null,null,null," ",null,1,1900]
[null,null,null,null,null,null,null,null," ",null,1,1900]
[null,null,null,null,null,null,null,null," ",null,1,1900]
[null,null,null,null,null,null,null,null," ",null,1,1900]
[null,null,null,null,null,null,null,null," ",null,1,1900]
[null,null,null,null,null,null,null,null," ",null,1,1900]
[null,null,null,null,null,null,null,null," ",null,1,1900]
[null,null,null,null,null,null,null,null," ",null,1,1900]
[null,null,null,null,null,null,null,null," ",null,1,1900]
[null,null,null,null,null,null,null,null," ",null,1,1900]
[null,null,null,null,null,null,null,null," ",null,1,1900]
[null,null,null,null,null,null,null,null," ",null,1,1900]
[null,null,null,null,null,null,null,null," ",null,1,1900]
[null,null,null,null,null,null,null,null," ",null,1,1900]
[null,null,null,null,null,null,null,null," ",null,1,1900]
[null,null,null,null,null,null,null,null," ",null,1,1900]
[null,null,null,null,null,null,null,null," ",null,1,1900]
[null,null,null,null,null,null,null,null," ",null,1,1900]
[null,null,null,null,null,null,null,null," ",null,1,1900]
[null,null,null,null,null,null,null,null," ",null,1,1900]
[null,null,null,null,null,null,null,null," ",null,1,1900]
[null,null,null,null,null,null,null,null," ",null,1,1900]
[null,null,null,null,null,null,null,null," ",null,1,1900]
[null,null,null,null,null,null,null,null," ",null,1,1900]
[null,null,null,null,null,null,null,null," ",null,1,1900]
[null,null,null,null,null,null,null,null," ",null,1,1900]
[null,null,null,null,null,null,null,null," ",null,1,1900]
[null,null,null,null,null,null,null,null," ",null,1,1900]
[null,null,null,null,null,null,null,null," ",null,1,1900]
[null,null,null,null,null,null,null,null," ",null,1,1900]
[null,null,null,null,null,null,null,null," ",null,1,1900]
[null,null,null,null,null,null,null,null," ",null,1,1900]
[null,null,null,null,null,null,null,null," ",null,1,1900]
[null,null,null,null,null,null,null,null," ",null,1,1900]
[null,null,null,null,null,null,null,null," ",null,1,1900]
[null,null,null,null,null,null,null,null," ",null,1,1900]
[null,null,null,null,null,null,null,null," ",null,1,1900]
[null,null,null,null,null,null,null,null," ",null,1,1900]
[null,null,null,null,null,null,null,null," ",null,1,1900]
[null,null,null,null,null,null,null,null," ",null,1,1900]
[null,null,null,null,null,null,null,null," ",null,1,1900]
[null,null,null,null,null,null,null,null," ",null,1,1900]
[null,null,null,null,null,null,null,null," ",null,1,1900]
[null,null,null,null,null,null,null,null," ",null,1,1900]
[null,null,null,null,null,null,null,null," ",null,1,1900]
[null,null,null,null,null,null,null,null," ",null,1,1900]
[null,null,null,null,null,null,null,null," ",null,1,1900]
[null,null,null,null,null,null,null,null," ",null,1,1900]
[null,null,null,null,null,null,null,null," ",null,1,1900]
[null,null,null,null,null,null,null,null," ",null,1,1900]
[null,null,null,null,null,null,null,null," ",null,1,1900]
[null,null,null,null,null,null,null,null," ",null,1,1900]
[null,null,null,null,null,null,null,null," ",null,1,1900]
[null,null,null,null,null,null,null,null," ",null,1,1900]
[null,null,null,null,null,null,null,null," ",null,1,1900]
[null,null,null,null,null,null,null,null," ",null,1,1900]
[null,null,null,null,null,null,null,null," ",null,1,1900]
[null,null,null,null,null,null,null,null," ",null,1,1900]
[null,null,null,null,null,null,null,null," ",null,1,1900]
[null,null,null,null,null,null,null,null," ",null,1,1900]
[null,null,null,null,null,null,null,null," ",null,1,1900]
[null,null,null,null,null,null,null,null," ",null,1,1900]
[null,null,null,null,null,null,null,null," ",null,1,1900]
[null,null,null,null,null,null,null,null," ",null,1,1900]
[null,null,null,null,null,null,null,null," ",null,1,1900]
[null,null,null,null,null,null,null,null," ",null,1,1900]
[null,null,null,null,null,null,null,null," ",null,1,1900]
[null,null,null,null,null,null,null,null," ",null,1,1900]
[null,null,null,null,null,null,null,null," ",null,1,1900]
[null,null,null,null,null,null,null,null," ",null,1,1900]
[null,null,null,null,null,null,null,null," ",null,1,1900]
[null,null,null,null,null,null,null,null," ",null,1,1900]
[null,null,null,null,null,null,null,null," ",null,1,1900]
[null,null,null,null,null,null,null,null," ",null,1,1900]
[null,null,null,null,null,null,null,null," ",null,1,1900]
[null,null,null,null,null,null,null,null," ",null,1,1900]
[null,null,null,null,null,null,null,null," ",null,1,1900]
[null,null,null,null,null,null,null,null," ",null,1,1900]
[null,null,null,null,null,null,null,null," ",null,1,1900]
[null,null,null,null,null,null,null,null," ",null,1,1900]
[null,null,null,null,null,null,null,null," ",null,1,1900]
[null,null,null,null,null,null,null,null," ",null,1,1900]
[null,null,null,null,null,null,null,null," ",null,1,1900]
[null,null,null,null,null,null,null,null," ",null,1,1900]
[null,null,null,null,null,null,null,null," ",null,1,1900]
[null,null,null,null,null,null,null,null," ",null,1,1900]
[null,null,null,null,null,null,null,null," ",null,1,1900]
[null,null,null,null,null,null,null,null," ",null,1,1900]
[null,null,null,null,null,null,null,null," ",null,1,1900]
[null,null,null,null,null,null,null,null," ",null,1,1900]
[null,null,null,null,null,null,null,null," ",null,1,1900]
[null,null,null,null,null,null,null,null," ",null,1,1900]
[null,null,null,null,null,null,null,null," ",null,1,1900]
[null,null,null,null,null,null,null,null," ",null,1,1900]
[null,null,null,null,null,null,null,null," ",null,1,1900]
[null,null,null,null,null,null,null,null," ",null,1,1900]
[null,null,null,null,null,null,null,null," ",null,1,1900]
[null,null,null,null,null,null,null,null," ",null,1,1900]
[null,null,null,null,null,null,null,null," ",null,1,1900]
[null,null,null,null,null,null,null,null," ",null,1,1900]
[null,null,null,null,null,null,null,null," ",null,1,1900]
[null,null,null,null,null,null,null,null," ",null,1,1900]
[null,null,null,null,null,null,null,null," ",null,1,1900]
[null,null,null,null,null,null,null,null," ",null,1,1900]
[null,null,null,null,null,null,null,null," ",null,1,1900]
[null,null,null,null,null,null,null,null," ",null,1,1900]
[null,null,null,null,null,null,null,null," ",null,1,1900]
[null,null,null,null,null,null,null,null," ",null,1,1900]
[null,null,null,null,null,null,null,null," ",null,1,1900]
[null,null,null,null,null,null,null,null," ",null,1,1900]
[null,null,null,null,null,null,null,null," ",null,1,1900]
[null,null,null,null,null,null,null,null," ",null,1,1900]
[null,null,null,null,null,null,null,null," ",null,1,1900]
[null,null,null,null,null,null,null,null," ",null,1,1900]
[null,null,null,null,null,null,null,null," ",null,1,1900]
[null,null,null,null,null,null,null,null," ",null,1,1900]
[null,null,null,null,null,null,null,null," ",null,1,1900]
[null,null,null,null,null,null,null,null," ",null,1,1900]
[null,null,null,null,null,null,null,null," ",null,1,1900]
[null,null,null,null,null,null,null,null," ",null,1,1900]
[null,null,null,null,null,null,null,null,{"$f":"+IF(H52408=H52407,\" \",H52408)","v":" "},null,{"$f":"+MONTH(A52408)","v":1},{"$f":"+YEAR(A52408)","v":1900}]
[null,null,null,null,null,null,null,null," ",null,1,1900]
[null,null,null,null,null,null,null,null," ",null,1,1900]
[null,null,null,null,null,null,null,null," ",null,1,1900]
[null,null,null,null,null,null,null,null," ",null,1,1900]
[null,null,null,null,null,null,null,null," ",null,1,1900]
[null,null,null,null,null,null,null,null," ",null,1,1900]
[null,null,null,null,null,null,null,null," ",null,1,1900]
[null,null,null,null,null,null,null,null," ",null,1,1900]
[null,null,null,null,null,null,null,null," ",null,1,1900]
[null,null,null,null,null,null,null,null," ",null,1,1900]
[null,null,null,null,null,null,null,null," ",null,1,1900]
[null,null,null,null,null,null,null,null," ",null,1,1900]
[null,null,null,null,null,null,null,null," ",null,1,1900]
[null,null,null,null,null,null,null,null," ",null,1,1900]
[null,null,null,null,null,null,null,null," ",null,1,1900]
[null,null,null,null,null,null,null,null," ",null,1,1900]
[null,null,null,null,null,null,null,null," ",null,1,1900]
[null,null,null,null,null,null,null,null," ",null,1,1900]
[null,null,null,null,null,null,null,null," ",null,1,1900]
[null,null,null,null,null,null,null,null," ",null,1,1900]
[null,null,null,null,null,null,null,null," ",null,1,1900]
[null,null,null,null,null,null,null,null," ",null,1,1900]
[null,null,null,null,null,null,null,null," ",null,1,1900]
[null,null,null,null,null,null,null,null," ",null,1,1900]
[null,null,null,null,null,null,null,null," ",null,1,1900]
[null,null,null,null,null,null,null,null," ",null,1,1900]
[null,null,null,null,null,null,null,null," ",null,1,1900]
[null,null,null,null,null,null,null,null," ",null,1,1900]
[null,null,null,null,null,null,null,null," ",null,1,1900]
[null,null,null,null,null,null,null,null," ",null,1,1900]
[null,null,null,null,null,null,null,null," ",null,1,1900]
[null,null,null,null,null,null,null,null," ",null,1,1900]
[null,null,null,null,null,null,null,null," ",null,1,1900]
[null,null,null,null,null,null,null,null," ",null,1,1900]
[null,null,null,null,null,null,null,null," ",null,1,1900]
[null,null,null,null,null,null,null,null," ",null,1,1900]
[null,null,null,null,null,null,null,null," ",null,1,1900]
[null,null,null,null,null,null,null,null," ",null,1,1900]
[null,null,null,null,null,null,null,null," ",null,1,1900]
[null,null,null,null,null,null,null,null," ",null,1,1900]
[null,null,null,null,null,null,null,null," ",null,1,1900]
[null,null,null,null,null,null,null,null," ",null,1,1900]
[null,null,null,null,null,null,null,null," ",null,1,1900]
[null,null,null,null,null,null,null,null," ",null,1,1900]
[null,null,null,null,null,null,null,null," ",null,1,1900]
[null,null,null,null,null,null,null,null," ",null,1,1900]
[null,null,null,null,null,null,null,null," ",null,1,1900]
[null,null,null,null,null,null,null,null," ",null,1,1900]
[null,null,null,null,null,null,null,null," ",null,1,1900]
[null,null,null,null,null,null,null,null," ",null,1,1900]
[null,null,null,null,null,null,null,null," ",null,1,1900]
[null,null,null,null,null,null,null,null," ",null,1,1900]
[null,null,null,null,null,null,null,null," ",null,1,1900]
[null,null,null,null,null,null,null,null," ",null,1,1900]
[null,null,null,null,null,null,null,null," ",null,1,1900]
[null,null,null,null,null,null,null,null," ",null,1,1900]
[null,null,null,null,null,null,null,null," ",null,1,1900]
[null,null,null,null,null,null,null,null," ",null,1,1900]
[null,null,null,null,null,null,null,null," ",null,1,1900]
[null,null,null,null,null,null,null,null," ",null,1,1900]
[null,null,null,null,null,null,null,null," ",null,1,1900]
[null,null,null,null,null,null,null,null," ",null,1,1900]
[null,null,null,null,null,null,null,null," ",null,1,1900]
[null,null,null,null,null,null,null,null," ",null,1,1900]
[null,null,null,null,null,null,null,null," ",null,1,1900]
[null,null,null,null,null,null,null,null," ",null,1,1900]
[null,null,null,null,null,null,null,null," ",null,1,1900]
[null,null,null,null,null,null,null,null," ",null,1,1900]
[null,null,null,null,null,null,null,null," ",null,1,1900]
[null,null,null,null,null,null,null,null," ",null,1,1900]
[null,null,null,null,null,null,null,null," ",null,1,1900]
[null,null,null,null,null,null,null,null," ",null,1,1900]
[null,null,null,null,null,null,null,null," ",null,1,1900]
[null,null,null,null,null,null,null,null," ",null,1,1900]
[null,null,null,null,null,null,null,null," ",null,1,1900]
[null,null,null,null,null,null,null,null," ",null,1,1900]
[null,null,null,null,null,null,null,null," ",null,1,1900]
[null,null,null,null,null,null,null,null," ",null,1,1900]
[null,null,null,null,null,null,null,null," ",null,1,1900]
[null,null,null,null,null,null,null,null," ",null,1,1900]
[null,null,null,null,null,null,null,null," ",null,1,1900]
[null,null,null,null,null,null,null,null," ",null,1,1900]
[null,null,null,null,null,null,null,null," ",null,1,1900]
[null,null,null,null,null,null,null,null," ",null,1,1900]
[null,null,null,null,null,null,null,null," ",null,1,1900]
[null,null,null,null,null,null,null,null," ",null,1,1900]
[null,null,null,null,null,null,null,null," ",null,1,1900]
[null,null,null,null,null,null,null,null," ",null,1,1900]
[null,null,null,null,null,null,null,null," ",null,1,1900]
[null,null,null,null,null,null,null,null," ",null,1,1900]
[null,null,null,null,null,null,null,null," ",null,1,1900]
[null,null,null,null,null,null,null,null," ",null,1,1900]
[null,null,null,null,null,null,null,null," ",null,1,1900]
[null,null,null,null,null,null,null,null," ",null,1,1900]
[null,null,null,null,null,null,null,null," ",null,1,1900]
[null,null,null,null,null,null,null,null," ",null,1,1900]
[null,null,null,null,null,null,null,null,{"$f":"+IF(H55480=H55479,\" \",H55480)","v":" "},null,{"$f":"+MONTH(A55480)","v":1},{"$f":"+YEAR(A55480)","v":1900}]
[null,null,null,null,null,null,null,null," ",null,1,1900]
[null,null,null,null,null,null,null,null," ",null,1,1900]
[null,null,null,null,null,null,null,null," ",null,1,1900]
[null,null,null,null,null,null,null,null," ",null,1,1900]
[null,null,null,null,null,null,null,null," ",null,1,1900]
[null,null,null,null,null,null,null,null," ",null,1,1900]
[null,null,null,null,null,null,null,null," ",null,1,1900]
[null,null,null,null,null,null,null,null," ",null,1,1900]
[null,null,null,null,null,null,null,null," ",null,1,1900]
[null,null,null,null,null,null,null,null," ",null,1,1900]
[null,null,null,null,null,null,null,null," ",null,1,1900]
[null,null,null,null,null,null,null,null," ",null,1,1900]
[null,null,null,null,null,null,null,null," ",null,1,1900]
[null,null,null,null,null,null,null,null," ",null,1,1900]
[null,null,null,null,null,null,null,null," ",null,1,1900]
[null,null,null,null,null,null,null,null," ",null,1,1900]
[null,null,null,null,null,null,null,null," ",null,1,1900]
[null,null,null,null,null,null,null,null," ",null,1,1900]
[null,null,null,null,null,null,null,null," ",null,1,1900]
[null,null,null,null,null,null,null,null," ",null,1,1900]
[null,null,null,null,null,null,null,null," ",null,1,1900]
[null,null,null,null,null,null,null,null," ",null,1,1900]
[null,null,null,null,null,null,null,null," ",null,1,1900]
[null,null,null,null,null,null,null,null," ",null,1,1900]
[null,null,null,null,null,null,null,null," ",null,1,1900]
[null,null,null,null,null,null,null,null," ",null,1,1900]
[null,null,null,null,null,null,null,null," ",null,1,1900]
[null,null,null,null,null,null,null,null," ",null,1,1900]
[null,null,null,null,null,null,null,null," ",null,1,1900]
[null,null,null,null,null,null,null,null," ",null,1,1900]
[null,null,null,null,null,null,null,null,{"$f":"+IF(H56440=H56439,\" \",H56440)","v":" "},null,{"$f":"+MONTH(A56440)","v":1},{"$f":"+YEAR(A56440)","v":1900}]
[null,null,null,null,null,null,null,null," ",null,1,1900]
[null,null,null,null,null,null,null,null," ",null,1,1900]
[null,null,null,null,null,null,null,null," ",null,1,1900]
[null,null,null,null,null,null,null,null," ",null,1,1900]
[null,null,null,null,null,null,null,null," ",null,1,1900]
[null,null,null,null,null,null,null,null," ",null,1,1900]
[null,null,null,null,null,null,null,null," ",null,1,1900]
[null,null,null,null,null,null,null,null," ",null,1,1900]
[null,null,null,null,null,null,null,null," ",null,1,1900]
[null,null,null,null,null,null,null,null," ",null,1,1900]
[null,null,null,null,null,null,null,null," ",null,1,1900]
[null,null,null,null,null,null,null,null," ",null,1,1900]
[null,null,null,null,null,null,null,null," ",null,1,1900]
[null,null,null,null,null,null,null,null," ",null,1,1900]
[null,null,null,null,null,null,null,null," ",null,1,1900]
[null,null,null,null,null,null,null,null," ",null,1,1900]
[null,null,null,null,null,null,null,null," ",null,1,1900]
[null,null,null,null,null,null,null,null," ",null,1,1900]
[null,null,null,null,null,null,null,null," ",null,1,1900]
[null,null,null,null,null,null,null,null," ",null,1,1900]
[null,null,null,null,null,null,null,null," ",null,1,1900]
[null,null,null,null,null,null,null,null," ",null,1,1900]
[null,null,null,null,null,null,null,null," ",null,1,1900]
[null,null,null,null,null,null,null,null," ",null,1,1900]
[null,null,null,null,null,null,null,null," ",null,1,1900]
[null,null,null,null,null,null,null,null," ",null,1,1900]
[null,null,null,null,null,null,null,null," ",null,1,1900]
[null,null,null,null,null,null,null,null," ",null,1,1900]
[null,null,null,null,null,null,null,null," ",null,1,1900]
[null,null,null,null,null,null,null,null," ",null,1,1900]
[null,null,null,null,null,null,null,null," ",null,1,1900]
[null,null,null,null,null,null,null,null," ",null,1,1900]
[null,null,null,null,null,null,null,null," ",null,1,1900]
[null,null,null,null,null,null,null,null," ",null,1,1900]
[null,null,null,null,null,null,null,null," ",null,1,1900]
[null,null,null,null,null,null,null,null," ",null,1,1900]
[null,null,null,null,null,null,null,null," ",null,1,1900]
[null,null,null,null,null,null,null,null," ",null,1,1900]
[null,null,null,null,null,null,null,null," ",null,1,1900]
[null,null,null,null,null,null,null,null," ",null,1,1900]
[null,null,null,null,null,null,null,null," ",null,1,1900]
[null,null,null,null,null,null,null,null," ",null,1,1900]
[null,null,null,null,null,null,null,null," ",null,1,1900]
[null,null,null,null,null,null,null,null," ",null,1,1900]
[null,null,null,null,null,null,null,null," ",null,1,1900]
[null,null,null,null,null,null,null,null," ",null,1,1900]
[null,null,null,null,null,null,null,null," ",null,1,1900]
[null,null,null,null,null,null,null,null," ",null,1,1900]
[null,null,null,null,null,null,null,null," ",null,1,1900]
[null,null,null,null,null,null,null,null," ",null,1,1900]
[null,null,null,null,null,null,null,null," ",null,1,1900]
[null,null,null,null,null,null,null,null," ",null,1,1900]
[null,null,null,null,null,null,null,null," ",null,1,1900]
[null,null,null,null,null,null,null,null," ",null,1,1900]
[null,null,null,null,null,null,null,null," ",null,1,1900]
[null,null,null,null,null,null,null,null," ",null,1,1900]
[null,null,null,null,null,null,null,null," ",null,1,1900]
[null,null,null,null,null,null,null,null," ",null,1,1900]
[null,null,null,null,null,null,null,null," ",null,1,1900]
[null,null,null,null,null,null,null,null," ",null,1,1900]
[null,null,null,null,null,null,null,null," ",null,1,1900]
[null,null,null,null,null,null,null,null," ",null,1,1900]
[null,null,null,null,null,null,null,null," ",null,1,1900]
[null,null,null,null,null,null,null,null," ",null,1,1900]
[null,null,null,null,null,null,null,null," ",null,1,1900]
[null,null,null,null,null,null,null,null," ",null,1,1900]
[null,null,null,null,null,null,null,null," ",null,1,1900]
[null,null,null,null,null,null,null,null," ",null,1,1900]
[null,null,null,null,null,null,null,null," ",null,1,1900]
[null,null,null,null,null,null,null,null," ",null,1,1900]
[null,null,null,null,null,null,null,null," ",null,1,1900]
[null,null,null,null,null,null,null,null," ",null,1,1900]
[null,null,null,null,null,null,null,null," ",null,1,1900]
[null,null,null,null,null,null,null,null," ",null,1,1900]
[null,null,null,null,null,null,null,null," ",null,1,1900]
[null,null,null,null,null,null,null,null," ",null,1,1900]
[null,null,null,null,null,null,null,null," ",null,1,1900]
[null,null,null,null,null,null,null,null," ",null,1,1900]
[null,null,null,null,null,null,null,null," ",null,1,1900]
[null,null,null,null,null,null,null,null," ",null,1,1900]
[null,null,null,null,null,null,null,null," ",null,1,1900]
[null,null,null,null,null,null,null,null," ",null,1,1900]
[null,null,null,null,null,null,null,null," ",null,1,1900]
[null,null,null,null,null,null,null,null," ",null,1,1900]
[null,null,null,null,null,null,null,null," ",null,1,1900]
[null,null,null,null,null,null,null,null," ",null,1,1900]
[null,null,null,null,null,null,null,null," ",null,1,1900]
[null,null,null,null,null,null,null,null," ",null,1,1900]
[null,null,null,null,null,null,null,null," ",null,1,1900]
[null,null,null,null,null,null,null,null," ",null,1,1900]
[null,null,null,null,null,null,null,null," ",null,1,1900]
[null,null,null,null,null,null,null,null," ",null,1,1900]
[null,null,null,null,null,null,null,null,{"$f":"+IF(H59384=H59383,\" \",H59384)","v":" "},null,{"$f":"+MONTH(A59384)","v":1},{"$f":"+YEAR(A59384)","v":1900}]
[null,null,null,null,null,null,null,null," ",null,1,1900]
[null,null,null,null,null,null,null,null," ",null,1,1900]
[null,null,null,null,null,null,null,null," ",null,1,1900]
[null,null,null,null,null,null,null,null," ",null,1,1900]
[null,null,null,null,null,null,null,null," ",null,1,1900]
[null,null,null,null,null,null,null,null," ",null,1,1900]
[null,null,null,null,null,null,null,null," ",null,1,1900]
[null,null,null,null,null,null,null,null," ",null,1,1900]
[null,null,null,null,null,null,null,null," ",null,1,1900]
[null,null,null,null,null,null,null,null," ",null,1,1900]
[null,null,null,null,null,null,null,null," ",null,1,1900]
[null,null,null,null,null,null,null,null," ",null,1,1900]
[null,null,null,null,null,null,null,null," ",null,1,1900]
[null,null,null,null,null,null,null,null," ",null,1,1900]
[null,null,null,null,null,null,null,null," ",null,1,1900]
[null,null,null,null,null,null,null,null," ",null,1,1900]
[null,null,null,null,null,null,null,null," ",null,1,1900]
[null,null,null,null,null,null,null,null," ",null,1,1900]
[null,null,null,null,null,null,null,null," ",null,1,1900]
[null,null,null,null,null,null,null,null," ",null,1,1900]
[null,null,null,null,null,null,null,null," ",null,1,1900]
[null,null,null,null,null,null,null,null," ",null,1,1900]
[null,null,null,null,null,null,null,null," ",null,1,1900]
[null,null,null,null,null,null,null,null," ",null,1,1900]
[null,null,null,null,null,null,null,null," ",null,1,1900]
[null,null,null,null,null,null,null,null," ",null,1,1900]
[null,null,null,null,null,null,null,null," ",null,1,1900]
[null,null,null,null,null,null,null,null," ",null,1,1900]
[null,null,null,null,null,null,null,null," ",null,1,1900]
[null,null,null,null,null,null,null,null," ",null,1,1900]
[null,null,null,null,null,null,null,null,{"$f":"+IF(H60344=H60343,\" \",H60344)","v":" "},null,{"$f":"+MONTH(A60344)","v":1},{"$f":"+YEAR(A60344)","v":1900}]
[null,null,null,null,null,null,null,null," ",null,1,1900]
[null,null,null,null,null,null,null,null," ",null,1,1900]
[null,null,null,null,null,null,null,null," ",null,1,1900]
[null,null,null,null,null,null,null,null," ",null,1,1900]
[null,null,null,null,null,null,null,null," ",null,1,1900]
[null,null,null,null,null,null,null,null," ",null,1,1900]
[null,null,null,null,null,null,null,null," ",null,1,1900]
[null,null,null,null,null,null,null,null," ",null,1,1900]
[null,null,null,null,null,null,null,null," ",null,1,1900]
[null,null,null,null,null,null,null,null," ",null,1,1900]
[null,null,null,null,null,null,null,null," ",null,1,1900]
[null,null,null,null,null,null,null,null," ",null,1,1900]
[null,null,null,null,null,null,null,null," ",null,1,1900]
[null,null,null,null,null,null,null,null," ",null,1,1900]
[null,null,null,null,null,null,null,null," ",null,1,1900]
[null,null,null,null,null,null,null,null," ",null,1,1900]
[null,null,null,null,null,null,null,null," ",null,1,1900]
[null,null,null,null,null,null,null,null," ",null,1,1900]
[null,null,null,null,null,null,null,null," ",null,1,1900]
[null,null,null,null,null,null,null,null,{"$f":"+IF(H60984=H60983,\" \",H60984)","v":" "},null,{"$f":"+MONTH(A60984)","v":1},{"$f":"+YEAR(A60984)","v":1900}]
[null,null,null,null,null,null,null,null," ",null,1,1900]
[null,null,null,null,null,null,null,null," ",null,1,1900]
[null,null,null,null,null,null,null,null," ",null,1,1900]
[null,null,null,null,null,null,null,null," ",null,1,1900]
[null,null,null,null,null,null,null,null," ",null,1,1900]
[null,null,null,null,null,null,null,null," ",null,1,1900]
[null,null,null,null,null,null,null,null," ",null,1,1900]
[null,null,null,null,null,null,null,null," ",null,1,1900]
[null,null,null,null,null,null,null,null," ",null,1,1900]
[null,null,null,null,null,null,null,null," ",null,1,1900]
[null,null,null,null,null,null,null,null," ",null,1,1900]
[null,null,null,null,null,null,null,null," ",null,1,1900]
[null,null,null,null,null,null,null,null," ",null,1,1900]
[null,null,null,null,null,null,null,null," ",null,1,1900]
[null,null,null,null,null,null,null,null," ",null,1,1900]
[null,null,null,null,null,null,null,null," ",null,1,1900]
[null,null,null,null,null,null,null,null," ",null,1,1900]
[null,null,null,null,null,null,null,null," ",null,1,1900]
[null,null,null,null,null,null,null,null," ",null,1,1900]
[null,null,null,null,null,null,null,null," ",null,1,1900]
[null,null,null,null,null,null,null,null," ",null,1,1900]
[null,null,null,null,null,null,null,null," ",null,1,1900]
[null,null,null,null,null,null,null,null," ",null,1,1900]
[null,null,null,null,null,null,null,null," ",null,1,1900]
[null,null,null,null,null,null,null,null," ",null,1,1900]
[null,null,null,null,null,null,null,null," ",null,1,1900]
[null,null,null,null,null,null,null,null," ",null,1,1900]
[null,null,null,null,null,null,null,null," ",null,1,1900]
[null,null,null,null,null,null,null,null," ",null,1,1900]
[null,null,null,null,null,null,null,null," ",null,1,1900]
[null,null,null,null,null,null,null,null," ",null,1,1900]
[null,null,null,null,null,null,null,null," ",null,1,1900]
[null,null,null,null,null,null,null,null," ",null,1,1900]
[null,null,null,null,null,null,null,null," ",null,1,1900]
[null,null,null,null,null,null,null,null," ",null,1,1900]
[null,null,null,null,null,null,null,null," ",null,1,1900]
[null,null,null,null,null,null,null,null," ",null,1,1900]
[null,null,null,null,null,null,null,null," ",null,1,1900]
[null,null,null,null,null,null,null,null," ",null,1,1900]
[null,null,null,null,null,null,null,null," ",null,1,1900]
[null,null,null,null,null,null,null,null," ",null,1,1900]
[null,null,null,null,null,null,null,null," ",null,1,1900]
[null,null,null,null,null,null,null,null," ",null,1,1900]
[null,null,null,null,null,null,null,null," ",null,1,1900]
[null,null,null,null,null,null,null,null," ",null,1,1900]
[null,null,null,null,null,null,null,null," ",null,1,1900]
[null,null,null,null,null,null,null,null," ",null,1,1900]
[null,null,null,null,null,null,null,null," ",null,1,1900]
[null,null,null,null,null,null,null,null," ",null,1,1900]
[null,null,null,null,null,null,null,null," ",null,1,1900]
[null,null,null,null,null,null,null,null," ",null,1,1900]
[null,null,null,null,null,null,null,null," ",null,1,1900]
[null,null,null,null,null,null,null,null," ",null,1,1900]
[null,null,null,null,null,null,null,null," ",null,1,1900]
[null,null,null,null,null,null,null,null," ",null,1,1900]
[null,null,null,null,null,null,null,null," ",null,1,1900]
[null,null,null,null,null,null,null,null," ",null,1,1900]
[null,null,null,null,null,null,null,null," ",null,1,1900]
[null,null,null,null,null,null,null,null," ",null,1,1900]
[null,null,null,null,null,null,null,null," ",null,1,1900]
[null,null,null,null,null,null,null,null," ",null,1,1900]
[null,null,null,null,null,null,null,null," ",null,1,1900]
[null,null,null,null,null,null,null,null," ",null,1,1900]
[null,null,null,null,null,null,null,null," ",null,1,1900]
[null,null,null,null,null,null,null,null," ",null,1,1900]
[null,null,null,null,null,null,null,null," ",null,1,1900]
[null,null,null,null,null,null,null,null," ",null,1,1900]
[null,null,null,null,null,null,null,null," ",null,1,1900]
[null,null,null,null,null,null,null,null," ",null,1,1900]
[null,null,null,null,null,null,null,null," ",null,1,1900]
[null,null,null,null,null,null,null,null," ",null,1,1900]
[null,null,null,null,null,null,null,null," ",null,1,1900]
[null,null,null,null,null,null,null,null,{"$f":"+IF(H63288=H63287,\" \",H63288)","v":" "},null,{"$f":"+MONTH(A63288)","v":1},{"$f":"+YEAR(A63288)","v":1900}]
[null,null,null,null,null,null,null,null," ",null,1,1900]
[null,null,null,null,null,null,null,null," ",null,1,1900]
[null,null,null,null,null,null,null,null," ",null,1,1900]
[null,null,null,null,null,null,null,null," ",null,1,1900]
[null,null,null,null,null,null,null,null," ",null,1,1900]
[null,null,null,null,null,null,null,null," ",null,1,1900]
[null,null,null,null,null,null,null,null," ",null,1,1900]
[null,null,null,null,null,null,null,null," ",null,1,1900]
[null,null,null,null,null,null,null,null," ",null,1,1900]
[null,null,null,null,null,null,null,null," ",null,1,1900]
[null,null,null,null,null,null,null,null," ",null,1,1900]
[null,null,null,null,null,null,null,null," ",null,1,1900]
[null,null,null,null,null,null,null,null," ",null,1,1900]
[null,null,null,null,null,null,null,null," ",null,1,1900]
[null,null,null,null,null,null,null,null," ",null,1,1900]
[null,null,null,null,null,null,null,null," ",null,1,1900]
[null,null,null,null,null,null,null,null," ",null,1,1900]
[null,null,null,null,null,null,null,null," ",null,1,1900]
[null,null,null,null,null,null,null,null," ",null,1,1900]
[null,null,null,null,null,null,null,null," ",null,1,1900]
[null,null,null,null,null,null,null,null," ",null,1,1900]
[null,null,null,null,null,null,null,null,{"$f":"+IF(H63992=H63991,\" \",H63992)","v":" "},null,{"$f":"+MONTH(A63992)","v":1},{"$f":"+YEAR(A63992)","v":1900}]
[null,null,null,null,null,null,null,null," ",null,1,1900]
[null,null,null,null,null,null,null,null," ",null,1,1900]
[null,null,null,null,null,null,null,null," ",null,1,1900]
[null,null,null,null,null,null,null,null," ",null,1,1900]
[null,null,null,null,null,null,null,null," ",null,1,1900]
[null,null,null,null,null,null,null,null," ",null,1,1900]
[null,null,null,null,null,null,null,null," ",null,1,1900]
[null,null,null,null,null,null,null,null," ",null,1,1900]
[null,null,null,null,null,null,null,null," ",null,1,1900]
[null,null,null,null,null,null,null,null," ",null,1,1900]
[null,null,null,null,null,null,null,null," ",null,1,1900]
[null,null,null,null,null,null,null,null," ",null,1,1900]
[null,null,null,null,null,null,null,null," ",null,1,1900]
[null,null,null,null,null,null,null,null," ",null,1,1900]
[null,null,null,null,null,null,null,null," ",null,1,1900]
[null,null,null,null,null,null,null,null," ",null,1,1900]
[null,null,null,null,null,null,null,null," ",null,1,1900]
[null,null,null,null,null,null,null,null," ",null,1,1900]
[null,null,null,null,null,null,null,null," ",null,1,1900]
[null,null,null,null,null,null,null,null," ",null,1,1900]
[null,null,null,null,null,null,null,null," ",null,1,1900]
[null,null,null,null,null,null,null,null," ",null,1,1900]
[null,null,null,null,null,null,null,null," ",null,1,1900]
[null,null,null,null,null,null,null,null," ",null,1,1900]
[null,null,null,null,null,null,null,null," ",null,1,1900]
[null,null,null,null,null,null,null,null," ",null,1,1900]
[null,null,null,null,null,null,null,null," ",null,1,1900]
[null,null,null,null,null,null,null,null," ",null,1,1900]
[null,null,null,null,null,null,null,null," ",null,1,1900]
[null,null,null,null,null,null,null,null," ",null,1,1900]
[null,null,null,null,null,null,null,null," ",null,1,1900]
[null,null,null,null,null,null,null,null," ",null,1,1900]
[null,null,null,null,null,null,null,null," ",null,1,1900]
[null,null,null,null,null,null,null,null," ",null,1,1900]
[null,null,null,null,null,null,null,null," ",null,1,1900]
[null,null,null,null,null,null,null,null," ",null,1,1900]
[null,null,null,null,null,null,null,null," ",null,1,1900]
[null,null,null,null,null,null,null,null," ",null,1,1900]
[null,null,null,null,null,null,null,null," ",null,1,1900]
[null,null,null,null,null,null,null,null," ",null,1,1900]
[null,null,null,null,null,null,null,null," ",null,1,1900]
[null,null,null,null,null,null,null,null," ",null,1,1900]
[null,null,null,null,null,null,null,null," ",null,1,1900]
[null,null,null,null,null,null,null,null," ",null,1,1900]
[null,null,null,null,null,null,null,null," ",null,1,1900]
[null,null,null,null,null,null,null,null," ",null,1,1900]
[null,null,null,null,null,null,null,null," ",null,1,1900]
[null,null,null,null,null,null,null,null," ",null,1,1900]
[null,null,null,null,null,null,null,null," ",null,1,1900]
[null,null,null,null,null,null,null,null," ",null,1,1900]
[null,null,null,null,null,null,null,null," ",null,1,1900]
[null,null,null,null,null,null,null,null," ",null,1,1900]
[null,null,null,null,null,null,null,null," ",null,1,1900]
[null,null,null,null,null,null,null,null," ",null,1,1900]
[null,null,null,null,null,null,null,null," ",null,1,1900]
[null,null,null,null,null,null,null,null," ",null,1,1900]
[null,null,null,null,null,null,null,null," ",null,1,1900]
[null,null,null,null,null,null,null,null," ",null,1,1900]
[null,null,null,null,null,null,null,null," ",null,1,1900]
[null,null,null,null,null,null,null,null," ",null,1,1900]
[null,null,null,null,null,null,null,null," ",null,1,1900]
[null,null,null,null,null,null,null,null," ",null,1,1900]
[null,null,null,null,null,null,null,null," ",null,1,1900]
[null,null,null,null,null,null,null,null," ",null,1,1900]
[null,null,null,null,null,null,null,null," ",null,1,1900]
[null,null,null,null,null,null,null,null," ",null,1,1900]
[null,null,null,null,null,null,null,null," ",null,1,1900]
[null,null,null,null,null,null,null,null," ",null,1,1900]
[null,null,null,null,null,null,null,null," ",null,1,1900]
[null,null,null,null,null,null,null,null," ",null,1,1900]
[null,null,null,null,null,null,null,null," ",null,1,1900]
[null,null,null,null,null,null,null,null," ",null,1,1900]
[null,null,null,null,null,null,null,null," ",null,1,1900]
[null,null,null,null,null,null,null,null," ",null,1,1900]
[null,null,null,null,null,null,null,null," ",null,1,1900]
[null,null,null,null,null,null,null,null," ",null,1,1900]
[null,null,null,null,null,null,null,null,{"$f":"+IF(H65080=H65079,\" \",H65080)","v":" "},null,{"$f":"+MONTH(A65080)","v":1},{"$f":"+YEAR(A65080)","v":1900}]
[null,null,null,null,null,null,null,null," ",null,1,1900]
[null,null,null,null,null,null,null,null," ",null,1,1900]
[null,null,null,null,null,null,null,null," ",null,1,1900]
[null,null,null,null,null,null,null,null," ",null,1,1900]
[null,null,null,null,null,null,null,null," ",null,1,1900]
[null,null,null,null,null,null,null,null," ",null,1,1900]
[null,null,null,null,null,null,null,null," ",null,1,1900]
[null,null,null,null,null,null,null,null," ",null,1,1900]
[null,null,null,null,null,null,null,null," ",null,1,1900]
[null,null,null,null,null,null,null,null," ",null,1,1900]
[null,null,null,null,null,null,null,null," ",null,1,1900]
[null,null,null,null,null,null,null,null," ",null,1,1900]
[null,null,null,null,null,null,null,null," ",null,1,1900]
[null,null,null,null,null,null,null,null," ",null,1,1900]
[null,null,null,null,null,null,null,null," ",null,1,1900]
[null,null,null,null,null,null,null,null," ",null,1,1900]
[null,null,null,null,null,null,null,null," ",null,1,1900]
[null,null,null,null,null,null,null,null," ",null,1,1900]
[null,null,null,null,null,null,null,null," ",null,1,1900]
[null,null,null,null,null,null,null,null," ",null,1,1900]
[null,null,null,null,null,null,null,null," ",null,1,1900]
[null,null,null,null,null,null,null,null," ",null,1,1900]
[null,null,null,null,null,null,null,null," ",null,1,1900]
[null,null,null,null,null,null,null,null," ",null,1,1900]
[null,null,null,null,null,null,null,null," ",null,1,1900]
[null,null,null,null,null,null,null,null," ",null,1,1900]
[null,null,null,null,null,null,null,null," ",null,1,1900]
[null,null,null,null,null,null,null,null," ",null,1,1900]
[null,null,null,null,null,null,null,null," ",null,1,1900]
[null,null,null,null,null,null,null,null," ",null,1,1900]
[null,null,null,null,null,null,null,null," ",null,1,1900]
[null,null,null,null,null,null,null,null," ",null,1,1900]
[null,null,null,null,null,null,null,null," ",null,1,1900]
[null,null,null,null,null,null,null,null," ",null,1,1900]
[null,null,null,null,null,null,null,null," ",null,1,1900]
[null,null,null,null,null,null,null,null," ",null,1,1900]
[null,null,null,null,null,null,null,null," ",null,1,1900]
[null,null,null,null,null,null,null,null," ",null,1,1900]
[null,null,null,null,null,null,null,null," ",null,1,1900]
[null,null,null,null,null,null,null,null," ",null,1,1900]
[null,null,null,null,null,null,null,null," ",null,1,1900]
[null,null,null,null,null,null,null,null," ",null,1,1900]
[null,null,null,null,null,null,null,null," ",null,1,1900]
[null,null,null,null,null,null,null,null," ",null,1,1900]
[null,null,null,null,null,null,null,null," ",null,1,1900]
[null,null,null,null,null,null,null,null," ",null,1,1900]
[null,null,null,null,null,null,null,null," ",null,1,1900]
[null,null,null,null,null,null,null,null," ",null,1,1900]
[null,null,null,null,null,null,null,null," ",null,1,1900]
[null,null,null,null,null,null,null,null," ",null,1,1900]
[null,null,null,null,null,null,null,null," ",null,1,1900]
[null,null,null,null,null,null,null,null," ",null,1,1900]
[null,null,null,null,null,null,null,null," ",null,1,1900]
[null,null,null,null,null,null,null,null," ",null,1,1900]
[null,null,null,null,null,null,null,null," ",null,1,1900]
[null,null,null,null,null,null,null,null," ",null,1,1900]
[null,null,null,null,null,null,null,null," ",null,1,1900]
[null,null,null,null,null,null,null,null," ",null,1,1900]
[null,null,null,null,null,null,null,null," ",null,1,1900]
[null,null,null,null,null,null,null,null," ",null,1,1900]
[null,null,null,null,null,null,null,null," ",null,1,1900]
[null,null,null,null,null,null,null,null," ",null,1,1900]
[null,null,null,null,null,null,null,null," ",null,1,1900]
[null,null,null,null,null,null,null,null,{"$f":"+IF(H65144=H65143,\" \",H65144)","v":" "},null,{"$f":"+MONTH(A65144)","v":1},{"$f":"+YEAR(A65144)","v":1900}]
[null,null,null,null,null,null,null,null," ",null,1,1900]
[null,null,null,null,null,null,null,null," ",null,1,1900]
[null,null,null,null,null,null,null,null," ",null,1,1900]
[null,null,null,null,null,null,null,null," ",null,1,1900]
[null,null,null,null,null,null,null,null," ",null,1,1900]
[null,null,null,null,null,null,null,null," ",null,1,1900]
[null,null,null,null,null,null,null,null," ",null,1,1900]
[null,null,null,null,null,null,null,null," ",null,1,1900]
[null,null,null,null,null,null,null,null," ",null,1,1900]
[null,null,null,null,null,null,null,null," ",null,1,1900]
[null,null,null,null,null,null,null,null," ",null,1,1900]
[null,null,null,null,null,null,null,null," ",null,1,1900]
[null,null,null,null,null,null,null,null," ",null,1,1900]
[null,null,null,null,null,null,null,null," ",null,1,1900]
[null,null,null,null,null,null,null,null," ",null,1,1900]
[null,null,null,null,null,null,null,null," ",null,1,1900]
[null,null,null,null,null,null,null,null," ",null,1,1900]
[null,null,null,null,null,null,null,null," ",null,1,1900]
[null,null,null,null,null,null,null,null," ",null,1,1900]
[null,null,null,null,null,null,null,null," ",null,1,1900]
[null,null,null,null,null,null,null,null," ",null,1,1900]
[null,null,null,null,null,null,null,null," ",null,1,1900]
[null,null,null,null,null,null,null,null," ",null,1,1900]
[null,null,null,null,null,null,null,null," ",null,1,1900]
[null,null,null,null,null,null,null,null," ",null,1,1900]
[null,null,null,null,null,null,null,null," ",null,1,1900]
[null,null,null,null,null,null,null,null," ",null,1,1900]
[null,null,null,null,null,null,null,null," ",null,1,1900]
[null,null,null,null,null,null,null,null," ",null,1,1900]
[null,null,null,null,null,null,null,null," ",null,1,1900]
[null,null,null,null,null,null,null,null," ",null,1,1900]
[null,null,null,null,null,null,null,null," ",null,1,1900]
[null,null,null,null,null,null,null,null," ",null,1,1900]
[null,null,null,null,null,null,null,null," ",null,1,1900]
[null,null,null,null,null,null,null,null," ",null,1,1900]
[null,null,null,null,null,null,null,null," ",null,1,1900]
[null,null,null,null,null,null,null,null," ",null,1,1900]
[null,null,null,null,null,null,null,null," ",null,1,1900]
[null,null,null,null,null,null,null,null," ",null,1,1900]
[null,null,null,null,null,null,null,null," ",null,1,1900]
[null,null,null,null,null,null,null,null," ",null,1,1900]
[null,null,null,null,null,null,null,null," ",null,1,1900]
[null,null,null,null,null,null,null,null," ",null,1,1900]
[null,null,null,null,null,null,null,null," ",null,1,1900]
[null,null,null,null,null,null,null,null," ",null,1,1900]
[null,null,null,null,null,null,null,null," ",null,1,1900]
[null,null,null,null,null,null,null,null," ",null,1,1900]
[null,null,null,null,null,null,null,null," ",null,1,1900]
[null,null,null,null,null,null,null,null," ",null,1,1900]
[null,null,null,null,null,null,null,null," ",null,1,1900]
[null,null,null,null,null,null,null,null," ",null,1,1900]
[null,null,null,null,null,null,null,null," ",null,1,1900]
[null,null,null,null,null,null,null,null," ",null,1,1900]
[null,null,null,null,null,null,null,null," ",null,1,1900]
[null,null,null,null,null,null,null,null," ",null,1,1900]
[null,null,null,null,null,null,null,null," ",null,1,1900]
[null,null,null,null,null,null,null,null," ",null,1,1900]
[null,null,null,null,null,null,null,null," ",null,1,1900]
[null,null,null,null,null,null,null,null," ",null,1,1900]
[null,null,null,null,null,null,null,null," ",null,1,1900]
[null,null,null,null,null,null,null,null," ",null,1,1900]
[null,null,null,null,null,null,null,null," ",null,1,1900]
[null,null,null,null,null,null,null,null," ",null,1,1900]
[null,null,null,null,null,null,null,null,{"$f":"+IF(H65208=H65207,\" \",H65208)","v":" "},null,{"$f":"+MONTH(A65208)","v":1},{"$f":"+YEAR(A65208)","v":1900}]
[null,null,null,null,null,null,null,null," ",null,1,1900]
[null,null,null,null,null,null,null,null," ",null,1,1900]
[null,null,null,null,null,null,null,null," ",null,1,1900]
[null,null,null,null,null,null,null,null," ",null,1,1900]
[null,null,null,null,null,null,null,null," ",null,1,1900]
[null,null,null,null,null,null,null,null," ",null,1,1900]
[null,null,null,null,null,null,null,null," ",null,1,1900]
[null,null,null,null,null,null,null,null," ",null,1,1900]
[null,null,null,null,null,null,null,null," ",null,1,1900]
[null,null,null,null,null,null,null,null," ",null,1,1900]
[null,null,null,null,null,null,null,null," ",null,1,1900]
[null,null,null,null,null,null,null,null," ",null,1,1900]
[null,null,null,null,null,null,null,null," ",null,1,1900]
[null,null,null,null,null,null,null,null," ",null,1,1900]
[null,null,null,null,null,null,null,null," ",null,1,1900]
[null,null,null,null,null,null,null,null," ",null,1,1900]
[null,null,null,null,null,null,null,null," ",null,1,1900]
[null,null,null,null,null,null,null,null," ",null,1,1900]
[null,null,null,null,null,null,null,null," ",null,1,1900]
[null,null,null,null,null,null,null,null," ",null,1,1900]
[null,null,null,null,null,null,null,null," ",null,1,1900]
[null,null,null,null,null,null,null,null," ",null,1,1900]
[null,null,null,null,null,null,null,null," ",null,1,1900]
[null,null,null,null,null,null,null,null," ",null,1,1900]
[null,null,null,null,null,null,null,null," ",null,1,1900]
[null,null,null,null,null,null,null,null," ",null,1,1900]
[null,null,null,null,null,null,null,null," ",null,1,1900]
[null,null,null,null,null,null,null,null," ",null,1,1900]
[null,null,null,null,null,null,null,null," ",null,1,1900]
[null,null,null,null,null,null,null,null," ",null,1,1900]
[null,null,null,null,null,null,null,null," ",null,1,1900]
[null,null,null,null,null,null,null,null," ",null,1,1900]
[null,null,null,null,null,null,null,null," ",null,1,1900]
[null,null,null,null,null,null,null,null," ",null,1,1900]
[null,null,null,null,null,null,null,null," ",null,1,1900]
[null,null,null,null,null,null,null,null," ",null,1,1900]
[null,null,null,null,null,null,null,null," ",null,1,1900]
[null,null,null,null,null,null,null,null," ",null,1,1900]
[null,null,null,null,null,null,null,null," ",null,1,1900]
[null,null,null,null,null,null,null,null," ",null,1,1900]
[null,null,null,null,null,null,null,null," ",null,1,1900]
[null,null,null,null,null,null,null,null," ",null,1,1900]
[null,null,null,null,null,null,null,null," ",null,1,1900]
[null,null,null,null,null,null,null,null," ",null,1,1900]
[null,null,null,null,null,null,null,null," ",null,1,1900]
[null,null,null,null,null,null,null,null," ",null,1,1900]
[null,null,null,null,null,null,null,null," ",null,1,1900]
[null,null,null,null,null,null,null,null," ",null,1,1900]
[null,null,null,null,null,null,null,null," ",null,1,1900]
[null,null,null,null,null,null,null,null," ",null,1,1900]
[null,null,null,null,null,null,null,null," ",null,1,1900]
[null,null,null,null,null,null,null,null," ",null,1,1900]
[null,null,null,null,null,null,null,null," ",null,1,1900]
[null,null,null,null,null,null,null,null," ",null,1,1900]
[null,null,null,null,null,null,null,null," ",null,1,1900]
[null,null,null,null,null,null,null,null," ",null,1,1900]
[null,null,null,null,null,null,null,null," ",null,1,1900]
[null,null,null,null,null,null,null,null," ",null,1,1900]
[null,null,null,null,null,null,null,null," ",null,1,1900]
[null,null,null,null,null,null,null,null," ",null,1,1900]
[null,null,null,null,null,null,null,null," ",null,1,1900]
[null,null,null,null,null,null,null,null," ",null,1,1900]
[null,null,null,null,null,null,null,null," ",null,1,1900]
[null,null,null,null,null,null,null,null,{"$f":"+IF(H65272=H65271,\" \",H65272)","v":" "},null,{"$f":"+MONTH(A65272)","v":1},{"$f":"+YEAR(A65272)","v":1900}]
[null,null,null,null,null,null,null,null," ",null,1,1900]
[null,null,null,null,null,null,null,null," ",null,1,1900]
[null,null,null,null,null,null,null,null," ",null,1,1900]
[null,null,null,null,null,null,null,null," ",null,1,1900]
[null,null,null,null,null,null,null,null," ",null,1,1900]
[null,null,null,null,null,null,null,null," ",null,1,1900]
[null,null,null,null,null,null,null,null," ",null,1,1900]
[null,null,null,null,null,null,null,null," ",null,1,1900]
[null,null,null,null,null,null,null,null," ",null,1,1900]
[null,null,null,null,null,null,null,null," ",null,1,1900]
[null,null,null,null,null,null,null,null," ",null,1,1900]
[null,null,null,null,null,null,null,null," ",null,1,1900]
[null,null,null,null,null,null,null,null," ",null,1,1900]
[null,null,null,null,null,null,null,null," ",null,1,1900]
[null,null,null,null,null,null,null,null," ",null,1,1900]
[null,null,null,null,null,null,null,null," ",null,1,1900]
[null,null,null,null,null,null,null,null," ",null,1,1900]
[null,null,null,null,null,null,null,null," ",null,1,1900]
[null,null,null,null,null,null,null,null," ",null,1,1900]
[null,null,null,null,null,null,null,null," ",null,1,1900]
[null,null,null,null,null,null,null,null," ",null,1,1900]
[null,null,null,null,null,null,null,null," ",null,1,1900]
[null,null,null,null,null,null,null,null," ",null,1,1900]
[null,null,null,null,null,null,null,null," ",null,1,1900]
[null,null,null,null,null,null,null,null," ",null,1,1900]
[null,null,null,null,null,null,null,null," ",null,1,1900]
[null,null,null,null,null,null,null,null," ",null,1,1900]
[null,null,null,null,null,null,null,null," ",null,1,1900]
[null,null,null,null,null,null,null,null," ",null,1,1900]
[null,null,null,null,null,null,null,null," ",null,1,1900]
[null,null,null,null,null,null,null,null," ",null,1,1900]
[null,null,null,null,null,null,null,null," ",null,1,1900]
[null,null,null,null,null,null,null,null," ",null,1,1900]
[null,null,null,null,null,null,null,null," ",null,1,1900]
[null,null,null,null,null,null,null,null," ",null,1,1900]
[null,null,null,null,null,null,null,null," ",null,1,1900]
[null,null,null,null,null,null,null,null," ",null,1,1900]
[null,null,null,null,null,null,null,null," ",null,1,1900]
[null,null,null,null,null,null,null,null," ",null,1,1900]
[null,null,null,null,null,null,null,null," ",null,1,1900]
[null,null,null,null,null,null,null,null," ",null,1,1900]
[null,null,null,null,null,null,null,null," ",null,1,1900]
[null,null,null,null,null,null,null,null," ",null,1,1900]
[null,null,null,null,null,null,null,null," ",null,1,1900]
[null,null,null,null,null,null,null,null," ",null,1,1900]
[null,null,null,null,null,null,null,null," ",null,1,1900]
[null,null,null,null,null,null,null,null," ",null,1,1900]
[null,null,null,null,null,null,null,null," ",null,1,1900]
[null,null,null,null,null,null,null,null," ",null,1,1900]
[null,null,null,null,null,null,null,null," ",null,1,1900]
[null,null,null,null,null,null,null,null," ",null,1,1900]
[null,null,null,null,null,null,null,null," ",null,1,1900]
[null,null,null,null,null,null,null,null," ",null,1,1900]
[null,null,null,null,null,null,null,null," ",null,1,1900]
[null,null,null,null,null,null,null,null," ",null,1,1900]
[null,null,null,null,null,null,null,null," ",null,1,1900]
[null,null,null,null,null,null,null,null," ",null,1,1900]
[null,null,null,null,null,null,null,null," ",null,1,1900]
[null,null,null,null,null,null,null,null," ",null,1,1900]
[null,null,null,null,null,null,null,null," ",null,1,1900]
[null,null,null,null,null,null,null,null," ",null,1,1900]
[null,null,null,null,null,null,null,null," ",null,1,1900]
[null,null,null,null,null,null,null,null," ",null,1,1900]
[null,null,null,null,null,null,null,null,{"$f":"+IF(H65336=H65335,\" \",H65336)","v":" "},null,{"$f":"+MONTH(A65336)","v":1},{"$f":"+YEAR(A65336)","v":1900}]
[null,null,null,null,null,null,null,null," ",null,1,1900]
[null,null,null,null,null,null,null,null," ",null,1,1900]
[null,null,null,null,null,null,null,null," ",null,1,1900]
[null,null,null,null,null,null,null,null," ",null,1,1900]
[null,null,null,null,null,null,null,null," ",null,1,1900]
[null,null,null,null,null,null,null,null," ",null,1,1900]
[null,null,null,null,null,null,null,null," ",null,1,1900]
[null,null,null,null,null,null,null,null," ",null,1,1900]
[null,null,null,null,null,null,null,null," ",null,1,1900]
[null,null,null,null,null,null,null,null," ",null,1,1900]
[null,null,null,null,null,null,null,null," ",null,1,1900]
[null,null,null,null,null,null,null,null," ",null,1,1900]
[null,null,null,null,null,null,null,null," ",null,1,1900]
[null,null,null,null,null,null,null,null," ",null,1,1900]
[null,null,null,null,null,null,null,null," ",null,1,1900]
[null,null,null,null,null,null,null,null," ",null,1,1900]
[null,null,null,null,null,null,null,null," ",null,1,1900]
[null,null,null,null,null,null,null,null," ",null,1,1900]
[null,null,null,null,null,null,null,null," ",null,1,1900]
[null,null,null,null,null,null,null,null," ",null,1,1900]
[null,null,null,null,null,null,null,null," ",null,1,1900]
[null,null,null,null,null,null,null,null," ",null,1,1900]
[null,null,null,null,null,null,null,null," ",null,1,1900]
[null,null,null,null,null,null,null,null," ",null,1,1900]
[null,null,null,null,null,null,null,null," ",null,1,1900]
[null,null,null,null,null,null,null,null," ",null,1,1900]
[null,null,null,null,null,null,null,null," ",null,1,1900]
[null,null,null,null,null,null,null,null," ",null,1,1900]
[null,null,null,null,null,null,null,null," ",null,1,1900]
[null,null,null,null,null,null,null,null," ",null,1,1900]
[null,null,null,null,null,null,null,null," ",null,1,1900]
[null,null,null,null,null,null,null,null," ",null,1,1900]
[null,null,null,null,null,null,null,null," ",null,1,1900]
[null,null,null,null,null,null,null,null," ",null,1,1900]
[null,null,null,null,null,null,null,null," ",null,1,1900]
[null,null,null,null,null,null,null,null," ",null,1,1900]
[null,null,null,null,null,null,null,null," ",null,1,1900]
[null,null,null,null,null,null,null,null," ",null,1,1900]
[null,null,null,null,null,null,null,null," ",null,1,1900]
[null,null,null,null,null,null,null,null," ",null,1,1900]
[null,null,null,null,null,null,null,null," ",null,1,1900]
[null,null,null,null,null,null,null,null," ",null,1,1900]
[null,null,null,null,null,null,null,null," ",null,1,1900]
[null,null,null,null,null,null,null,null," ",null,1,1900]
[null,null,null,null,null,null,null,null," ",null,1,1900]
[null,null,null,null,null,null,null,null," ",null,1,1900]
[null,null,null,null,null,null,null,null," ",null,1,1900]
[null,null,null,null,null,null,null,null," ",null,1,1900]
[null,null,null,null,null,null,null,null," ",null,1,1900]
[null,null,null,null,null,null,null,null," ",null,1,1900]
[null,null,null,null,null,null,null,null," ",null,1,1900]
[null,null,null,null,null,null,null,null," ",null,1,1900]
[null,null,null,null,null,null,null,null," ",null,1,1900]
[null,null,null,null,null,null,null,null," ",null,1,1900]
[null,null,null,null,null,null,null,null," ",null,1,1900]
[null,null,null,null,null,null,null,null," ",null,1,1900]
[null,null,null,null,null,null,null,null," ",null,1,1900]
[null,null,null,null,null,null,null,null," ",null,1,1900]
[null,null,null,null,null,null,null,null," ",null,1,1900]
[null,null,null,null,null,null,null,null," ",null,1,1900]
[null,null,null,null,null,null,null,null," ",null,1,1900]
[null,null,null,null,null,null,null,null," ",null,1,1900]
[null,null,null,null,null,null,null,null," ",null,1,1900]
[null,null,null,null,null,null,null,null,{"$f":"+IF(H65400=H65399,\" \",H65400)","v":" "},null,{"$f":"+MONTH(A65400)","v":1},{"$f":"+YEAR(A65400)","v":1900}]
[null,null,null,null,null,null,null,null," ",null,1,1900]
[null,null,null,null,null,null,null,null," ",null,1,1900]
[null,null,null,null,null,null,null,null," ",null,1,1900]
[null,null,null,null,null,null,null,null," ",null,1,1900]
[null,null,null,null,null,null,null,null," ",null,1,1900]
[null,null,null,null,null,null,null,null," ",null,1,1900]
[null,null,null,null,null,null,null,null," ",null,1,1900]
[null,null,null,null,null,null,null,null," ",null,1,1900]
[null,null,null,null,null,null,null,null," ",null,1,1900]
[null,null,null,null,null,null,null,null," ",null,1,1900]
[null,null,null,null,null,null,null,null," ",null,1,1900]
[null,null,null,null,null,null,null,null," ",null,1,1900]
[null,null,null,null,null,null,null,null," ",null,1,1900]
[null,null,null,null,null,null,null,null," ",null,1,1900]
[null,null,null,null,null,null,null,null," ",null,1,1900]
[null,null,null,null,null,null,null,null," ",null,1,1900]
[null,null,null,null,null,null,null,null," ",null,1,1900]
[null,null,null,null,null,null,null,null," ",null,1,1900]
[null,null,null,null,null,null,null,null," ",null,1,1900]
[null,null,null,null,null,null,null,null," ",null,1,1900]
[null,null,null,null,null,null,null,null," ",null,1,1900]
[null,null,null,null,null,null,null,null," ",null,1,1900]
[null,null,null,null,null,null,null,null," ",null,1,1900]
[null,null,null,null,null,null,null,null," ",null,1,1900]
[null,null,null,null,null,null,null,null," ",null,1,1900]
[null,null,null,null,null,null,null,null," ",null,1,1900]
[null,null,null,null,null,null,null,null," ",null,1,1900]
[null,null,null,null,null,null,null,null," ",null,1,1900]
[null,null,null,null,null,null,null,null," ",null,1,1900]
[null,null,null,null,null,null,null,null," ",null,1,1900]
[null,null,null,null,null,null,null,null," ",null,1,1900]
[null,null,null,null,null,null,null,null," ",null,1,1900]
[null,null,null,null,null,null,null,null," ",null,1,1900]
[null,null,null,null,null,null,null,null," ",null,1,1900]
[null,null,null,null,null,null,null,null," ",null,1,1900]
[null,null,null,null,null,null,null,null," ",null,1,1900]
[null,null,null,null,null,null,null,null," ",null,1,1900]
[null,null,null,null,null,null,null,null," ",null,1,1900]
[null,null,null,null,null,null,null,null," ",null,1,1900]
[null,null,null,null,null,null,null,null," ",null,1,1900]
[null,null,null,null,null,null,null,null," ",null,1,1900]
[null,null,null,null,null,null,null,null," ",null,1,1900]
[null,null,null,null,null,null,null,null," ",null,1,1900]
[null,null,null,null,null,null,null,null," ",null,1,1900]
[null,null,null,null,null,null,null,null," ",null,1,1900]
[null,null,null,null,null,null,null,null," ",null,1,1900]
[null,null,null,null,null,null,null,null," ",null,1,1900]
[null,null,null,null,null,null,null,null," ",null,1,1900]
[null,null,null,null,null,null,null,null," ",null,1,1900]
[null,null,null,null,null,null,null,null," ",null,1,1900]
[null,null,null,null,null,null,null,null," ",null,1,1900]
[null,null,null,null,null,null,null,null," ",null,1,1900]
[null,null,null,null,null,null,null,null," ",null,1,1900]
[null,null,null,null,null,null,null,null," ",null,1,1900]
[null,null,null,null,null,null,null,null," ",null,1,1900]
[null,null,null,null,null,null,null,null," ",null,1,1900]
[null,null,null,null,null,null,null,null," ",null,1,1900]
[null,null,null,null,null,null,null,null," ",null,1,1900]
[null,null,null,null,null,null,null,null," ",null,1,1900]
[null,null,null,null,null,null,null,null," ",null,1,1900]
[null,null,null,null,null,null,null,null," ",null,1,1900]
[null,null,null,null,null,null,null,null," ",null,1,1900]
[null,null,null,null,null,null,null,null," ",null,1,1900]
[null,null,null,null,null,null,null,null,{"$f":"+IF(H65464=H65463,\" \",H65464)","v":" "},null,{"$f":"+MONTH(A65464)","v":1},{"$f":"+YEAR(A65464)","v":1900}]
[null,null,null,null,null,null,null,null," ",null,1,1900]
[null,null,null,null,null,null,null,null," ",null,1,1900]
[null,null,null,null,null,null,null,null," ",null,1,1900]
[null,null,null,null,null,null,null,null," ",null,1,1900]
[null,null,null,null,null,null,null,null," ",null,1,1900]
[null,null,null,null,null,null,null,null," ",null,1,1900]
[null,null,null,null,null,null,null,null," ",null,1,1900]
[null,null,null,null,null,null,null,null," ",null,1,1900]
[null,null,null,null,null,null,null,null," ",null,1,1900]
[null,null,null,null,null,null,null,null," ",null,1,1900]
[null,null,null,null,null,null,null,null," ",null,1,1900]
[null,null,null,null,null,null,null,null," ",null,1,1900]
[null,null,null,null,null,null,null,null," ",null,1,1900]
[null,null,null,null,null,null,null,null," ",null,1,1900]
[null,null,null,null,null,null,null,null," ",null,1,1900]
[null,null,null,null,null,null,null,null," ",null,1,1900]
[null,null,null,null,null,null,null,null," ",null,1,1900]
[null,null,null,null,null,null,null,null," ",null,1,1900]
[null,null,null,null,null,null,null,null," ",null,1,1900]
[null,null,null,null,null,null,null,null," ",null,1,1900]
[null,null,null,null,null,null,null,null," ",null,1,1900]
[null,null,null,null,null,null,null,null," ",null,1,1900]
[null,null,null,null,null,null,null,null," ",null,1,1900]
[null,null,null,null,null,null,null,null," ",null,1,1900]
[null,null,null,null,null,null,null,null," ",null,1,1900]
[null,null,null,null,null,null,null,null," ",null,1,1900]
[null,null,null,null,null,null,null,null," ",null,1,1900]
[null,null,null,null,null,null,null,null," ",null,1,1900]
[null,null,null,null,null,null,null,null," ",null,1,1900]
[null,null,null,null,null,null,null,null," ",null,1,1900]
[null,null,null,null,null,null,null,null," ",null,1,1900]
[null,null,null,null,null,null,null,null," ",null,1,1900]
[null,null,null,null,null,null,null,null," ",null,1,1900]
[null,null,null,null,null,null,null,null," ",null,1,1900]
[null,null,null,null,null,null,null,null," ",null,1,1900]
[null,null,null,null,null,null,null,null," ",null,1,1900]
[null,null,null,null,null,null,null,null," ",null,1,1900]
[null,null,null,null,null,null,null,null," ",null,1,1900]
[null,null,null,null,null,null,null,null," ",null,1,1900]
[null,null,null,null,null,null,null,null," ",null,1,1900]
[null,null,null,null,null,null,null,null," ",null,1,1900]
[null,null,null,null,null,null,null,null," ",null,1,1900]
[null,null,null,null,null,null,null,null," ",null,1,1900]
[null,null,null,null,null,null,null,null," ",null,1,1900]
[null,null,null,null,null,null,null,null," ",null,1,1900]
[null,null,null,null,null,null,null,null," ",null,1,1900]
[null,null,null,null,null,null,null,null," ",null,1,1900]
[null,null,null,null,null,null,null,null," ",null,1,1900]
[null,null,null,null,null,null,null,null," ",null,1,1900]
[null,null,null,null,null,null,null,null," ",null,1,1900]
[null,null,null,null,null,null,null,null," ",null,1,1900]
[null,null,null,null,null,null,null,null," ",null,1,1900]
[null,null,null,null,null,null,null,null," ",null,1,1900]
[null,null,null,null,null,null,null,null," ",null,1,1900]
[null,null,null,null,null,null,null,null," ",null,1,1900]
[null,null,null,null,null,null,null,null," ",null,1,1900]
[null,null,null,null,null,null,null,null," ",null,1,1900]
[null,null,null,null,null,null,null,null," ",null,1,1900]
[null,null,null,null,null,null,null,null," ",null,1,1900]
[null,null,null,null,null,null,null,null," ",null,1,1900]
[null,null,null,null,null,null,null,null," ",null,1,1900]
[null,null,null,null,null,null,null,null," ",null,1,1900]
[null,null,null,null,null,null,null,null," ",null,1,1900]
[null,null,null,null,null,null,null,null,{"$f":"+IF(H65528=H65527,\" \",H65528)","v":" "},null,{"$f":"+MONTH(A65528)","v":1},{"$f":"+YEAR(A65528)","v":1900}]
[null,null,null,null,null,null,null,null," ",null,1,1900]
[null,null,null,null,null,null,null,null," ",null,1,1900]
[null,null,null,null,null,null,null,null," ",null,1,1900]
[null,null,null,null,null,null,null,null," ",null,1,1900]
[null,null,null,null,null,null,null,null," ",null,1,1900]
[null,null,null,null,null,null,null,null," ",null,1,1900]
[null,null,null,null,null,null,null,null," ",null,1,1900]
[null,null,null,null,null,null,null,null," ",null,1,1900]

{"sheet":"Tabla de Amortizacion","index":4,"n_rows":184,"n_cols":15,"rows_kept":184,"cut":false,"hidden":true,"merged":[]}
["FECHA","Tabla de Amortización Valoración",null,null,"Tabla de Amortización Valoración","Tabla de Amortización Valoración","Tabla de Amortización Valoración","Tabla de Amortización Valoración","Tabla de Amortización Valoración","Tabla de Amortización Valoración","Tabla de Amortización Valoración","Tabla de Amortización Valoración","Tabla de Amortización Valoración","Tabla de Amortización Valoración","Tabla de Amortización Valoración"]
[null,{"$f":"+CALCULADORA!C9","v":"TIPS N16 A"},null,null,{"$f":"+Características!$B$1","v":"TIPS N13 A"},{"$f":"+Características!$C$1","v":"TIPS N14 A"},{"$f":"+Características!$D$1","v":"TIPS N15 A"},{"$f":"+Características!$E$1","v":"TIPS N16 A"},{"$f":"+Características!$F$1","v":"TIPS N17 A "},{"$f":"+Características!$G$1","v":"TIPS N18 A 2034"},{"$f":"+Características!$H$1","v":"TIPS N19 A 2034"},{"$f":"+Características!$I$1","v":"TIPS N20 A 2034"},{"$f":"+Características!$J$1","v":"TIPS N21 A"},{"$f":"+Características!$K$1","v":"TIPS N22 A"},{"$f":"+Características!$L$1","v":"TIPS N23 A"}]
[{"$f":"+Flujos!A3","v":"2018-01-06"},{"$f":"+VLOOKUP(A3,$D$2:$O$182,MATCH($B$2,$D$2:$O$2,0),FALSE)","v":2.356776E-2},null,{"$f":"+A3","v":"2018-01-06"},2.044998E-2,1.368171E-2,2.659682E-2,2.356776E-2,3.5719420000000002E-2,6.0585700000000001E-3,1.8470449999999999E-2,1.5852499999999999E-2,1.952549E-2,1.6192459999999999E-2,1.8447149999999999E-2]
[{"$f":"+Flujos!A4","v":"2018-02-06"},{"$f":"+VLOOKUP(A4,$D$2:$O$182,MATCH($B$2,$D$2:$O$2,0),FALSE)","v":2.1333459999999999E-2},null,{"$f":"+A4","v":"2018-02-06"},1.389231E-2,1.183556E-2,2.2949870000000001E-2,2.1333459999999999E-2,2.457022E-2,2.3651200000000001E-2,2.3920009999999998E-2,2.892144E-2,2.8349989999999999E-2,2.3941299999999999E-2,1.8139639999999999E-2]
[{"$f":"+Flujos!A5","v":"2018-03-06"},2.8972950000000001E-2,null,"2018-03-06",1.675198E-2,1.424274E-2,2.6563219999999998E-2,2.8972950000000001E-2,1.9941199999999999E-2,2.1211420000000002E-2,2.116353E-2,2.2593709999999999E-2,2.6544970000000001E-2,3.1747900000000003E-2,1.7836350000000001E-2]
[{"$f":"+Flujos!A6","v":"2018-04-06"},2.2232120000000001E-2,null,"2018-04-06",1.2046009999999999E-2,1.511885E-2,2.616427E-2,2.2232120000000001E-2,1.9175480000000002E-2,2.364436E-2,1.8441679999999998E-2,2.618229E-2,2.6772089999999998E-2,2.6725740000000001E-2,2.0578570000000001E-2]
[{"$f":"+Flujos!A7","v":"2018-05-06"},2.0472480000000001E-2,null,"2018-05-06",1.1631290000000001E-2,1.6405940000000001E-2,2.127747E-2,2.0472480000000001E-2,1.949236E-2,2.091759E-2,2.0026140000000001E-2,2.214692E-2,2.1764450000000001E-2,1.715291E-2,1.965973E-2]
[{"$f":"+Flujos!A8","v":"2018-06-06"},2.0605370000000001E-2,null,"2018-06-06",1.4076129999999999E-2,1.8205949999999999E-2,2.7426369999999999E-2,2.0605370000000001E-2,2.337156E-2,2.529812E-2,1.9208960000000001E-2,1.9387060000000001E-2,1.8318210000000001E-2,1.6850279999999999E-2,1.8083740000000001E-2]
[{"$f":"+Flujos!A9","v":"2018-07-06"},2.115641E-2,null,"2018-07-06",1.7421610000000001E-2,2.362088E-2,2.1199260000000001E-2,2.115641E-2,1.787675E-2,1.8347929999999998E-2,1.5680800000000002E-2,1.8843970000000002E-2,1.7947040000000001E-2,1.655796E-2,1.780122E-2]
[{"$f":"+Flujos!A10","v":"2018-08-06"},1.8384040000000001E-2,null,"2018-08-06",1.1869869999999999E-2,2.330254E-2,1.6641719999999999E-2,1.8384040000000001E-2,2.2570940000000001E-2,1.9172640000000001E-2,2.0310040000000001E-2,2.1297779999999999E-2,1.6100360000000001E-2,1.627808E-2,1.7522329999999999E-2]
[{"$f":"+Flujos!A11","v":"2018-09-06"},2.119569E-2,null,"2018-09-06",2.1252409999999999E-2,2.4576779999999999E-2,1.4282690000000001E-2,2.119569E-2,1.7767649999999999E-2,1.7974150000000001E-2,1.6536180000000001E-2,1.3285740000000001E-2,1.46862E-2,1.600412E-2,1.7242440000000001E-2]
[{"$f":"+Flujos!A12","v":"2018-10-06"},2.337674E-2,null,"2018-10-06",1.9961240000000002E-2,2.2522159999999999E-2,1.9790169999999999E-2,2.337674E-2,1.5618150000000001E-2,1.9270700000000002E-2,1.068205E-2,1.759811E-2,1.427731E-2,1.575027E-2,1.6955390000000001E-2]
[{"$f":"+Flujos!A13","v":"2018-11-06"},{"$f":"+VLOOKUP(A13,$D$2:$O$182,MATCH($B$2,$D$2:$O$2,0),FALSE)","v":1.3761489999999999E-2},null,"2018-11-06",1.495962E-2,2.172866E-2,1.4869479999999999E-2,1.3761489999999999E-2,1.8432879999999999E-2,1.051969E-2,1.6515800000000001E-2,1.624602E-2,1.730595E-2,1.549211E-2,1.6670870000000001E-2]
[{"$f":"+Flujos!A14","v":"2018-12-06"},1.6983749999999999E-2,null,"2018-12-06",1.775622E-2,1.924675E-2,1.443206E-2,1.6983749999999999E-2,1.6710599999999999E-2,2.197584E-2,1.4296379999999999E-2,1.6708049999999999E-2,1.3769160000000001E-2,1.523452E-2,1.6391889999999999E-2]
[{"$f":"+Flujos!A15","v":"2019-01-06"},2.2644000000000001E-2,null,"2019-01-06",1.8611860000000001E-2,1.9525130000000002E-2,1.976905E-2,2.2644000000000001E-2,2.2426769999999999E-2,1.6990290000000002E-2,9.2338899999999998E-3,1.450048E-2,1.483369E-2,1.4983130000000001E-2,1.6105350000000001E-2]
[{"$f":"+Flujos!A16","v":"2019-02-06"},1.870053E-2,null,"2019-02-06",1.496187E-2,2.0719410000000001E-2,1.8365590000000001E-2,1.870053E-2,2.25063E-2,1.325195E-2,1.499669E-2,1.5946399999999999E-2,1.2893119999999999E-2,1.4713179999999999E-2,1.5840190000000001E-2]
[{"$f":"+Flujos!A17","v":"2019-03-06"},2.4248749999999999E-2,null,"2019-03-06",1.7624560000000001E-2,2.070901E-2,1.8077619999999999E-2,2.4248749999999999E-2,1.9816029999999998E-2,1.007138E-2,1.3574630000000001E-2,1.5689140000000001E-2,1.178352E-2,1.4447929999999999E-2,1.5568800000000001E-2]
[{"$f":"+Flujos!A18","v":"2019-04-06"},1.7172840000000002E-2,null,"2019-04-06",1.28802E-2,1.8533919999999999E-2,2.0476009999999999E-2,1.7172840000000002E-2,1.604535E-2,2.0831140000000001E-2,1.483513E-2,1.0757579999999999E-2,1.0406540000000001E-2,1.418839E-2,1.530015E-2]
[{"$f":"+Flujos!A19","v":"2019-05-06"},1.614614E-2,null,"2019-05-06",1.380986E-2,1.6179430000000002E-2,1.5180269999999999E-2,1.614614E-2,1.9134999999999999E-2,1.3145280000000001E-2,8.0742499999999998E-3,1.3540730000000001E-2,1.3268179999999999E-2,1.393281E-2,1.5020540000000001E-2]
[{"$f":"+Flujos!A20","v":"2019-06-06"},1.8706239999999999E-2,null,"2019-06-06",1.3265330000000001E-2,1.960572E-2,2.1286550000000001E-2,1.8706239999999999E-2,1.850661E-2,1.4647490000000001E-2,1.361384E-2,1.276501E-2,1.4011529999999999E-2,1.368198E-2,1.477112E-2]
[{"$f":"+Flujos!A21","v":"2019-07-06"},2.8286200000000001E-2,null,"2019-07-06",1.1979409999999999E-2,1.7750999999999999E-2,1.5963069999999999E-2,2.8286200000000001E-2,1.4477179999999999E-2,1.006517E-2,1.0196190000000001E-2,1.161447E-2,1.3735590000000001E-2,1.3436460000000001E-2,1.451235E-2]
[{"$f":"+Flujos!A22","v":"2019-08-06"},1.3298590000000001E-2,null,"2019-08-06",1.272617E-2,2.01187E-2,1.9996369999999999E-2,1.3298590000000001E-2,1.654485E-2,1.054455E-2,1.032425E-2,1.331859E-2,1.4403030000000001E-2,1.319797E-2,1.427031E-2]
[{"$f":"+Flujos!A23","v":"2019-09-06"},1.814356E-2,null,"2019-09-06",1.5305620000000001E-2,1.8283549999999999E-2,1.4695039999999999E-2,1.814356E-2,1.6617989999999999E-2,9.9220100000000002E-3,1.2419660000000001E-2,9.4992199999999992E-3,1.2226229999999999E-2,1.296424E-2,1.402277E-2]
[{"$f":"+Flujos!A24","v":"2019-10-06"},1.595792E-2,null,"2019-10-06",1.3349410000000001E-2,1.320268E-2,1.966265E-2,1.595792E-2,1.9382199999999999E-2,9.9906600000000002E-3,8.7410700000000001E-3,1.038323E-2,1.260328E-2,1.273986E-2,1.376804E-2]
[{"$f":"+Flujos!A25","v":"2019-11-06"},1.6811010000000001E-2,null,"2019-11-06",1.343126E-2,1.7294859999999999E-2,1.6517480000000001E-2,1.6811010000000001E-2,2.416772E-2,9.3998799999999993E-3,8.3459099999999998E-3,1.4400960000000001E-2,1.0628820000000001E-2,1.251648E-2,1.3524349999999999E-2]
[{"$f":"+Flujos!A26","v":"2019-12-06"},1.544912E-2,null,"2019-12-06",1.6131409999999999E-2,1.540016E-2,1.611479E-2,1.544912E-2,2.1909720000000001E-2,6.5729100000000004E-3,1.046561E-2,1.11731E-2,9.7083499999999993E-3,1.229501E-2,1.326074E-2]
[{"$f":"+Flujos!A27","v":"2020-01-06"},1.3864430000000001E-2,null,"2020-01-06",1.431813E-2,1.8903949999999999E-2,1.270605E-2,1.3864430000000001E-2,9.3874700000000002E-3,1.2743300000000001E-2,6.2120500000000002E-3,1.3009450000000001E-2,9.1862799999999998E-3,1.207168E-2,1.302529E-2]
[{"$f":"+Flujos!A28","v":"2020-02-06"},1.572838E-2,null,"2020-02-06",1.6288529999999999E-2,1.5003829999999999E-2,1.494734E-2,1.572838E-2,2.2424200000000002E-3,8.4770599999999998E-3,7.7529299999999999E-3,1.152998E-2,1.3526109999999999E-2,1.184706E-2,1.2792039999999999E-2]
[{"$f":"+Flujos!A29","v":"2020-03-06"},2.0864540000000001E-2,null,"2020-03-06",1.435779E-2,2.084695E-2,1.6627289999999999E-2,2.0864540000000001E-2,6.6378399999999999E-3,9.6246300000000003E-3,7.1742000000000004E-3,8.5414299999999992E-3,1.1434740000000001E-2,1.1624310000000001E-2,1.255101E-2]
[{"$f":"+Flujos!A30","v":"2020-04-06"},1.103635E-2,null,"2020-04-06",1.6617739999999999E-2,1.219917E-2,1.6739819999999999E-2,1.103635E-2,1.070316E-2,8.6789199999999997E-3,7.12022E-3,9.2205599999999992E-3,8.3203400000000007E-3,1.140526E-2,1.23181E-2]
[{"$f":"+Flujos!A31","v":"2020-05-06"},3.2874200000000001E-3,null,"2020-05-06",1.476718E-2,1.60444E-2,1.522799E-2,3.2874200000000001E-3,1.1450429999999999E-2,6.06589E-3,9.8689699999999995E-3,1.0682779999999999E-2,1.294797E-2,1.1189040000000001E-2,1.208614E-2]
[{"$f":"+Flujos!A32","v":"2020-06-06"},3.3590400000000002E-3,null,"2020-06-06",1.467772E-2,1.26768E-2,1.7998770000000001E-2,3.3590400000000002E-3,9.3219199999999992E-3,5.6226999999999996E-3,8.4436500000000005E-3,8.4004300000000004E-3,9.2125000000000002E-3,1.097506E-2,1.185019E-2]
[{"$f":"+Flujos!A33","v":"2020-07-06"},4.7029000000000003E-3,null,"2020-07-06",1.21292E-2,1.3593030000000001E-2,1.6709310000000002E-2,4.7029000000000003E-3,1.425703E-2,7.3936499999999999E-3,1.285656E-2,9.4271300000000006E-3,1.153683E-2,1.076237E-2,1.161104E-2]
[{"$f":"+Flujos!A34","v":"2020-08-06"},5.9293599999999998E-3,null,"2020-08-06",1.172219E-2,1.628187E-2,1.9025090000000001E-2,5.9293599999999998E-3,1.3007060000000001E-2,1.001431E-2,9.2865299999999994E-3,8.2664000000000001E-3,1.0280620000000001E-2,1.0546410000000001E-2,1.139853E-2]
[{"$f":"+Flujos!A35","v":"2020-09-06"},9.3488800000000004E-3,null,"2020-09-06",1.5305539999999999E-2,1.2210510000000001E-2,1.549794E-2,9.3488800000000004E-3,1.105333E-2,8.7118000000000004E-3,1.3177680000000001E-2,1.171722E-2,8.8502000000000008E-3,1.033269E-2,1.118564E-2]
[{"$f":"+Flujos!A36","v":"2020-10-06"},9.4674000000000008E-3,null,"2020-10-06",1.318137E-2,1.54152E-2,1.2017499999999999E-3,9.4674000000000008E-3,1.6448089999999999E-2,7.5342899999999999E-3,8.6879000000000001E-3,9.9307500000000003E-3,1.1129760000000001E-2,1.010076E-2,1.096864E-2]
[{"$f":"+Flujos!A37","v":"2020-11-06"},1.6454219999999999E-2,null,"2020-11-06",1.449017E-2,1.4099E-2,1.1728699999999999E-3,1.6454219999999999E-2,1.2666159999999999E-2,1.076061E-2,6.6977E-3,1.2684870000000001E-2,1.0432719999999999E-2,9.8794E-3,1.074785E-2]
[{"$f":"+Flujos!A38","v":"2020-12-06"},1.3605030000000001E-2,null,"2020-12-06",1.049837E-2,1.6403890000000001E-2,6.3114299999999998E-3,1.3605030000000001E-2,1.359347E-2,1.157145E-2,1.013146E-2,1.235936E-2,1.092245E-2,9.6741199999999996E-3,1.051413E-2]
[{"$f":"+Flujos!A39","v":"2021-01-06"},1.5038960000000001E-2,null,"2021-01-06",1.4708580000000001E-2,9.8877800000000005E-3,7.1086500000000002E-3,1.5038960000000001E-2,1.185657E-2,4.9771599999999996E-3,8.4422200000000003E-3,1.144497E-2,1.2859580000000001E-2,9.4744700000000005E-3,1.0311839999999999E-2]
[{"$f":"+Flujos!A40","v":"2021-02-06"},1.3669769999999999E-2,null,"2021-02-06",1.4447440000000001E-2,8.7918000000000002E-4,6.9776100000000004E-3,1.3669769999999999E-2,1.3470889999999999E-2,4.1266699999999998E-3,8.35697E-3,1.134134E-2,9.6457499999999998E-3,9.3030000000000005E-3,1.010582E-2]
[{"$f":"+Flujos!A41","v":"2021-03-06"},1.395939E-2,null,"2021-03-06",1.2917909999999999E-2,3.4854899999999999E-3,1.336185E-2,1.395939E-2,1.437008E-2,6.0600599999999999E-3,8.2673699999999996E-3,1.091842E-2,9.5084999999999996E-3,9.1326399999999992E-3,9.9137800000000005E-3]
[{"$f":"+Flujos!A42","v":"2021-04-06"},1.2006330000000001E-2,null,"2021-04-06",1.272832E-2,4.7461700000000001E-3,9.7824599999999998E-3,1.2006330000000001E-2,1.209825E-2,7.2122000000000002E-3,8.17792E-3,1.047117E-2,9.4418100000000001E-3,8.9681099999999996E-3,9.7048700000000009E-3]
[{"$f":"+Flujos!A43","v":"2021-05-06"},1.2704119999999999E-2,null,"2021-05-06",1.0085E-4,9.0369400000000003E-3,1.328964E-2,1.2704119999999999E-2,1.289714E-2,7.2066400000000003E-3,8.0801899999999992E-3,9.8531000000000001E-3,9.3490899999999991E-3,8.8078600000000007E-3,9.4919099999999992E-3]
[{"$f":"+Flujos!A44","v":"2021-06-06"},1.132464E-2,null,"2021-06-06",2.5976800000000002E-3,5.2115E-3,1.251384E-2,1.132464E-2,1.2194679999999999E-2,1.0304880000000001E-2,7.9942399999999997E-3,9.5670800000000004E-3,9.2367500000000002E-3,8.6513200000000005E-3,9.2929299999999996E-3]
[{"$f":"+Flujos!A45","v":"2021-07-06"},9.6926900000000003E-3,null,"2021-07-06",2.5744600000000002E-3,9.8400699999999994E-3,1.0115290000000001E-2,9.6926900000000003E-3,1.176555E-2,7.1206300000000002E-3,7.9149500000000005E-3,9.7035100000000003E-3,9.1133299999999993E-3,8.4956300000000005E-3,9.1063499999999992E-3]
[{"$f":"+Flujos!A46","v":"2021-08-06"},1.363761E-2,null,"2021-08-06",6.00046E-3,9.5831100000000006E-3,1.229326E-2,1.363761E-2,1.0696260000000001E-2,7.0390599999999998E-3,7.8309499999999997E-3,9.6787599999999998E-3,9.0368900000000005E-3,8.3466400000000007E-3,8.9279700000000004E-3]
[{"$f":"+Flujos!A47","v":"2021-09-06"},1.1352930000000001E-2,null,"2021-09-06",7.2197299999999997E-3,1.028221E-2,1.129489E-2,1.1352930000000001E-2,1.330106E-2,6.9660599999999996E-3,7.7403899999999998E-3,9.5682100000000006E-3,8.9358400000000004E-3,8.1922899999999996E-3,8.7329599999999997E-3]
[{"$f":"+Flujos!A48","v":"2021-10-06"},1.0136050000000001E-2,null,"2021-10-06",7.6748099999999998E-3,8.2440399999999994E-3,9.5199900000000007E-3,1.0136050000000001E-2,1.0105370000000001E-2,6.9016499999999996E-3,7.6498299999999998E-3,9.4913299999999992E-3,8.8492399999999995E-3,8.0429899999999999E-3,8.5551399999999993E-3]
[{"$f":"+Flujos!A49","v":"2021-11-06"},1.0234780000000001E-2,null,"2021-11-06",1.1827000000000001E-2,9.7039799999999992E-3,1.382827E-2,1.0234780000000001E-2,9.5317300000000004E-3,6.8344699999999996E-3,7.5706899999999997E-3,9.3538400000000004E-3,8.7480700000000002E-3,7.8913400000000002E-3,8.3879000000000002E-3]
[{"$f":"+Flujos!A50","v":"2021-12-06"},8.2422999999999993E-3,null,"2021-12-06",1.1245399999999999E-2,8.7720000000000003E-3,9.0572499999999993E-3,8.2422999999999993E-3,8.9367800000000001E-3,6.7733100000000003E-3,7.48973E-3,9.2947800000000007E-3,8.4869899999999998E-3,7.7485000000000002E-3,8.2121199999999998E-3]
[{"$f":"+Flujos!A51","v":"2022-01-06"},1.079955E-2,null,"2022-01-06",1.22264E-2,1.334663E-2,1.0292870000000001E-2,1.079955E-2,9.6168599999999996E-3,6.6993199999999999E-3,7.4005499999999997E-3,9.2247000000000006E-3,8.6106800000000008E-3,7.6113400000000003E-3,8.0611099999999998E-3]
[{"$f":"+Flujos!A52","v":"2022-02-06"},1.1875439999999999E-2,null,"2022-02-06",9.6824400000000005E-3,9.2060600000000003E-3,1.148269E-2,1.1875439999999999E-2,7.7920699999999999E-3,6.63767E-3,7.3160300000000003E-3,9.1542099999999994E-3,8.5199999999999998E-3,7.4726699999999998E-3,7.8952899999999993E-3]
[{"$f":"+Flujos!A53","v":"2022-03-06"},1.0192339999999999E-2,null,"2022-03-06",1.374424E-2,1.075445E-2,9.4817700000000005E-3,1.0192339999999999E-2,1.006071E-2,6.581E-3,7.23166E-3,9.0603100000000002E-3,8.4475499999999999E-3,7.3360700000000001E-3,7.7262700000000004E-3]
[{"$f":"+Flujos!A54","v":"2022-04-06"},1.0594370000000001E-2,null,"2022-04-06",9.0352399999999999E-3,7.2466300000000004E-3,8.0448900000000007E-3,1.0594370000000001E-2,1.081909E-2,6.5125599999999997E-3,7.1493499999999996E-3,8.9467100000000001E-3,8.3599199999999999E-3,7.2020499999999998E-3,7.5432399999999997E-3]
[{"$f":"+Flujos!A55","v":"2022-05-06"},1.1152499999999999E-2,null,"2022-05-06",1.0065009999999999E-2,9.4870800000000002E-3,1.1571069999999999E-2,1.1152499999999999E-2,7.63213E-3,6.4488000000000002E-3,7.3137100000000002E-3,8.8501499999999993E-3,8.2869299999999996E-3,7.06999E-3,7.4002900000000003E-3]
[{"$f":"+Flujos!A56","v":"2022-06-06"},9.6326199999999997E-3,null,"2022-06-06",6.9401699999999998E-3,8.4971999999999999E-3,9.1879000000000006E-3,9.6326199999999997E-3,9.1350700000000003E-3,6.3848300000000002E-3,9.1839899999999995E-3,8.4741399999999998E-3,8.2110099999999995E-3,7.8981699999999995E-3,7.2547799999999997E-3]
[{"$f":"+Flujos!A57","v":"2022-07-06"},6.11365E-3,null,"2022-07-06",1.032482E-2,8.9105999999999994E-3,1.0611840000000001E-2,6.11365E-3,8.2416899999999994E-3,6.3156499999999999E-3,9.0499399999999994E-3,8.6749400000000008E-3,8.1209400000000001E-3,9.0272000000000008E-3,7.1008E-3]
[{"$f":"+Flujos!A58","v":"2022-08-06"},8.10022E-3,null,"2022-08-06",1.014255E-2,7.8081899999999996E-3,9.6316400000000003E-3,8.10022E-3,5.9571199999999998E-3,6.2547999999999996E-3,8.9850699999999995E-3,8.5993900000000002E-3,8.0375700000000008E-3,8.8910699999999992E-3,6.9676499999999997E-3]
[{"$f":"+Flujos!A59","v":"2022-09-06"},6.3959400000000001E-3,null,"2022-09-06",1.0282690000000001E-2,9.6177199999999997E-3,8.2639600000000007E-3,6.3959400000000001E-3,7.9977499999999997E-3,7.2503300000000001E-3,8.8954900000000007E-3,8.4777900000000007E-3,7.9759500000000007E-3,8.7553200000000005E-3,6.8305600000000003E-3]
[{"$f":"+Flujos!A60","v":"2022-10-06"},9.9168999999999993E-3,null,"2022-10-06",1.2177250000000001E-2,7.9529400000000004E-3,7.5412200000000004E-3,9.9168999999999993E-3,6.3036899999999998E-3,8.3344100000000004E-3,8.3702099999999995E-3,8.3980200000000008E-3,7.9009400000000004E-3,8.6234099999999998E-3,6.69507E-3]
[{"$f":"+Flujos!A61","v":"2022-11-06"},9.3426800000000008E-3,null,"2022-11-06",9.1026700000000002E-3,6.8976899999999997E-3,7.5995000000000004E-3,9.3426800000000008E-3,6.7696500000000003E-3,8.2898599999999996E-3,8.7383600000000006E-3,8.3099899999999997E-3,7.8261800000000003E-3,8.4905799999999993E-3,6.5605000000000004E-3]
[{"$f":"+Flujos!A62","v":"2022-12-06"},5.5878999999999998E-3,null,"2022-12-06",8.4811699999999997E-3,7.6905599999999999E-3,5.8627000000000002E-3,5.5878999999999998E-3,6.8796400000000002E-3,8.2231200000000004E-3,8.5710300000000003E-3,8.2145299999999994E-3,7.5355300000000004E-3,8.1160899999999994E-3,6.4287399999999996E-3]
[{"$f":"+Flujos!A63","v":"2023-01-06"},7.3659900000000002E-3,null,"2023-01-06",7.9373199999999994E-3,8.7303699999999995E-3,6.5144199999999999E-3,7.3659900000000002E-3,7.0965200000000003E-3,8.1064799999999992E-3,8.4906600000000006E-3,8.1188300000000005E-3,7.6605199999999997E-3,8.2282999999999992E-3,6.2977600000000003E-3]
[{"$f":"+Flujos!A64","v":"2023-02-06"},6.2080199999999999E-3,null,"2023-02-06",8.1307700000000007E-3,6.3537400000000001E-3,7.6803799999999997E-3,6.2080199999999999E-3,4.9962599999999998E-3,7.5868300000000001E-3,8.4060000000000003E-3,8.0227700000000002E-3,7.6114800000000003E-3,8.1004900000000001E-3,6.1766E-3]
[{"$f":"+Flujos!A65","v":"2023-03-06"},6.0392900000000001E-3,null,"2023-03-06",1.16814E-2,7.02952E-3,5.6115899999999996E-3,6.0392900000000001E-3,6.0435100000000002E-3,7.9661999999999997E-3,8.2808299999999994E-3,7.9084399999999992E-3,7.5270099999999998E-3,7.9764399999999996E-3,6.05581E-3]
[{"$f":"+Flujos!A66","v":"2023-04-06"},5.5845199999999999E-3,null,"2023-04-06",7.8462900000000006E-3,6.8588199999999998E-3,3.80373E-3,5.5845199999999999E-3,5.9320400000000004E-3,7.8861699999999996E-3,8.1706899999999996E-3,7.7809300000000001E-3,7.44445E-3,7.8535900000000006E-3,5.9191399999999998E-3]
[{"$f":"+Flujos!A67","v":"2023-05-06"},5.7291099999999999E-3,null,"2023-05-06",7.5041500000000002E-3,7.5272899999999998E-3,5.3497299999999996E-3,5.7291099999999999E-3,5.1106099999999998E-3,7.7735199999999999E-3,8.0818999999999995E-3,7.6574800000000004E-3,7.3817900000000001E-3,7.7238799999999998E-3,5.7883199999999996E-3]
[{"$f":"+Flujos!A68","v":"2023-06-06"},{"$f":"+VLOOKUP(A68,$D$2:$O$182,MATCH($B$2,$D$2:$O$2,0),FALSE)","v":5.8542999999999998E-3},null,{"$f":"+A68","v":"2023-06-06"},8.8636300000000008E-3,7.8274199999999999E-3,4.7784000000000004E-3,5.8542999999999998E-3,7.05012E-3,7.68105E-3,7.9658999999999997E-3,7.22918E-3,7.3035900000000004E-3,7.6045499999999999E-3,5.6761600000000004E-3]
[{"$f":"+Flujos!A69","v":"2023-07-06"},5.8231999999999997E-3,null,"2023-07-06",7.8687500000000007E-3,5.7107E-3,6.2981299999999999E-3,5.8231999999999997E-3,7.1426099999999998E-3,7.6053400000000004E-3,7.8555099999999996E-3,7.4253699999999997E-3,7.2370300000000002E-3,7.48141E-3,5.5672400000000002E-3]
[{"$f":"+Flujos!A70","v":"2023-08-06"},6.3028800000000003E-3,null,"2023-08-06",7.1700100000000001E-3,4.9743000000000001E-3,4.4441899999999998E-3,6.3028800000000003E-3,6.3024400000000003E-3,7.4831400000000001E-3,7.7403400000000001E-3,7.3305799999999997E-3,7.1658199999999998E-3,7.36558E-3,5.4601500000000004E-3]
[{"$f":"+Flujos!A71","v":"2023-09-06"},4.6673599999999997E-3,null,"2023-09-06",7.53296E-3,4.6752199999999999E-3,5.2383200000000003E-3,4.6673599999999997E-3,5.9266199999999996E-3,7.3773600000000003E-3,7.5902599999999997E-3,7.2183000000000004E-3,7.0949899999999998E-3,7.2474799999999997E-3,5.3575200000000002E-3]
[{"$f":"+Flujos!A72","v":"2023-10-06"},5.4446900000000003E-3,null,"2023-10-06",7.9755899999999994E-3,6.0828100000000001E-3,4.8250699999999999E-3,5.4446900000000003E-3,5.1114400000000001E-3,7.29212E-3,7.0663100000000001E-3,7.0917300000000001E-3,7.0210999999999997E-3,7.1299400000000004E-3,5.2527399999999997E-3]
[{"$f":"+Flujos!A73","v":"2023-11-06"},5.5381099999999997E-3,null,"2023-11-06",5.0773499999999996E-3,6.0583499999999997E-3,5.3897399999999996E-3,5.5381099999999997E-3,5.4192900000000002E-3,7.2118099999999999E-3,7.4241699999999999E-3,6.9857699999999997E-3,6.9554600000000001E-3,7.0126499999999996E-3,5.1531600000000004E-3]
[{"$f":"+Flujos!A74","v":"2023-12-06"},5.7296200000000004E-3,null,"2023-12-06",7.9320399999999996E-3,4.6722999999999999E-3,4.7634799999999996E-3,5.7296200000000004E-3,5.3860399999999999E-3,7.1181500000000002E-3,7.3425000000000001E-3,6.8736800000000001E-3,6.6349699999999996E-3,6.6372599999999999E-3,5.0372799999999999E-3]
[{"$f":"+Flujos!A75","v":"2024-01-06"},4.62437E-3,null,"2024-01-06",6.54332E-3,5.1236299999999997E-3,5.5271599999999997E-3,4.62437E-3,6.2449100000000002E-3,7.0378400000000001E-3,7.2533700000000003E-3,6.7780899999999996E-3,6.7961300000000001E-3,6.7810099999999996E-3,4.9348899999999999E-3]
[{"$f":"+Flujos!A76","v":"2024-02-06"},5.5207800000000003E-3,null,"2024-02-06",5.3837700000000004E-3,4.9961900000000002E-3,5.1364399999999999E-3,5.5207800000000003E-3,4.92567E-3,6.4534600000000003E-3,7.1519799999999996E-3,6.68748E-3,6.7224499999999996E-3,6.6755E-3,4.82374E-3]
[{"$f":"+Flujos!A77","v":"2024-03-06"},5.3894900000000003E-3,null,"2024-03-06",6.0567499999999996E-3,6.2335200000000002E-3,4.6696799999999998E-3,5.3894900000000003E-3,6.0316600000000003E-3,6.8360399999999998E-3,7.0821399999999998E-3,6.5803099999999998E-3,6.6491400000000004E-3,6.5697500000000001E-3,4.9743799999999996E-3]
[{"$f":"+Flujos!A78","v":"2024-04-06"},4.4792699999999996E-3,null,"2024-04-06",6.7459099999999999E-3,4.9785999999999997E-3,4.7066299999999998E-3,4.4792699999999996E-3,4.7425999999999996E-3,6.7449099999999998E-3,6.9746299999999999E-3,6.4702400000000004E-3,6.5844900000000001E-3,6.4680800000000002E-3,5.8277199999999998E-3]
[{"$f":"+Flujos!A79","v":"2024-05-06"},5.4339799999999997E-3,null,"2024-05-06",5.7883199999999996E-3,3.7257200000000001E-3,3.5146299999999999E-3,5.4339799999999997E-3,4.66264E-3,6.6461799999999998E-3,6.86901E-3,6.3661200000000003E-3,6.5202200000000002E-3,6.3682599999999997E-3,5.7206999999999996E-3]
[{"$f":"+Flujos!A80","v":"2024-06-06"},4.7519399999999996E-3,null,"2024-06-06",5.7316700000000003E-3,4.69667E-3,4.03741E-3,4.7519399999999996E-3,4.5953799999999996E-3,6.5619800000000002E-3,6.7902800000000001E-3,5.9186999999999998E-3,6.4467400000000003E-3,6.2702799999999996E-3,5.6083499999999998E-3]
[{"$f":"+Flujos!A81","v":"2024-07-06"},4.3758199999999999E-3,null,"2024-07-06",4.9866299999999997E-3,4.3015600000000003E-3,3.8396900000000002E-3,4.3758199999999999E-3,4.6258499999999999E-3,6.47439E-3,6.6984799999999997E-3,6.1719399999999999E-3,6.3834399999999998E-3,6.1736200000000003E-3,5.5019500000000002E-3]
[{"$f":"+Flujos!A82","v":"2024-08-06"},3.9686699999999997E-3,null,"2024-08-06",4.2769499999999998E-3,4.9913199999999996E-3,4.5098200000000003E-3,3.9686699999999997E-3,4.5617799999999997E-3,6.4034000000000001E-3,6.6027799999999999E-3,6.0809699999999998E-3,6.3107399999999996E-3,6.0751299999999998E-3,5.4080300000000003E-3]
[{"$f":"+Flujos!A83","v":"2024-09-06"},4.2158899999999999E-3,null,"2024-09-06",4.9432399999999998E-3,4.3739599999999997E-3,4.5685300000000003E-3,4.2158899999999999E-3,4.4827799999999996E-3,6.3125500000000001E-3,6.4964000000000003E-3,5.9901800000000003E-3,6.2403900000000002E-3,5.97826E-3,5.3088400000000004E-3]
[{"$f":"+Flujos!A84","v":"2024-10-06"},4.12708E-3,null,"2024-10-06",5.1545999999999996E-3,4.40034E-3,4.7350400000000003E-3,4.12708E-3,4.4021900000000003E-3,6.2323999999999999E-3,5.9276800000000003E-3,5.87106E-3,6.1659799999999997E-3,5.8837500000000001E-3,5.2041400000000003E-3]
[{"$f":"+Flujos!A85","v":"2024-11-06"},4.0929299999999998E-3,null,"2024-11-06",4.73523E-3,4.7348900000000003E-3,2.9436599999999999E-3,4.0929299999999998E-3,4.3774900000000004E-3,6.1783100000000002E-3,6.3094199999999996E-3,5.76108E-3,6.10284E-3,5.7881900000000003E-3,5.1130200000000002E-3]
[{"$f":"+Flujos!A86","v":"2024-12-06"},3.8408100000000001E-3,null,"2024-12-06",5.4271199999999997E-3,4.1604199999999997E-3,3.5063500000000001E-3,3.8408100000000001E-3,4.0198200000000003E-3,6.0875E-3,6.2251399999999997E-3,5.6514499999999997E-3,5.7874500000000004E-3,5.4397300000000003E-3,4.67214E-3]
[{"$f":"+Flujos!A87","v":"2025-01-06"},4.0087899999999999E-3,null,"2025-01-06",4.8140600000000002E-3,3.8457299999999999E-3,4.2150699999999996E-3,4.0087899999999999E-3,4.2390700000000002E-3,6.0062800000000001E-3,6.1281E-3,5.5490299999999999E-3,5.9483799999999996E-3,5.6112499999999999E-3,4.9159499999999997E-3]
[{"$f":"+Flujos!A88","v":"2025-02-06"},3.9543399999999998E-3,null,"2025-02-06",3.9697400000000002E-3,4.7871199999999997E-3,3.7244700000000001E-3,3.9543399999999998E-3,4.2133800000000001E-3,5.4250599999999998E-3,6.02952E-3,5.4504200000000001E-3,5.8729000000000003E-3,5.5278000000000002E-3,4.8231999999999997E-3]
[{"$f":"+Flujos!A89","v":"2025-03-06"},3.92319E-3,null,"2025-03-06",6.0365200000000001E-3,4.3255100000000003E-3,3.6988699999999999E-3,3.92319E-3,4.2205000000000003E-3,5.8482400000000002E-3,5.9483699999999997E-3,5.3371E-3,5.7826500000000003E-3,5.44605E-3,4.7309199999999996E-3]
[{"$f":"+Flujos!A90","v":"2025-04-06"},3.83827E-3,null,"2025-04-06",5.3255999999999998E-3,3.9134900000000004E-3,3.6286299999999999E-3,3.83827E-3,4.0994500000000001E-3,5.7643099999999999E-3,5.8676800000000001E-3,5.2442399999999998E-3,5.7138400000000004E-3,5.3659800000000002E-3,4.6424400000000003E-3]
[{"$f":"+Flujos!A91","v":"2025-05-06"},2.2085E-3,null,"2025-05-06",4.3832000000000003E-3,3.8604300000000002E-3,3.6219899999999998E-3,2.2085E-3,2.0561899999999998E-3,5.6692899999999996E-3,5.7544700000000002E-3,5.1497499999999998E-3,5.6410599999999998E-3,5.2875800000000001E-3,4.5566900000000004E-3]
[{"$f":"+Flujos!A92","v":"2025-06-06"},0,null,"2025-06-06",5.8491599999999999E-3,3.8301899999999998E-3,3.5401600000000001E-3,0,0,5.6015500000000003E-3,5.6767099999999997E-3,4.7142199999999999E-3,5.5713999999999998E-3,5.2100100000000002E-3,4.4533400000000001E-3]
[{"$f":"+Flujos!A93","v":"2025-07-06"},0,null,"2025-07-06",4.2041099999999996E-3,3.8157199999999999E-3,0,0,0,5.52069E-3,5.6072800000000001E-3,4.9925400000000002E-3,5.5022600000000001E-3,5.1342100000000002E-3,4.3680500000000001E-3]
[{"$f":"+Flujos!A94","v":"2025-08-06"},0,null,"2025-08-06",4.5144599999999997E-3,3.7901699999999998E-3,0,0,0,5.4468700000000004E-3,5.54493E-3,4.9107600000000001E-3,5.4287500000000004E-3,5.0608399999999996E-3,4.2902299999999999E-3]
[{"$f":"+Flujos!A95","v":"2025-09-06"},0,null,"2025-09-06",4.2974600000000003E-3,3.7698300000000001E-3,0,0,0,5.3908699999999999E-3,5.4789699999999997E-3,4.8182199999999998E-3,5.3594000000000003E-3,4.98907E-3,4.21689E-3]
[{"$f":"+Flujos!A96","v":"2025-10-06"},0,null,"2025-10-06",4.2655899999999997E-3,3.74377E-3,0,0,0,5.33564E-3,4.8799999999999998E-3,4.7390100000000001E-3,5.2834800000000001E-3,4.9182000000000002E-3,4.1373699999999996E-3]
[{"$f":"+Flujos!A97","v":"2025-11-06"},0,null,"2025-11-06",4.2338100000000002E-3,3.71456E-3,0,0,0,5.2836699999999999E-3,5.3149599999999996E-3,4.6540599999999998E-3,5.2090900000000004E-3,4.8495300000000003E-3,4.0645799999999999E-3]
[{"$f":"+Flujos!A98","v":"2025-12-06"},0,null,"2025-12-06",3.9659300000000003E-3,8.0690999999999998E-4,0,0,0,5.2299900000000003E-3,5.23297E-3,4.55617E-3,4.8791700000000004E-3,4.5134399999999996E-3,3.6434700000000002E-3]
[{"$f":"+Flujos!A99","v":"2026-01-06"},0,null,"2026-01-06",4.16286E-3,0,0,0,0,5.1844400000000002E-3,5.1579199999999999E-3,4.45685E-3,5.0423500000000001E-3,4.7058400000000002E-3,3.9143099999999998E-3]
[{"$f":"+Flujos!A100","v":"2026-02-06"},0,null,"2026-02-06",4.1309500000000004E-3,0,0,0,0,4.6141000000000003E-3,5.0919600000000004E-3,4.3716600000000003E-3,4.9411500000000001E-3,4.6383300000000004E-3,3.8483100000000002E-3]
[{"$f":"+Flujos!A101","v":"2026-03-06"},0,null,"2026-03-06",4.0798099999999997E-3,0,0,0,0,5.0801199999999996E-3,5.02047E-3,4.3024600000000001E-3,4.8183200000000001E-3,4.57121E-3,3.7830199999999998E-3]
[{"$f":"+Flujos!A102","v":"2026-04-06"},0,null,"2026-04-06",4.0558299999999999E-3,0,0,0,0,5.0396699999999996E-3,4.9613699999999997E-3,4.2122100000000001E-3,0,4.5067099999999997E-3,3.7111599999999998E-3]
[{"$f":"+Flujos!A103","v":"2026-05-06"},0,null,"2026-05-06",4.0216999999999996E-3,0,0,0,0,5.0008400000000003E-3,4.90829E-3,4.1095899999999998E-3,0,4.4443199999999999E-3,3.6396900000000001E-3]
[{"$f":"+Flujos!A104","v":"2026-06-06"},0,null,"2026-06-06",1.6485899999999999E-3,0,0,0,0,4.9477599999999998E-3,4.8574600000000001E-3,3.6265500000000001E-3,0,4.3785899999999999E-3,3.5641800000000001E-3]
[{"$f":"+Flujos!A105","v":"2026-07-06"},0,null,"2026-07-06",0,0,0,0,0,4.9059200000000002E-3,4.8099099999999997E-3,3.9100100000000002E-3,0,4.3195400000000002E-3,3.4943499999999998E-3]
[{"$f":"+Flujos!A106","v":"2026-08-06"},0,null,"2026-08-06",0,0,0,0,0,4.8634000000000004E-3,4.7622599999999999E-3,3.4302199999999999E-3,0,4.2460800000000002E-3,3.4097900000000002E-3]
[{"$f":"+Flujos!A107","v":"2026-09-06"},0,null,"2026-09-06",0,0,0,0,0,4.8251700000000002E-3,4.7176600000000003E-3,0,0,4.17147E-3,3.3478599999999998E-3]
[{"$f":"+Flujos!A108","v":"2026-10-06"},0,null,"2026-10-06",0,0,0,0,0,4.7765400000000001E-3,4.1192299999999998E-3,0,0,4.0904000000000001E-3,3.2791000000000001E-3]
[{"$f":"+Flujos!A109","v":"2026-11-06"},0,null,"2026-11-06",0,0,0,0,0,4.7290099999999996E-3,4.6160000000000003E-3,0,0,4.0265400000000003E-3,3.2205699999999999E-3]
[{"$f":"+Flujos!A110","v":"2026-12-06"},0,null,"2026-12-06",0,0,0,0,0,4.6846600000000002E-3,4.5668699999999998E-3,0,0,3.6796200000000002E-3,2.8003300000000002E-3]
[{"$f":"+Flujos!A111","v":"2027-01-06"},0,null,"2027-01-06",0,0,0,0,0,4.6430500000000001E-3,4.5145000000000003E-3,0,0,4.9226000000000001E-4,3.0954200000000002E-3]
[{"$f":"+Flujos!A112","v":"2027-02-06"},0,null,"2027-02-06",0,0,0,0,0,4.0487199999999996E-3,4.4634000000000002E-3,0,0,0,3.0321300000000001E-3]
[{"$f":"+Flujos!A113","v":"2027-03-06"},0,null,"2027-03-06",0,0,0,0,0,4.5627000000000003E-3,4.4093800000000001E-3,0,0,0,2.9741500000000001E-3]
[{"$f":"+Flujos!A114","v":"2027-04-06"},0,null,"2027-04-06",0,0,0,0,0,4.51996E-3,4.3563600000000001E-3,0,0,0,2.9166499999999998E-3]
[{"$f":"+Flujos!A115","v":"2027-05-06"},0,null,"2027-05-06",0,0,0,0,0,4.4731700000000003E-3,4.3065300000000003E-3,0,0,0,2.8471400000000002E-3]
[{"$f":"+Flujos!A116","v":"2027-06-06"},0,null,"2027-06-06",0,0,0,0,0,4.4337500000000002E-3,4.2451900000000002E-3,0,0,0,2.7775299999999998E-3]
[{"$f":"+Flujos!A117","v":"2027-07-06"},0,null,"2027-07-06",0,0,0,0,0,4.3901399999999998E-3,4.1903499999999998E-3,0,2.3504999999999999E-4,0,2.7142099999999999E-3]
[{"$f":"+Flujos!A118","v":"2027-08-06"},0,null,"2027-08-06",0,0,0,0,0,4.34615E-3,4.1393799999999998E-3,0,3.5383400000000001E-3,0,2.66022E-3]
[{"$f":"+Flujos!A119","v":"2027-09-06"},0,null,"2027-09-06",0,0,0,0,0,4.30613E-3,4.07172E-3,0,3.4903E-3,0,2.6186299999999998E-3]
[{"$f":"+Flujos!A120","v":"2027-10-06"},0,null,"2027-10-06",0,0,0,0,0,4.2616299999999998E-3,3.4380299999999999E-3,0,3.4505999999999998E-3,0,2.5613900000000002E-3]
[{"$f":"+Flujos!A121","v":"2027-11-06"},0,null,"2027-11-06",0,0,0,0,0,4.2120500000000002E-3,3.9747899999999997E-3,0,3.4138900000000002E-3,0,2.5213200000000001E-3]
[{"$f":"+Flujos!A122","v":"2027-12-06"},0,null,"2027-12-06",0,0,0,0,0,4.1714400000000002E-3,2.8368E-3,0,3.0843200000000002E-3,0,2.0150799999999998E-3]
[{"$f":"+Flujos!A123","v":"2028-01-06"},0,null,"2028-01-06",0,0,0,0,0,4.13029E-3,0,0,3.33424E-3,0,2.3556699999999998E-3]
[{"$f":"+Flujos!A124","v":"2028-02-06"},0,null,"2028-02-06",0,0,0,0,0,3.1409300000000001E-3,0,0,3.2991600000000002E-3,0,2.3317199999999998E-3]
[{"$f":"+Flujos!A125","v":"2028-03-06"},0,null,"2028-03-06",0,0,0,0,0,0,0,0,3.2633200000000001E-3,0,2.3110000000000001E-3]
[{"$f":"+Flujos!A126","v":"2028-04-06"},0,null,"2028-04-06",0,0,0,0,0,0,0,0,3.22632E-3,0,2.2878600000000001E-3]
[{"$f":"+Flujos!A127","v":"2028-05-06"},0,null,"2028-05-06",0,0,0,0,0,0,0,0,2.3337999999999999E-4,0,2.2693700000000002E-3]
[{"$f":"+Flujos!A128","v":"2028-06-06"},0,null,"2028-06-06",0,0,0,0,0,0,0,0,0,0,4.6441000000000001E-4]
[{"$f":"+Flujos!A129","v":"2028-07-06"},0,null,"2028-07-06",0,0,0,0,0,0,0,0,0,0,0]
[{"$f":"+Flujos!A130","v":"2028-08-06"},0,null,"2028-08-06",0,0,0,0,0,0,0,0,0,0,0]
[{"$f":"+Flujos!A131","v":"2028-09-06"},0,null,"2028-09-06",0,0,0,0,0,0,0,0,0,0,0]
[{"$f":"+Flujos!A132","v":"2028-10-06"},{"$f":"+VLOOKUP(A132,$D$2:$O$182,MATCH($B$2,$D$2:$O$2,0),FALSE)","v":0},null,{"$f":"+A132","v":"2028-10-06"},0,0,0,0,0,0,0,0,0,0,0]
[{"$f":"+Flujos!A133","v":"2028-11-06"},0,null,"2028-11-06",0,0,0,0,0,0,0,0,0,0,0]
[{"$f":"+Flujos!A134","v":"2028-12-06"},0,null,"2028-12-06",0,0,0,0,0,0,0,0,0,0,0]
[{"$f":"+Flujos!A135","v":"2029-01-06"},0,null,"2029-01-06",0,0,0,0,0,0,0,0,0,0,0]
[{"$f":"+Flujos!A136","v":"2029-02-06"},0,null,"2029-02-06",0,0,0,0,0,0,0,0,0,0,0]
[{"$f":"+Flujos!A137","v":"2029-03-06"},0,null,"2029-03-06",0,0,0,0,0,0,0,0,0,0,0]
[{"$f":"+Flujos!A138","v":"2029-04-06"},0,null,"2029-04-06",0,0,0,0,0,0,0,0,0,0,0]
[{"$f":"+Flujos!A139","v":"2029-05-06"},0,null,"2029-05-06",0,0,0,0,0,0,0,0,0,0,0]
[{"$f":"+Flujos!A140","v":"2029-06-06"},0,null,"2029-06-06",0,0,0,0,0,0,0,0,0,0,0]
[{"$f":"+Flujos!A141","v":"2029-07-06"},0,null,"2029-07-06",0,0,0,0,0,0,0,0,0,0,0]
[{"$f":"+Flujos!A142","v":"2029-08-06"},0,null,"2029-08-06",0,0,0,0,0,0,0,0,0,0,0]
[{"$f":"+Flujos!A143","v":"2029-09-06"},0,null,"2029-09-06",0,0,0,0,0,0,0,0,0,0,0]
[{"$f":"+Flujos!A144","v":"2029-10-06"},0,null,"2029-10-06",0,0,0,0,0,0,0,0,0,0,0]
[{"$f":"+Flujos!A145","v":"2029-11-06"},0,null,"2029-11-06",0,0,0,0,0,0,0,0,0,0,0]
[{"$f":"+Flujos!A146","v":"2029-12-06"},0,null,"2029-12-06",0,0,0,0,0,0,0,0,0,0,0]
[{"$f":"+Flujos!A147","v":"2030-01-06"},0,null,"2030-01-06",0,0,0,0,0,0,0,0,0,0,0]
[{"$f":"+Flujos!A148","v":"2030-02-06"},0,null,"2030-02-06",0,0,0,0,0,0,0,0,0,0,0]
[{"$f":"+Flujos!A149","v":"2030-03-06"},0,null,"2030-03-06",0,0,0,0,0,0,0,0,0,0,0]
[{"$f":"+Flujos!A150","v":"2030-04-06"},0,null,"2030-04-06",0,0,0,0,0,0,0,0,0,0,0]
[{"$f":"+Flujos!A151","v":"2030-05-06"},0,null,"2030-05-06",0,0,0,0,0,0,0,0,0,0,0]
[{"$f":"+Flujos!A152","v":"2030-06-06"},0,null,"2030-06-06",0,0,0,0,0,0,0,0,0,0,0]
[{"$f":"+Flujos!A153","v":"2030-07-06"},0,null,"2030-07-06",0,0,0,0,0,0,0,0,0,0,0]
[{"$f":"+Flujos!A154","v":"2030-08-06"},0,null,"2030-08-06",0,0,0,0,0,0,0,0,0,0,0]
[{"$f":"+Flujos!A155","v":"2030-09-06"},0,null,"2030-09-06",0,0,0,0,0,0,0,0,0,0,0]
[{"$f":"+Flujos!A156","v":"2030-10-06"},0,null,"2030-10-06",0,0,0,0,0,0,0,0,0,0,0]
[{"$f":"+Flujos!A157","v":"2030-11-06"},0,null,"2030-11-06",0,0,0,0,0,0,0,0,0,0,0]
[{"$f":"+Flujos!A158","v":"2030-12-06"},0,null,"2030-12-06",0,0,0,0,0,0,0,0,0,0,0]
[{"$f":"+Flujos!A159","v":"2031-01-06"},0,null,"2031-01-06",0,0,0,0,0,0,0,0,0,0,0]
[{"$f":"+Flujos!A160","v":"2031-02-06"},0,null,"2031-02-06",0,0,0,0,0,0,0,0,0,0,0]
[{"$f":"+Flujos!A161","v":"2031-03-06"},0,null,"2031-03-06",0,0,0,0,0,0,0,0,0,0,0]
[{"$f":"+Flujos!A162","v":"2031-04-06"},0,null,"2031-04-06",0,0,0,0,0,0,0,0,0,0,0]
[{"$f":"+Flujos!A163","v":"2031-05-06"},0,null,"2031-05-06",0,0,0,0,0,0,0,0,0,0,0]
[{"$f":"+Flujos!A164","v":"2031-06-06"},0,null,"2031-06-06",0,0,0,0,0,0,0,0,0,0,0]
[{"$f":"+Flujos!A165","v":"2031-07-06"},0,null,"2031-07-06",0,0,0,0,0,0,0,0,0,0,0]
[{"$f":"+Flujos!A166","v":"2031-08-06"},0,null,"2031-08-06",0,0,0,0,0,0,0,0,0,0,0]
[{"$f":"+Flujos!A167","v":"2031-09-06"},0,null,"2031-09-06",0,0,0,0,0,0,0,0,0,0,0]
[{"$f":"+Flujos!A168","v":"2031-10-06"},0,null,"2031-10-06",0,0,0,0,0,0,0,0,0,0,0]
[{"$f":"+Flujos!A169","v":"2031-11-06"},0,null,"2031-11-06",0,0,0,0,0,0,0,0,0,0,0]
[{"$f":"+Flujos!A170","v":"2031-12-06"},0,null,"2031-12-06",0,0,0,0,0,0,0,0,0,0,0]
[{"$f":"+Flujos!A171","v":"2032-01-06"},0,null,"2032-01-06",0,0,0,0,0,0,0,0,0,0,0]
[{"$f":"+Flujos!A172","v":"2032-02-06"},0,null,"2032-02-06",0,0,0,0,0,0,0,0,0,0,0]
[{"$f":"+Flujos!A173","v":"2032-03-06"},0,null,"2032-03-06",0,0,0,0,0,0,0,0,0,0,0]
[{"$f":"+Flujos!A174","v":"2032-04-06"},0,null,"2032-04-06",0,0,0,0,0,0,0,0,0,0,0]
[{"$f":"+Flujos!A175","v":"2032-05-06"},0,null,"2032-05-06",0,0,0,0,0,0,0,0,0,0,0]
[{"$f":"+Flujos!A176","v":"2032-06-06"},0,null,"2032-06-06",0,0,0,0,0,0,0,0,0,0,0]
[{"$f":"+Flujos!A177","v":"2032-07-06"},0,null,"2032-07-06",0,0,0,0,0,0,0,0,0,0,0]
[{"$f":"+Flujos!A178","v":"2032-08-06"},0,null,"2032-08-06",0,0,0,0,0,0,0,0,0,0,0]
[{"$f":"+Flujos!A179","v":"2032-09-06"},0,null,"2032-09-06",0,0,0,0,0,0,0,0,0,0,0]
[{"$f":"+Flujos!A180","v":"2032-10-06"},0,null,"2032-10-06",0,0,0,0,0,0,0,0,0,0,0]
[{"$f":"+Flujos!A181","v":"2032-11-06"},0,null,"2032-11-06",0,0,0,0,0,0,0,0,0,0,0]
[{"$f":"+Flujos!A182","v":"2032-12-06"},0,null,"2032-12-06",0,0,0,0,0,0,0,0,0,0,0]
[null,{"$error":"#N/A"},null,null,{"$f":"SUM(E3:E182)","v":0.99999999999999989},0.99999999999999989,1.0000000000000002,0.99999999999999989,1,1.0000000000000002,1.0000000000000002,0.99999999999999956,{"$f":"SUM(M3:M182)","v":0.99999999999999978},{"$f":"SUM(N3:N182)","v":0.99999999999999967},1.0000000000000002]
[null,{"$error":"#N/A"},null,null,{"$f":"1-E183","v":0},0,0,0,0,0,0,0,{"$f":"1-M183","v":0},{"$f":"1-N183","v":0},0]

{"sheet":"Tablas","index":5,"n_rows":181,"n_cols":5,"rows_kept":181,"cut":false,"hidden":true,"merged":[]}
["FECHA",{"$f":"+CALCULADORA!C9","v":"TIPS N16 A"},"Valoración"]
[{"$f":"+'Tabla de Amortizacion'!A3","v":"2018-01-06"},{"$f":"+ROUND(C2,8)","v":2.356776E-2},{"$f":"+VLOOKUP(A2,'Tabla de Amortizacion'!$D$2:$O$182,MATCH(Tablas!$B$1,'Tabla de Amortizacion'!$D$2:$O$2,0))","v":2.356776E-2},null,{"$f":"IF([1]CALCULADORA!$F$10=\"Contractual\",ROUND('[1]Tabla de Amortizacion'!C3,8),IF([1]CALCULADORA!$F$10=\"6% (Medio)\",ROUND('[1]Tabla de Amortizacion'!F3,8),IF([1]CALCULADORA!$F$10=\"10% (Medio Alto)\",ROUND('[1]Tabla de Amortizacion'!H3,8),IF([1]CALCULADORA!$F$10=\"14% (Alto)\",ROUND('[1]Tabla de Amortizacion'!#REF!,8),IF([1]CALCULADORA!$F$10=20%,ROUND('[1]Tabla de Amortizacion'!#REF!,8),ROUND('[1]Tabla de Amortizacion'!K3,8))))))","v":0}]
[{"$f":"EDATE(A2,1)","v":"2018-02-06"},{"$f":"+ROUND(C3,8)","v":2.1333459999999999E-2},{"$f":"+VLOOKUP(A3,'Tabla de Amortizacion'!$D$2:$O$182,MATCH(Tablas!$B$1,'Tabla de Amortizacion'!$D$2:$O$2,0))","v":2.1333459999999999E-2},null,{"$f":"IF([1]CALCULADORA!$F$10=\"Contractual\",ROUND('[1]Tabla de Amortizacion'!C4,8),IF([1]CALCULADORA!$F$10=\"6% (Medio)\",ROUND('[1]Tabla de Amortizacion'!F4,8),IF([1]CALCULADORA!$F$10=\"10% (Medio Alto)\",ROUND('[1]Tabla de Amortizacion'!H4,8),IF([1]CALCULADORA!$F$10=\"14% (Alto)\",ROUND('[1]Tabla de Amortizacion'!#REF!,8),IF([1]CALCULADORA!$F$10=20%,ROUND('[1]Tabla de Amortizacion'!#REF!,8),ROUND('[1]Tabla de Amortizacion'!K4,8))))))","v":0}]
["2018-03-06",2.8972950000000001E-2,{"$f":"+VLOOKUP(A4,'Tabla de Amortizacion'!$D$2:$O$182,MATCH(Tablas!$B$1,'Tabla de Amortizacion'!$D$2:$O$2,0))","v":2.8972950000000001E-2},null,{"$f":"IF([1]CALCULADORA!$F$10=\"Contractual\",ROUND('[1]Tabla de Amortizacion'!C5,8),IF([1]CALCULADORA!$F$10=\"6% (Medio)\",ROUND('[1]Tabla de Amortizacion'!F5,8),IF([1]CALCULADORA!$F$10=\"10% (Medio Alto)\",ROUND('[1]Tabla de Amortizacion'!H5,8),IF([1]CALCULADORA!$F$10=\"14% (Alto)\",ROUND('[1]Tabla de Amortizacion'!#REF!,8),IF([1]CALCULADORA!$F$10=20%,ROUND('[1]Tabla de Amortizacion'!#REF!,8),ROUND('[1]Tabla de Amortizacion'!K5,8))))))","v":0}]
["2018-04-06",2.2232120000000001E-2,{"$f":"+VLOOKUP(A5,'Tabla de Amortizacion'!$D$2:$O$182,MATCH(Tablas!$B$1,'Tabla de Amortizacion'!$D$2:$O$2,0))","v":2.2232120000000001E-2},null,{"$f":"IF([1]CALCULADORA!$F$10=\"Contractual\",ROUND('[1]Tabla de Amortizacion'!C6,8),IF([1]CALCULADORA!$F$10=\"6% (Medio)\",ROUND('[1]Tabla de Amortizacion'!F6,8),IF([1]CALCULADORA!$F$10=\"10% (Medio Alto)\",ROUND('[1]Tabla de Amortizacion'!H6,8),IF([1]CALCULADORA!$F$10=\"14% (Alto)\",ROUND('[1]Tabla de Amortizacion'!#REF!,8),IF([1]CALCULADORA!$F$10=20%,ROUND('[1]Tabla de Amortizacion'!#REF!,8),ROUND('[1]Tabla de Amortizacion'!K6,8))))))","v":0}]
["2018-05-06",2.0472480000000001E-2,{"$f":"+VLOOKUP(A6,'Tabla de Amortizacion'!$D$2:$O$182,MATCH(Tablas!$B$1,'Tabla de Amortizacion'!$D$2:$O$2,0))","v":2.0472480000000001E-2},null,{"$f":"IF([1]CALCULADORA!$F$10=\"Contractual\",ROUND('[1]Tabla de Amortizacion'!C7,8),IF([1]CALCULADORA!$F$10=\"6% (Medio)\",ROUND('[1]Tabla de Amortizacion'!F7,8),IF([1]CALCULADORA!$F$10=\"10% (Medio Alto)\",ROUND('[1]Tabla de Amortizacion'!H7,8),IF([1]CALCULADORA!$F$10=\"14% (Alto)\",ROUND('[1]Tabla de Amortizacion'!#REF!,8),IF([1]CALCULADORA!$F$10=20%,ROUND('[1]Tabla de Amortizacion'!#REF!,8),ROUND('[1]Tabla de Amortizacion'!K7,8))))))","v":0}]
["2018-06-06",2.0605370000000001E-2,{"$f":"+VLOOKUP(A7,'Tabla de Amortizacion'!$D$2:$O$182,MATCH(Tablas!$B$1,'Tabla de Amortizacion'!$D$2:$O$2,0))","v":2.0605370000000001E-2},null,{"$f":"IF([1]CALCULADORA!$F$10=\"Contractual\",ROUND('[1]Tabla de Amortizacion'!C8,8),IF([1]CALCULADORA!$F$10=\"6% (Medio)\",ROUND('[1]Tabla de Amortizacion'!F8,8),IF([1]CALCULADORA!$F$10=\"10% (Medio Alto)\",ROUND('[1]Tabla de Amortizacion'!H8,8),IF([1]CALCULADORA!$F$10=\"14% (Alto)\",ROUND('[1]Tabla de Amortizacion'!#REF!,8),IF([1]CALCULADORA!$F$10=20%,ROUND('[1]Tabla de Amortizacion'!#REF!,8),ROUND('[1]Tabla de Amortizacion'!K8,8))))))","v":0}]
["2018-07-06",2.115641E-2,{"$f":"+VLOOKUP(A8,'Tabla de Amortizacion'!$D$2:$O$182,MATCH(Tablas!$B$1,'Tabla de Amortizacion'!$D$2:$O$2,0))","v":2.115641E-2},null,{"$f":"IF([1]CALCULADORA!$F$10=\"Contractual\",ROUND('[1]Tabla de Amortizacion'!C9,8),IF([1]CALCULADORA!$F$10=\"6% (Medio)\",ROUND('[1]Tabla de Amortizacion'!F9,8),IF([1]CALCULADORA!$F$10=\"10% (Medio Alto)\",ROUND('[1]Tabla de Amortizacion'!H9,8),IF([1]CALCULADORA!$F$10=\"14% (Alto)\",ROUND('[1]Tabla de Amortizacion'!#REF!,8),IF([1]CALCULADORA!$F$10=20%,ROUND('[1]Tabla de Amortizacion'!#REF!,8),ROUND('[1]Tabla de Amortizacion'!K9,8))))))","v":0}]
["2018-08-06",1.8384040000000001E-2,{"$f":"+VLOOKUP(A9,'Tabla de Amortizacion'!$D$2:$O$182,MATCH(Tablas!$B$1,'Tabla de Amortizacion'!$D$2:$O$2,0))","v":1.8384040000000001E-2},null,{"$f":"IF([1]CALCULADORA!$F$10=\"Contractual\",ROUND('[1]Tabla de Amortizacion'!C10,8),IF([1]CALCULADORA!$F$10=\"6% (Medio)\",ROUND('[1]Tabla de Amortizacion'!F10,8),IF([1]CALCULADORA!$F$10=\"10% (Medio Alto)\",ROUND('[1]Tabla de Amortizacion'!H10,8),IF([1]CALCULADORA!$F$10=\"14% (Alto)\",ROUND('[1]Tabla de Amortizacion'!#REF!,8),IF([1]CALCULADORA!$F$10=20%,ROUND('[1]Tabla de Amortizacion'!#REF!,8),ROUND('[1]Tabla de Amortizacion'!K10,8))))))","v":0}]
["2018-09-06",2.119569E-2,{"$f":"+VLOOKUP(A10,'Tabla de Amortizacion'!$D$2:$O$182,MATCH(Tablas!$B$1,'Tabla de Amortizacion'!$D$2:$O$2,0))","v":2.119569E-2},null,{"$f":"IF([1]CALCULADORA!$F$10=\"Contractual\",ROUND('[1]Tabla de Amortizacion'!C11,8),IF([1]CALCULADORA!$F$10=\"6% (Medio)\",ROUND('[1]Tabla de Amortizacion'!F11,8),IF([1]CALCULADORA!$F$10=\"10% (Medio Alto)\",ROUND('[1]Tabla de Amortizacion'!H11,8),IF([1]CALCULADORA!$F$10=\"14% (Alto)\",ROUND('[1]Tabla de Amortizacion'!#REF!,8),IF([1]CALCULADORA!$F$10=20%,ROUND('[1]Tabla de Amortizacion'!#REF!,8),ROUND('[1]Tabla de Amortizacion'!K11,8))))))","v":0}]
["2018-10-06",2.337674E-2,{"$f":"+VLOOKUP(A11,'Tabla de Amortizacion'!$D$2:$O$182,MATCH(Tablas!$B$1,'Tabla de Amortizacion'!$D$2:$O$2,0))","v":2.337674E-2},null,{"$f":"IF([1]CALCULADORA!$F$10=\"Contractual\",ROUND('[1]Tabla de Amortizacion'!C12,8),IF([1]CALCULADORA!$F$10=\"6% (Medio)\",ROUND('[1]Tabla de Amortizacion'!F12,8),IF([1]CALCULADORA!$F$10=\"10% (Medio Alto)\",ROUND('[1]Tabla de Amortizacion'!H12,8),IF([1]CALCULADORA!$F$10=\"14% (Alto)\",ROUND('[1]Tabla de Amortizacion'!#REF!,8),IF([1]CALCULADORA!$F$10=20%,ROUND('[1]Tabla de Amortizacion'!#REF!,8),ROUND('[1]Tabla de Amortizacion'!K12,8))))))","v":0}]
["2018-11-06",1.3761489999999999E-2,{"$f":"+VLOOKUP(A12,'Tabla de Amortizacion'!$D$2:$O$182,MATCH(Tablas!$B$1,'Tabla de Amortizacion'!$D$2:$O$2,0))","v":1.3761489999999999E-2},null,{"$f":"IF([1]CALCULADORA!$F$10=\"Contractual\",ROUND('[1]Tabla de Amortizacion'!C13,8),IF([1]CALCULADORA!$F$10=\"6% (Medio)\",ROUND('[1]Tabla de Amortizacion'!F13,8),IF([1]CALCULADORA!$F$10=\"10% (Medio Alto)\",ROUND('[1]Tabla de Amortizacion'!H13,8),IF([1]CALCULADORA!$F$10=\"14% (Alto)\",ROUND('[1]Tabla de Amortizacion'!#REF!,8),IF([1]CALCULADORA!$F$10=20%,ROUND('[1]Tabla de Amortizacion'!#REF!,8),ROUND('[1]Tabla de Amortizacion'!K13,8))))))","v":0}]
["2018-12-06",1.6983749999999999E-2,{"$f":"+VLOOKUP(A13,'Tabla de Amortizacion'!$D$2:$O$182,MATCH(Tablas!$B$1,'Tabla de Amortizacion'!$D$2:$O$2,0))","v":1.6983749999999999E-2},null,{"$f":"IF([1]CALCULADORA!$F$10=\"Contractual\",ROUND('[1]Tabla de Amortizacion'!C14,8),IF([1]CALCULADORA!$F$10=\"6% (Medio)\",ROUND('[1]Tabla de Amortizacion'!F14,8),IF([1]CALCULADORA!$F$10=\"10% (Medio Alto)\",ROUND('[1]Tabla de Amortizacion'!H14,8),IF([1]CALCULADORA!$F$10=\"14% (Alto)\",ROUND('[1]Tabla de Amortizacion'!#REF!,8),IF([1]CALCULADORA!$F$10=20%,ROUND('[1]Tabla de Amortizacion'!#REF!,8),ROUND('[1]Tabla de Amortizacion'!K14,8))))))","v":0}]
["2019-01-06",2.2644000000000001E-2,{"$f":"+VLOOKUP(A14,'Tabla de Amortizacion'!$D$2:$O$182,MATCH(Tablas!$B$1,'Tabla de Amortizacion'!$D$2:$O$2,0))","v":2.2644000000000001E-2},null,{"$f":"IF([1]CALCULADORA!$F$10=\"Contractual\",ROUND('[1]Tabla de Amortizacion'!C15,8),IF([1]CALCULADORA!$F$10=\"6% (Medio)\",ROUND('[1]Tabla de Amortizacion'!F15,8),IF([1]CALCULADORA!$F$10=\"10% (Medio Alto)\",ROUND('[1]Tabla de Amortizacion'!H15,8),IF([1]CALCULADORA!$F$10=\"14% (Alto)\",ROUND('[1]Tabla de Amortizacion'!#REF!,8),IF([1]CALCULADORA!$F$10=20%,ROUND('[1]Tabla de Amortizacion'!#REF!,8),ROUND('[1]Tabla de Amortizacion'!K15,8))))))","v":0}]
["2019-02-06",1.870053E-2,{"$f":"+VLOOKUP(A15,'Tabla de Amortizacion'!$D$2:$O$182,MATCH(Tablas!$B$1,'Tabla de Amortizacion'!$D$2:$O$2,0))","v":1.870053E-2},null,{"$f":"IF([1]CALCULADORA!$F$10=\"Contractual\",ROUND('[1]Tabla de Amortizacion'!C16,8),IF([1]CALCULADORA!$F$10=\"6% (Medio)\",ROUND('[1]Tabla de Amortizacion'!F16,8),IF([1]CALCULADORA!$F$10=\"10% (Medio Alto)\",ROUND('[1]Tabla de Amortizacion'!H16,8),IF([1]CALCULADORA!$F$10=\"14% (Alto)\",ROUND('[1]Tabla de Amortizacion'!#REF!,8),IF([1]CALCULADORA!$F$10=20%,ROUND('[1]Tabla de Amortizacion'!#REF!,8),ROUND('[1]Tabla de Amortizacion'!K16,8))))))","v":0}]
["2019-03-06",2.4248749999999999E-2,{"$f":"+VLOOKUP(A16,'Tabla de Amortizacion'!$D$2:$O$182,MATCH(Tablas!$B$1,'Tabla de Amortizacion'!$D$2:$O$2,0))","v":2.4248749999999999E-2},null,{"$f":"IF([1]CALCULADORA!$F$10=\"Contractual\",ROUND('[1]Tabla de Amortizacion'!C17,8),IF([1]CALCULADORA!$F$10=\"6% (Medio)\",ROUND('[1]Tabla de Amortizacion'!F17,8),IF([1]CALCULADORA!$F$10=\"10% (Medio Alto)\",ROUND('[1]Tabla de Amortizacion'!H17,8),IF([1]CALCULADORA!$F$10=\"14% (Alto)\",ROUND('[1]Tabla de Amortizacion'!#REF!,8),IF([1]CALCULADORA!$F$10=20%,ROUND('[1]Tabla de Amortizacion'!#REF!,8),ROUND('[1]Tabla de Amortizacion'!K17,8))))))","v":0}]
["2019-04-06",1.7172840000000002E-2,{"$f":"+VLOOKUP(A17,'Tabla de Amortizacion'!$D$2:$O$182,MATCH(Tablas!$B$1,'Tabla de Amortizacion'!$D$2:$O$2,0))","v":1.7172840000000002E-2},null,{"$f":"IF([1]CALCULADORA!$F$10=\"Contractual\",ROUND('[1]Tabla de Amortizacion'!C18,8),IF([1]CALCULADORA!$F$10=\"6% (Medio)\",ROUND('[1]Tabla de Amortizacion'!F18,8),IF([1]CALCULADORA!$F$10=\"10% (Medio Alto)\",ROUND('[1]Tabla de Amortizacion'!H18,8),IF([1]CALCULADORA!$F$10=\"14% (Alto)\",ROUND('[1]Tabla de Amortizacion'!#REF!,8),IF([1]CALCULADORA!$F$10=20%,ROUND('[1]Tabla de Amortizacion'!#REF!,8),ROUND('[1]Tabla de Amortizacion'!K18,8))))))","v":0}]
["2019-05-06",1.614614E-2,{"$f":"+VLOOKUP(A18,'Tabla de Amortizacion'!$D$2:$O$182,MATCH(Tablas!$B$1,'Tabla de Amortizacion'!$D$2:$O$2,0))","v":1.614614E-2},null,{"$f":"IF([1]CALCULADORA!$F$10=\"Contractual\",ROUND('[1]Tabla de Amortizacion'!C19,8),IF([1]CALCULADORA!$F$10=\"6% (Medio)\",ROUND('[1]Tabla de Amortizacion'!F19,8),IF([1]CALCULADORA!$F$10=\"10% (Medio Alto)\",ROUND('[1]Tabla de Amortizacion'!H19,8),IF([1]CALCULADORA!$F$10=\"14% (Alto)\",ROUND('[1]Tabla de Amortizacion'!#REF!,8),IF([1]CALCULADORA!$F$10=20%,ROUND('[1]Tabla de Amortizacion'!#REF!,8),ROUND('[1]Tabla de Amortizacion'!K19,8))))))","v":0}]
["2019-06-06",1.8706239999999999E-2,{"$f":"+VLOOKUP(A19,'Tabla de Amortizacion'!$D$2:$O$182,MATCH(Tablas!$B$1,'Tabla de Amortizacion'!$D$2:$O$2,0))","v":1.8706239999999999E-2},null,{"$f":"IF([1]CALCULADORA!$F$10=\"Contractual\",ROUND('[1]Tabla de Amortizacion'!C20,8),IF([1]CALCULADORA!$F$10=\"6% (Medio)\",ROUND('[1]Tabla de Amortizacion'!F20,8),IF([1]CALCULADORA!$F$10=\"10% (Medio Alto)\",ROUND('[1]Tabla de Amortizacion'!H20,8),IF([1]CALCULADORA!$F$10=\"14% (Alto)\",ROUND('[1]Tabla de Amortizacion'!#REF!,8),IF([1]CALCULADORA!$F$10=20%,ROUND('[1]Tabla de Amortizacion'!#REF!,8),ROUND('[1]Tabla de Amortizacion'!K20,8))))))","v":0}]
["2019-07-06",2.8286200000000001E-2,{"$f":"+VLOOKUP(A20,'Tabla de Amortizacion'!$D$2:$O$182,MATCH(Tablas!$B$1,'Tabla de Amortizacion'!$D$2:$O$2,0))","v":2.8286200000000001E-2},null,{"$f":"IF([1]CALCULADORA!$F$10=\"Contractual\",ROUND('[1]Tabla de Amortizacion'!C21,8),IF([1]CALCULADORA!$F$10=\"6% (Medio)\",ROUND('[1]Tabla de Amortizacion'!F21,8),IF([1]CALCULADORA!$F$10=\"10% (Medio Alto)\",ROUND('[1]Tabla de Amortizacion'!H21,8),IF([1]CALCULADORA!$F$10=\"14% (Alto)\",ROUND('[1]Tabla de Amortizacion'!#REF!,8),IF([1]CALCULADORA!$F$10=20%,ROUND('[1]Tabla de Amortizacion'!#REF!,8),ROUND('[1]Tabla de Amortizacion'!K21,8))))))","v":0}]
["2019-08-06",1.3298590000000001E-2,{"$f":"+VLOOKUP(A21,'Tabla de Amortizacion'!$D$2:$O$182,MATCH(Tablas!$B$1,'Tabla de Amortizacion'!$D$2:$O$2,0))","v":1.3298590000000001E-2},null,{"$f":"IF([1]CALCULADORA!$F$10=\"Contractual\",ROUND('[1]Tabla de Amortizacion'!C22,8),IF([1]CALCULADORA!$F$10=\"6% (Medio)\",ROUND('[1]Tabla de Amortizacion'!F22,8),IF([1]CALCULADORA!$F$10=\"10% (Medio Alto)\",ROUND('[1]Tabla de Amortizacion'!H22,8),IF([1]CALCULADORA!$F$10=\"14% (Alto)\",ROUND('[1]Tabla de Amortizacion'!#REF!,8),IF([1]CALCULADORA!$F$10=20%,ROUND('[1]Tabla de Amortizacion'!#REF!,8),ROUND('[1]Tabla de Amortizacion'!K22,8))))))","v":0}]
["2019-09-06",1.814356E-2,{"$f":"+VLOOKUP(A22,'Tabla de Amortizacion'!$D$2:$O$182,MATCH(Tablas!$B$1,'Tabla de Amortizacion'!$D$2:$O$2,0))","v":1.814356E-2},null,{"$f":"IF([1]CALCULADORA!$F$10=\"Contractual\",ROUND('[1]Tabla de Amortizacion'!C23,8),IF([1]CALCULADORA!$F$10=\"6% (Medio)\",ROUND('[1]Tabla de Amortizacion'!F23,8),IF([1]CALCULADORA!$F$10=\"10% (Medio Alto)\",ROUND('[1]Tabla de Amortizacion'!H23,8),IF([1]CALCULADORA!$F$10=\"14% (Alto)\",ROUND('[1]Tabla de Amortizacion'!#REF!,8),IF([1]CALCULADORA!$F$10=20%,ROUND('[1]Tabla de Amortizacion'!#REF!,8),ROUND('[1]Tabla de Amortizacion'!K23,8))))))","v":0}]
["2019-10-06",1.595792E-2,{"$f":"+VLOOKUP(A23,'Tabla de Amortizacion'!$D$2:$O$182,MATCH(Tablas!$B$1,'Tabla de Amortizacion'!$D$2:$O$2,0))","v":1.595792E-2},null,{"$f":"IF([1]CALCULADORA!$F$10=\"Contractual\",ROUND('[1]Tabla de Amortizacion'!C24,8),IF([1]CALCULADORA!$F$10=\"6% (Medio)\",ROUND('[1]Tabla de Amortizacion'!F24,8),IF([1]CALCULADORA!$F$10=\"10% (Medio Alto)\",ROUND('[1]Tabla de Amortizacion'!H24,8),IF([1]CALCULADORA!$F$10=\"14% (Alto)\",ROUND('[1]Tabla de Amortizacion'!#REF!,8),IF([1]CALCULADORA!$F$10=20%,ROUND('[1]Tabla de Amortizacion'!#REF!,8),ROUND('[1]Tabla de Amortizacion'!K24,8))))))","v":0}]
["2019-11-06",1.6811010000000001E-2,{"$f":"+VLOOKUP(A24,'Tabla de Amortizacion'!$D$2:$O$182,MATCH(Tablas!$B$1,'Tabla de Amortizacion'!$D$2:$O$2,0))","v":1.6811010000000001E-2},null,{"$f":"IF([1]CALCULADORA!$F$10=\"Contractual\",ROUND('[1]Tabla de Amortizacion'!C25,8),IF([1]CALCULADORA!$F$10=\"6% (Medio)\",ROUND('[1]Tabla de Amortizacion'!F25,8),IF([1]CALCULADORA!$F$10=\"10% (Medio Alto)\",ROUND('[1]Tabla de Amortizacion'!H25,8),IF([1]CALCULADORA!$F$10=\"14% (Alto)\",ROUND('[1]Tabla de Amortizacion'!#REF!,8),IF([1]CALCULADORA!$F$10=20%,ROUND('[1]Tabla de Amortizacion'!#REF!,8),ROUND('[1]Tabla de Amortizacion'!K25,8))))))","v":0}]
["2019-12-06",1.544912E-2,{"$f":"+VLOOKUP(A25,'Tabla de Amortizacion'!$D$2:$O$182,MATCH(Tablas!$B$1,'Tabla de Amortizacion'!$D$2:$O$2,0))","v":1.544912E-2},null,{"$f":"IF([1]CALCULADORA!$F$10=\"Contractual\",ROUND('[1]Tabla de Amortizacion'!C26,8),IF([1]CALCULADORA!$F$10=\"6% (Medio)\",ROUND('[1]Tabla de Amortizacion'!F26,8),IF([1]CALCULADORA!$F$10=\"10% (Medio Alto)\",ROUND('[1]Tabla de Amortizacion'!H26,8),IF([1]CALCULADORA!$F$10=\"14% (Alto)\",ROUND('[1]Tabla de Amortizacion'!#REF!,8),IF([1]CALCULADORA!$F$10=20%,ROUND('[1]Tabla de Amortizacion'!#REF!,8),ROUND('[1]Tabla de Amortizacion'!K26,8))))))","v":0}]
["2020-01-06",1.3864430000000001E-2,{"$f":"+VLOOKUP(A26,'Tabla de Amortizacion'!$D$2:$O$182,MATCH(Tablas!$B$1,'Tabla de Amortizacion'!$D$2:$O$2,0))","v":1.3864430000000001E-2},null,{"$f":"IF([1]CALCULADORA!$F$10=\"Contractual\",ROUND('[1]Tabla de Amortizacion'!C27,8),IF([1]CALCULADORA!$F$10=\"6% (Medio)\",ROUND('[1]Tabla de Amortizacion'!F27,8),IF([1]CALCULADORA!$F$10=\"10% (Medio Alto)\",ROUND('[1]Tabla de Amortizacion'!H27,8),IF([1]CALCULADORA!$F$10=\"14% (Alto)\",ROUND('[1]Tabla de Amortizacion'!#REF!,8),IF([1]CALCULADORA!$F$10=20%,ROUND('[1]Tabla de Amortizacion'!#REF!,8),ROUND('[1]Tabla de Amortizacion'!K27,8))))))","v":0}]
["2020-02-06",1.572838E-2,{"$f":"+VLOOKUP(A27,'Tabla de Amortizacion'!$D$2:$O$182,MATCH(Tablas!$B$1,'Tabla de Amortizacion'!$D$2:$O$2,0))","v":1.572838E-2},null,{"$f":"IF([1]CALCULADORA!$F$10=\"Contractual\",ROUND('[1]Tabla de Amortizacion'!C28,8),IF([1]CALCULADORA!$F$10=\"6% (Medio)\",ROUND('[1]Tabla de Amortizacion'!F28,8),IF([1]CALCULADORA!$F$10=\"10% (Medio Alto)\",ROUND('[1]Tabla de Amortizacion'!H28,8),IF([1]CALCULADORA!$F$10=\"14% (Alto)\",ROUND('[1]Tabla de Amortizacion'!#REF!,8),IF([1]CALCULADORA!$F$10=20%,ROUND('[1]Tabla de Amortizacion'!#REF!,8),ROUND('[1]Tabla de Amortizacion'!K28,8))))))","v":0}]
["2020-03-06",2.0864540000000001E-2,{"$f":"+VLOOKUP(A28,'Tabla de Amortizacion'!$D$2:$O$182,MATCH(Tablas!$B$1,'Tabla de Amortizacion'!$D$2:$O$2,0))","v":2.0864540000000001E-2},null,{"$f":"IF([1]CALCULADORA!$F$10=\"Contractual\",ROUND('[1]Tabla de Amortizacion'!C29,8),IF([1]CALCULADORA!$F$10=\"6% (Medio)\",ROUND('[1]Tabla de Amortizacion'!F29,8),IF([1]CALCULADORA!$F$10=\"10% (Medio Alto)\",ROUND('[1]Tabla de Amortizacion'!H29,8),IF([1]CALCULADORA!$F$10=\"14% (Alto)\",ROUND('[1]Tabla de Amortizacion'!#REF!,8),IF([1]CALCULADORA!$F$10=20%,ROUND('[1]Tabla de Amortizacion'!#REF!,8),ROUND('[1]Tabla de Amortizacion'!K29,8))))))","v":0}]
["2020-04-06",1.103635E-2,{"$f":"+VLOOKUP(A29,'Tabla de Amortizacion'!$D$2:$O$182,MATCH(Tablas!$B$1,'Tabla de Amortizacion'!$D$2:$O$2,0))","v":1.103635E-2},null,{"$f":"IF([1]CALCULADORA!$F$10=\"Contractual\",ROUND('[1]Tabla de Amortizacion'!C30,8),IF([1]CALCULADORA!$F$10=\"6% (Medio)\",ROUND('[1]Tabla de Amortizacion'!F30,8),IF([1]CALCULADORA!$F$10=\"10% (Medio Alto)\",ROUND('[1]Tabla de Amortizacion'!H30,8),IF([1]CALCULADORA!$F$10=\"14% (Alto)\",ROUND('[1]Tabla de Amortizacion'!#REF!,8),IF([1]CALCULADORA!$F$10=20%,ROUND('[1]Tabla de Amortizacion'!#REF!,8),ROUND('[1]Tabla de Amortizacion'!K30,8))))))","v":0}]
["2020-05-06",3.2874200000000001E-3,{"$f":"+VLOOKUP(A30,'Tabla de Amortizacion'!$D$2:$O$182,MATCH(Tablas!$B$1,'Tabla de Amortizacion'!$D$2:$O$2,0))","v":3.2874200000000001E-3},null,{"$f":"IF([1]CALCULADORA!$F$10=\"Contractual\",ROUND('[1]Tabla de Amortizacion'!C31,8),IF([1]CALCULADORA!$F$10=\"6% (Medio)\",ROUND('[1]Tabla de Amortizacion'!F31,8),IF([1]CALCULADORA!$F$10=\"10% (Medio Alto)\",ROUND('[1]Tabla de Amortizacion'!H31,8),IF([1]CALCULADORA!$F$10=\"14% (Alto)\",ROUND('[1]Tabla de Amortizacion'!#REF!,8),IF([1]CALCULADORA!$F$10=20%,ROUND('[1]Tabla de Amortizacion'!#REF!,8),ROUND('[1]Tabla de Amortizacion'!K31,8))))))","v":0}]
["2020-06-06",3.3590400000000002E-3,{"$f":"+VLOOKUP(A31,'Tabla de Amortizacion'!$D$2:$O$182,MATCH(Tablas!$B$1,'Tabla de Amortizacion'!$D$2:$O$2,0))","v":3.3590400000000002E-3},null,{"$f":"IF([1]CALCULADORA!$F$10=\"Contractual\",ROUND('[1]Tabla de Amortizacion'!C32,8),IF([1]CALCULADORA!$F$10=\"6% (Medio)\",ROUND('[1]Tabla de Amortizacion'!F32,8),IF([1]CALCULADORA!$F$10=\"10% (Medio Alto)\",ROUND('[1]Tabla de Amortizacion'!H32,8),IF([1]CALCULADORA!$F$10=\"14% (Alto)\",ROUND('[1]Tabla de Amortizacion'!#REF!,8),IF([1]CALCULADORA!$F$10=20%,ROUND('[1]Tabla de Amortizacion'!#REF!,8),ROUND('[1]Tabla de Amortizacion'!K32,8))))))","v":0}]
["2020-07-06",4.7029000000000003E-3,{"$f":"+VLOOKUP(A32,'Tabla de Amortizacion'!$D$2:$O$182,MATCH(Tablas!$B$1,'Tabla de Amortizacion'!$D$2:$O$2,0))","v":4.7029000000000003E-3},null,{"$f":"IF([1]CALCULADORA!$F$10=\"Contractual\",ROUND('[1]Tabla de Amortizacion'!C33,8),IF([1]CALCULADORA!$F$10=\"6% (Medio)\",ROUND('[1]Tabla de Amortizacion'!F33,8),IF([1]CALCULADORA!$F$10=\"10% (Medio Alto)\",ROUND('[1]Tabla de Amortizacion'!H33,8),IF([1]CALCULADORA!$F$10=\"14% (Alto)\",ROUND('[1]Tabla de Amortizacion'!#REF!,8),IF([1]CALCULADORA!$F$10=20%,ROUND('[1]Tabla de Amortizacion'!#REF!,8),ROUND('[1]Tabla de Amortizacion'!K33,8))))))","v":0}]
["2020-08-06",5.9293599999999998E-3,{"$f":"+VLOOKUP(A33,'Tabla de Amortizacion'!$D$2:$O$182,MATCH(Tablas!$B$1,'Tabla de Amortizacion'!$D$2:$O$2,0))","v":5.9293599999999998E-3},null,{"$f":"IF([1]CALCULADORA!$F$10=\"Contractual\",ROUND('[1]Tabla de Amortizacion'!C34,8),IF([1]CALCULADORA!$F$10=\"6% (Medio)\",ROUND('[1]Tabla de Amortizacion'!F34,8),IF([1]CALCULADORA!$F$10=\"10% (Medio Alto)\",ROUND('[1]Tabla de Amortizacion'!H34,8),IF([1]CALCULADORA!$F$10=\"14% (Alto)\",ROUND('[1]Tabla de Amortizacion'!#REF!,8),IF([1]CALCULADORA!$F$10=20%,ROUND('[1]Tabla de Amortizacion'!#REF!,8),ROUND('[1]Tabla de Amortizacion'!K34,8))))))","v":0}]
["2020-09-06",9.3488800000000004E-3,{"$f":"+VLOOKUP(A34,'Tabla de Amortizacion'!$D$2:$O$182,MATCH(Tablas!$B$1,'Tabla de Amortizacion'!$D$2:$O$2,0))","v":9.3488800000000004E-3},null,{"$f":"IF([1]CALCULADORA!$F$10=\"Contractual\",ROUND('[1]Tabla de Amortizacion'!C35,8),IF([1]CALCULADORA!$F$10=\"6% (Medio)\",ROUND('[1]Tabla de Amortizacion'!F35,8),IF([1]CALCULADORA!$F$10=\"10% (Medio Alto)\",ROUND('[1]Tabla de Amortizacion'!H35,8),IF([1]CALCULADORA!$F$10=\"14% (Alto)\",ROUND('[1]Tabla de Amortizacion'!#REF!,8),IF([1]CALCULADORA!$F$10=20%,ROUND('[1]Tabla de Amortizacion'!#REF!,8),ROUND('[1]Tabla de Amortizacion'!K35,8))))))","v":0}]
["2020-10-06",9.4674000000000008E-3,{"$f":"+VLOOKUP(A35,'Tabla de Amortizacion'!$D$2:$O$182,MATCH(Tablas!$B$1,'Tabla de Amortizacion'!$D$2:$O$2,0))","v":9.4674000000000008E-3},null,{"$f":"IF([1]CALCULADORA!$F$10=\"Contractual\",ROUND('[1]Tabla de Amortizacion'!C36,8),IF([1]CALCULADORA!$F$10=\"6% (Medio)\",ROUND('[1]Tabla de Amortizacion'!F36,8),IF([1]CALCULADORA!$F$10=\"10% (Medio Alto)\",ROUND('[1]Tabla de Amortizacion'!H36,8),IF([1]CALCULADORA!$F$10=\"14% (Alto)\",ROUND('[1]Tabla de Amortizacion'!#REF!,8),IF([1]CALCULADORA!$F$10=20%,ROUND('[1]Tabla de Amortizacion'!#REF!,8),ROUND('[1]Tabla de Amortizacion'!K36,8))))))","v":0}]
["2020-11-06",1.6454219999999999E-2,{"$f":"+VLOOKUP(A36,'Tabla de Amortizacion'!$D$2:$O$182,MATCH(Tablas!$B$1,'Tabla de Amortizacion'!$D$2:$O$2,0))","v":1.6454219999999999E-2},null,{"$f":"IF([1]CALCULADORA!$F$10=\"Contractual\",ROUND('[1]Tabla de Amortizacion'!C37,8),IF([1]CALCULADORA!$F$10=\"6% (Medio)\",ROUND('[1]Tabla de Amortizacion'!F37,8),IF([1]CALCULADORA!$F$10=\"10% (Medio Alto)\",ROUND('[1]Tabla de Amortizacion'!H37,8),IF([1]CALCULADORA!$F$10=\"14% (Alto)\",ROUND('[1]Tabla de Amortizacion'!#REF!,8),IF([1]CALCULADORA!$F$10=20%,ROUND('[1]Tabla de Amortizacion'!#REF!,8),ROUND('[1]Tabla de Amortizacion'!K37,8))))))","v":0}]
["2020-12-06",1.3605030000000001E-2,{"$f":"+VLOOKUP(A37,'Tabla de Amortizacion'!$D$2:$O$182,MATCH(Tablas!$B$1,'Tabla de Amortizacion'!$D$2:$O$2,0))","v":1.3605030000000001E-2},null,{"$f":"IF([1]CALCULADORA!$F$10=\"Contractual\",ROUND('[1]Tabla de Amortizacion'!C38,8),IF([1]CALCULADORA!$F$10=\"6% (Medio)\",ROUND('[1]Tabla de Amortizacion'!F38,8),IF([1]CALCULADORA!$F$10=\"10% (Medio Alto)\",ROUND('[1]Tabla de Amortizacion'!H38,8),IF([1]CALCULADORA!$F$10=\"14% (Alto)\",ROUND('[1]Tabla de Amortizacion'!#REF!,8),IF([1]CALCULADORA!$F$10=20%,ROUND('[1]Tabla de Amortizacion'!#REF!,8),ROUND('[1]Tabla de Amortizacion'!K38,8))))))","v":0}]
["2021-01-06",1.5038960000000001E-2,{"$f":"+VLOOKUP(A38,'Tabla de Amortizacion'!$D$2:$O$182,MATCH(Tablas!$B$1,'Tabla de Amortizacion'!$D$2:$O$2,0))","v":1.5038960000000001E-2},null,{"$f":"IF([1]CALCULADORA!$F$10=\"Contractual\",ROUND('[1]Tabla de Amortizacion'!C39,8),IF([1]CALCULADORA!$F$10=\"6% (Medio)\",ROUND('[1]Tabla de Amortizacion'!F39,8),IF([1]CALCULADORA!$F$10=\"10% (Medio Alto)\",ROUND('[1]Tabla de Amortizacion'!H39,8),IF([1]CALCULADORA!$F$10=\"14% (Alto)\",ROUND('[1]Tabla de Amortizacion'!#REF!,8),IF([1]CALCULADORA!$F$10=20%,ROUND('[1]Tabla de Amortizacion'!#REF!,8),ROUND('[1]Tabla de Amortizacion'!K39,8))))))","v":0}]
["2021-02-06",1.3669769999999999E-2,{"$f":"+VLOOKUP(A39,'Tabla de Amortizacion'!$D$2:$O$182,MATCH(Tablas!$B$1,'Tabla de Amortizacion'!$D$2:$O$2,0))","v":1.3669769999999999E-2},null,{"$f":"IF([1]CALCULADORA!$F$10=\"Contractual\",ROUND('[1]Tabla de Amortizacion'!C40,8),IF([1]CALCULADORA!$F$10=\"6% (Medio)\",ROUND('[1]Tabla de Amortizacion'!F40,8),IF([1]CALCULADORA!$F$10=\"10% (Medio Alto)\",ROUND('[1]Tabla de Amortizacion'!H40,8),IF([1]CALCULADORA!$F$10=\"14% (Alto)\",ROUND('[1]Tabla de Amortizacion'!#REF!,8),IF([1]CALCULADORA!$F$10=20%,ROUND('[1]Tabla de Amortizacion'!#REF!,8),ROUND('[1]Tabla de Amortizacion'!K40,8))))))","v":0}]
["2021-03-06",1.395939E-2,{"$f":"+VLOOKUP(A40,'Tabla de Amortizacion'!$D$2:$O$182,MATCH(Tablas!$B$1,'Tabla de Amortizacion'!$D$2:$O$2,0))","v":1.395939E-2},null,{"$f":"IF([1]CALCULADORA!$F$10=\"Contractual\",ROUND('[1]Tabla de Amortizacion'!C41,8),IF([1]CALCULADORA!$F$10=\"6% (Medio)\",ROUND('[1]Tabla de Amortizacion'!F41,8),IF([1]CALCULADORA!$F$10=\"10% (Medio Alto)\",ROUND('[1]Tabla de Amortizacion'!H41,8),IF([1]CALCULADORA!$F$10=\"14% (Alto)\",ROUND('[1]Tabla de Amortizacion'!#REF!,8),IF([1]CALCULADORA!$F$10=20%,ROUND('[1]Tabla de Amortizacion'!#REF!,8),ROUND('[1]Tabla de Amortizacion'!K41,8))))))","v":0}]
["2021-04-06",1.2006330000000001E-2,{"$f":"+VLOOKUP(A41,'Tabla de Amortizacion'!$D$2:$O$182,MATCH(Tablas!$B$1,'Tabla de Amortizacion'!$D$2:$O$2,0))","v":1.2006330000000001E-2},null,{"$f":"IF([1]CALCULADORA!$F$10=\"Contractual\",ROUND('[1]Tabla de Amortizacion'!C42,8),IF([1]CALCULADORA!$F$10=\"6% (Medio)\",ROUND('[1]Tabla de Amortizacion'!F42,8),IF([1]CALCULADORA!$F$10=\"10% (Medio Alto)\",ROUND('[1]Tabla de Amortizacion'!H42,8),IF([1]CALCULADORA!$F$10=\"14% (Alto)\",ROUND('[1]Tabla de Amortizacion'!#REF!,8),IF([1]CALCULADORA!$F$10=20%,ROUND('[1]Tabla de Amortizacion'!#REF!,8),ROUND('[1]Tabla de Amortizacion'!K42,8))))))","v":0}]
["2021-05-06",1.2704119999999999E-2,{"$f":"+VLOOKUP(A42,'Tabla de Amortizacion'!$D$2:$O$182,MATCH(Tablas!$B$1,'Tabla de Amortizacion'!$D$2:$O$2,0))","v":1.2704119999999999E-2},null,{"$f":"IF([1]CALCULADORA!$F$10=\"Contractual\",ROUND('[1]Tabla de Amortizacion'!C43,8),IF([1]CALCULADORA!$F$10=\"6% (Medio)\",ROUND('[1]Tabla de Amortizacion'!F43,8),IF([1]CALCULADORA!$F$10=\"10% (Medio Alto)\",ROUND('[1]Tabla de Amortizacion'!H43,8),IF([1]CALCULADORA!$F$10=\"14% (Alto)\",ROUND('[1]Tabla de Amortizacion'!#REF!,8),IF([1]CALCULADORA!$F$10=20%,ROUND('[1]Tabla de Amortizacion'!#REF!,8),ROUND('[1]Tabla de Amortizacion'!K43,8))))))","v":0}]
["2021-06-06",1.132464E-2,{"$f":"+VLOOKUP(A43,'Tabla de Amortizacion'!$D$2:$O$182,MATCH(Tablas!$B$1,'Tabla de Amortizacion'!$D$2:$O$2,0))","v":1.132464E-2},null,{"$f":"IF([1]CALCULADORA!$F$10=\"Contractual\",ROUND('[1]Tabla de Amortizacion'!C44,8),IF([1]CALCULADORA!$F$10=\"6% (Medio)\",ROUND('[1]Tabla de Amortizacion'!F44,8),IF([1]CALCULADORA!$F$10=\"10% (Medio Alto)\",ROUND('[1]Tabla de Amortizacion'!H44,8),IF([1]CALCULADORA!$F$10=\"14% (Alto)\",ROUND('[1]Tabla de Amortizacion'!#REF!,8),IF([1]CALCULADORA!$F$10=20%,ROUND('[1]Tabla de Amortizacion'!#REF!,8),ROUND('[1]Tabla de Amortizacion'!K44,8))))))","v":0}]
["2021-07-06",9.6926900000000003E-3,{"$f":"+VLOOKUP(A44,'Tabla de Amortizacion'!$D$2:$O$182,MATCH(Tablas!$B$1,'Tabla de Amortizacion'!$D$2:$O$2,0))","v":9.6926900000000003E-3},null,{"$f":"IF([1]CALCULADORA!$F$10=\"Contractual\",ROUND('[1]Tabla de Amortizacion'!C45,8),IF([1]CALCULADORA!$F$10=\"6% (Medio)\",ROUND('[1]Tabla de Amortizacion'!F45,8),IF([1]CALCULADORA!$F$10=\"10% (Medio Alto)\",ROUND('[1]Tabla de Amortizacion'!H45,8),IF([1]CALCULADORA!$F$10=\"14% (Alto)\",ROUND('[1]Tabla de Amortizacion'!#REF!,8),IF([1]CALCULADORA!$F$10=20%,ROUND('[1]Tabla de Amortizacion'!#REF!,8),ROUND('[1]Tabla de Amortizacion'!K45,8))))))","v":0}]
["2021-08-06",1.363761E-2,{"$f":"+VLOOKUP(A45,'Tabla de Amortizacion'!$D$2:$O$182,MATCH(Tablas!$B$1,'Tabla de Amortizacion'!$D$2:$O$2,0))","v":1.363761E-2},null,{"$f":"IF([1]CALCULADORA!$F$10=\"Contractual\",ROUND('[1]Tabla de Amortizacion'!C46,8),IF([1]CALCULADORA!$F$10=\"6% (Medio)\",ROUND('[1]Tabla de Amortizacion'!F46,8),IF([1]CALCULADORA!$F$10=\"10% (Medio Alto)\",ROUND('[1]Tabla de Amortizacion'!H46,8),IF([1]CALCULADORA!$F$10=\"14% (Alto)\",ROUND('[1]Tabla de Amortizacion'!#REF!,8),IF([1]CALCULADORA!$F$10=20%,ROUND('[1]Tabla de Amortizacion'!#REF!,8),ROUND('[1]Tabla de Amortizacion'!K46,8))))))","v":0}]
["2021-09-06",1.1352930000000001E-2,{"$f":"+VLOOKUP(A46,'Tabla de Amortizacion'!$D$2:$O$182,MATCH(Tablas!$B$1,'Tabla de Amortizacion'!$D$2:$O$2,0))","v":1.1352930000000001E-2},null,{"$f":"IF([1]CALCULADORA!$F$10=\"Contractual\",ROUND('[1]Tabla de Amortizacion'!C47,8),IF([1]CALCULADORA!$F$10=\"6% (Medio)\",ROUND('[1]Tabla de Amortizacion'!F47,8),IF([1]CALCULADORA!$F$10=\"10% (Medio Alto)\",ROUND('[1]Tabla de Amortizacion'!H47,8),IF([1]CALCULADORA!$F$10=\"14% (Alto)\",ROUND('[1]Tabla de Amortizacion'!#REF!,8),IF([1]CALCULADORA!$F$10=20%,ROUND('[1]Tabla de Amortizacion'!#REF!,8),ROUND('[1]Tabla de Amortizacion'!K47,8))))))","v":0}]
["2021-10-06",1.0136050000000001E-2,{"$f":"+VLOOKUP(A47,'Tabla de Amortizacion'!$D$2:$O$182,MATCH(Tablas!$B$1,'Tabla de Amortizacion'!$D$2:$O$2,0))","v":1.0136050000000001E-2},null,{"$f":"IF([1]CALCULADORA!$F$10=\"Contractual\",ROUND('[1]Tabla de Amortizacion'!C48,8),IF([1]CALCULADORA!$F$10=\"6% (Medio)\",ROUND('[1]Tabla de Amortizacion'!F48,8),IF([1]CALCULADORA!$F$10=\"10% (Medio Alto)\",ROUND('[1]Tabla de Amortizacion'!H48,8),IF([1]CALCULADORA!$F$10=\"14% (Alto)\",ROUND('[1]Tabla de Amortizacion'!#REF!,8),IF([1]CALCULADORA!$F$10=20%,ROUND('[1]Tabla de Amortizacion'!#REF!,8),ROUND('[1]Tabla de Amortizacion'!K48,8))))))","v":0}]
["2021-11-06",1.0234780000000001E-2,{"$f":"+VLOOKUP(A48,'Tabla de Amortizacion'!$D$2:$O$182,MATCH(Tablas!$B$1,'Tabla de Amortizacion'!$D$2:$O$2,0))","v":1.0234780000000001E-2},null,{"$f":"IF([1]CALCULADORA!$F$10=\"Contractual\",ROUND('[1]Tabla de Amortizacion'!C49,8),IF([1]CALCULADORA!$F$10=\"6% (Medio)\",ROUND('[1]Tabla de Amortizacion'!F49,8),IF([1]CALCULADORA!$F$10=\"10% (Medio Alto)\",ROUND('[1]Tabla de Amortizacion'!H49,8),IF([1]CALCULADORA!$F$10=\"14% (Alto)\",ROUND('[1]Tabla de Amortizacion'!#REF!,8),IF([1]CALCULADORA!$F$10=20%,ROUND('[1]Tabla de Amortizacion'!#REF!,8),ROUND('[1]Tabla de Amortizacion'!K49,8))))))","v":0}]
["2021-12-06",8.2422999999999993E-3,{"$f":"+VLOOKUP(A49,'Tabla de Amortizacion'!$D$2:$O$182,MATCH(Tablas!$B$1,'Tabla de Amortizacion'!$D$2:$O$2,0))","v":8.2422999999999993E-3},null,{"$f":"IF([1]CALCULADORA!$F$10=\"Contractual\",ROUND('[1]Tabla de Amortizacion'!C50,8),IF([1]CALCULADORA!$F$10=\"6% (Medio)\",ROUND('[1]Tabla de Amortizacion'!F50,8),IF([1]CALCULADORA!$F$10=\"10% (Medio Alto)\",ROUND('[1]Tabla de Amortizacion'!H50,8),IF([1]CALCULADORA!$F$10=\"14% (Alto)\",ROUND('[1]Tabla de Amortizacion'!#REF!,8),IF([1]CALCULADORA!$F$10=20%,ROUND('[1]Tabla de Amortizacion'!#REF!,8),ROUND('[1]Tabla de Amortizacion'!K50,8))))))","v":0}]
["2022-01-06",1.079955E-2,{"$f":"+VLOOKUP(A50,'Tabla de Amortizacion'!$D$2:$O$182,MATCH(Tablas!$B$1,'Tabla de Amortizacion'!$D$2:$O$2,0))","v":1.079955E-2},null,{"$f":"IF([1]CALCULADORA!$F$10=\"Contractual\",ROUND('[1]Tabla de Amortizacion'!C51,8),IF([1]CALCULADORA!$F$10=\"6% (Medio)\",ROUND('[1]Tabla de Amortizacion'!F51,8),IF([1]CALCULADORA!$F$10=\"10% (Medio Alto)\",ROUND('[1]Tabla de Amortizacion'!H51,8),IF([1]CALCULADORA!$F$10=\"14% (Alto)\",ROUND('[1]Tabla de Amortizacion'!#REF!,8),IF([1]CALCULADORA!$F$10=20%,ROUND('[1]Tabla de Amortizacion'!#REF!,8),ROUND('[1]Tabla de Amortizacion'!K51,8))))))","v":0}]
["2022-02-06",1.1875439999999999E-2,{"$f":"+VLOOKUP(A51,'Tabla de Amortizacion'!$D$2:$O$182,MATCH(Tablas!$B$1,'Tabla de Amortizacion'!$D$2:$O$2,0))","v":1.1875439999999999E-2},null,{"$f":"IF([1]CALCULADORA!$F$10=\"Contractual\",ROUND('[1]Tabla de Amortizacion'!C52,8),IF([1]CALCULADORA!$F$10=\"6% (Medio)\",ROUND('[1]Tabla de Amortizacion'!F52,8),IF([1]CALCULADORA!$F$10=\"10% (Medio Alto)\",ROUND('[1]Tabla de Amortizacion'!H52,8),IF([1]CALCULADORA!$F$10=\"14% (Alto)\",ROUND('[1]Tabla de Amortizacion'!#REF!,8),IF([1]CALCULADORA!$F$10=20%,ROUND('[1]Tabla de Amortizacion'!#REF!,8),ROUND('[1]Tabla de Amortizacion'!K52,8))))))","v":0}]
["2022-03-06",1.0192339999999999E-2,{"$f":"+VLOOKUP(A52,'Tabla de Amortizacion'!$D$2:$O$182,MATCH(Tablas!$B$1,'Tabla de Amortizacion'!$D$2:$O$2,0))","v":1.0192339999999999E-2},null,{"$f":"IF([1]CALCULADORA!$F$10=\"Contractual\",ROUND('[1]Tabla de Amortizacion'!C53,8),IF([1]CALCULADORA!$F$10=\"6% (Medio)\",ROUND('[1]Tabla de Amortizacion'!F53,8),IF([1]CALCULADORA!$F$10=\"10% (Medio Alto)\",ROUND('[1]Tabla de Amortizacion'!H53,8),IF([1]CALCULADORA!$F$10=\"14% (Alto)\",ROUND('[1]Tabla de Amortizacion'!#REF!,8),IF([1]CALCULADORA!$F$10=20%,ROUND('[1]Tabla de Amortizacion'!#REF!,8),ROUND('[1]Tabla de Amortizacion'!K53,8))))))","v":0}]
["2022-04-06",1.0594370000000001E-2,{"$f":"+VLOOKUP(A53,'Tabla de Amortizacion'!$D$2:$O$182,MATCH(Tablas!$B$1,'Tabla de Amortizacion'!$D$2:$O$2,0))","v":1.0594370000000001E-2},null,{"$f":"IF([1]CALCULADORA!$F$10=\"Contractual\",ROUND('[1]Tabla de Amortizacion'!C54,8),IF([1]CALCULADORA!$F$10=\"6% (Medio)\",ROUND('[1]Tabla de Amortizacion'!F54,8),IF([1]CALCULADORA!$F$10=\"10% (Medio Alto)\",ROUND('[1]Tabla de Amortizacion'!H54,8),IF([1]CALCULADORA!$F$10=\"14% (Alto)\",ROUND('[1]Tabla de Amortizacion'!#REF!,8),IF([1]CALCULADORA!$F$10=20%,ROUND('[1]Tabla de Amortizacion'!#REF!,8),ROUND('[1]Tabla de Amortizacion'!K54,8))))))","v":0}]
["2022-05-06",1.1152499999999999E-2,{"$f":"+VLOOKUP(A54,'Tabla de Amortizacion'!$D$2:$O$182,MATCH(Tablas!$B$1,'Tabla de Amortizacion'!$D$2:$O$2,0))","v":1.1152499999999999E-2},null,{"$f":"IF([1]CALCULADORA!$F$10=\"Contractual\",ROUND('[1]Tabla de Amortizacion'!C55,8),IF([1]CALCULADORA!$F$10=\"6% (Medio)\",ROUND('[1]Tabla de Amortizacion'!F55,8),IF([1]CALCULADORA!$F$10=\"10% (Medio Alto)\",ROUND('[1]Tabla de Amortizacion'!H55,8),IF([1]CALCULADORA!$F$10=\"14% (Alto)\",ROUND('[1]Tabla de Amortizacion'!#REF!,8),IF([1]CALCULADORA!$F$10=20%,ROUND('[1]Tabla de Amortizacion'!#REF!,8),ROUND('[1]Tabla de Amortizacion'!K55,8))))))","v":0}]
["2022-06-06",9.6326199999999997E-3,{"$f":"+VLOOKUP(A55,'Tabla de Amortizacion'!$D$2:$O$182,MATCH(Tablas!$B$1,'Tabla de Amortizacion'!$D$2:$O$2,0))","v":9.6326199999999997E-3},null,{"$f":"IF([1]CALCULADORA!$F$10=\"Contractual\",ROUND('[1]Tabla de Amortizacion'!C56,8),IF([1]CALCULADORA!$F$10=\"6% (Medio)\",ROUND('[1]Tabla de Amortizacion'!F56,8),IF([1]CALCULADORA!$F$10=\"10% (Medio Alto)\",ROUND('[1]Tabla de Amortizacion'!H56,8),IF([1]CALCULADORA!$F$10=\"14% (Alto)\",ROUND('[1]Tabla de Amortizacion'!#REF!,8),IF([1]CALCULADORA!$F$10=20%,ROUND('[1]Tabla de Amortizacion'!#REF!,8),ROUND('[1]Tabla de Amortizacion'!K56,8))))))","v":0}]
["2022-07-06",6.11365E-3,{"$f":"+VLOOKUP(A56,'Tabla de Amortizacion'!$D$2:$O$182,MATCH(Tablas!$B$1,'Tabla de Amortizacion'!$D$2:$O$2,0))","v":6.11365E-3},null,{"$f":"IF([1]CALCULADORA!$F$10=\"Contractual\",ROUND('[1]Tabla de Amortizacion'!C57,8),IF([1]CALCULADORA!$F$10=\"6% (Medio)\",ROUND('[1]Tabla de Amortizacion'!F57,8),IF([1]CALCULADORA!$F$10=\"10% (Medio Alto)\",ROUND('[1]Tabla de Amortizacion'!H57,8),IF([1]CALCULADORA!$F$10=\"14% (Alto)\",ROUND('[1]Tabla de Amortizacion'!#REF!,8),IF([1]CALCULADORA!$F$10=20%,ROUND('[1]Tabla de Amortizacion'!#REF!,8),ROUND('[1]Tabla de Amortizacion'!K57,8))))))","v":0}]
["2022-08-06",8.10022E-3,{"$f":"+VLOOKUP(A57,'Tabla de Amortizacion'!$D$2:$O$182,MATCH(Tablas!$B$1,'Tabla de Amortizacion'!$D$2:$O$2,0))","v":8.10022E-3},null,{"$f":"IF([1]CALCULADORA!$F$10=\"Contractual\",ROUND('[1]Tabla de Amortizacion'!C58,8),IF([1]CALCULADORA!$F$10=\"6% (Medio)\",ROUND('[1]Tabla de Amortizacion'!F58,8),IF([1]CALCULADORA!$F$10=\"10% (Medio Alto)\",ROUND('[1]Tabla de Amortizacion'!H58,8),IF([1]CALCULADORA!$F$10=\"14% (Alto)\",ROUND('[1]Tabla de Amortizacion'!#REF!,8),IF([1]CALCULADORA!$F$10=20%,ROUND('[1]Tabla de Amortizacion'!#REF!,8),ROUND('[1]Tabla de Amortizacion'!K58,8))))))","v":0}]
["2022-09-06",6.3959400000000001E-3,{"$f":"+VLOOKUP(A58,'Tabla de Amortizacion'!$D$2:$O$182,MATCH(Tablas!$B$1,'Tabla de Amortizacion'!$D$2:$O$2,0))","v":6.3959400000000001E-3},null,{"$f":"IF([1]CALCULADORA!$F$10=\"Contractual\",ROUND('[1]Tabla de Amortizacion'!C59,8),IF([1]CALCULADORA!$F$10=\"6% (Medio)\",ROUND('[1]Tabla de Amortizacion'!F59,8),IF([1]CALCULADORA!$F$10=\"10% (Medio Alto)\",ROUND('[1]Tabla de Amortizacion'!H59,8),IF([1]CALCULADORA!$F$10=\"14% (Alto)\",ROUND('[1]Tabla de Amortizacion'!#REF!,8),IF([1]CALCULADORA!$F$10=20%,ROUND('[1]Tabla de Amortizacion'!#REF!,8),ROUND('[1]Tabla de Amortizacion'!K59,8))))))","v":0}]
["2022-10-06",9.9168999999999993E-3,{"$f":"+VLOOKUP(A59,'Tabla de Amortizacion'!$D$2:$O$182,MATCH(Tablas!$B$1,'Tabla de Amortizacion'!$D$2:$O$2,0))","v":9.9168999999999993E-3},null,{"$f":"IF([1]CALCULADORA!$F$10=\"Contractual\",ROUND('[1]Tabla de Amortizacion'!C60,8),IF([1]CALCULADORA!$F$10=\"6% (Medio)\",ROUND('[1]Tabla de Amortizacion'!F60,8),IF([1]CALCULADORA!$F$10=\"10% (Medio Alto)\",ROUND('[1]Tabla de Amortizacion'!H60,8),IF([1]CALCULADORA!$F$10=\"14% (Alto)\",ROUND('[1]Tabla de Amortizacion'!#REF!,8),IF([1]CALCULADORA!$F$10=20%,ROUND('[1]Tabla de Amortizacion'!#REF!,8),ROUND('[1]Tabla de Amortizacion'!K60,8))))))","v":0}]
["2022-11-06",9.3426800000000008E-3,{"$f":"+VLOOKUP(A60,'Tabla de Amortizacion'!$D$2:$O$182,MATCH(Tablas!$B$1,'Tabla de Amortizacion'!$D$2:$O$2,0))","v":9.3426800000000008E-3},null,{"$f":"IF([1]CALCULADORA!$F$10=\"Contractual\",ROUND('[1]Tabla de Amortizacion'!C61,8),IF([1]CALCULADORA!$F$10=\"6% (Medio)\",ROUND('[1]Tabla de Amortizacion'!F61,8),IF([1]CALCULADORA!$F$10=\"10% (Medio Alto)\",ROUND('[1]Tabla de Amortizacion'!H61,8),IF([1]CALCULADORA!$F$10=\"14% (Alto)\",ROUND('[1]Tabla de Amortizacion'!#REF!,8),IF([1]CALCULADORA!$F$10=20%,ROUND('[1]Tabla de Amortizacion'!#REF!,8),ROUND('[1]Tabla de Amortizacion'!K61,8))))))","v":0}]
["2022-12-06",5.5878999999999998E-3,{"$f":"+VLOOKUP(A61,'Tabla de Amortizacion'!$D$2:$O$182,MATCH(Tablas!$B$1,'Tabla de Amortizacion'!$D$2:$O$2,0))","v":5.5878999999999998E-3},null,{"$f":"IF([1]CALCULADORA!$F$10=\"Contractual\",ROUND('[1]Tabla de Amortizacion'!C62,8),IF([1]CALCULADORA!$F$10=\"6% (Medio)\",ROUND('[1]Tabla de Amortizacion'!F62,8),IF([1]CALCULADORA!$F$10=\"10% (Medio Alto)\",ROUND('[1]Tabla de Amortizacion'!H62,8),IF([1]CALCULADORA!$F$10=\"14% (Alto)\",ROUND('[1]Tabla de Amortizacion'!#REF!,8),IF([1]CALCULADORA!$F$10=20%,ROUND('[1]Tabla de Amortizacion'!#REF!,8),ROUND('[1]Tabla de Amortizacion'!K62,8))))))","v":0}]
["2023-01-06",7.3659900000000002E-3,{"$f":"+VLOOKUP(A62,'Tabla de Amortizacion'!$D$2:$O$182,MATCH(Tablas!$B$1,'Tabla de Amortizacion'!$D$2:$O$2,0))","v":7.3659900000000002E-3},null,{"$f":"IF([1]CALCULADORA!$F$10=\"Contractual\",ROUND('[1]Tabla de Amortizacion'!C63,8),IF([1]CALCULADORA!$F$10=\"6% (Medio)\",ROUND('[1]Tabla de Amortizacion'!F63,8),IF([1]CALCULADORA!$F$10=\"10% (Medio Alto)\",ROUND('[1]Tabla de Amortizacion'!H63,8),IF([1]CALCULADORA!$F$10=\"14% (Alto)\",ROUND('[1]Tabla de Amortizacion'!#REF!,8),IF([1]CALCULADORA!$F$10=20%,ROUND('[1]Tabla de Amortizacion'!#REF!,8),ROUND('[1]Tabla de Amortizacion'!K63,8))))))","v":0}]
["2023-02-06",6.2080199999999999E-3,{"$f":"+VLOOKUP(A63,'Tabla de Amortizacion'!$D$2:$O$182,MATCH(Tablas!$B$1,'Tabla de Amortizacion'!$D$2:$O$2,0))","v":6.2080199999999999E-3},null,{"$f":"IF([1]CALCULADORA!$F$10=\"Contractual\",ROUND('[1]Tabla de Amortizacion'!C64,8),IF([1]CALCULADORA!$F$10=\"6% (Medio)\",ROUND('[1]Tabla de Amortizacion'!F64,8),IF([1]CALCULADORA!$F$10=\"10% (Medio Alto)\",ROUND('[1]Tabla de Amortizacion'!H64,8),IF([1]CALCULADORA!$F$10=\"14% (Alto)\",ROUND('[1]Tabla de Amortizacion'!#REF!,8),IF([1]CALCULADORA!$F$10=20%,ROUND('[1]Tabla de Amortizacion'!#REF!,8),ROUND('[1]Tabla de Amortizacion'!K64,8))))))","v":0}]
["2023-03-06",6.0392900000000001E-3,{"$f":"+VLOOKUP(A64,'Tabla de Amortizacion'!$D$2:$O$182,MATCH(Tablas!$B$1,'Tabla de Amortizacion'!$D$2:$O$2,0))","v":6.0392900000000001E-3},null,{"$f":"IF([1]CALCULADORA!$F$10=\"Contractual\",ROUND('[1]Tabla de Amortizacion'!C65,8),IF([1]CALCULADORA!$F$10=\"6% (Medio)\",ROUND('[1]Tabla de Amortizacion'!F65,8),IF([1]CALCULADORA!$F$10=\"10% (Medio Alto)\",ROUND('[1]Tabla de Amortizacion'!H65,8),IF([1]CALCULADORA!$F$10=\"14% (Alto)\",ROUND('[1]Tabla de Amortizacion'!#REF!,8),IF([1]CALCULADORA!$F$10=20%,ROUND('[1]Tabla de Amortizacion'!#REF!,8),ROUND('[1]Tabla de Amortizacion'!K65,8))))))","v":0}]
["2023-04-06",5.5845199999999999E-3,{"$f":"+VLOOKUP(A65,'Tabla de Amortizacion'!$D$2:$O$182,MATCH(Tablas!$B$1,'Tabla de Amortizacion'!$D$2:$O$2,0))","v":5.5845199999999999E-3},null,{"$f":"IF([1]CALCULADORA!$F$10=\"Contractual\",ROUND('[1]Tabla de Amortizacion'!C66,8),IF([1]CALCULADORA!$F$10=\"6% (Medio)\",ROUND('[1]Tabla de Amortizacion'!F66,8),IF([1]CALCULADORA!$F$10=\"10% (Medio Alto)\",ROUND('[1]Tabla de Amortizacion'!H66,8),IF([1]CALCULADORA!$F$10=\"14% (Alto)\",ROUND('[1]Tabla de Amortizacion'!#REF!,8),IF([1]CALCULADORA!$F$10=20%,ROUND('[1]Tabla de Amortizacion'!#REF!,8),ROUND('[1]Tabla de Amortizacion'!K66,8))))))","v":0}]
["2023-05-06",5.7291099999999999E-3,{"$f":"+VLOOKUP(A66,'Tabla de Amortizacion'!$D$2:$O$182,MATCH(Tablas!$B$1,'Tabla de Amortizacion'!$D$2:$O$2,0))","v":5.7291099999999999E-3},null,{"$f":"IF([1]CALCULADORA!$F$10=\"Contractual\",ROUND('[1]Tabla de Amortizacion'!C67,8),IF([1]CALCULADORA!$F$10=\"6% (Medio)\",ROUND('[1]Tabla de Amortizacion'!F67,8),IF([1]CALCULADORA!$F$10=\"10% (Medio Alto)\",ROUND('[1]Tabla de Amortizacion'!H67,8),IF([1]CALCULADORA!$F$10=\"14% (Alto)\",ROUND('[1]Tabla de Amortizacion'!#REF!,8),IF([1]CALCULADORA!$F$10=20%,ROUND('[1]Tabla de Amortizacion'!#REF!,8),ROUND('[1]Tabla de Amortizacion'!K67,8))))))","v":0}]
[{"$f":"EDATE(A66,1)","v":"2023-06-06"},{"$f":"+ROUND(C67,8)","v":5.8542999999999998E-3},{"$f":"+VLOOKUP(A67,'Tabla de Amortizacion'!$D$2:$O$182,MATCH(Tablas!$B$1,'Tabla de Amortizacion'!$D$2:$O$2,0))","v":5.8542999999999998E-3},null,{"$f":"IF([1]CALCULADORA!$F$10=\"Contractual\",ROUND('[1]Tabla de Amortizacion'!C68,8),IF([1]CALCULADORA!$F$10=\"6% (Medio)\",ROUND('[1]Tabla de Amortizacion'!F68,8),IF([1]CALCULADORA!$F$10=\"10% (Medio Alto)\",ROUND('[1]Tabla de Amortizacion'!H68,8),IF([1]CALCULADORA!$F$10=\"14% (Alto)\",ROUND('[1]Tabla de Amortizacion'!#REF!,8),IF([1]CALCULADORA!$F$10=20%,ROUND('[1]Tabla de Amortizacion'!#REF!,8),ROUND('[1]Tabla de Amortizacion'!K68,8))))))","v":0}]
["2023-07-06",5.8231999999999997E-3,{"$f":"+VLOOKUP(A68,'Tabla de Amortizacion'!$D$2:$O$182,MATCH(Tablas!$B$1,'Tabla de Amortizacion'!$D$2:$O$2,0))","v":5.8231999999999997E-3},null,{"$f":"IF([1]CALCULADORA!$F$10=\"Contractual\",ROUND('[1]Tabla de Amortizacion'!C69,8),IF([1]CALCULADORA!$F$10=\"6% (Medio)\",ROUND('[1]Tabla de Amortizacion'!F69,8),IF([1]CALCULADORA!$F$10=\"10% (Medio Alto)\",ROUND('[1]Tabla de Amortizacion'!H69,8),IF([1]CALCULADORA!$F$10=\"14% (Alto)\",ROUND('[1]Tabla de Amortizacion'!#REF!,8),IF([1]CALCULADORA!$F$10=20%,ROUND('[1]Tabla de Amortizacion'!#REF!,8),ROUND('[1]Tabla de Amortizacion'!K69,8))))))","v":0}]
["2023-08-06",6.3028800000000003E-3,{"$f":"+VLOOKUP(A69,'Tabla de Amortizacion'!$D$2:$O$182,MATCH(Tablas!$B$1,'Tabla de Amortizacion'!$D$2:$O$2,0))","v":6.3028800000000003E-3},null,{"$f":"IF([1]CALCULADORA!$F$10=\"Contractual\",ROUND('[1]Tabla de Amortizacion'!C70,8),IF([1]CALCULADORA!$F$10=\"6% (Medio)\",ROUND('[1]Tabla de Amortizacion'!F70,8),IF([1]CALCULADORA!$F$10=\"10% (Medio Alto)\",ROUND('[1]Tabla de Amortizacion'!H70,8),IF([1]CALCULADORA!$F$10=\"14% (Alto)\",ROUND('[1]Tabla de Amortizacion'!#REF!,8),IF([1]CALCULADORA!$F$10=20%,ROUND('[1]Tabla de Amortizacion'!#REF!,8),ROUND('[1]Tabla de Amortizacion'!K70,8))))))","v":0}]
["2023-09-06",4.6673599999999997E-3,{"$f":"+VLOOKUP(A70,'Tabla de Amortizacion'!$D$2:$O$182,MATCH(Tablas!$B$1,'Tabla de Amortizacion'!$D$2:$O$2,0))","v":4.6673599999999997E-3},null,{"$f":"IF([1]CALCULADORA!$F$10=\"Contractual\",ROUND('[1]Tabla de Amortizacion'!C71,8),IF([1]CALCULADORA!$F$10=\"6% (Medio)\",ROUND('[1]Tabla de Amortizacion'!F71,8),IF([1]CALCULADORA!$F$10=\"10% (Medio Alto)\",ROUND('[1]Tabla de Amortizacion'!H71,8),IF([1]CALCULADORA!$F$10=\"14% (Alto)\",ROUND('[1]Tabla de Amortizacion'!#REF!,8),IF([1]CALCULADORA!$F$10=20%,ROUND('[1]Tabla de Amortizacion'!#REF!,8),ROUND('[1]Tabla de Amortizacion'!K71,8))))))","v":0}]
["2023-10-06",5.4446900000000003E-3,{"$f":"+VLOOKUP(A71,'Tabla de Amortizacion'!$D$2:$O$182,MATCH(Tablas!$B$1,'Tabla de Amortizacion'!$D$2:$O$2,0))","v":5.4446900000000003E-3},null,{"$f":"IF([1]CALCULADORA!$F$10=\"Contractual\",ROUND('[1]Tabla de Amortizacion'!C72,8),IF([1]CALCULADORA!$F$10=\"6% (Medio)\",ROUND('[1]Tabla de Amortizacion'!F72,8),IF([1]CALCULADORA!$F$10=\"10% (Medio Alto)\",ROUND('[1]Tabla de Amortizacion'!H72,8),IF([1]CALCULADORA!$F$10=\"14% (Alto)\",ROUND('[1]Tabla de Amortizacion'!#REF!,8),IF([1]CALCULADORA!$F$10=20%,ROUND('[1]Tabla de Amortizacion'!#REF!,8),ROUND('[1]Tabla de Amortizacion'!K72,8))))))","v":0}]
["2023-11-06",5.5381099999999997E-3,{"$f":"+VLOOKUP(A72,'Tabla de Amortizacion'!$D$2:$O$182,MATCH(Tablas!$B$1,'Tabla de Amortizacion'!$D$2:$O$2,0))","v":5.5381099999999997E-3},null,{"$f":"IF([1]CALCULADORA!$F$10=\"Contractual\",ROUND('[1]Tabla de Amortizacion'!C73,8),IF([1]CALCULADORA!$F$10=\"6% (Medio)\",ROUND('[1]Tabla de Amortizacion'!F73,8),IF([1]CALCULADORA!$F$10=\"10% (Medio Alto)\",ROUND('[1]Tabla de Amortizacion'!H73,8),IF([1]CALCULADORA!$F$10=\"14% (Alto)\",ROUND('[1]Tabla de Amortizacion'!#REF!,8),IF([1]CALCULADORA!$F$10=20%,ROUND('[1]Tabla de Amortizacion'!#REF!,8),ROUND('[1]Tabla de Amortizacion'!K73,8))))))","v":0}]
["2023-12-06",5.7296200000000004E-3,{"$f":"+VLOOKUP(A73,'Tabla de Amortizacion'!$D$2:$O$182,MATCH(Tablas!$B$1,'Tabla de Amortizacion'!$D$2:$O$2,0))","v":5.7296200000000004E-3},null,{"$f":"IF([1]CALCULADORA!$F$10=\"Contractual\",ROUND('[1]Tabla de Amortizacion'!C74,8),IF([1]CALCULADORA!$F$10=\"6% (Medio)\",ROUND('[1]Tabla de Amortizacion'!F74,8),IF([1]CALCULADORA!$F$10=\"10% (Medio Alto)\",ROUND('[1]Tabla de Amortizacion'!H74,8),IF([1]CALCULADORA!$F$10=\"14% (Alto)\",ROUND('[1]Tabla de Amortizacion'!#REF!,8),IF([1]CALCULADORA!$F$10=20%,ROUND('[1]Tabla de Amortizacion'!#REF!,8),ROUND('[1]Tabla de Amortizacion'!K74,8))))))","v":0}]
["2024-01-06",4.62437E-3,{"$f":"+VLOOKUP(A74,'Tabla de Amortizacion'!$D$2:$O$182,MATCH(Tablas!$B$1,'Tabla de Amortizacion'!$D$2:$O$2,0))","v":4.62437E-3},null,{"$f":"IF([1]CALCULADORA!$F$10=\"Contractual\",ROUND('[1]Tabla de Amortizacion'!C75,8),IF([1]CALCULADORA!$F$10=\"6% (Medio)\",ROUND('[1]Tabla de Amortizacion'!F75,8),IF([1]CALCULADORA!$F$10=\"10% (Medio Alto)\",ROUND('[1]Tabla de Amortizacion'!H75,8),IF([1]CALCULADORA!$F$10=\"14% (Alto)\",ROUND('[1]Tabla de Amortizacion'!#REF!,8),IF([1]CALCULADORA!$F$10=20%,ROUND('[1]Tabla de Amortizacion'!#REF!,8),ROUND('[1]Tabla de Amortizacion'!K75,8))))))","v":0}]
["2024-02-06",5.5207800000000003E-3,{"$f":"+VLOOKUP(A75,'Tabla de Amortizacion'!$D$2:$O$182,MATCH(Tablas!$B$1,'Tabla de Amortizacion'!$D$2:$O$2,0))","v":5.5207800000000003E-3},null,{"$f":"IF([1]CALCULADORA!$F$10=\"Contractual\",ROUND('[1]Tabla de Amortizacion'!C76,8),IF([1]CALCULADORA!$F$10=\"6% (Medio)\",ROUND('[1]Tabla de Amortizacion'!F76,8),IF([1]CALCULADORA!$F$10=\"10% (Medio Alto)\",ROUND('[1]Tabla de Amortizacion'!H76,8),IF([1]CALCULADORA!$F$10=\"14% (Alto)\",ROUND('[1]Tabla de Amortizacion'!#REF!,8),IF([1]CALCULADORA!$F$10=20%,ROUND('[1]Tabla de Amortizacion'!#REF!,8),ROUND('[1]Tabla de Amortizacion'!K76,8))))))","v":0}]
["2024-03-06",5.3894900000000003E-3,{"$f":"+VLOOKUP(A76,'Tabla de Amortizacion'!$D$2:$O$182,MATCH(Tablas!$B$1,'Tabla de Amortizacion'!$D$2:$O$2,0))","v":5.3894900000000003E-3},null,{"$f":"IF([1]CALCULADORA!$F$10=\"Contractual\",ROUND('[1]Tabla de Amortizacion'!C77,8),IF([1]CALCULADORA!$F$10=\"6% (Medio)\",ROUND('[1]Tabla de Amortizacion'!F77,8),IF([1]CALCULADORA!$F$10=\"10% (Medio Alto)\",ROUND('[1]Tabla de Amortizacion'!H77,8),IF([1]CALCULADORA!$F$10=\"14% (Alto)\",ROUND('[1]Tabla de Amortizacion'!#REF!,8),IF([1]CALCULADORA!$F$10=20%,ROUND('[1]Tabla de Amortizacion'!#REF!,8),ROUND('[1]Tabla de Amortizacion'!K77,8))))))","v":0}]
["2024-04-06",4.4792699999999996E-3,{"$f":"+VLOOKUP(A77,'Tabla de Amortizacion'!$D$2:$O$182,MATCH(Tablas!$B$1,'Tabla de Amortizacion'!$D$2:$O$2,0))","v":4.4792699999999996E-3},null,{"$f":"IF([1]CALCULADORA!$F$10=\"Contractual\",ROUND('[1]Tabla de Amortizacion'!C78,8),IF([1]CALCULADORA!$F$10=\"6% (Medio)\",ROUND('[1]Tabla de Amortizacion'!F78,8),IF([1]CALCULADORA!$F$10=\"10% (Medio Alto)\",ROUND('[1]Tabla de Amortizacion'!H78,8),IF([1]CALCULADORA!$F$10=\"14% (Alto)\",ROUND('[1]Tabla de Amortizacion'!#REF!,8),IF([1]CALCULADORA!$F$10=20%,ROUND('[1]Tabla de Amortizacion'!#REF!,8),ROUND('[1]Tabla de Amortizacion'!K78,8))))))","v":0}]
["2024-05-06",5.4339799999999997E-3,{"$f":"+VLOOKUP(A78,'Tabla de Amortizacion'!$D$2:$O$182,MATCH(Tablas!$B$1,'Tabla de Amortizacion'!$D$2:$O$2,0))","v":5.4339799999999997E-3},null,{"$f":"IF([1]CALCULADORA!$F$10=\"Contractual\",ROUND('[1]Tabla de Amortizacion'!C79,8),IF([1]CALCULADORA!$F$10=\"6% (Medio)\",ROUND('[1]Tabla de Amortizacion'!F79,8),IF([1]CALCULADORA!$F$10=\"10% (Medio Alto)\",ROUND('[1]Tabla de Amortizacion'!H79,8),IF([1]CALCULADORA!$F$10=\"14% (Alto)\",ROUND('[1]Tabla de Amortizacion'!#REF!,8),IF([1]CALCULADORA!$F$10=20%,ROUND('[1]Tabla de Amortizacion'!#REF!,8),ROUND('[1]Tabla de Amortizacion'!K79,8))))))","v":0}]
["2024-06-06",4.7519399999999996E-3,{"$f":"+VLOOKUP(A79,'Tabla de Amortizacion'!$D$2:$O$182,MATCH(Tablas!$B$1,'Tabla de Amortizacion'!$D$2:$O$2,0))","v":4.7519399999999996E-3},null,{"$f":"IF([1]CALCULADORA!$F$10=\"Contractual\",ROUND('[1]Tabla de Amortizacion'!C80,8),IF([1]CALCULADORA!$F$10=\"6% (Medio)\",ROUND('[1]Tabla de Amortizacion'!F80,8),IF([1]CALCULADORA!$F$10=\"10% (Medio Alto)\",ROUND('[1]Tabla de Amortizacion'!H80,8),IF([1]CALCULADORA!$F$10=\"14% (Alto)\",ROUND('[1]Tabla de Amortizacion'!#REF!,8),IF([1]CALCULADORA!$F$10=20%,ROUND('[1]Tabla de Amortizacion'!#REF!,8),ROUND('[1]Tabla de Amortizacion'!K80,8))))))","v":0}]
["2024-07-06",4.3758199999999999E-3,{"$f":"+VLOOKUP(A80,'Tabla de Amortizacion'!$D$2:$O$182,MATCH(Tablas!$B$1,'Tabla de Amortizacion'!$D$2:$O$2,0))","v":4.3758199999999999E-3},null,{"$f":"IF([1]CALCULADORA!$F$10=\"Contractual\",ROUND('[1]Tabla de Amortizacion'!C81,8),IF([1]CALCULADORA!$F$10=\"6% (Medio)\",ROUND('[1]Tabla de Amortizacion'!F81,8),IF([1]CALCULADORA!$F$10=\"10% (Medio Alto)\",ROUND('[1]Tabla de Amortizacion'!H81,8),IF([1]CALCULADORA!$F$10=\"14% (Alto)\",ROUND('[1]Tabla de Amortizacion'!#REF!,8),IF([1]CALCULADORA!$F$10=20%,ROUND('[1]Tabla de Amortizacion'!#REF!,8),ROUND('[1]Tabla de Amortizacion'!K81,8))))))","v":0}]
["2024-08-06",3.9686699999999997E-3,{"$f":"+VLOOKUP(A81,'Tabla de Amortizacion'!$D$2:$O$182,MATCH(Tablas!$B$1,'Tabla de Amortizacion'!$D$2:$O$2,0))","v":3.9686699999999997E-3},null,{"$f":"IF([1]CALCULADORA!$F$10=\"Contractual\",ROUND('[1]Tabla de Amortizacion'!C82,8),IF([1]CALCULADORA!$F$10=\"6% (Medio)\",ROUND('[1]Tabla de Amortizacion'!F82,8),IF([1]CALCULADORA!$F$10=\"10% (Medio Alto)\",ROUND('[1]Tabla de Amortizacion'!H82,8),IF([1]CALCULADORA!$F$10=\"14% (Alto)\",ROUND('[1]Tabla de Amortizacion'!#REF!,8),IF([1]CALCULADORA!$F$10=20%,ROUND('[1]Tabla de Amortizacion'!#REF!,8),ROUND('[1]Tabla de Amortizacion'!K82,8))))))","v":0}]
["2024-09-06",4.2158899999999999E-3,{"$f":"+VLOOKUP(A82,'Tabla de Amortizacion'!$D$2:$O$182,MATCH(Tablas!$B$1,'Tabla de Amortizacion'!$D$2:$O$2,0))","v":4.2158899999999999E-3},null,{"$f":"IF([1]CALCULADORA!$F$10=\"Contractual\",ROUND('[1]Tabla de Amortizacion'!C83,8),IF([1]CALCULADORA!$F$10=\"6% (Medio)\",ROUND('[1]Tabla de Amortizacion'!F83,8),IF([1]CALCULADORA!$F$10=\"10% (Medio Alto)\",ROUND('[1]Tabla de Amortizacion'!H83,8),IF([1]CALCULADORA!$F$10=\"14% (Alto)\",ROUND('[1]Tabla de Amortizacion'!#REF!,8),IF([1]CALCULADORA!$F$10=20%,ROUND('[1]Tabla de Amortizacion'!#REF!,8),ROUND('[1]Tabla de Amortizacion'!K83,8))))))","v":0}]
["2024-10-06",4.12708E-3,{"$f":"+VLOOKUP(A83,'Tabla de Amortizacion'!$D$2:$O$182,MATCH(Tablas!$B$1,'Tabla de Amortizacion'!$D$2:$O$2,0))","v":4.12708E-3},null,{"$f":"IF([1]CALCULADORA!$F$10=\"Contractual\",ROUND('[1]Tabla de Amortizacion'!C84,8),IF([1]CALCULADORA!$F$10=\"6% (Medio)\",ROUND('[1]Tabla de Amortizacion'!F84,8),IF([1]CALCULADORA!$F$10=\"10% (Medio Alto)\",ROUND('[1]Tabla de Amortizacion'!H84,8),IF([1]CALCULADORA!$F$10=\"14% (Alto)\",ROUND('[1]Tabla de Amortizacion'!#REF!,8),IF([1]CALCULADORA!$F$10=20%,ROUND('[1]Tabla de Amortizacion'!#REF!,8),ROUND('[1]Tabla de Amortizacion'!K84,8))))))","v":0}]
["2024-11-06",4.0929299999999998E-3,{"$f":"+VLOOKUP(A84,'Tabla de Amortizacion'!$D$2:$O$182,MATCH(Tablas!$B$1,'Tabla de Amortizacion'!$D$2:$O$2,0))","v":4.0929299999999998E-3},null,{"$f":"IF([1]CALCULADORA!$F$10=\"Contractual\",ROUND('[1]Tabla de Amortizacion'!C85,8),IF([1]CALCULADORA!$F$10=\"6% (Medio)\",ROUND('[1]Tabla de Amortizacion'!F85,8),IF([1]CALCULADORA!$F$10=\"10% (Medio Alto)\",ROUND('[1]Tabla de Amortizacion'!H85,8),IF([1]CALCULADORA!$F$10=\"14% (Alto)\",ROUND('[1]Tabla de Amortizacion'!#REF!,8),IF([1]CALCULADORA!$F$10=20%,ROUND('[1]Tabla de Amortizacion'!#REF!,8),ROUND('[1]Tabla de Amortizacion'!K85,8))))))","v":0}]
["2024-12-06",3.8408100000000001E-3,{"$f":"+VLOOKUP(A85,'Tabla de Amortizacion'!$D$2:$O$182,MATCH(Tablas!$B$1,'Tabla de Amortizacion'!$D$2:$O$2,0))","v":3.8408100000000001E-3},null,{"$f":"IF([1]CALCULADORA!$F$10=\"Contractual\",ROUND('[1]Tabla de Amortizacion'!C86,8),IF([1]CALCULADORA!$F$10=\"6% (Medio)\",ROUND('[1]Tabla de Amortizacion'!F86,8),IF([1]CALCULADORA!$F$10=\"10% (Medio Alto)\",ROUND('[1]Tabla de Amortizacion'!H86,8),IF([1]CALCULADORA!$F$10=\"14% (Alto)\",ROUND('[1]Tabla de Amortizacion'!#REF!,8),IF([1]CALCULADORA!$F$10=20%,ROUND('[1]Tabla de Amortizacion'!#REF!,8),ROUND('[1]Tabla de Amortizacion'!K86,8))))))","v":0}]
["2025-01-06",4.0087899999999999E-3,{"$f":"+VLOOKUP(A86,'Tabla de Amortizacion'!$D$2:$O$182,MATCH(Tablas!$B$1,'Tabla de Amortizacion'!$D$2:$O$2,0))","v":4.0087899999999999E-3},null,{"$f":"IF([1]CALCULADORA!$F$10=\"Contractual\",ROUND('[1]Tabla de Amortizacion'!C87,8),IF([1]CALCULADORA!$F$10=\"6% (Medio)\",ROUND('[1]Tabla de Amortizacion'!F87,8),IF([1]CALCULADORA!$F$10=\"10% (Medio Alto)\",ROUND('[1]Tabla de Amortizacion'!H87,8),IF([1]CALCULADORA!$F$10=\"14% (Alto)\",ROUND('[1]Tabla de Amortizacion'!#REF!,8),IF([1]CALCULADORA!$F$10=20%,ROUND('[1]Tabla de Amortizacion'!#REF!,8),ROUND('[1]Tabla de Amortizacion'!K87,8))))))","v":0}]
["2025-02-06",3.9543399999999998E-3,{"$f":"+VLOOKUP(A87,'Tabla de Amortizacion'!$D$2:$O$182,MATCH(Tablas!$B$1,'Tabla de Amortizacion'!$D$2:$O$2,0))","v":3.9543399999999998E-3},null,{"$f":"IF([1]CALCULADORA!$F$10=\"Contractual\",ROUND('[1]Tabla de Amortizacion'!C88,8),IF([1]CALCULADORA!$F$10=\"6% (Medio)\",ROUND('[1]Tabla de Amortizacion'!F88,8),IF([1]CALCULADORA!$F$10=\"10% (Medio Alto)\",ROUND('[1]Tabla de Amortizacion'!H88,8),IF([1]CALCULADORA!$F$10=\"14% (Alto)\",ROUND('[1]Tabla de Amortizacion'!#REF!,8),IF([1]CALCULADORA!$F$10=20%,ROUND('[1]Tabla de Amortizacion'!#REF!,8),ROUND('[1]Tabla de Amortizacion'!K88,8))))))","v":0}]
["2025-03-06",3.92319E-3,{"$f":"+VLOOKUP(A88,'Tabla de Amortizacion'!$D$2:$O$182,MATCH(Tablas!$B$1,'Tabla de Amortizacion'!$D$2:$O$2,0))","v":3.92319E-3},null,{"$f":"IF([1]CALCULADORA!$F$10=\"Contractual\",ROUND('[1]Tabla de Amortizacion'!C89,8),IF([1]CALCULADORA!$F$10=\"6% (Medio)\",ROUND('[1]Tabla de Amortizacion'!F89,8),IF([1]CALCULADORA!$F$10=\"10% (Medio Alto)\",ROUND('[1]Tabla de Amortizacion'!H89,8),IF([1]CALCULADORA!$F$10=\"14% (Alto)\",ROUND('[1]Tabla de Amortizacion'!#REF!,8),IF([1]CALCULADORA!$F$10=20%,ROUND('[1]Tabla de Amortizacion'!#REF!,8),ROUND('[1]Tabla de Amortizacion'!K89,8))))))","v":0}]
["2025-04-06",3.83827E-3,{"$f":"+VLOOKUP(A89,'Tabla de Amortizacion'!$D$2:$O$182,MATCH(Tablas!$B$1,'Tabla de Amortizacion'!$D$2:$O$2,0))","v":3.83827E-3},null,{"$f":"IF([1]CALCULADORA!$F$10=\"Contractual\",ROUND('[1]Tabla de Amortizacion'!C90,8),IF([1]CALCULADORA!$F$10=\"6% (Medio)\",ROUND('[1]Tabla de Amortizacion'!F90,8),IF([1]CALCULADORA!$F$10=\"10% (Medio Alto)\",ROUND('[1]Tabla de Amortizacion'!H90,8),IF([1]CALCULADORA!$F$10=\"14% (Alto)\",ROUND('[1]Tabla de Amortizacion'!#REF!,8),IF([1]CALCULADORA!$F$10=20%,ROUND('[1]Tabla de Amortizacion'!#REF!,8),ROUND('[1]Tabla de Amortizacion'!K90,8))))))","v":0}]
["2025-05-06",2.2085E-3,{"$f":"+VLOOKUP(A90,'Tabla de Amortizacion'!$D$2:$O$182,MATCH(Tablas!$B$1,'Tabla de Amortizacion'!$D$2:$O$2,0))","v":2.2085E-3},null,{"$f":"IF([1]CALCULADORA!$F$10=\"Contractual\",ROUND('[1]Tabla de Amortizacion'!C91,8),IF([1]CALCULADORA!$F$10=\"6% (Medio)\",ROUND('[1]Tabla de Amortizacion'!F91,8),IF([1]CALCULADORA!$F$10=\"10% (Medio Alto)\",ROUND('[1]Tabla de Amortizacion'!H91,8),IF([1]CALCULADORA!$F$10=\"14% (Alto)\",ROUND('[1]Tabla de Amortizacion'!#REF!,8),IF([1]CALCULADORA!$F$10=20%,ROUND('[1]Tabla de Amortizacion'!#REF!,8),ROUND('[1]Tabla de Amortizacion'!K91,8))))))","v":0}]
["2025-06-06",0,{"$f":"+VLOOKUP(A91,'Tabla de Amortizacion'!$D$2:$O$182,MATCH(Tablas!$B$1,'Tabla de Amortizacion'!$D$2:$O$2,0))","v":0},null,{"$f":"IF([1]CALCULADORA!$F$10=\"Contractual\",ROUND('[1]Tabla de Amortizacion'!C92,8),IF([1]CALCULADORA!$F$10=\"6% (Medio)\",ROUND('[1]Tabla de Amortizacion'!F92,8),IF([1]CALCULADORA!$F$10=\"10% (Medio Alto)\",ROUND('[1]Tabla de Amortizacion'!H92,8),IF([1]CALCULADORA!$F$10=\"14% (Alto)\",ROUND('[1]Tabla de Amortizacion'!#REF!,8),IF([1]CALCULADORA!$F$10=20%,ROUND('[1]Tabla de Amortizacion'!#REF!,8),ROUND('[1]Tabla de Amortizacion'!K92,8))))))","v":0}]
["2025-07-06",0,{"$f":"+VLOOKUP(A92,'Tabla de Amortizacion'!$D$2:$O$182,MATCH(Tablas!$B$1,'Tabla de Amortizacion'!$D$2:$O$2,0))","v":0},null,{"$f":"IF([1]CALCULADORA!$F$10=\"Contractual\",ROUND('[1]Tabla de Amortizacion'!C93,8),IF([1]CALCULADORA!$F$10=\"6% (Medio)\",ROUND('[1]Tabla de Amortizacion'!F93,8),IF([1]CALCULADORA!$F$10=\"10% (Medio Alto)\",ROUND('[1]Tabla de Amortizacion'!H93,8),IF([1]CALCULADORA!$F$10=\"14% (Alto)\",ROUND('[1]Tabla de Amortizacion'!#REF!,8),IF([1]CALCULADORA!$F$10=20%,ROUND('[1]Tabla de Amortizacion'!#REF!,8),ROUND('[1]Tabla de Amortizacion'!K93,8))))))","v":0}]
["2025-08-06",0,{"$f":"+VLOOKUP(A93,'Tabla de Amortizacion'!$D$2:$O$182,MATCH(Tablas!$B$1,'Tabla de Amortizacion'!$D$2:$O$2,0))","v":0},null,{"$f":"IF([1]CALCULADORA!$F$10=\"Contractual\",ROUND('[1]Tabla de Amortizacion'!C94,8),IF([1]CALCULADORA!$F$10=\"6% (Medio)\",ROUND('[1]Tabla de Amortizacion'!F94,8),IF([1]CALCULADORA!$F$10=\"10% (Medio Alto)\",ROUND('[1]Tabla de Amortizacion'!H94,8),IF([1]CALCULADORA!$F$10=\"14% (Alto)\",ROUND('[1]Tabla de Amortizacion'!#REF!,8),IF([1]CALCULADORA!$F$10=20%,ROUND('[1]Tabla de Amortizacion'!#REF!,8),ROUND('[1]Tabla de Amortizacion'!K94,8))))))","v":0}]
["2025-09-06",0,{"$f":"+VLOOKUP(A94,'Tabla de Amortizacion'!$D$2:$O$182,MATCH(Tablas!$B$1,'Tabla de Amortizacion'!$D$2:$O$2,0))","v":0},null,{"$f":"IF([1]CALCULADORA!$F$10=\"Contractual\",ROUND('[1]Tabla de Amortizacion'!C95,8),IF([1]CALCULADORA!$F$10=\"6% (Medio)\",ROUND('[1]Tabla de Amortizacion'!F95,8),IF([1]CALCULADORA!$F$10=\"10% (Medio Alto)\",ROUND('[1]Tabla de Amortizacion'!H95,8),IF([1]CALCULADORA!$F$10=\"14% (Alto)\",ROUND('[1]Tabla de Amortizacion'!#REF!,8),IF([1]CALCULADORA!$F$10=20%,ROUND('[1]Tabla de Amortizacion'!#REF!,8),ROUND('[1]Tabla de Amortizacion'!K95,8))))))","v":0}]
["2025-10-06",0,{"$f":"+VLOOKUP(A95,'Tabla de Amortizacion'!$D$2:$O$182,MATCH(Tablas!$B$1,'Tabla de Amortizacion'!$D$2:$O$2,0))","v":0},null,{"$f":"IF([1]CALCULADORA!$F$10=\"Contractual\",ROUND('[1]Tabla de Amortizacion'!C96,8),IF([1]CALCULADORA!$F$10=\"6% (Medio)\",ROUND('[1]Tabla de Amortizacion'!F96,8),IF([1]CALCULADORA!$F$10=\"10% (Medio Alto)\",ROUND('[1]Tabla de Amortizacion'!H96,8),IF([1]CALCULADORA!$F$10=\"14% (Alto)\",ROUND('[1]Tabla de Amortizacion'!#REF!,8),IF([1]CALCULADORA!$F$10=20%,ROUND('[1]Tabla de Amortizacion'!#REF!,8),ROUND('[1]Tabla de Amortizacion'!K96,8))))))","v":0}]
["2025-11-06",0,{"$f":"+VLOOKUP(A96,'Tabla de Amortizacion'!$D$2:$O$182,MATCH(Tablas!$B$1,'Tabla de Amortizacion'!$D$2:$O$2,0))","v":0},null,{"$f":"IF([1]CALCULADORA!$F$10=\"Contractual\",ROUND('[1]Tabla de Amortizacion'!C97,8),IF([1]CALCULADORA!$F$10=\"6% (Medio)\",ROUND('[1]Tabla de Amortizacion'!F97,8),IF([1]CALCULADORA!$F$10=\"10% (Medio Alto)\",ROUND('[1]Tabla de Amortizacion'!H97,8),IF([1]CALCULADORA!$F$10=\"14% (Alto)\",ROUND('[1]Tabla de Amortizacion'!#REF!,8),IF([1]CALCULADORA!$F$10=20%,ROUND('[1]Tabla de Amortizacion'!#REF!,8),ROUND('[1]Tabla de Amortizacion'!K97,8))))))","v":0}]
["2025-12-06",0,{"$f":"+VLOOKUP(A97,'Tabla de Amortizacion'!$D$2:$O$182,MATCH(Tablas!$B$1,'Tabla de Amortizacion'!$D$2:$O$2,0))","v":0},null,{"$f":"IF([1]CALCULADORA!$F$10=\"Contractual\",ROUND('[1]Tabla de Amortizacion'!C98,8),IF([1]CALCULADORA!$F$10=\"6% (Medio)\",ROUND('[1]Tabla de Amortizacion'!F98,8),IF([1]CALCULADORA!$F$10=\"10% (Medio Alto)\",ROUND('[1]Tabla de Amortizacion'!H98,8),IF([1]CALCULADORA!$F$10=\"14% (Alto)\",ROUND('[1]Tabla de Amortizacion'!#REF!,8),IF([1]CALCULADORA!$F$10=20%,ROUND('[1]Tabla de Amortizacion'!#REF!,8),ROUND('[1]Tabla de Amortizacion'!K98,8))))))","v":0}]
["2026-01-06",0,{"$f":"+VLOOKUP(A98,'Tabla de Amortizacion'!$D$2:$O$182,MATCH(Tablas!$B$1,'Tabla de Amortizacion'!$D$2:$O$2,0))","v":0},null,{"$f":"IF([1]CALCULADORA!$F$10=\"Contractual\",ROUND('[1]Tabla de Amortizacion'!C99,8),IF([1]CALCULADORA!$F$10=\"6% (Medio)\",ROUND('[1]Tabla de Amortizacion'!F99,8),IF([1]CALCULADORA!$F$10=\"10% (Medio Alto)\",ROUND('[1]Tabla de Amortizacion'!H99,8),IF([1]CALCULADORA!$F$10=\"14% (Alto)\",ROUND('[1]Tabla de Amortizacion'!#REF!,8),IF([1]CALCULADORA!$F$10=20%,ROUND('[1]Tabla de Amortizacion'!#REF!,8),ROUND('[1]Tabla de Amortizacion'!K99,8))))))","v":0}]
["2026-02-06",0,{"$f":"+VLOOKUP(A99,'Tabla de Amortizacion'!$D$2:$O$182,MATCH(Tablas!$B$1,'Tabla de Amortizacion'!$D$2:$O$2,0))","v":0},null,{"$f":"IF([1]CALCULADORA!$F$10=\"Contractual\",ROUND('[1]Tabla de Amortizacion'!C100,8),IF([1]CALCULADORA!$F$10=\"6% (Medio)\",ROUND('[1]Tabla de Amortizacion'!F100,8),IF([1]CALCULADORA!$F$10=\"10% (Medio Alto)\",ROUND('[1]Tabla de Amortizacion'!H100,8),IF([1]CALCULADORA!$F$10=\"14% (Alto)\",ROUND('[1]Tabla de Amortizacion'!#REF!,8),IF([1]CALCULADORA!$F$10=20%,ROUND('[1]Tabla de Amortizacion'!#REF!,8),ROUND('[1]Tabla de Amortizacion'!K100,8))))))","v":0}]
["2026-03-06",0,{"$f":"+VLOOKUP(A100,'Tabla de Amortizacion'!$D$2:$O$182,MATCH(Tablas!$B$1,'Tabla de Amortizacion'!$D$2:$O$2,0))","v":0},null,{"$f":"IF([1]CALCULADORA!$F$10=\"Contractual\",ROUND('[1]Tabla de Amortizacion'!C101,8),IF([1]CALCULADORA!$F$10=\"6% (Medio)\",ROUND('[1]Tabla de Amortizacion'!F101,8),IF([1]CALCULADORA!$F$10=\"10% (Medio Alto)\",ROUND('[1]Tabla de Amortizacion'!H101,8),IF([1]CALCULADORA!$F$10=\"14% (Alto)\",ROUND('[1]Tabla de Amortizacion'!#REF!,8),IF([1]CALCULADORA!$F$10=20%,ROUND('[1]Tabla de Amortizacion'!#REF!,8),ROUND('[1]Tabla de Amortizacion'!K101,8))))))","v":0}]
["2026-04-06",0,{"$f":"+VLOOKUP(A101,'Tabla de Amortizacion'!$D$2:$O$182,MATCH(Tablas!$B$1,'Tabla de Amortizacion'!$D$2:$O$2,0))","v":0},null,{"$f":"IF([1]CALCULADORA!$F$10=\"Contractual\",ROUND('[1]Tabla de Amortizacion'!C102,8),IF([1]CALCULADORA!$F$10=\"6% (Medio)\",ROUND('[1]Tabla de Amortizacion'!F102,8),IF([1]CALCULADORA!$F$10=\"10% (Medio Alto)\",ROUND('[1]Tabla de Amortizacion'!H102,8),IF([1]CALCULADORA!$F$10=\"14% (Alto)\",ROUND('[1]Tabla de Amortizacion'!#REF!,8),IF([1]CALCULADORA!$F$10=20%,ROUND('[1]Tabla de Amortizacion'!#REF!,8),ROUND('[1]Tabla de Amortizacion'!K102,8))))))","v":0}]
["2026-05-06",0,{"$f":"+VLOOKUP(A102,'Tabla de Amortizacion'!$D$2:$O$182,MATCH(Tablas!$B$1,'Tabla de Amortizacion'!$D$2:$O$2,0))","v":0},null,{"$f":"IF([1]CALCULADORA!$F$10=\"Contractual\",ROUND('[1]Tabla de Amortizacion'!C103,8),IF([1]CALCULADORA!$F$10=\"6% (Medio)\",ROUND('[1]Tabla de Amortizacion'!F103,8),IF([1]CALCULADORA!$F$10=\"10% (Medio Alto)\",ROUND('[1]Tabla de Amortizacion'!H103,8),IF([1]CALCULADORA!$F$10=\"14% (Alto)\",ROUND('[1]Tabla de Amortizacion'!#REF!,8),IF([1]CALCULADORA!$F$10=20%,ROUND('[1]Tabla de Amortizacion'!#REF!,8),ROUND('[1]Tabla de Amortizacion'!K103,8))))))","v":0}]
["2026-06-06",0,{"$f":"+VLOOKUP(A103,'Tabla de Amortizacion'!$D$2:$O$182,MATCH(Tablas!$B$1,'Tabla de Amortizacion'!$D$2:$O$2,0))","v":0},null,{"$f":"IF([1]CALCULADORA!$F$10=\"Contractual\",ROUND('[1]Tabla de Amortizacion'!C104,8),IF([1]CALCULADORA!$F$10=\"6% (Medio)\",ROUND('[1]Tabla de Amortizacion'!F104,8),IF([1]CALCULADORA!$F$10=\"10% (Medio Alto)\",ROUND('[1]Tabla de Amortizacion'!H104,8),IF([1]CALCULADORA!$F$10=\"14% (Alto)\",ROUND('[1]Tabla de Amortizacion'!#REF!,8),IF([1]CALCULADORA!$F$10=20%,ROUND('[1]Tabla de Amortizacion'!#REF!,8),ROUND('[1]Tabla de Amortizacion'!K104,8))))))","v":0}]
["2026-07-06",0,{"$f":"+VLOOKUP(A104,'Tabla de Amortizacion'!$D$2:$O$182,MATCH(Tablas!$B$1,'Tabla de Amortizacion'!$D$2:$O$2,0))","v":0},null,{"$f":"IF([1]CALCULADORA!$F$10=\"Contractual\",ROUND('[1]Tabla de Amortizacion'!C105,8),IF([1]CALCULADORA!$F$10=\"6% (Medio)\",ROUND('[1]Tabla de Amortizacion'!F105,8),IF([1]CALCULADORA!$F$10=\"10% (Medio Alto)\",ROUND('[1]Tabla de Amortizacion'!H105,8),IF([1]CALCULADORA!$F$10=\"14% (Alto)\",ROUND('[1]Tabla de Amortizacion'!#REF!,8),IF([1]CALCULADORA!$F$10=20%,ROUND('[1]Tabla de Amortizacion'!#REF!,8),ROUND('[1]Tabla de Amortizacion'!K105,8))))))","v":0}]
["2026-08-06",0,{"$f":"+VLOOKUP(A105,'Tabla de Amortizacion'!$D$2:$O$182,MATCH(Tablas!$B$1,'Tabla de Amortizacion'!$D$2:$O$2,0))","v":0},null,{"$f":"IF([1]CALCULADORA!$F$10=\"Contractual\",ROUND('[1]Tabla de Amortizacion'!C106,8),IF([1]CALCULADORA!$F$10=\"6% (Medio)\",ROUND('[1]Tabla de Amortizacion'!F106,8),IF([1]CALCULADORA!$F$10=\"10% (Medio Alto)\",ROUND('[1]Tabla de Amortizacion'!H106,8),IF([1]CALCULADORA!$F$10=\"14% (Alto)\",ROUND('[1]Tabla de Amortizacion'!#REF!,8),IF([1]CALCULADORA!$F$10=20%,ROUND('[1]Tabla de Amortizacion'!#REF!,8),ROUND('[1]Tabla de Amortizacion'!K106,8))))))","v":0}]
["2026-09-06",0,{"$f":"+VLOOKUP(A106,'Tabla de Amortizacion'!$D$2:$O$182,MATCH(Tablas!$B$1,'Tabla de Amortizacion'!$D$2:$O$2,0))","v":0},null,{"$f":"IF([1]CALCULADORA!$F$10=\"Contractual\",ROUND('[1]Tabla de Amortizacion'!C107,8),IF([1]CALCULADORA!$F$10=\"6% (Medio)\",ROUND('[1]Tabla de Amortizacion'!F107,8),IF([1]CALCULADORA!$F$10=\"10% (Medio Alto)\",ROUND('[1]Tabla de Amortizacion'!H107,8),IF([1]CALCULADORA!$F$10=\"14% (Alto)\",ROUND('[1]Tabla de Amortizacion'!#REF!,8),IF([1]CALCULADORA!$F$10=20%,ROUND('[1]Tabla de Amortizacion'!#REF!,8),ROUND('[1]Tabla de Amortizacion'!K107,8))))))","v":0}]
["2026-10-06",0,{"$f":"+VLOOKUP(A107,'Tabla de Amortizacion'!$D$2:$O$182,MATCH(Tablas!$B$1,'Tabla de Amortizacion'!$D$2:$O$2,0))","v":0},null,{"$f":"IF([1]CALCULADORA!$F$10=\"Contractual\",ROUND('[1]Tabla de Amortizacion'!C108,8),IF([1]CALCULADORA!$F$10=\"6% (Medio)\",ROUND('[1]Tabla de Amortizacion'!F108,8),IF([1]CALCULADORA!$F$10=\"10% (Medio Alto)\",ROUND('[1]Tabla de Amortizacion'!H108,8),IF([1]CALCULADORA!$F$10=\"14% (Alto)\",ROUND('[1]Tabla de Amortizacion'!#REF!,8),IF([1]CALCULADORA!$F$10=20%,ROUND('[1]Tabla de Amortizacion'!#REF!,8),ROUND('[1]Tabla de Amortizacion'!K108,8))))))","v":0}]
["2026-11-06",0,{"$f":"+VLOOKUP(A108,'Tabla de Amortizacion'!$D$2:$O$182,MATCH(Tablas!$B$1,'Tabla de Amortizacion'!$D$2:$O$2,0))","v":0},null,{"$f":"IF([1]CALCULADORA!$F$10=\"Contractual\",ROUND('[1]Tabla de Amortizacion'!C109,8),IF([1]CALCULADORA!$F$10=\"6% (Medio)\",ROUND('[1]Tabla de Amortizacion'!F109,8),IF([1]CALCULADORA!$F$10=\"10% (Medio Alto)\",ROUND('[1]Tabla de Amortizacion'!H109,8),IF([1]CALCULADORA!$F$10=\"14% (Alto)\",ROUND('[1]Tabla de Amortizacion'!#REF!,8),IF([1]CALCULADORA!$F$10=20%,ROUND('[1]Tabla de Amortizacion'!#REF!,8),ROUND('[1]Tabla de Amortizacion'!K109,8))))))","v":0}]
["2026-12-06",0,{"$f":"+VLOOKUP(A109,'Tabla de Amortizacion'!$D$2:$O$182,MATCH(Tablas!$B$1,'Tabla de Amortizacion'!$D$2:$O$2,0))","v":0},null,{"$f":"IF([1]CALCULADORA!$F$10=\"Contractual\",ROUND('[1]Tabla de Amortizacion'!C110,8),IF([1]CALCULADORA!$F$10=\"6% (Medio)\",ROUND('[1]Tabla de Amortizacion'!F110,8),IF([1]CALCULADORA!$F$10=\"10% (Medio Alto)\",ROUND('[1]Tabla de Amortizacion'!H110,8),IF([1]CALCULADORA!$F$10=\"14% (Alto)\",ROUND('[1]Tabla de Amortizacion'!#REF!,8),IF([1]CALCULADORA!$F$10=20%,ROUND('[1]Tabla de Amortizacion'!#REF!,8),ROUND('[1]Tabla de Amortizacion'!K110,8))))))","v":0}]
["2027-01-06",0,{"$f":"+VLOOKUP(A110,'Tabla de Amortizacion'!$D$2:$O$182,MATCH(Tablas!$B$1,'Tabla de Amortizacion'!$D$2:$O$2,0))","v":0},null,{"$f":"IF([1]CALCULADORA!$F$10=\"Contractual\",ROUND('[1]Tabla de Amortizacion'!C111,8),IF([1]CALCULADORA!$F$10=\"6% (Medio)\",ROUND('[1]Tabla de Amortizacion'!F111,8),IF([1]CALCULADORA!$F$10=\"10% (Medio Alto)\",ROUND('[1]Tabla de Amortizacion'!H111,8),IF([1]CALCULADORA!$F$10=\"14% (Alto)\",ROUND('[1]Tabla de Amortizacion'!#REF!,8),IF([1]CALCULADORA!$F$10=20%,ROUND('[1]Tabla de Amortizacion'!#REF!,8),ROUND('[1]Tabla de Amortizacion'!K111,8))))))","v":0}]
["2027-02-06",0,{"$f":"+VLOOKUP(A111,'Tabla de Amortizacion'!$D$2:$O$182,MATCH(Tablas!$B$1,'Tabla de Amortizacion'!$D$2:$O$2,0))","v":0},null,{"$f":"IF([1]CALCULADORA!$F$10=\"Contractual\",ROUND('[1]Tabla de Amortizacion'!C112,8),IF([1]CALCULADORA!$F$10=\"6% (Medio)\",ROUND('[1]Tabla de Amortizacion'!F112,8),IF([1]CALCULADORA!$F$10=\"10% (Medio Alto)\",ROUND('[1]Tabla de Amortizacion'!H112,8),IF([1]CALCULADORA!$F$10=\"14% (Alto)\",ROUND('[1]Tabla de Amortizacion'!#REF!,8),IF([1]CALCULADORA!$F$10=20%,ROUND('[1]Tabla de Amortizacion'!#REF!,8),ROUND('[1]Tabla de Amortizacion'!K112,8))))))","v":0}]
["2027-03-06",0,{"$f":"+VLOOKUP(A112,'Tabla de Amortizacion'!$D$2:$O$182,MATCH(Tablas!$B$1,'Tabla de Amortizacion'!$D$2:$O$2,0))","v":0},null,{"$f":"IF([1]CALCULADORA!$F$10=\"Contractual\",ROUND('[1]Tabla de Amortizacion'!C113,8),IF([1]CALCULADORA!$F$10=\"6% (Medio)\",ROUND('[1]Tabla de Amortizacion'!F113,8),IF([1]CALCULADORA!$F$10=\"10% (Medio Alto)\",ROUND('[1]Tabla de Amortizacion'!H113,8),IF([1]CALCULADORA!$F$10=\"14% (Alto)\",ROUND('[1]Tabla de Amortizacion'!#REF!,8),IF([1]CALCULADORA!$F$10=20%,ROUND('[1]Tabla de Amortizacion'!#REF!,8),ROUND('[1]Tabla de Amortizacion'!K113,8))))))","v":0}]
["2027-04-06",0,{"$f":"+VLOOKUP(A113,'Tabla de Amortizacion'!$D$2:$O$182,MATCH(Tablas!$B$1,'Tabla de Amortizacion'!$D$2:$O$2,0))","v":0},null,{"$f":"IF([1]CALCULADORA!$F$10=\"Contractual\",ROUND('[1]Tabla de Amortizacion'!C114,8),IF([1]CALCULADORA!$F$10=\"6% (Medio)\",ROUND('[1]Tabla de Amortizacion'!F114,8),IF([1]CALCULADORA!$F$10=\"10% (Medio Alto)\",ROUND('[1]Tabla de Amortizacion'!H114,8),IF([1]CALCULADORA!$F$10=\"14% (Alto)\",ROUND('[1]Tabla de Amortizacion'!#REF!,8),IF([1]CALCULADORA!$F$10=20%,ROUND('[1]Tabla de Amortizacion'!#REF!,8),ROUND('[1]Tabla de Amortizacion'!K114,8))))))","v":0}]
["2027-05-06",0,{"$f":"+VLOOKUP(A114,'Tabla de Amortizacion'!$D$2:$O$182,MATCH(Tablas!$B$1,'Tabla de Amortizacion'!$D$2:$O$2,0))","v":0},null,{"$f":"IF([1]CALCULADORA!$F$10=\"Contractual\",ROUND('[1]Tabla de Amortizacion'!C115,8),IF([1]CALCULADORA!$F$10=\"6% (Medio)\",ROUND('[1]Tabla de Amortizacion'!F115,8),IF([1]CALCULADORA!$F$10=\"10% (Medio Alto)\",ROUND('[1]Tabla de Amortizacion'!H115,8),IF([1]CALCULADORA!$F$10=\"14% (Alto)\",ROUND('[1]Tabla de Amortizacion'!#REF!,8),IF([1]CALCULADORA!$F$10=20%,ROUND('[1]Tabla de Amortizacion'!#REF!,8),ROUND('[1]Tabla de Amortizacion'!K115,8))))))","v":0}]
["2027-06-06",0,{"$f":"+VLOOKUP(A115,'Tabla de Amortizacion'!$D$2:$O$182,MATCH(Tablas!$B$1,'Tabla de Amortizacion'!$D$2:$O$2,0))","v":0},null,{"$f":"IF([1]CALCULADORA!$F$10=\"Contractual\",ROUND('[1]Tabla de Amortizacion'!C116,8),IF([1]CALCULADORA!$F$10=\"6% (Medio)\",ROUND('[1]Tabla de Amortizacion'!F116,8),IF([1]CALCULADORA!$F$10=\"10% (Medio Alto)\",ROUND('[1]Tabla de Amortizacion'!H116,8),IF([1]CALCULADORA!$F$10=\"14% (Alto)\",ROUND('[1]Tabla de Amortizacion'!#REF!,8),IF([1]CALCULADORA!$F$10=20%,ROUND('[1]Tabla de Amortizacion'!#REF!,8),ROUND('[1]Tabla de Amortizacion'!K116,8))))))","v":0}]
["2027-07-06",0,{"$f":"+VLOOKUP(A116,'Tabla de Amortizacion'!$D$2:$O$182,MATCH(Tablas!$B$1,'Tabla de Amortizacion'!$D$2:$O$2,0))","v":0},null,{"$f":"IF([1]CALCULADORA!$F$10=\"Contractual\",ROUND('[1]Tabla de Amortizacion'!C117,8),IF([1]CALCULADORA!$F$10=\"6% (Medio)\",ROUND('[1]Tabla de Amortizacion'!F117,8),IF([1]CALCULADORA!$F$10=\"10% (Medio Alto)\",ROUND('[1]Tabla de Amortizacion'!H117,8),IF([1]CALCULADORA!$F$10=\"14% (Alto)\",ROUND('[1]Tabla de Amortizacion'!#REF!,8),IF([1]CALCULADORA!$F$10=20%,ROUND('[1]Tabla de Amortizacion'!#REF!,8),ROUND('[1]Tabla de Amortizacion'!K117,8))))))","v":0}]
["2027-08-06",0,{"$f":"+VLOOKUP(A117,'Tabla de Amortizacion'!$D$2:$O$182,MATCH(Tablas!$B$1,'Tabla de Amortizacion'!$D$2:$O$2,0))","v":0},null,{"$f":"IF([1]CALCULADORA!$F$10=\"Contractual\",ROUND('[1]Tabla de Amortizacion'!C118,8),IF([1]CALCULADORA!$F$10=\"6% (Medio)\",ROUND('[1]Tabla de Amortizacion'!F118,8),IF([1]CALCULADORA!$F$10=\"10% (Medio Alto)\",ROUND('[1]Tabla de Amortizacion'!H118,8),IF([1]CALCULADORA!$F$10=\"14% (Alto)\",ROUND('[1]Tabla de Amortizacion'!#REF!,8),IF([1]CALCULADORA!$F$10=20%,ROUND('[1]Tabla de Amortizacion'!#REF!,8),ROUND('[1]Tabla de Amortizacion'!K118,8))))))","v":0}]
["2027-09-06",0,{"$f":"+VLOOKUP(A118,'Tabla de Amortizacion'!$D$2:$O$182,MATCH(Tablas!$B$1,'Tabla de Amortizacion'!$D$2:$O$2,0))","v":0},null,{"$f":"IF([1]CALCULADORA!$F$10=\"Contractual\",ROUND('[1]Tabla de Amortizacion'!C119,8),IF([1]CALCULADORA!$F$10=\"6% (Medio)\",ROUND('[1]Tabla de Amortizacion'!F119,8),IF([1]CALCULADORA!$F$10=\"10% (Medio Alto)\",ROUND('[1]Tabla de Amortizacion'!H119,8),IF([1]CALCULADORA!$F$10=\"14% (Alto)\",ROUND('[1]Tabla de Amortizacion'!#REF!,8),IF([1]CALCULADORA!$F$10=20%,ROUND('[1]Tabla de Amortizacion'!#REF!,8),ROUND('[1]Tabla de Amortizacion'!K119,8))))))","v":0}]
["2027-10-06",0,{"$f":"+VLOOKUP(A119,'Tabla de Amortizacion'!$D$2:$O$182,MATCH(Tablas!$B$1,'Tabla de Amortizacion'!$D$2:$O$2,0))","v":0},null,{"$f":"IF([1]CALCULADORA!$F$10=\"Contractual\",ROUND('[1]Tabla de Amortizacion'!C120,8),IF([1]CALCULADORA!$F$10=\"6% (Medio)\",ROUND('[1]Tabla de Amortizacion'!F120,8),IF([1]CALCULADORA!$F$10=\"10% (Medio Alto)\",ROUND('[1]Tabla de Amortizacion'!H120,8),IF([1]CALCULADORA!$F$10=\"14% (Alto)\",ROUND('[1]Tabla de Amortizacion'!#REF!,8),IF([1]CALCULADORA!$F$10=20%,ROUND('[1]Tabla de Amortizacion'!#REF!,8),ROUND('[1]Tabla de Amortizacion'!K120,8))))))","v":0}]
["2027-11-06",0,{"$f":"+VLOOKUP(A120,'Tabla de Amortizacion'!$D$2:$O$182,MATCH(Tablas!$B$1,'Tabla de Amortizacion'!$D$2:$O$2,0))","v":0},null,{"$f":"IF([1]CALCULADORA!$F$10=\"Contractual\",ROUND('[1]Tabla de Amortizacion'!C121,8),IF([1]CALCULADORA!$F$10=\"6% (Medio)\",ROUND('[1]Tabla de Amortizacion'!F121,8),IF([1]CALCULADORA!$F$10=\"10% (Medio Alto)\",ROUND('[1]Tabla de Amortizacion'!H121,8),IF([1]CALCULADORA!$F$10=\"14% (Alto)\",ROUND('[1]Tabla de Amortizacion'!#REF!,8),IF([1]CALCULADORA!$F$10=20%,ROUND('[1]Tabla de Amortizacion'!#REF!,8),ROUND('[1]Tabla de Amortizacion'!K121,8))))))","v":0}]
["2027-12-06",0,{"$f":"+VLOOKUP(A121,'Tabla de Amortizacion'!$D$2:$O$182,MATCH(Tablas!$B$1,'Tabla de Amortizacion'!$D$2:$O$2,0))","v":0},null,{"$f":"IF([1]CALCULADORA!$F$10=\"Contractual\",ROUND('[1]Tabla de Amortizacion'!C122,8),IF([1]CALCULADORA!$F$10=\"6% (Medio)\",ROUND('[1]Tabla de Amortizacion'!F122,8),IF([1]CALCULADORA!$F$10=\"10% (Medio Alto)\",ROUND('[1]Tabla de Amortizacion'!H122,8),IF([1]CALCULADORA!$F$10=\"14% (Alto)\",ROUND('[1]Tabla de Amortizacion'!#REF!,8),IF([1]CALCULADORA!$F$10=20%,ROUND('[1]Tabla de Amortizacion'!#REF!,8),ROUND('[1]Tabla de Amortizacion'!K122,8))))))","v":0}]
["2028-01-06",0,{"$f":"+VLOOKUP(A122,'Tabla de Amortizacion'!$D$2:$O$182,MATCH(Tablas!$B$1,'Tabla de Amortizacion'!$D$2:$O$2,0))","v":0},null,{"$f":"IF([1]CALCULADORA!$F$10=\"Contractual\",ROUND('[1]Tabla de Amortizacion'!C123,8),IF([1]CALCULADORA!$F$10=\"6% (Medio)\",ROUND('[1]Tabla de Amortizacion'!F123,8),IF([1]CALCULADORA!$F$10=\"10% (Medio Alto)\",ROUND('[1]Tabla de Amortizacion'!H123,8),IF([1]CALCULADORA!$F$10=\"14% (Alto)\",ROUND('[1]Tabla de Amortizacion'!#REF!,8),IF([1]CALCULADORA!$F$10=20%,ROUND('[1]Tabla de Amortizacion'!#REF!,8),ROUND('[1]Tabla de Amortizacion'!K123,8))))))","v":0}]
["2028-02-06",0,{"$f":"+VLOOKUP(A123,'Tabla de Amortizacion'!$D$2:$O$182,MATCH(Tablas!$B$1,'Tabla de Amortizacion'!$D$2:$O$2,0))","v":0},null,{"$f":"IF([1]CALCULADORA!$F$10=\"Contractual\",ROUND('[1]Tabla de Amortizacion'!C124,8),IF([1]CALCULADORA!$F$10=\"6% (Medio)\",ROUND('[1]Tabla de Amortizacion'!F124,8),IF([1]CALCULADORA!$F$10=\"10% (Medio Alto)\",ROUND('[1]Tabla de Amortizacion'!H124,8),IF([1]CALCULADORA!$F$10=\"14% (Alto)\",ROUND('[1]Tabla de Amortizacion'!#REF!,8),IF([1]CALCULADORA!$F$10=20%,ROUND('[1]Tabla de Amortizacion'!#REF!,8),ROUND('[1]Tabla de Amortizacion'!K124,8))))))","v":0}]
["2028-03-06",0,{"$f":"+VLOOKUP(A124,'Tabla de Amortizacion'!$D$2:$O$182,MATCH(Tablas!$B$1,'Tabla de Amortizacion'!$D$2:$O$2,0))","v":0},null,{"$f":"IF([1]CALCULADORA!$F$10=\"Contractual\",ROUND('[1]Tabla de Amortizacion'!C125,8),IF([1]CALCULADORA!$F$10=\"6% (Medio)\",ROUND('[1]Tabla de Amortizacion'!F125,8),IF([1]CALCULADORA!$F$10=\"10% (Medio Alto)\",ROUND('[1]Tabla de Amortizacion'!H125,8),IF([1]CALCULADORA!$F$10=\"14% (Alto)\",ROUND('[1]Tabla de Amortizacion'!#REF!,8),IF([1]CALCULADORA!$F$10=20%,ROUND('[1]Tabla de Amortizacion'!#REF!,8),ROUND('[1]Tabla de Amortizacion'!K125,8))))))","v":0}]
["2028-04-06",0,{"$f":"+VLOOKUP(A125,'Tabla de Amortizacion'!$D$2:$O$182,MATCH(Tablas!$B$1,'Tabla de Amortizacion'!$D$2:$O$2,0))","v":0},null,{"$f":"IF([1]CALCULADORA!$F$10=\"Contractual\",ROUND('[1]Tabla de Amortizacion'!C126,8),IF([1]CALCULADORA!$F$10=\"6% (Medio)\",ROUND('[1]Tabla de Amortizacion'!F126,8),IF([1]CALCULADORA!$F$10=\"10% (Medio Alto)\",ROUND('[1]Tabla de Amortizacion'!H126,8),IF([1]CALCULADORA!$F$10=\"14% (Alto)\",ROUND('[1]Tabla de Amortizacion'!#REF!,8),IF([1]CALCULADORA!$F$10=20%,ROUND('[1]Tabla de Amortizacion'!#REF!,8),ROUND('[1]Tabla de Amortizacion'!K126,8))))))","v":0}]
["2028-05-06",0,{"$f":"+VLOOKUP(A126,'Tabla de Amortizacion'!$D$2:$O$182,MATCH(Tablas!$B$1,'Tabla de Amortizacion'!$D$2:$O$2,0))","v":0},null,{"$f":"IF([1]CALCULADORA!$F$10=\"Contractual\",ROUND('[1]Tabla de Amortizacion'!C127,8),IF([1]CALCULADORA!$F$10=\"6% (Medio)\",ROUND('[1]Tabla de Amortizacion'!F127,8),IF([1]CALCULADORA!$F$10=\"10% (Medio Alto)\",ROUND('[1]Tabla de Amortizacion'!H127,8),IF([1]CALCULADORA!$F$10=\"14% (Alto)\",ROUND('[1]Tabla de Amortizacion'!#REF!,8),IF([1]CALCULADORA!$F$10=20%,ROUND('[1]Tabla de Amortizacion'!#REF!,8),ROUND('[1]Tabla de Amortizacion'!K127,8))))))","v":0}]
["2028-06-06",0,{"$f":"+VLOOKUP(A127,'Tabla de Amortizacion'!$D$2:$O$182,MATCH(Tablas!$B$1,'Tabla de Amortizacion'!$D$2:$O$2,0))","v":0},null,{"$f":"IF([1]CALCULADORA!$F$10=\"Contractual\",ROUND('[1]Tabla de Amortizacion'!C128,8),IF([1]CALCULADORA!$F$10=\"6% (Medio)\",ROUND('[1]Tabla de Amortizacion'!F128,8),IF([1]CALCULADORA!$F$10=\"10% (Medio Alto)\",ROUND('[1]Tabla de Amortizacion'!H128,8),IF([1]CALCULADORA!$F$10=\"14% (Alto)\",ROUND('[1]Tabla de Amortizacion'!#REF!,8),IF([1]CALCULADORA!$F$10=20%,ROUND('[1]Tabla de Amortizacion'!#REF!,8),ROUND('[1]Tabla de Amortizacion'!K128,8))))))","v":0}]
["2028-07-06",0,{"$f":"+VLOOKUP(A128,'Tabla de Amortizacion'!$D$2:$O$182,MATCH(Tablas!$B$1,'Tabla de Amortizacion'!$D$2:$O$2,0))","v":0},null,{"$f":"IF([1]CALCULADORA!$F$10=\"Contractual\",ROUND('[1]Tabla de Amortizacion'!C129,8),IF([1]CALCULADORA!$F$10=\"6% (Medio)\",ROUND('[1]Tabla de Amortizacion'!F129,8),IF([1]CALCULADORA!$F$10=\"10% (Medio Alto)\",ROUND('[1]Tabla de Amortizacion'!H129,8),IF([1]CALCULADORA!$F$10=\"14% (Alto)\",ROUND('[1]Tabla de Amortizacion'!#REF!,8),IF([1]CALCULADORA!$F$10=20%,ROUND('[1]Tabla de Amortizacion'!#REF!,8),ROUND('[1]Tabla de Amortizacion'!K129,8))))))","v":0}]
["2028-08-06",0,{"$f":"+VLOOKUP(A129,'Tabla de Amortizacion'!$D$2:$O$182,MATCH(Tablas!$B$1,'Tabla de Amortizacion'!$D$2:$O$2,0))","v":0},null,{"$f":"IF([1]CALCULADORA!$F$10=\"Contractual\",ROUND('[1]Tabla de Amortizacion'!C130,8),IF([1]CALCULADORA!$F$10=\"6% (Medio)\",ROUND('[1]Tabla de Amortizacion'!F130,8),IF([1]CALCULADORA!$F$10=\"10% (Medio Alto)\",ROUND('[1]Tabla de Amortizacion'!H130,8),IF([1]CALCULADORA!$F$10=\"14% (Alto)\",ROUND('[1]Tabla de Amortizacion'!#REF!,8),IF([1]CALCULADORA!$F$10=20%,ROUND('[1]Tabla de Amortizacion'!#REF!,8),ROUND('[1]Tabla de Amortizacion'!K130,8))))))","v":0}]
["2028-09-06",0,{"$f":"+VLOOKUP(A130,'Tabla de Amortizacion'!$D$2:$O$182,MATCH(Tablas!$B$1,'Tabla de Amortizacion'!$D$2:$O$2,0))","v":0},null,{"$f":"IF([1]CALCULADORA!$F$10=\"Contractual\",ROUND('[1]Tabla de Amortizacion'!C131,8),IF([1]CALCULADORA!$F$10=\"6% (Medio)\",ROUND('[1]Tabla de Amortizacion'!F131,8),IF([1]CALCULADORA!$F$10=\"10% (Medio Alto)\",ROUND('[1]Tabla de Amortizacion'!H131,8),IF([1]CALCULADORA!$F$10=\"14% (Alto)\",ROUND('[1]Tabla de Amortizacion'!#REF!,8),IF([1]CALCULADORA!$F$10=20%,ROUND('[1]Tabla de Amortizacion'!#REF!,8),ROUND('[1]Tabla de Amortizacion'!K131,8))))))","v":0}]
[{"$f":"EDATE(A130,1)","v":"2028-10-06"},{"$f":"+ROUND(C131,8)","v":0},{"$f":"+VLOOKUP(A131,'Tabla de Amortizacion'!$D$2:$O$182,MATCH(Tablas!$B$1,'Tabla de Amortizacion'!$D$2:$O$2,0))","v":0},null,{"$f":"IF([1]CALCULADORA!$F$10=\"Contractual\",ROUND('[1]Tabla de Amortizacion'!C132,8),IF([1]CALCULADORA!$F$10=\"6% (Medio)\",ROUND('[1]Tabla de Amortizacion'!F132,8),IF([1]CALCULADORA!$F$10=\"10% (Medio Alto)\",ROUND('[1]Tabla de Amortizacion'!H132,8),IF([1]CALCULADORA!$F$10=\"14% (Alto)\",ROUND('[1]Tabla de Amortizacion'!#REF!,8),IF([1]CALCULADORA!$F$10=20%,ROUND('[1]Tabla de Amortizacion'!#REF!,8),ROUND('[1]Tabla de Amortizacion'!K132,8))))))","v":0}]
["2028-11-06",0,{"$f":"+VLOOKUP(A132,'Tabla de Amortizacion'!$D$2:$O$182,MATCH(Tablas!$B$1,'Tabla de Amortizacion'!$D$2:$O$2,0))","v":0},null,{"$f":"IF([1]CALCULADORA!$F$10=\"Contractual\",ROUND('[1]Tabla de Amortizacion'!C133,8),IF([1]CALCULADORA!$F$10=\"6% (Medio)\",ROUND('[1]Tabla de Amortizacion'!F133,8),IF([1]CALCULADORA!$F$10=\"10% (Medio Alto)\",ROUND('[1]Tabla de Amortizacion'!H133,8),IF([1]CALCULADORA!$F$10=\"14% (Alto)\",ROUND('[1]Tabla de Amortizacion'!#REF!,8),IF([1]CALCULADORA!$F$10=20%,ROUND('[1]Tabla de Amortizacion'!#REF!,8),ROUND('[1]Tabla de Amortizacion'!K133,8))))))","v":0}]
["2028-12-06",0,{"$f":"+VLOOKUP(A133,'Tabla de Amortizacion'!$D$2:$O$182,MATCH(Tablas!$B$1,'Tabla de Amortizacion'!$D$2:$O$2,0))","v":0},null,{"$f":"IF([1]CALCULADORA!$F$10=\"Contractual\",ROUND('[1]Tabla de Amortizacion'!C134,8),IF([1]CALCULADORA!$F$10=\"6% (Medio)\",ROUND('[1]Tabla de Amortizacion'!F134,8),IF([1]CALCULADORA!$F$10=\"10% (Medio Alto)\",ROUND('[1]Tabla de Amortizacion'!H134,8),IF([1]CALCULADORA!$F$10=\"14% (Alto)\",ROUND('[1]Tabla de Amortizacion'!#REF!,8),IF([1]CALCULADORA!$F$10=20%,ROUND('[1]Tabla de Amortizacion'!#REF!,8),ROUND('[1]Tabla de Amortizacion'!K134,8))))))","v":0}]
["2029-01-06",0,{"$f":"+VLOOKUP(A134,'Tabla de Amortizacion'!$D$2:$O$182,MATCH(Tablas!$B$1,'Tabla de Amortizacion'!$D$2:$O$2,0))","v":0},null,{"$f":"IF([1]CALCULADORA!$F$10=\"Contractual\",ROUND('[1]Tabla de Amortizacion'!C135,8),IF([1]CALCULADORA!$F$10=\"6% (Medio)\",ROUND('[1]Tabla de Amortizacion'!F135,8),IF([1]CALCULADORA!$F$10=\"10% (Medio Alto)\",ROUND('[1]Tabla de Amortizacion'!H135,8),IF([1]CALCULADORA!$F$10=\"14% (Alto)\",ROUND('[1]Tabla de Amortizacion'!#REF!,8),IF([1]CALCULADORA!$F$10=20%,ROUND('[1]Tabla de Amortizacion'!#REF!,8),ROUND('[1]Tabla de Amortizacion'!K135,8))))))","v":0}]
["2029-02-06",0,{"$f":"+VLOOKUP(A135,'Tabla de Amortizacion'!$D$2:$O$182,MATCH(Tablas!$B$1,'Tabla de Amortizacion'!$D$2:$O$2,0))","v":0},null,{"$f":"IF([1]CALCULADORA!$F$10=\"Contractual\",ROUND('[1]Tabla de Amortizacion'!C136,8),IF([1]CALCULADORA!$F$10=\"6% (Medio)\",ROUND('[1]Tabla de Amortizacion'!F136,8),IF([1]CALCULADORA!$F$10=\"10% (Medio Alto)\",ROUND('[1]Tabla de Amortizacion'!H136,8),IF([1]CALCULADORA!$F$10=\"14% (Alto)\",ROUND('[1]Tabla de Amortizacion'!#REF!,8),IF([1]CALCULADORA!$F$10=20%,ROUND('[1]Tabla de Amortizacion'!#REF!,8),ROUND('[1]Tabla de Amortizacion'!K136,8))))))","v":0}]
["2029-03-06",0,{"$f":"+VLOOKUP(A136,'Tabla de Amortizacion'!$D$2:$O$182,MATCH(Tablas!$B$1,'Tabla de Amortizacion'!$D$2:$O$2,0))","v":0},null,{"$f":"IF([1]CALCULADORA!$F$10=\"Contractual\",ROUND('[1]Tabla de Amortizacion'!C137,8),IF([1]CALCULADORA!$F$10=\"6% (Medio)\",ROUND('[1]Tabla de Amortizacion'!F137,8),IF([1]CALCULADORA!$F$10=\"10% (Medio Alto)\",ROUND('[1]Tabla de Amortizacion'!H137,8),IF([1]CALCULADORA!$F$10=\"14% (Alto)\",ROUND('[1]Tabla de Amortizacion'!#REF!,8),IF([1]CALCULADORA!$F$10=20%,ROUND('[1]Tabla de Amortizacion'!#REF!,8),ROUND('[1]Tabla de Amortizacion'!K137,8))))))","v":0}]
["2029-04-06",0,{"$f":"+VLOOKUP(A137,'Tabla de Amortizacion'!$D$2:$O$182,MATCH(Tablas!$B$1,'Tabla de Amortizacion'!$D$2:$O$2,0))","v":0},null,{"$f":"IF([1]CALCULADORA!$F$10=\"Contractual\",ROUND('[1]Tabla de Amortizacion'!C138,8),IF([1]CALCULADORA!$F$10=\"6% (Medio)\",ROUND('[1]Tabla de Amortizacion'!F138,8),IF([1]CALCULADORA!$F$10=\"10% (Medio Alto)\",ROUND('[1]Tabla de Amortizacion'!H138,8),IF([1]CALCULADORA!$F$10=\"14% (Alto)\",ROUND('[1]Tabla de Amortizacion'!#REF!,8),IF([1]CALCULADORA!$F$10=20%,ROUND('[1]Tabla de Amortizacion'!#REF!,8),ROUND('[1]Tabla de Amortizacion'!K138,8))))))","v":0}]
["2029-05-06",0,{"$f":"+VLOOKUP(A138,'Tabla de Amortizacion'!$D$2:$O$182,MATCH(Tablas!$B$1,'Tabla de Amortizacion'!$D$2:$O$2,0))","v":0},null,{"$f":"IF([1]CALCULADORA!$F$10=\"Contractual\",ROUND('[1]Tabla de Amortizacion'!C139,8),IF([1]CALCULADORA!$F$10=\"6% (Medio)\",ROUND('[1]Tabla de Amortizacion'!F139,8),IF([1]CALCULADORA!$F$10=\"10% (Medio Alto)\",ROUND('[1]Tabla de Amortizacion'!H139,8),IF([1]CALCULADORA!$F$10=\"14% (Alto)\",ROUND('[1]Tabla de Amortizacion'!#REF!,8),IF([1]CALCULADORA!$F$10=20%,ROUND('[1]Tabla de Amortizacion'!#REF!,8),ROUND('[1]Tabla de Amortizacion'!K139,8))))))","v":0}]
["2029-06-06",0,{"$f":"+VLOOKUP(A139,'Tabla de Amortizacion'!$D$2:$O$182,MATCH(Tablas!$B$1,'Tabla de Amortizacion'!$D$2:$O$2,0))","v":0},null,{"$f":"IF([1]CALCULADORA!$F$10=\"Contractual\",ROUND('[1]Tabla de Amortizacion'!C140,8),IF([1]CALCULADORA!$F$10=\"6% (Medio)\",ROUND('[1]Tabla de Amortizacion'!F140,8),IF([1]CALCULADORA!$F$10=\"10% (Medio Alto)\",ROUND('[1]Tabla de Amortizacion'!H140,8),IF([1]CALCULADORA!$F$10=\"14% (Alto)\",ROUND('[1]Tabla de Amortizacion'!#REF!,8),IF([1]CALCULADORA!$F$10=20%,ROUND('[1]Tabla de Amortizacion'!#REF!,8),ROUND('[1]Tabla de Amortizacion'!K140,8))))))","v":0}]
["2029-07-06",0,{"$f":"+VLOOKUP(A140,'Tabla de Amortizacion'!$D$2:$O$182,MATCH(Tablas!$B$1,'Tabla de Amortizacion'!$D$2:$O$2,0))","v":0},null,{"$f":"IF([1]CALCULADORA!$F$10=\"Contractual\",ROUND('[1]Tabla de Amortizacion'!C141,8),IF([1]CALCULADORA!$F$10=\"6% (Medio)\",ROUND('[1]Tabla de Amortizacion'!F141,8),IF([1]CALCULADORA!$F$10=\"10% (Medio Alto)\",ROUND('[1]Tabla de Amortizacion'!H141,8),IF([1]CALCULADORA!$F$10=\"14% (Alto)\",ROUND('[1]Tabla de Amortizacion'!#REF!,8),IF([1]CALCULADORA!$F$10=20%,ROUND('[1]Tabla de Amortizacion'!#REF!,8),ROUND('[1]Tabla de Amortizacion'!K141,8))))))","v":0}]
["2029-08-06",0,{"$f":"+VLOOKUP(A141,'Tabla de Amortizacion'!$D$2:$O$182,MATCH(Tablas!$B$1,'Tabla de Amortizacion'!$D$2:$O$2,0))","v":0},null,{"$f":"IF([1]CALCULADORA!$F$10=\"Contractual\",ROUND('[1]Tabla de Amortizacion'!C142,8),IF([1]CALCULADORA!$F$10=\"6% (Medio)\",ROUND('[1]Tabla de Amortizacion'!F142,8),IF([1]CALCULADORA!$F$10=\"10% (Medio Alto)\",ROUND('[1]Tabla de Amortizacion'!H142,8),IF([1]CALCULADORA!$F$10=\"14% (Alto)\",ROUND('[1]Tabla de Amortizacion'!#REF!,8),IF([1]CALCULADORA!$F$10=20%,ROUND('[1]Tabla de Amortizacion'!#REF!,8),ROUND('[1]Tabla de Amortizacion'!K142,8))))))","v":0}]
["2029-09-06",0,{"$f":"+VLOOKUP(A142,'Tabla de Amortizacion'!$D$2:$O$182,MATCH(Tablas!$B$1,'Tabla de Amortizacion'!$D$2:$O$2,0))","v":0},null,{"$f":"IF([1]CALCULADORA!$F$10=\"Contractual\",ROUND('[1]Tabla de Amortizacion'!C143,8),IF([1]CALCULADORA!$F$10=\"6% (Medio)\",ROUND('[1]Tabla de Amortizacion'!F143,8),IF([1]CALCULADORA!$F$10=\"10% (Medio Alto)\",ROUND('[1]Tabla de Amortizacion'!H143,8),IF([1]CALCULADORA!$F$10=\"14% (Alto)\",ROUND('[1]Tabla de Amortizacion'!#REF!,8),IF([1]CALCULADORA!$F$10=20%,ROUND('[1]Tabla de Amortizacion'!#REF!,8),ROUND('[1]Tabla de Amortizacion'!K143,8))))))","v":0}]
["2029-10-06",0,{"$f":"+VLOOKUP(A143,'Tabla de Amortizacion'!$D$2:$O$182,MATCH(Tablas!$B$1,'Tabla de Amortizacion'!$D$2:$O$2,0))","v":0},null,{"$f":"IF([1]CALCULADORA!$F$10=\"Contractual\",ROUND('[1]Tabla de Amortizacion'!C144,8),IF([1]CALCULADORA!$F$10=\"6% (Medio)\",ROUND('[1]Tabla de Amortizacion'!F144,8),IF([1]CALCULADORA!$F$10=\"10% (Medio Alto)\",ROUND('[1]Tabla de Amortizacion'!H144,8),IF([1]CALCULADORA!$F$10=\"14% (Alto)\",ROUND('[1]Tabla de Amortizacion'!#REF!,8),IF([1]CALCULADORA!$F$10=20%,ROUND('[1]Tabla de Amortizacion'!#REF!,8),ROUND('[1]Tabla de Amortizacion'!K144,8))))))","v":0}]
["2029-11-06",0,{"$f":"+VLOOKUP(A144,'Tabla de Amortizacion'!$D$2:$O$182,MATCH(Tablas!$B$1,'Tabla de Amortizacion'!$D$2:$O$2,0))","v":0},null,{"$f":"IF([1]CALCULADORA!$F$10=\"Contractual\",ROUND('[1]Tabla de Amortizacion'!C145,8),IF([1]CALCULADORA!$F$10=\"6% (Medio)\",ROUND('[1]Tabla de Amortizacion'!F145,8),IF([1]CALCULADORA!$F$10=\"10% (Medio Alto)\",ROUND('[1]Tabla de Amortizacion'!H145,8),IF([1]CALCULADORA!$F$10=\"14% (Alto)\",ROUND('[1]Tabla de Amortizacion'!#REF!,8),IF([1]CALCULADORA!$F$10=20%,ROUND('[1]Tabla de Amortizacion'!#REF!,8),ROUND('[1]Tabla de Amortizacion'!K145,8))))))","v":0}]
["2029-12-06",0,{"$f":"+VLOOKUP(A145,'Tabla de Amortizacion'!$D$2:$O$182,MATCH(Tablas!$B$1,'Tabla de Amortizacion'!$D$2:$O$2,0))","v":0},null,{"$f":"IF([1]CALCULADORA!$F$10=\"Contractual\",ROUND('[1]Tabla de Amortizacion'!C146,8),IF([1]CALCULADORA!$F$10=\"6% (Medio)\",ROUND('[1]Tabla de Amortizacion'!F146,8),IF([1]CALCULADORA!$F$10=\"10% (Medio Alto)\",ROUND('[1]Tabla de Amortizacion'!H146,8),IF([1]CALCULADORA!$F$10=\"14% (Alto)\",ROUND('[1]Tabla de Amortizacion'!#REF!,8),IF([1]CALCULADORA!$F$10=20%,ROUND('[1]Tabla de Amortizacion'!#REF!,8),ROUND('[1]Tabla de Amortizacion'!K146,8))))))","v":0}]
["2030-01-06",0,{"$f":"+VLOOKUP(A146,'Tabla de Amortizacion'!$D$2:$O$182,MATCH(Tablas!$B$1,'Tabla de Amortizacion'!$D$2:$O$2,0))","v":0},null,{"$f":"IF([1]CALCULADORA!$F$10=\"Contractual\",ROUND('[1]Tabla de Amortizacion'!C147,8),IF([1]CALCULADORA!$F$10=\"6% (Medio)\",ROUND('[1]Tabla de Amortizacion'!F147,8),IF([1]CALCULADORA!$F$10=\"10% (Medio Alto)\",ROUND('[1]Tabla de Amortizacion'!H147,8),IF([1]CALCULADORA!$F$10=\"14% (Alto)\",ROUND('[1]Tabla de Amortizacion'!#REF!,8),IF([1]CALCULADORA!$F$10=20%,ROUND('[1]Tabla de Amortizacion'!#REF!,8),ROUND('[1]Tabla de Amortizacion'!K147,8))))))","v":0}]
["2030-02-06",0,{"$f":"+VLOOKUP(A147,'Tabla de Amortizacion'!$D$2:$O$182,MATCH(Tablas!$B$1,'Tabla de Amortizacion'!$D$2:$O$2,0))","v":0},null,{"$f":"IF([1]CALCULADORA!$F$10=\"Contractual\",ROUND('[1]Tabla de Amortizacion'!C148,8),IF([1]CALCULADORA!$F$10=\"6% (Medio)\",ROUND('[1]Tabla de Amortizacion'!F148,8),IF([1]CALCULADORA!$F$10=\"10% (Medio Alto)\",ROUND('[1]Tabla de Amortizacion'!H148,8),IF([1]CALCULADORA!$F$10=\"14% (Alto)\",ROUND('[1]Tabla de Amortizacion'!#REF!,8),IF([1]CALCULADORA!$F$10=20%,ROUND('[1]Tabla de Amortizacion'!#REF!,8),ROUND('[1]Tabla de Amortizacion'!K148,8))))))","v":0}]
["2030-03-06",0,{"$f":"+VLOOKUP(A148,'Tabla de Amortizacion'!$D$2:$O$182,MATCH(Tablas!$B$1,'Tabla de Amortizacion'!$D$2:$O$2,0))","v":0},null,{"$f":"IF([1]CALCULADORA!$F$10=\"Contractual\",ROUND('[1]Tabla de Amortizacion'!C149,8),IF([1]CALCULADORA!$F$10=\"6% (Medio)\",ROUND('[1]Tabla de Amortizacion'!F149,8),IF([1]CALCULADORA!$F$10=\"10% (Medio Alto)\",ROUND('[1]Tabla de Amortizacion'!H149,8),IF([1]CALCULADORA!$F$10=\"14% (Alto)\",ROUND('[1]Tabla de Amortizacion'!#REF!,8),IF([1]CALCULADORA!$F$10=20%,ROUND('[1]Tabla de Amortizacion'!#REF!,8),ROUND('[1]Tabla de Amortizacion'!K149,8))))))","v":0}]
["2030-04-06",0,{"$f":"+VLOOKUP(A149,'Tabla de Amortizacion'!$D$2:$O$182,MATCH(Tablas!$B$1,'Tabla de Amortizacion'!$D$2:$O$2,0))","v":0},null,{"$f":"IF([1]CALCULADORA!$F$10=\"Contractual\",ROUND('[1]Tabla de Amortizacion'!C150,8),IF([1]CALCULADORA!$F$10=\"6% (Medio)\",ROUND('[1]Tabla de Amortizacion'!F150,8),IF([1]CALCULADORA!$F$10=\"10% (Medio Alto)\",ROUND('[1]Tabla de Amortizacion'!H150,8),IF([1]CALCULADORA!$F$10=\"14% (Alto)\",ROUND('[1]Tabla de Amortizacion'!#REF!,8),IF([1]CALCULADORA!$F$10=20%,ROUND('[1]Tabla de Amortizacion'!#REF!,8),ROUND('[1]Tabla de Amortizacion'!K150,8))))))","v":0}]
["2030-05-06",0,{"$f":"+VLOOKUP(A150,'Tabla de Amortizacion'!$D$2:$O$182,MATCH(Tablas!$B$1,'Tabla de Amortizacion'!$D$2:$O$2,0))","v":0},null,{"$f":"IF([1]CALCULADORA!$F$10=\"Contractual\",ROUND('[1]Tabla de Amortizacion'!C151,8),IF([1]CALCULADORA!$F$10=\"6% (Medio)\",ROUND('[1]Tabla de Amortizacion'!F151,8),IF([1]CALCULADORA!$F$10=\"10% (Medio Alto)\",ROUND('[1]Tabla de Amortizacion'!H151,8),IF([1]CALCULADORA!$F$10=\"14% (Alto)\",ROUND('[1]Tabla de Amortizacion'!#REF!,8),IF([1]CALCULADORA!$F$10=20%,ROUND('[1]Tabla de Amortizacion'!#REF!,8),ROUND('[1]Tabla de Amortizacion'!K151,8))))))","v":0}]
["2030-06-06",0,{"$f":"+VLOOKUP(A151,'Tabla de Amortizacion'!$D$2:$O$182,MATCH(Tablas!$B$1,'Tabla de Amortizacion'!$D$2:$O$2,0))","v":0},null,{"$f":"IF([1]CALCULADORA!$F$10=\"Contractual\",ROUND('[1]Tabla de Amortizacion'!C152,8),IF([1]CALCULADORA!$F$10=\"6% (Medio)\",ROUND('[1]Tabla de Amortizacion'!F152,8),IF([1]CALCULADORA!$F$10=\"10% (Medio Alto)\",ROUND('[1]Tabla de Amortizacion'!H152,8),IF([1]CALCULADORA!$F$10=\"14% (Alto)\",ROUND('[1]Tabla de Amortizacion'!#REF!,8),IF([1]CALCULADORA!$F$10=20%,ROUND('[1]Tabla de Amortizacion'!#REF!,8),ROUND('[1]Tabla de Amortizacion'!K152,8))))))","v":0}]
["2030-07-06",0,{"$f":"+VLOOKUP(A152,'Tabla de Amortizacion'!$D$2:$O$182,MATCH(Tablas!$B$1,'Tabla de Amortizacion'!$D$2:$O$2,0))","v":0},null,{"$f":"IF([1]CALCULADORA!$F$10=\"Contractual\",ROUND('[1]Tabla de Amortizacion'!C153,8),IF([1]CALCULADORA!$F$10=\"6% (Medio)\",ROUND('[1]Tabla de Amortizacion'!F153,8),IF([1]CALCULADORA!$F$10=\"10% (Medio Alto)\",ROUND('[1]Tabla de Amortizacion'!H153,8),IF([1]CALCULADORA!$F$10=\"14% (Alto)\",ROUND('[1]Tabla de Amortizacion'!#REF!,8),IF([1]CALCULADORA!$F$10=20%,ROUND('[1]Tabla de Amortizacion'!#REF!,8),ROUND('[1]Tabla de Amortizacion'!K153,8))))))","v":0}]
["2030-08-06",0,{"$f":"+VLOOKUP(A153,'Tabla de Amortizacion'!$D$2:$O$182,MATCH(Tablas!$B$1,'Tabla de Amortizacion'!$D$2:$O$2,0))","v":0},null,{"$f":"IF([1]CALCULADORA!$F$10=\"Contractual\",ROUND('[1]Tabla de Amortizacion'!C154,8),IF([1]CALCULADORA!$F$10=\"6% (Medio)\",ROUND('[1]Tabla de Amortizacion'!F154,8),IF([1]CALCULADORA!$F$10=\"10% (Medio Alto)\",ROUND('[1]Tabla de Amortizacion'!H154,8),IF([1]CALCULADORA!$F$10=\"14% (Alto)\",ROUND('[1]Tabla de Amortizacion'!#REF!,8),IF([1]CALCULADORA!$F$10=20%,ROUND('[1]Tabla de Amortizacion'!#REF!,8),ROUND('[1]Tabla de Amortizacion'!K154,8))))))","v":0}]
["2030-09-06",0,{"$f":"+VLOOKUP(A154,'Tabla de Amortizacion'!$D$2:$O$182,MATCH(Tablas!$B$1,'Tabla de Amortizacion'!$D$2:$O$2,0))","v":0},null,{"$f":"IF([1]CALCULADORA!$F$10=\"Contractual\",ROUND('[1]Tabla de Amortizacion'!C155,8),IF([1]CALCULADORA!$F$10=\"6% (Medio)\",ROUND('[1]Tabla de Amortizacion'!F155,8),IF([1]CALCULADORA!$F$10=\"10% (Medio Alto)\",ROUND('[1]Tabla de Amortizacion'!H155,8),IF([1]CALCULADORA!$F$10=\"14% (Alto)\",ROUND('[1]Tabla de Amortizacion'!#REF!,8),IF([1]CALCULADORA!$F$10=20%,ROUND('[1]Tabla de Amortizacion'!#REF!,8),ROUND('[1]Tabla de Amortizacion'!K155,8))))))","v":0}]
["2030-10-06",0,{"$f":"+VLOOKUP(A155,'Tabla de Amortizacion'!$D$2:$O$182,MATCH(Tablas!$B$1,'Tabla de Amortizacion'!$D$2:$O$2,0))","v":0},null,{"$f":"IF([1]CALCULADORA!$F$10=\"Contractual\",ROUND('[1]Tabla de Amortizacion'!C156,8),IF([1]CALCULADORA!$F$10=\"6% (Medio)\",ROUND('[1]Tabla de Amortizacion'!F156,8),IF([1]CALCULADORA!$F$10=\"10% (Medio Alto)\",ROUND('[1]Tabla de Amortizacion'!H156,8),IF([1]CALCULADORA!$F$10=\"14% (Alto)\",ROUND('[1]Tabla de Amortizacion'!#REF!,8),IF([1]CALCULADORA!$F$10=20%,ROUND('[1]Tabla de Amortizacion'!#REF!,8),ROUND('[1]Tabla de Amortizacion'!K156,8))))))","v":0}]
["2030-11-06",0,{"$f":"+VLOOKUP(A156,'Tabla de Amortizacion'!$D$2:$O$182,MATCH(Tablas!$B$1,'Tabla de Amortizacion'!$D$2:$O$2,0))","v":0},null,{"$f":"IF([1]CALCULADORA!$F$10=\"Contractual\",ROUND('[1]Tabla de Amortizacion'!C157,8),IF([1]CALCULADORA!$F$10=\"6% (Medio)\",ROUND('[1]Tabla de Amortizacion'!F157,8),IF([1]CALCULADORA!$F$10=\"10% (Medio Alto)\",ROUND('[1]Tabla de Amortizacion'!H157,8),IF([1]CALCULADORA!$F$10=\"14% (Alto)\",ROUND('[1]Tabla de Amortizacion'!#REF!,8),IF([1]CALCULADORA!$F$10=20%,ROUND('[1]Tabla de Amortizacion'!#REF!,8),ROUND('[1]Tabla de Amortizacion'!K157,8))))))","v":0}]
["2030-12-06",0,{"$f":"+VLOOKUP(A157,'Tabla de Amortizacion'!$D$2:$O$182,MATCH(Tablas!$B$1,'Tabla de Amortizacion'!$D$2:$O$2,0))","v":0},null,{"$f":"IF([1]CALCULADORA!$F$10=\"Contractual\",ROUND('[1]Tabla de Amortizacion'!C158,8),IF([1]CALCULADORA!$F$10=\"6% (Medio)\",ROUND('[1]Tabla de Amortizacion'!F158,8),IF([1]CALCULADORA!$F$10=\"10% (Medio Alto)\",ROUND('[1]Tabla de Amortizacion'!H158,8),IF([1]CALCULADORA!$F$10=\"14% (Alto)\",ROUND('[1]Tabla de Amortizacion'!#REF!,8),IF([1]CALCULADORA!$F$10=20%,ROUND('[1]Tabla de Amortizacion'!#REF!,8),ROUND('[1]Tabla de Amortizacion'!K158,8))))))","v":0}]
["2031-01-06",0,{"$f":"+VLOOKUP(A158,'Tabla de Amortizacion'!$D$2:$O$182,MATCH(Tablas!$B$1,'Tabla de Amortizacion'!$D$2:$O$2,0))","v":0},null,{"$f":"IF([1]CALCULADORA!$F$10=\"Contractual\",ROUND('[1]Tabla de Amortizacion'!C159,8),IF([1]CALCULADORA!$F$10=\"6% (Medio)\",ROUND('[1]Tabla de Amortizacion'!F159,8),IF([1]CALCULADORA!$F$10=\"10% (Medio Alto)\",ROUND('[1]Tabla de Amortizacion'!H159,8),IF([1]CALCULADORA!$F$10=\"14% (Alto)\",ROUND('[1]Tabla de Amortizacion'!#REF!,8),IF([1]CALCULADORA!$F$10=20%,ROUND('[1]Tabla de Amortizacion'!#REF!,8),ROUND('[1]Tabla de Amortizacion'!K159,8))))))","v":0}]
["2031-02-06",0,{"$f":"+VLOOKUP(A159,'Tabla de Amortizacion'!$D$2:$O$182,MATCH(Tablas!$B$1,'Tabla de Amortizacion'!$D$2:$O$2,0))","v":0},null,{"$f":"IF([1]CALCULADORA!$F$10=\"Contractual\",ROUND('[1]Tabla de Amortizacion'!C160,8),IF([1]CALCULADORA!$F$10=\"6% (Medio)\",ROUND('[1]Tabla de Amortizacion'!F160,8),IF([1]CALCULADORA!$F$10=\"10% (Medio Alto)\",ROUND('[1]Tabla de Amortizacion'!H160,8),IF([1]CALCULADORA!$F$10=\"14% (Alto)\",ROUND('[1]Tabla de Amortizacion'!#REF!,8),IF([1]CALCULADORA!$F$10=20%,ROUND('[1]Tabla de Amortizacion'!#REF!,8),ROUND('[1]Tabla de Amortizacion'!K160,8))))))","v":0}]
["2031-03-06",0,{"$f":"+VLOOKUP(A160,'Tabla de Amortizacion'!$D$2:$O$182,MATCH(Tablas!$B$1,'Tabla de Amortizacion'!$D$2:$O$2,0))","v":0},null,{"$f":"IF([1]CALCULADORA!$F$10=\"Contractual\",ROUND('[1]Tabla de Amortizacion'!C161,8),IF([1]CALCULADORA!$F$10=\"6% (Medio)\",ROUND('[1]Tabla de Amortizacion'!F161,8),IF([1]CALCULADORA!$F$10=\"10% (Medio Alto)\",ROUND('[1]Tabla de Amortizacion'!H161,8),IF([1]CALCULADORA!$F$10=\"14% (Alto)\",ROUND('[1]Tabla de Amortizacion'!#REF!,8),IF([1]CALCULADORA!$F$10=20%,ROUND('[1]Tabla de Amortizacion'!#REF!,8),ROUND('[1]Tabla de Amortizacion'!K161,8))))))","v":0}]
["2031-04-06",0,{"$f":"+VLOOKUP(A161,'Tabla de Amortizacion'!$D$2:$O$182,MATCH(Tablas!$B$1,'Tabla de Amortizacion'!$D$2:$O$2,0))","v":0},null,{"$f":"IF([1]CALCULADORA!$F$10=\"Contractual\",ROUND('[1]Tabla de Amortizacion'!C162,8),IF([1]CALCULADORA!$F$10=\"6% (Medio)\",ROUND('[1]Tabla de Amortizacion'!F162,8),IF([1]CALCULADORA!$F$10=\"10% (Medio Alto)\",ROUND('[1]Tabla de Amortizacion'!H162,8),IF([1]CALCULADORA!$F$10=\"14% (Alto)\",ROUND('[1]Tabla de Amortizacion'!#REF!,8),IF([1]CALCULADORA!$F$10=20%,ROUND('[1]Tabla de Amortizacion'!#REF!,8),ROUND('[1]Tabla de Amortizacion'!K162,8))))))","v":0}]
["2031-05-06",0,{"$f":"+VLOOKUP(A162,'Tabla de Amortizacion'!$D$2:$O$182,MATCH(Tablas!$B$1,'Tabla de Amortizacion'!$D$2:$O$2,0))","v":0},null,{"$f":"IF([1]CALCULADORA!$F$10=\"Contractual\",ROUND('[1]Tabla de Amortizacion'!C163,8),IF([1]CALCULADORA!$F$10=\"6% (Medio)\",ROUND('[1]Tabla de Amortizacion'!F163,8),IF([1]CALCULADORA!$F$10=\"10% (Medio Alto)\",ROUND('[1]Tabla de Amortizacion'!H163,8),IF([1]CALCULADORA!$F$10=\"14% (Alto)\",ROUND('[1]Tabla de Amortizacion'!#REF!,8),IF([1]CALCULADORA!$F$10=20%,ROUND('[1]Tabla de Amortizacion'!#REF!,8),ROUND('[1]Tabla de Amortizacion'!K163,8))))))","v":0}]
["2031-06-06",0,{"$f":"+VLOOKUP(A163,'Tabla de Amortizacion'!$D$2:$O$182,MATCH(Tablas!$B$1,'Tabla de Amortizacion'!$D$2:$O$2,0))","v":0},null,{"$f":"IF([1]CALCULADORA!$F$10=\"Contractual\",ROUND('[1]Tabla de Amortizacion'!C164,8),IF([1]CALCULADORA!$F$10=\"6% (Medio)\",ROUND('[1]Tabla de Amortizacion'!F164,8),IF([1]CALCULADORA!$F$10=\"10% (Medio Alto)\",ROUND('[1]Tabla de Amortizacion'!H164,8),IF([1]CALCULADORA!$F$10=\"14% (Alto)\",ROUND('[1]Tabla de Amortizacion'!#REF!,8),IF([1]CALCULADORA!$F$10=20%,ROUND('[1]Tabla de Amortizacion'!#REF!,8),ROUND('[1]Tabla de Amortizacion'!K164,8))))))","v":0}]
["2031-07-06",0,{"$f":"+VLOOKUP(A164,'Tabla de Amortizacion'!$D$2:$O$182,MATCH(Tablas!$B$1,'Tabla de Amortizacion'!$D$2:$O$2,0))","v":0},null,{"$f":"IF([1]CALCULADORA!$F$10=\"Contractual\",ROUND('[1]Tabla de Amortizacion'!C165,8),IF([1]CALCULADORA!$F$10=\"6% (Medio)\",ROUND('[1]Tabla de Amortizacion'!F165,8),IF([1]CALCULADORA!$F$10=\"10% (Medio Alto)\",ROUND('[1]Tabla de Amortizacion'!H165,8),IF([1]CALCULADORA!$F$10=\"14% (Alto)\",ROUND('[1]Tabla de Amortizacion'!#REF!,8),IF([1]CALCULADORA!$F$10=20%,ROUND('[1]Tabla de Amortizacion'!#REF!,8),ROUND('[1]Tabla de Amortizacion'!K165,8))))))","v":0}]
["2031-08-06",0,{"$f":"+VLOOKUP(A165,'Tabla de Amortizacion'!$D$2:$O$182,MATCH(Tablas!$B$1,'Tabla de Amortizacion'!$D$2:$O$2,0))","v":0},null,{"$f":"IF([1]CALCULADORA!$F$10=\"Contractual\",ROUND('[1]Tabla de Amortizacion'!C166,8),IF([1]CALCULADORA!$F$10=\"6% (Medio)\",ROUND('[1]Tabla de Amortizacion'!F166,8),IF([1]CALCULADORA!$F$10=\"10% (Medio Alto)\",ROUND('[1]Tabla de Amortizacion'!H166,8),IF([1]CALCULADORA!$F$10=\"14% (Alto)\",ROUND('[1]Tabla de Amortizacion'!#REF!,8),IF([1]CALCULADORA!$F$10=20%,ROUND('[1]Tabla de Amortizacion'!#REF!,8),ROUND('[1]Tabla de Amortizacion'!K166,8))))))","v":0}]
["2031-09-06",0,{"$f":"+VLOOKUP(A166,'Tabla de Amortizacion'!$D$2:$O$182,MATCH(Tablas!$B$1,'Tabla de Amortizacion'!$D$2:$O$2,0))","v":0},null,{"$f":"IF([1]CALCULADORA!$F$10=\"Contractual\",ROUND('[1]Tabla de Amortizacion'!C167,8),IF([1]CALCULADORA!$F$10=\"6% (Medio)\",ROUND('[1]Tabla de Amortizacion'!F167,8),IF([1]CALCULADORA!$F$10=\"10% (Medio Alto)\",ROUND('[1]Tabla de Amortizacion'!H167,8),IF([1]CALCULADORA!$F$10=\"14% (Alto)\",ROUND('[1]Tabla de Amortizacion'!#REF!,8),IF([1]CALCULADORA!$F$10=20%,ROUND('[1]Tabla de Amortizacion'!#REF!,8),ROUND('[1]Tabla de Amortizacion'!K167,8))))))","v":0}]
["2031-10-06",0,{"$f":"+VLOOKUP(A167,'Tabla de Amortizacion'!$D$2:$O$182,MATCH(Tablas!$B$1,'Tabla de Amortizacion'!$D$2:$O$2,0))","v":0},null,{"$f":"IF([1]CALCULADORA!$F$10=\"Contractual\",ROUND('[1]Tabla de Amortizacion'!C168,8),IF([1]CALCULADORA!$F$10=\"6% (Medio)\",ROUND('[1]Tabla de Amortizacion'!F168,8),IF([1]CALCULADORA!$F$10=\"10% (Medio Alto)\",ROUND('[1]Tabla de Amortizacion'!H168,8),IF([1]CALCULADORA!$F$10=\"14% (Alto)\",ROUND('[1]Tabla de Amortizacion'!#REF!,8),IF([1]CALCULADORA!$F$10=20%,ROUND('[1]Tabla de Amortizacion'!#REF!,8),ROUND('[1]Tabla de Amortizacion'!K168,8))))))","v":0}]
["2031-11-06",0,{"$f":"+VLOOKUP(A168,'Tabla de Amortizacion'!$D$2:$O$182,MATCH(Tablas!$B$1,'Tabla de Amortizacion'!$D$2:$O$2,0))","v":0},null,{"$f":"IF([1]CALCULADORA!$F$10=\"Contractual\",ROUND('[1]Tabla de Amortizacion'!C169,8),IF([1]CALCULADORA!$F$10=\"6% (Medio)\",ROUND('[1]Tabla de Amortizacion'!F169,8),IF([1]CALCULADORA!$F$10=\"10% (Medio Alto)\",ROUND('[1]Tabla de Amortizacion'!H169,8),IF([1]CALCULADORA!$F$10=\"14% (Alto)\",ROUND('[1]Tabla de Amortizacion'!#REF!,8),IF([1]CALCULADORA!$F$10=20%,ROUND('[1]Tabla de Amortizacion'!#REF!,8),ROUND('[1]Tabla de Amortizacion'!K169,8))))))","v":0}]
["2031-12-06",0,{"$f":"+VLOOKUP(A169,'Tabla de Amortizacion'!$D$2:$O$182,MATCH(Tablas!$B$1,'Tabla de Amortizacion'!$D$2:$O$2,0))","v":0},null,{"$f":"IF([1]CALCULADORA!$F$10=\"Contractual\",ROUND('[1]Tabla de Amortizacion'!C170,8),IF([1]CALCULADORA!$F$10=\"6% (Medio)\",ROUND('[1]Tabla de Amortizacion'!F170,8),IF([1]CALCULADORA!$F$10=\"10% (Medio Alto)\",ROUND('[1]Tabla de Amortizacion'!H170,8),IF([1]CALCULADORA!$F$10=\"14% (Alto)\",ROUND('[1]Tabla de Amortizacion'!#REF!,8),IF([1]CALCULADORA!$F$10=20%,ROUND('[1]Tabla de Amortizacion'!#REF!,8),ROUND('[1]Tabla de Amortizacion'!K170,8))))))","v":0}]
["2032-01-06",0,{"$f":"+VLOOKUP(A170,'Tabla de Amortizacion'!$D$2:$O$182,MATCH(Tablas!$B$1,'Tabla de Amortizacion'!$D$2:$O$2,0))","v":0},null,{"$f":"IF([1]CALCULADORA!$F$10=\"Contractual\",ROUND('[1]Tabla de Amortizacion'!C171,8),IF([1]CALCULADORA!$F$10=\"6% (Medio)\",ROUND('[1]Tabla de Amortizacion'!F171,8),IF([1]CALCULADORA!$F$10=\"10% (Medio Alto)\",ROUND('[1]Tabla de Amortizacion'!H171,8),IF([1]CALCULADORA!$F$10=\"14% (Alto)\",ROUND('[1]Tabla de Amortizacion'!#REF!,8),IF([1]CALCULADORA!$F$10=20%,ROUND('[1]Tabla de Amortizacion'!#REF!,8),ROUND('[1]Tabla de Amortizacion'!K171,8))))))","v":0}]
["2032-02-06",0,{"$f":"+VLOOKUP(A171,'Tabla de Amortizacion'!$D$2:$O$182,MATCH(Tablas!$B$1,'Tabla de Amortizacion'!$D$2:$O$2,0))","v":0},null,{"$f":"IF([1]CALCULADORA!$F$10=\"Contractual\",ROUND('[1]Tabla de Amortizacion'!C172,8),IF([1]CALCULADORA!$F$10=\"6% (Medio)\",ROUND('[1]Tabla de Amortizacion'!F172,8),IF([1]CALCULADORA!$F$10=\"10% (Medio Alto)\",ROUND('[1]Tabla de Amortizacion'!H172,8),IF([1]CALCULADORA!$F$10=\"14% (Alto)\",ROUND('[1]Tabla de Amortizacion'!#REF!,8),IF([1]CALCULADORA!$F$10=20%,ROUND('[1]Tabla de Amortizacion'!#REF!,8),ROUND('[1]Tabla de Amortizacion'!K172,8))))))","v":0}]
["2032-03-06",0,{"$f":"+VLOOKUP(A172,'Tabla de Amortizacion'!$D$2:$O$182,MATCH(Tablas!$B$1,'Tabla de Amortizacion'!$D$2:$O$2,0))","v":0},null,{"$f":"IF([1]CALCULADORA!$F$10=\"Contractual\",ROUND('[1]Tabla de Amortizacion'!C173,8),IF([1]CALCULADORA!$F$10=\"6% (Medio)\",ROUND('[1]Tabla de Amortizacion'!F173,8),IF([1]CALCULADORA!$F$10=\"10% (Medio Alto)\",ROUND('[1]Tabla de Amortizacion'!H173,8),IF([1]CALCULADORA!$F$10=\"14% (Alto)\",ROUND('[1]Tabla de Amortizacion'!#REF!,8),IF([1]CALCULADORA!$F$10=20%,ROUND('[1]Tabla de Amortizacion'!#REF!,8),ROUND('[1]Tabla de Amortizacion'!K173,8))))))","v":0}]
["2032-04-06",0,{"$f":"+VLOOKUP(A173,'Tabla de Amortizacion'!$D$2:$O$182,MATCH(Tablas!$B$1,'Tabla de Amortizacion'!$D$2:$O$2,0))","v":0},null,{"$f":"IF([1]CALCULADORA!$F$10=\"Contractual\",ROUND('[1]Tabla de Amortizacion'!C174,8),IF([1]CALCULADORA!$F$10=\"6% (Medio)\",ROUND('[1]Tabla de Amortizacion'!F174,8),IF([1]CALCULADORA!$F$10=\"10% (Medio Alto)\",ROUND('[1]Tabla de Amortizacion'!H174,8),IF([1]CALCULADORA!$F$10=\"14% (Alto)\",ROUND('[1]Tabla de Amortizacion'!#REF!,8),IF([1]CALCULADORA!$F$10=20%,ROUND('[1]Tabla de Amortizacion'!#REF!,8),ROUND('[1]Tabla de Amortizacion'!K174,8))))))","v":0}]
["2032-05-06",0,{"$f":"+VLOOKUP(A174,'Tabla de Amortizacion'!$D$2:$O$182,MATCH(Tablas!$B$1,'Tabla de Amortizacion'!$D$2:$O$2,0))","v":0},null,{"$f":"IF([1]CALCULADORA!$F$10=\"Contractual\",ROUND('[1]Tabla de Amortizacion'!C175,8),IF([1]CALCULADORA!$F$10=\"6% (Medio)\",ROUND('[1]Tabla de Amortizacion'!F175,8),IF([1]CALCULADORA!$F$10=\"10% (Medio Alto)\",ROUND('[1]Tabla de Amortizacion'!H175,8),IF([1]CALCULADORA!$F$10=\"14% (Alto)\",ROUND('[1]Tabla de Amortizacion'!#REF!,8),IF([1]CALCULADORA!$F$10=20%,ROUND('[1]Tabla de Amortizacion'!#REF!,8),ROUND('[1]Tabla de Amortizacion'!K175,8))))))","v":0}]
["2032-06-06",0,{"$f":"+VLOOKUP(A175,'Tabla de Amortizacion'!$D$2:$O$182,MATCH(Tablas!$B$1,'Tabla de Amortizacion'!$D$2:$O$2,0))","v":0},null,{"$f":"IF([1]CALCULADORA!$F$10=\"Contractual\",ROUND('[1]Tabla de Amortizacion'!C176,8),IF([1]CALCULADORA!$F$10=\"6% (Medio)\",ROUND('[1]Tabla de Amortizacion'!F176,8),IF([1]CALCULADORA!$F$10=\"10% (Medio Alto)\",ROUND('[1]Tabla de Amortizacion'!H176,8),IF([1]CALCULADORA!$F$10=\"14% (Alto)\",ROUND('[1]Tabla de Amortizacion'!#REF!,8),IF([1]CALCULADORA!$F$10=20%,ROUND('[1]Tabla de Amortizacion'!#REF!,8),ROUND('[1]Tabla de Amortizacion'!K176,8))))))","v":0}]
["2032-07-06",0,{"$f":"+VLOOKUP(A176,'Tabla de Amortizacion'!$D$2:$O$182,MATCH(Tablas!$B$1,'Tabla de Amortizacion'!$D$2:$O$2,0))","v":0},null,{"$f":"IF([1]CALCULADORA!$F$10=\"Contractual\",ROUND('[1]Tabla de Amortizacion'!C177,8),IF([1]CALCULADORA!$F$10=\"6% (Medio)\",ROUND('[1]Tabla de Amortizacion'!F177,8),IF([1]CALCULADORA!$F$10=\"10% (Medio Alto)\",ROUND('[1]Tabla de Amortizacion'!H177,8),IF([1]CALCULADORA!$F$10=\"14% (Alto)\",ROUND('[1]Tabla de Amortizacion'!#REF!,8),IF([1]CALCULADORA!$F$10=20%,ROUND('[1]Tabla de Amortizacion'!#REF!,8),ROUND('[1]Tabla de Amortizacion'!K177,8))))))","v":0}]
["2032-08-06",0,{"$f":"+VLOOKUP(A177,'Tabla de Amortizacion'!$D$2:$O$182,MATCH(Tablas!$B$1,'Tabla de Amortizacion'!$D$2:$O$2,0))","v":0},null,{"$f":"IF([1]CALCULADORA!$F$10=\"Contractual\",ROUND('[1]Tabla de Amortizacion'!C178,8),IF([1]CALCULADORA!$F$10=\"6% (Medio)\",ROUND('[1]Tabla de Amortizacion'!F178,8),IF([1]CALCULADORA!$F$10=\"10% (Medio Alto)\",ROUND('[1]Tabla de Amortizacion'!H178,8),IF([1]CALCULADORA!$F$10=\"14% (Alto)\",ROUND('[1]Tabla de Amortizacion'!#REF!,8),IF([1]CALCULADORA!$F$10=20%,ROUND('[1]Tabla de Amortizacion'!#REF!,8),ROUND('[1]Tabla de Amortizacion'!K178,8))))))","v":0}]
["2032-09-06",0,{"$f":"+VLOOKUP(A178,'Tabla de Amortizacion'!$D$2:$O$182,MATCH(Tablas!$B$1,'Tabla de Amortizacion'!$D$2:$O$2,0))","v":0},null,{"$f":"IF([1]CALCULADORA!$F$10=\"Contractual\",ROUND('[1]Tabla de Amortizacion'!C179,8),IF([1]CALCULADORA!$F$10=\"6% (Medio)\",ROUND('[1]Tabla de Amortizacion'!F179,8),IF([1]CALCULADORA!$F$10=\"10% (Medio Alto)\",ROUND('[1]Tabla de Amortizacion'!H179,8),IF([1]CALCULADORA!$F$10=\"14% (Alto)\",ROUND('[1]Tabla de Amortizacion'!#REF!,8),IF([1]CALCULADORA!$F$10=20%,ROUND('[1]Tabla de Amortizacion'!#REF!,8),ROUND('[1]Tabla de Amortizacion'!K179,8))))))","v":0}]
["2032-10-06",0,{"$f":"+VLOOKUP(A179,'Tabla de Amortizacion'!$D$2:$O$182,MATCH(Tablas!$B$1,'Tabla de Amortizacion'!$D$2:$O$2,0))","v":0},null,{"$f":"IF([1]CALCULADORA!$F$10=\"Contractual\",ROUND('[1]Tabla de Amortizacion'!C180,8),IF([1]CALCULADORA!$F$10=\"6% (Medio)\",ROUND('[1]Tabla de Amortizacion'!F180,8),IF([1]CALCULADORA!$F$10=\"10% (Medio Alto)\",ROUND('[1]Tabla de Amortizacion'!H180,8),IF([1]CALCULADORA!$F$10=\"14% (Alto)\",ROUND('[1]Tabla de Amortizacion'!#REF!,8),IF([1]CALCULADORA!$F$10=20%,ROUND('[1]Tabla de Amortizacion'!#REF!,8),ROUND('[1]Tabla de Amortizacion'!K180,8))))))","v":0}]
["2032-11-06",0,{"$f":"+VLOOKUP(A180,'Tabla de Amortizacion'!$D$2:$O$182,MATCH(Tablas!$B$1,'Tabla de Amortizacion'!$D$2:$O$2,0))","v":0},null,{"$f":"IF([1]CALCULADORA!$F$10=\"Contractual\",ROUND('[1]Tabla de Amortizacion'!C181,8),IF([1]CALCULADORA!$F$10=\"6% (Medio)\",ROUND('[1]Tabla de Amortizacion'!F181,8),IF([1]CALCULADORA!$F$10=\"10% (Medio Alto)\",ROUND('[1]Tabla de Amortizacion'!H181,8),IF([1]CALCULADORA!$F$10=\"14% (Alto)\",ROUND('[1]Tabla de Amortizacion'!#REF!,8),IF([1]CALCULADORA!$F$10=20%,ROUND('[1]Tabla de Amortizacion'!#REF!,8),ROUND('[1]Tabla de Amortizacion'!K181,8))))))","v":0}]
["2032-12-06",0,{"$f":"+VLOOKUP(A181,'Tabla de Amortizacion'!$D$2:$O$182,MATCH(Tablas!$B$1,'Tabla de Amortizacion'!$D$2:$O$2,0))","v":0},null,{"$f":"IF([1]CALCULADORA!$F$10=\"Contractual\",ROUND('[1]Tabla de Amortizacion'!C182,8),IF([1]CALCULADORA!$F$10=\"6% (Medio)\",ROUND('[1]Tabla de Amortizacion'!F182,8),IF([1]CALCULADORA!$F$10=\"10% (Medio Alto)\",ROUND('[1]Tabla de Amortizacion'!H182,8),IF([1]CALCULADORA!$F$10=\"14% (Alto)\",ROUND('[1]Tabla de Amortizacion'!#REF!,8),IF([1]CALCULADORA!$F$10=20%,ROUND('[1]Tabla de Amortizacion'!#REF!,8),ROUND('[1]Tabla de Amortizacion'!K182,8))))))","v":0}]

{"sheet":"Exclusión","index":6,"n_rows":1,"n_cols":1,"rows_kept":1,"cut":false,"hidden":false,"merged":[[0,0,13,7]]}
["“Titularizadora Colombiana S.A publica el presente documento con un carácter estrictamente informativo para los inversionistas. Aunque la información aquí contenida ha sido obtenida de fuentes que la compañía considera confiables, Titularizadora Colombiana S.A no garantiza su exactitud. En ningún caso su contenido se puede considerar como una opinión financiera o legal ni como una recomendación de negocios o de inversión por parte de nuestra compañía. Tampoco puede ser considerado como una invitación a realizar negocios ni como una oferta para comprar o vender ningún tipo de valor. En ningún caso Titularizadora Colombiana S.A asume responsabilidad por las decisiones de inversión que se tomen, o el resultado de cualquier operación que se efectúe por parte de los destinatarios o de terceras personas, sobre la información aquí contenida. Tal responsabilidad es exclusiva de los inversionistas que hagan uso de ella. Dicha información puede tener variaciones posteriores a la fecha de su publicación razón por la cual Titularizadora Colombiana S.A se reserva el derecho de modificarla o actualizarla en cualquier tiempo y sin previo aviso.”"]