{"text_format":"1","workbook":"xlsx","n_sheets":7,"sheets":["CALCULADORA","Flujos","Características","TIR de Tenencia","Tabla de Amortizacion","Tablas","Exclusión"],"not_rendered":{"charts":0,"images":3,"macros":1,"external_links":1,"defined_names":4,"comments":0,"pivot_tables":0},"unopened":[],"bounds":{"document_bytes":16777216,"sheet_cells":100000,"rows_first":2000,"rows_last":500,"rows_between":2000,"halvings":0,"cell_chars":16384,"cell_head_chars":4096},"cells_cut":0,"cells_raw":0,"read":"whole","date_system":"1900"}

{"sheet":"CALCULADORA","index":0,"n_rows":43,"n_cols":8,"rows_kept":43,"cut":false,"hidden":false,"merged":[[58,7,58,8],[10,1,10,2],[38,7,38,8],[6,1,6,2],[21,1,21,2],[25,1,25,2],[38,10,38,11],[21,3,23,4]]}
[null,"Exclusión de responsabilidad",null,null,null,null,null,"Valor nominal negociado"]
[null,null,null,null,null,null,null,"TIPS N13 A"]
[null,null,null,null,null,null,null,"TIPS N14 A"]
[null,null,null,null,null,null,null,"TIPS N15 A"]
[null,null,null,null,null,null,null,"TIPS N16 A"]
[null,null,null,null,null,null,null,"TIPS N17 A "]
[null,"Calculadora Emisiones TIPS en Pesos",null,null,null,null,null,"TIPS N18 A 2034"]
[null,null,null,null,null,null,null,"TIPS N19 A 2034"]
[null,"Emisión","TIPS N19 A 2034",null,"Seleccionar la Emisión a Calcular",null,null,"TIPS N20 A 2034"]
[null,null,null,null,null,null,null,"TIPS N21 A"]
[null,"Características",null,null,null,null,null,"TIPS N22 A"]
[null,"Identificación titulo (Nemotécnico)",{"$f":"+HLOOKUP(C9,Características!B1:N7,2,FALSE)","v":"INST15230534"},null,null,{"$error":"#N/A"},null,"TIPS N23 A"]
[null,"Fecha de Emisión ",{"$f":"+HLOOKUP(C9,Características!B1:N7,4,FALSE)","v":"2021-07-23"},null,null,null,null,"TIPS N24 A1 2029"]
[null,"Fecha de Vencimiento Contractual",{"$f":"+HLOOKUP(C9,Características!B1:N7,5,FALSE)","v":"2034-05-23"},null,null,null,null,"TIPS N24 A2 2039"]
[null,"Fecha estimada para el pago del 100% del título",{"$f":"+VLOOKUP(0,Flujos!D2:J182,6,FALSE)","v":"2031-06-23"}]
[null,"Tasa Facial Efectiva Anual",{"$f":"+HLOOKUP(C9,Características!B1:N7,6,FALSE)","v":6.8900000000000003E-2}]
[null,"Tasa Facial Nominal Anual ",{"$f":"+ROUND(((1+C16)^(1/12)-1)*12,6)","v":6.6814999999999999E-2}]
[null,"Duración Macaulay",{"$f":"+SUMPRODUCT(Flujos!B2:B182,Flujos!H2:H182)/Flujos!H183/365","v":2.4444858127178111}]
[null,"Nominal Inicial  (Nominal del título al momento de la emisión)",{"$f":"Flujos!L2","v":329854337688.40015}]
[]
[]
[null,"Datos de Compra",null,"Fecha de Compra y Valor de Compra son datos opcionales deben incluirse solo para calcular la TIR de Tenencia"]
[null,"Fecha de Compra","2024-03-07"]
[null,"Valor de Compra (COP)",15000000000]
[]
[null,"Datos de Venta"]
[null,"Fecha de Venta ","2024-10-01",null,"Incluir los datos de las celdas grises"]
[null,"Valor nominal a negociar (COP)",172658489425]
[null,"Tasa de negociación / tasa de valoración",0.109]
[null,"Precio Limpio (sin incluir intereses causados)"]
[null,"Precio sucio (incluyendo intereses causados)",100.02800000000001]
[{"$f":"+Flujos!C183*100","v":52.343858999999995},"Porcentaje del nominal inicial que falta por pagar del capital",{"$f":"+Flujos!C183*100/100","v":0.52343858999999993}]
[null,"Valor de Giro (COP)",{"$f":"+Características!B32","v":157961798805}]
[]
[null,"TIR de Tenencia en COP*",{"$f":"+'TIR de Tenencia'!K2","v":272.56046905517587}]
[]
[null,"Oficina de Atención a Inversionistas al 601 618 3030 ext 257 - 239, o al correo  asalcedo@titularizadora.com - josorio@titularizadora.com"]
[]
[]
[]
[]
[]
[null,null,1]

{"sheet":"Flujos","index":1,"n_rows":183,"n_cols":15,"rows_kept":183,"cut":false,"hidden":false,"merged":[]}
["Fecha","Días 365 / Days 365","Amortización / Amortization","Factor Saldo","Factor Capital","Factor Intereses","Factor Total","VPN","Control","Mes inicial","Días iniciales","Saldo / Balance","Pago de Capital","Pago de Intereses","Pago Total"]
[{"$f":"+CALCULADORA!C13","v":"2021-07-23"},{"$f":"IF(DIAS365(CALCULADORA!$C$27,A2)<0,0,DIAS365(CALCULADORA!$C$27,A2))","v":0},0,{"$f":"+CALCULADORA!A32/Flujos!C183","v":100},0,0,{"$f":"F2+E2","v":0},{"$f":"IF($B2<0,0,G2/POWER(1+CALCULADORA!$C$29,Flujos!$B2/365))","v":0},{"$f":"+A2","v":"2021-07-23"},0,0,{"$f":"+Características!B18/Flujos!C183","v":329854337688.40015},0,0,{"$f":"+N2+M2","v":0}]
[{"$f":"EDATE(A2,1)","v":"2021-08-23"},{"$f":"IF(DIAS365(CALCULADORA!$C$27,A3)<0,0,DIAS365(CALCULADORA!$C$27,A3))","v":0},{"$f":"+HLOOKUP(CALCULADORA!$C$9,Tablas!B:B,Flujos!J3+1,FALSE)","v":1.8470449999999999E-2},{"$f":"+ROUND(D2-E3,6)","v":98.152955000000006},{"$f":"ROUND(C3*$D$2,6)","v":1.847045},{"$f":"ROUND(D2*ROUND(((1+CALCULADORA!$C$16)^(1/12)-1),6),6)","v":0.55679999999999996},{"$f":"F3+E3","v":2.403845},{"$f":"IF($B3=0,0,G3/POWER(1+CALCULADORA!$C$29,Flujos!$B3/365))","v":0},{"$f":"+A3","v":"2021-08-23"},1,{"$f":"+DIAS365($A$2,A3)","v":31},{"$f":"+L2-M3","v":323761779636.84344},{"$f":"+$L$2*C3","v":6092558051.5567102},{"$f":"+L2*$F$3%","v":1836628952.249012},{"$f":"+N3+M3","v":7929187003.8057222}]
[{"$f":"EDATE(A3,1)","v":"2021-09-23"},{"$f":"IF(DIAS365(CALCULADORA!$C$27,A4)<0,0,DIAS365(CALCULADORA!$C$27,A4))","v":0},{"$f":"+HLOOKUP(CALCULADORA!$C$9,Tablas!B:B,Flujos!J4+1,FALSE)","v":2.3920009999999998E-2},{"$f":"+ROUND(D3-E4,6)","v":95.760953999999998},{"$f":"ROUND(C4*$D$2,6)","v":2.392001},{"$f":"ROUND(D3*ROUND(((1+CALCULADORA!$C$16)^(1/12)-1),6),6)","v":0.546516},{"$f":"F4+E4","v":2.938517},{"$f":"IF($B4=0,0,G4/POWER(1+CALCULADORA!$C$29,Flujos!$B4/365))","v":0},"2021-09-23",2,{"$f":"+DIAS365($A$2,A4)","v":62},{"$f":"+L3-M4","v":315871660580.79352},{"$f":"+$L$2*C4","v":7890119056.0499077},{"$f":"+L3*$F$3%","v":1802705589.0179443},{"$f":"+N4+M4","v":9692824645.067852}]
["2021-10-23",{"$f":"IF(DIAS365(CALCULADORA!$C$27,A5)<0,0,DIAS365(CALCULADORA!$C$27,A5))","v":0},{"$f":"+HLOOKUP(CALCULADORA!$C$9,Tablas!B:B,Flujos!J5+1,FALSE)","v":2.116353E-2},{"$f":"+ROUND(D4-E5,6)","v":93.644600999999994},2.1163530000000002,{"$f":"ROUND(D4*ROUND(((1+CALCULADORA!$C$16)^(1/12)-1),6),6)","v":0.53319700000000003},2.6495500000000001,{"$f":"IF($B5=0,0,G5/POWER(1+CALCULADORA!$C$29,Flujos!$B5/365))","v":0},"2021-10-23",3,{"$f":"+DIAS365($A$2,A5)","v":92},308890778409.49493,6980882171.2985868,1758773406.1138582,8739655577.4124451]
["2021-11-23",{"$f":"IF(DIAS365(CALCULADORA!$C$27,A6)<0,0,DIAS365(CALCULADORA!$C$27,A6))","v":0},{"$f":"+HLOOKUP(CALCULADORA!$C$9,Tablas!B:B,Flujos!J6+1,FALSE)","v":1.8441679999999998E-2},91.800432999999998,1.844168,{"$f":"ROUND(D5*ROUND(((1+CALCULADORA!$C$16)^(1/12)-1),6),6)","v":0.52141300000000002},2.3655810000000002,{"$f":"IF($B6=0,0,G6/POWER(1+CALCULADORA!$C$29,Flujos!$B6/365))","v":0},"2021-11-23",4,{"$f":"+DIAS365($A$2,A6)","v":123},302807710267.23352,6083068142.2614145,1719903854.1840677,7802971996.4454823]
["2021-12-23",{"$f":"IF(DIAS365(CALCULADORA!$C$27,A7)<0,0,DIAS365(CALCULADORA!$C$27,A7))","v":0},{"$f":"+HLOOKUP(CALCULADORA!$C$9,Tablas!B:B,Flujos!J7+1,FALSE)","v":2.0026140000000001E-2},89.797819000000004,2.0026139999999999,{"$f":"ROUND(D6*ROUND(((1+CALCULADORA!$C$16)^(1/12)-1),6),6)","v":0.51114499999999996},2.5137589999999999,{"$f":"IF($B7=0,0,G7/POWER(1+CALCULADORA!$C$29,Flujos!$B7/365))","v":0},"2021-12-23",5,{"$f":"+DIAS365($A$2,A7)","v":153},296202001121.07837,6605709146.1551781,1686033330.7679563,8291742476.9231339]
["2022-01-23",{"$f":"IF(DIAS365(CALCULADORA!$C$27,A8)<0,0,DIAS365(CALCULADORA!$C$27,A8))","v":0},{"$f":"+HLOOKUP(CALCULADORA!$C$9,Tablas!B:B,Flujos!J8+1,FALSE)","v":1.9208960000000001E-2},87.876923000000005,1.9208959999999999,{"$f":"ROUND(D7*ROUND(((1+CALCULADORA!$C$16)^(1/12)-1),6),6)","v":0.49999399999999999},2.42089,{"$f":"IF($B8=0,0,G8/POWER(1+CALCULADORA!$C$29,Flujos!$B8/365))","v":0},"2022-01-23",6,{"$f":"+DIAS365($A$2,A8)","v":184},289865842342.5954,6336158778.4829712,1649252742.2421644,7985411520.7251358]
["2022-02-23",{"$f":"IF(DIAS365(CALCULADORA!$C$27,A9)<0,0,DIAS365(CALCULADORA!$C$27,A9))","v":0},{"$f":"+HLOOKUP(CALCULADORA!$C$9,Tablas!B:B,Flujos!J9+1,FALSE)","v":1.5680800000000002E-2},86.308842999999996,1.5680799999999999,{"$f":"ROUND(D8*ROUND(((1+CALCULADORA!$C$16)^(1/12)-1),6),6)","v":0.48929899999999998},2.0573790000000001,{"$f":"IF($B9=0,0,G9/POWER(1+CALCULADORA!$C$29,Flujos!$B9/365))","v":0},"2022-02-23",7,{"$f":"+DIAS365($A$2,A9)","v":215},284693462444.17114,5172379898.4242659,1613973010.1635711,6786352908.5878372]
["2022-03-23",{"$f":"IF(DIAS365(CALCULADORA!$C$27,A10)<0,0,DIAS365(CALCULADORA!$C$27,A10))","v":0},{"$f":"+HLOOKUP(CALCULADORA!$C$9,Tablas!B:B,Flujos!J10+1,FALSE)","v":2.0310040000000001E-2},84.277839,2.0310039999999998,{"$f":"ROUND(D9*ROUND(((1+CALCULADORA!$C$16)^(1/12)-1),6),6)","v":0.480568},2.5115719999999997,{"$f":"IF($B10=0,0,G10/POWER(1+CALCULADORA!$C$29,Flujos!$B10/365))","v":0},"2022-03-23",8,{"$f":"+DIAS365($A$2,A10)","v":243},277994107651.5462,6699354792.6249151,1585173198.8891449,8284527991.51406]
["2022-04-23",{"$f":"IF(DIAS365(CALCULADORA!$C$27,A11)<0,0,DIAS365(CALCULADORA!$C$27,A11))","v":0},{"$f":"+HLOOKUP(CALCULADORA!$C$9,Tablas!B:B,Flujos!J11+1,FALSE)","v":1.6536180000000001E-2},82.624221000000006,1.653618,{"$f":"ROUND(D10*ROUND(((1+CALCULADORA!$C$16)^(1/12)-1),6),6)","v":0.46925899999999998},2.1228769999999999,{"$f":"IF($B11=0,0,G11/POWER(1+CALCULADORA!$C$29,Flujos!$B11/365))","v":0},"2022-04-23",9,{"$f":"+DIAS365($A$2,A11)","v":274},272539576949.75003,5454530701.7961693,1547871191.4038093,7002401893.1999788]
["2022-05-23",{"$f":"IF(DIAS365(CALCULADORA!$C$27,A12)<0,0,DIAS365(CALCULADORA!$C$27,A12))","v":0},{"$f":"+HLOOKUP(CALCULADORA!$C$9,Tablas!B:B,Flujos!J12+1,FALSE)","v":1.068205E-2},81.556016,1.0682050000000001,{"$f":"ROUND(D11*ROUND(((1+CALCULADORA!$C$16)^(1/12)-1),6),6)","v":0.46005200000000002},1.528257,{"$f":"IF($B12=0,0,G12/POWER(1+CALCULADORA!$C$29,Flujos!$B12/365))","v":0},"2022-05-23",10,{"$f":"+DIAS365($A$2,A12)","v":304},269016056421.84564,3523520527.9043751,1517500364.4562082,5041020892.3605833]
["2022-06-23",{"$f":"IF(DIAS365(CALCULADORA!$C$27,A13)<0,0,DIAS365(CALCULADORA!$C$27,A13))","v":0},{"$f":"+HLOOKUP(CALCULADORA!$C$9,Tablas!B:B,Flujos!J13+1,FALSE)","v":1.6515800000000001E-2},79.904436000000004,1.65158,{"$f":"ROUND(D12*ROUND(((1+CALCULADORA!$C$16)^(1/12)-1),6),6)","v":0.45410400000000001},2.1056840000000001,{"$f":"IF($B13=0,0,G13/POWER(1+CALCULADORA!$C$29,Flujos!$B13/365))","v":0},"2022-06-23",11,{"$f":"+DIAS365($A$2,A13)","v":335},263568248151.45157,5447808270.3940792,1497881402.1568365,6945689672.5509157]
["2022-07-23",{"$f":"IF(DIAS365(CALCULADORA!$C$27,A14)<0,0,DIAS365(CALCULADORA!$C$27,A14))","v":0},{"$f":"+HLOOKUP(CALCULADORA!$C$9,Tablas!B:B,Flujos!J14+1,FALSE)","v":1.4296379999999999E-2},78.474798000000007,1.429638,{"$f":"ROUND(D13*ROUND(((1+CALCULADORA!$C$16)^(1/12)-1),6),6)","v":0.44490800000000003},1.874546,{"$f":"IF($B14=0,0,G14/POWER(1+CALCULADORA!$C$29,Flujos!$B14/365))","v":0},"2022-07-23",12,{"$f":"+DIAS365($A$2,A14)","v":365},258852525195.20987,4715722956.2416897,1467548005.7072823,6183270961.9489717]
["2022-08-23",{"$f":"IF(DIAS365(CALCULADORA!$C$27,A15)<0,0,DIAS365(CALCULADORA!$C$27,A15))","v":0},{"$f":"+HLOOKUP(CALCULADORA!$C$9,Tablas!B:B,Flujos!J15+1,FALSE)","v":9.2338899999999998E-3},77.551409000000007,0.92338900000000002,{"$f":"ROUND(D14*ROUND(((1+CALCULADORA!$C$16)^(1/12)-1),6),6)","v":0.436948},1.3603369999999999,{"$f":"IF($B15=0,0,G15/POWER(1+CALCULADORA!$C$29,Flujos!$B15/365))","v":0},"2022-08-23",13,{"$f":"+DIAS365($A$2,A15)","v":396},255806686524.97232,3045838670.2375412,1441290860.2869287,4487129530.5244694]
["2022-09-23",{"$f":"IF(DIAS365(CALCULADORA!$C$27,A16)<0,0,DIAS365(CALCULADORA!$C$27,A16))","v":0},{"$f":"+HLOOKUP(CALCULADORA!$C$9,Tablas!B:B,Flujos!J16+1,FALSE)","v":1.499669E-2},76.051739999999995,1.4996689999999999,{"$f":"ROUND(D15*ROUND(((1+CALCULADORA!$C$16)^(1/12)-1),6),6)","v":0.43180600000000002},1.9314749999999998,{"$f":"IF($B16=0,0,G16/POWER(1+CALCULADORA!$C$29,Flujos!$B16/365))","v":0},"2022-09-23",14,{"$f":"+DIAS365($A$2,A16)","v":427},250859963277.50406,4946723247.4682531,1424331630.5710459,6371054878.039299]
["2022-10-23",{"$f":"IF(DIAS365(CALCULADORA!$C$27,A17)<0,0,DIAS365(CALCULADORA!$C$27,A17))","v":0},{"$f":"+HLOOKUP(CALCULADORA!$C$9,Tablas!B:B,Flujos!J17+1,FALSE)","v":1.3574630000000001E-2},74.694277,1.3574630000000001,{"$f":"ROUND(D16*ROUND(((1+CALCULADORA!$C$16)^(1/12)-1),6),6)","v":0.423456},1.7809190000000001,{"$f":"IF($B17=0,0,G17/POWER(1+CALCULADORA!$C$29,Flujos!$B17/365))","v":0},"2022-10-23",15,{"$f":"+DIAS365($A$2,A17)","v":457},246382312689.48898,4477650588.0150871,1396788275.5291426,5874438863.5442295]
["2022-11-23",{"$f":"IF(DIAS365(CALCULADORA!$C$27,A18)<0,0,DIAS365(CALCULADORA!$C$27,A18))","v":0},{"$f":"+HLOOKUP(CALCULADORA!$C$9,Tablas!B:B,Flujos!J18+1,FALSE)","v":1.483513E-2},73.210763999999998,1.4835130000000001,{"$f":"ROUND(D17*ROUND(((1+CALCULADORA!$C$16)^(1/12)-1),6),6)","v":0.41589799999999999},1.8994110000000002,{"$f":"IF($B18=0,0,G18/POWER(1+CALCULADORA!$C$29,Flujos!$B18/365))","v":0},"2022-11-23",16,{"$f":"+DIAS365($A$2,A18)","v":488},241488880708.81766,4893431980.6713161,1371856717.0550747,6265288697.7263908]
["2022-12-23",{"$f":"IF(DIAS365(CALCULADORA!$C$27,A19)<0,0,DIAS365(CALCULADORA!$C$27,A19))","v":0},{"$f":"+HLOOKUP(CALCULADORA!$C$9,Tablas!B:B,Flujos!J19+1,FALSE)","v":8.0742499999999998E-3},72.403339000000003,0.80742499999999995,{"$f":"ROUND(D18*ROUND(((1+CALCULADORA!$C$16)^(1/12)-1),6),6)","v":0.407638},1.215063,{"$f":"IF($B19=0,0,G19/POWER(1+CALCULADORA!$C$29,Flujos!$B19/365))","v":0},"2022-12-23",17,{"$f":"+DIAS365($A$2,A19)","v":518},238825554322.73709,2663326386.080565,1344610087.7866967,4007936473.8672619]
["2023-01-23",{"$f":"IF(DIAS365(CALCULADORA!$C$27,A20)<0,0,DIAS365(CALCULADORA!$C$27,A20))","v":0},{"$f":"+HLOOKUP(CALCULADORA!$C$9,Tablas!B:B,Flujos!J20+1,FALSE)","v":1.361384E-2},71.041955000000002,1.3613839999999999,{"$f":"ROUND(D19*ROUND(((1+CALCULADORA!$C$16)^(1/12)-1),6),6)","v":0.403142},1.764526,{"$f":"IF($B20=0,0,G20/POWER(1+CALCULADORA!$C$29,Flujos!$B20/365))","v":0},"2023-01-23",18,{"$f":"+DIAS365($A$2,A20)","v":549},234334970146.14124,4490584176.59585,1329780686.4690001,5820364863.0648499]
["2023-02-23",{"$f":"IF(DIAS365(CALCULADORA!$C$27,A21)<0,0,DIAS365(CALCULADORA!$C$27,A21))","v":0},{"$f":"+HLOOKUP(CALCULADORA!$C$9,Tablas!B:B,Flujos!J21+1,FALSE)","v":1.0196190000000001E-2},70.022335999999996,1.0196190000000001,{"$f":"ROUND(D20*ROUND(((1+CALCULADORA!$C$16)^(1/12)-1),6),6)","v":0.39556200000000002},1.415181,{"$f":"IF($B21=0,0,G21/POWER(1+CALCULADORA!$C$29,Flujos!$B21/365))","v":0},"2023-02-23",19,{"$f":"+DIAS365($A$2,A21)","v":580},230971712646.74615,3363257499.3950891,1304777113.7737143,4668034613.1688032]
["2023-03-23",{"$f":"IF(DIAS365(CALCULADORA!$C$27,A22)<0,0,DIAS365(CALCULADORA!$C$27,A22))","v":0},{"$f":"+HLOOKUP(CALCULADORA!$C$9,Tablas!B:B,Flujos!J22+1,FALSE)","v":1.032425E-2},{"$f":"+ROUND(D21-E22,6)","v":68.989911000000006},1.0324249999999999,{"$f":"ROUND(D21*ROUND(((1+CALCULADORA!$C$16)^(1/12)-1),6),6)","v":0.38988400000000001},1.4223089999999998,{"$f":"IF($B22=0,0,G22/POWER(1+CALCULADORA!$C$29,Flujos!$B22/365))","v":0},"2023-03-23",20,{"$f":"+DIAS365($A$2,A22)","v":608},227566214000.8667,3405498645.8794651,1286050496.0170827,4691549141.8965473]
["2023-04-23",{"$f":"IF(DIAS365(CALCULADORA!$C$27,A23)<0,0,DIAS365(CALCULADORA!$C$27,A23))","v":0},{"$f":"+HLOOKUP(CALCULADORA!$C$9,Tablas!B:B,Flujos!J23+1,FALSE)","v":1.2419660000000001E-2},67.747945000000001,1.2419659999999999,{"$f":"ROUND(D22*ROUND(((1+CALCULADORA!$C$16)^(1/12)-1),6),6)","v":0.38413599999999998},1.6261019999999999,{"$f":"IF($B23=0,0,G23/POWER(1+CALCULADORA!$C$29,Flujos!$B23/365))","v":0},"2023-04-23",21,{"$f":"+DIAS365($A$2,A23)","v":639},223469535277.25159,4096678723.6151161,1267088679.5568259,5363767403.1719418]
["2023-05-23",{"$f":"IF(DIAS365(CALCULADORA!$C$27,A24)<0,0,DIAS365(CALCULADORA!$C$27,A24))","v":0},{"$f":"+HLOOKUP(CALCULADORA!$C$9,Tablas!B:B,Flujos!J24+1,FALSE)","v":8.7410700000000001E-3},66.873838000000006,0.87410699999999997,{"$f":"ROUND(D23*ROUND(((1+CALCULADORA!$C$16)^(1/12)-1),6),6)","v":0.37722099999999997},1.251328,{"$f":"IF($B24=0,0,G24/POWER(1+CALCULADORA!$C$29,Flujos!$B24/365))","v":0},"2023-05-23",22,{"$f":"+DIAS365($A$2,A24)","v":669},220586255421.71365,2883279855.5379438,1244278372.4237368,4127558227.9616804]
["2023-06-23",{"$f":"IF(DIAS365(CALCULADORA!$C$27,A25)<0,0,DIAS365(CALCULADORA!$C$27,A25))","v":0},{"$f":"+HLOOKUP(CALCULADORA!$C$9,Tablas!B:B,Flujos!J25+1,FALSE)","v":8.3459099999999998E-3},66.039247000000003,0.83459099999999997,{"$f":"ROUND(D24*ROUND(((1+CALCULADORA!$C$16)^(1/12)-1),6),6)","v":0.37235400000000002},1.2069449999999999,{"$f":"IF($B25=0,0,G25/POWER(1+CALCULADORA!$C$29,Flujos!$B25/365))","v":0},"2023-06-23",23,{"$f":"+DIAS365($A$2,A25)","v":700},217833320806.25665,2752934615.4569955,1228224270.1881015,3981158885.6450968]
["2023-07-23",{"$f":"IF(DIAS365(CALCULADORA!$C$27,A26)<0,0,DIAS365(CALCULADORA!$C$27,A26))","v":0},{"$f":"+HLOOKUP(CALCULADORA!$C$9,Tablas!B:B,Flujos!J26+1,FALSE)","v":1.046561E-2},64.992686000000006,1.0465610000000001,{"$f":"ROUND(D25*ROUND(((1+CALCULADORA!$C$16)^(1/12)-1),6),6)","v":0.36770700000000001},1.4142680000000001,{"$f":"IF($B26=0,0,G26/POWER(1+CALCULADORA!$C$29,Flujos!$B26/365))","v":0},"2023-07-23",24,{"$f":"+DIAS365($A$2,A26)","v":730},214381193951.20157,3452126855.0550976,1212895930.2492371,4665022785.3043346]
["2023-08-23",{"$f":"IF(DIAS365(CALCULADORA!$C$27,A27)<0,0,DIAS365(CALCULADORA!$C$27,A27))","v":0},{"$f":"+HLOOKUP(CALCULADORA!$C$9,Tablas!B:B,Flujos!J27+1,FALSE)","v":6.2120500000000002E-3},64.371481000000003,0.62120500000000001,{"$f":"ROUND(D26*ROUND(((1+CALCULADORA!$C$16)^(1/12)-1),6),6)","v":0.36187900000000001},0.98308400000000007,{"$f":"IF($B27=0,0,G27/POWER(1+CALCULADORA!$C$29,Flujos!$B27/365))","v":0},"2023-08-23",25,{"$f":"+DIAS365($A$2,A27)","v":761},212332122312.76434,2049071638.4372263,1193674487.9202902,3242746126.3575163]
["2023-09-23",{"$f":"IF(DIAS365(CALCULADORA!$C$27,A28)<0,0,DIAS365(CALCULADORA!$C$27,A28))","v":0},{"$f":"+HLOOKUP(CALCULADORA!$C$9,Tablas!B:B,Flujos!J28+1,FALSE)","v":7.7529299999999999E-3},63.596187999999998,0.77529300000000001,{"$f":"ROUND(D27*ROUND(((1+CALCULADORA!$C$16)^(1/12)-1),6),6)","v":0.35842000000000002},1.133713,{"$f":"IF($B28=0,0,G28/POWER(1+CALCULADORA!$C$29,Flujos!$B28/365))","v":0},"2023-09-23",26,{"$f":"+DIAS365($A$2,A28)","v":792},209774784722.46982,2557337590.294528,1182265257.0374718,3739602847.3319998]
["2023-10-23",{"$f":"IF(DIAS365(CALCULADORA!$C$27,A29)<0,0,DIAS365(CALCULADORA!$C$27,A29))","v":0},{"$f":"+HLOOKUP(CALCULADORA!$C$9,Tablas!B:B,Flujos!J29+1,FALSE)","v":7.1742000000000004E-3},62.878768000000001,0.71741999999999995,{"$f":"ROUND(D28*ROUND(((1+CALCULADORA!$C$16)^(1/12)-1),6),6)","v":0.35410399999999997},1.0715239999999999,{"$f":"IF($B29=0,0,G29/POWER(1+CALCULADORA!$C$29,Flujos!$B29/365))","v":0},"2023-10-23",27,{"$f":"+DIAS365($A$2,A29)","v":822},207408343733.0257,2366440989.4441204,1168026001.334712,3534466990.7788324]
["2023-11-23",{"$f":"IF(DIAS365(CALCULADORA!$C$27,A30)<0,0,DIAS365(CALCULADORA!$C$27,A30))","v":0},{"$f":"+HLOOKUP(CALCULADORA!$C$9,Tablas!B:B,Flujos!J30+1,FALSE)","v":7.12022E-3},62.166746000000003,0.71202200000000004,{"$f":"ROUND(D29*ROUND(((1+CALCULADORA!$C$16)^(1/12)-1),6),6)","v":0.350109},1.0621309999999999,{"$f":"IF($B30=0,0,G30/POWER(1+CALCULADORA!$C$29,Flujos!$B30/365))","v":0},"2023-11-23",28,{"$f":"+DIAS365($A$2,A30)","v":853},205059708280.72998,2348635452.2957006,1154849657.9054871,3503485110.2011876]
["2023-12-23",{"$f":"IF(DIAS365(CALCULADORA!$C$27,A31)<0,0,DIAS365(CALCULADORA!$C$27,A31))","v":0},{"$f":"+HLOOKUP(CALCULADORA!$C$9,Tablas!B:B,Flujos!J31+1,FALSE)","v":9.8689699999999995E-3},61.179848999999997,0.98689700000000002,{"$f":"ROUND(D30*ROUND(((1+CALCULADORA!$C$16)^(1/12)-1),6),6)","v":0.34614400000000001},1.3330410000000001,{"$f":"IF($B31=0,0,G31/POWER(1+CALCULADORA!$C$29,Flujos!$B31/365))","v":0},"2023-12-23",29,{"$f":"+DIAS365($A$2,A31)","v":883},201804385717.71329,3255322563.0166903,1141772455.7071044,4397095018.7237949]
["2024-01-23",{"$f":"IF(DIAS365(CALCULADORA!$C$27,A32)<0,0,DIAS365(CALCULADORA!$C$27,A32))","v":0},{"$f":"+HLOOKUP(CALCULADORA!$C$9,Tablas!B:B,Flujos!J32+1,FALSE)","v":8.4436500000000005E-3},60.335484000000001,0.84436500000000003,{"$f":"ROUND(D31*ROUND(((1+CALCULADORA!$C$16)^(1/12)-1),6),6)","v":0.34064899999999998},1.185014,{"$f":"IF($B32=0,0,G32/POWER(1+CALCULADORA!$C$29,Flujos!$B32/365))","v":0},"2024-01-23",30,{"$f":"+DIAS365($A$2,A32)","v":914},199019211139.29062,2785174578.4226599,1123646819.6762276,3908821398.0988874]
["2024-02-23",{"$f":"IF(DIAS365(CALCULADORA!$C$27,A33)<0,0,DIAS365(CALCULADORA!$C$27,A33))","v":0},{"$f":"+HLOOKUP(CALCULADORA!$C$9,Tablas!B:B,Flujos!J33+1,FALSE)","v":1.285656E-2},59.049827999999998,1.2856559999999999,{"$f":"ROUND(D32*ROUND(((1+CALCULADORA!$C$16)^(1/12)-1),6),6)","v":0.33594800000000002},1.621604,{"$f":"IF($B33=0,0,G33/POWER(1+CALCULADORA!$C$29,Flujos!$B33/365))","v":0},"2024-02-23",31,{"$f":"+DIAS365($A$2,A33)","v":945},194778419055.53943,4240792083.7511778,1108138967.6235702,5348931051.3747482]
["2024-03-23",{"$f":"IF(DIAS365(CALCULADORA!$C$27,A34)<0,0,DIAS365(CALCULADORA!$C$27,A34))","v":0},{"$f":"+HLOOKUP(CALCULADORA!$C$9,Tablas!B:B,Flujos!J34+1,FALSE)","v":9.2865299999999994E-3},58.121175000000001,0.92865299999999995,{"$f":"ROUND(D33*ROUND(((1+CALCULADORA!$C$16)^(1/12)-1),6),6)","v":0.328789},1.2574419999999999,{"$f":"IF($B34=0,0,G34/POWER(1+CALCULADORA!$C$29,Flujos!$B34/365))","v":0},"2024-03-23",32,{"$f":"+DIAS365($A$2,A34)","v":973},191715216852.96597,3063202202.5734582,1084526237.3012435,4147728439.8747015]
[{"$f":"EDATE(A34,1)","v":"2024-04-23"},{"$f":"IF(DIAS365(CALCULADORA!$C$27,A35)<0,0,DIAS365(CALCULADORA!$C$27,A35))","v":0},{"$f":"+HLOOKUP(CALCULADORA!$C$9,Tablas!B:B,Flujos!J35+1,FALSE)","v":1.3177680000000001E-2},56.803407,1.3177680000000001,{"$f":"ROUND(D34*ROUND(((1+CALCULADORA!$C$16)^(1/12)-1),6),6)","v":0.32361899999999999},1.6413869999999999,{"$f":"IF($B35=0,0,G35/POWER(1+CALCULADORA!$C$29,Flujos!$B35/365))","v":0},"2024-04-23",33,{"$f":"+DIAS365($A$2,A35)","v":1004},187368501944.2963,4346714908.6696768,1067470327.4373145,5414185236.1069908]
["2024-05-23",{"$f":"IF(DIAS365(CALCULADORA!$C$27,A36)<0,0,DIAS365(CALCULADORA!$C$27,A36))","v":0},{"$f":"+HLOOKUP(CALCULADORA!$C$9,Tablas!B:B,Flujos!J36+1,FALSE)","v":8.6879000000000001E-3},55.934617000000003,0.86878999999999995,{"$f":"ROUND(D35*ROUND(((1+CALCULADORA!$C$16)^(1/12)-1),6),6)","v":0.31628099999999998},1.185071,{"$f":"IF($B36=0,0,G36/POWER(1+CALCULADORA!$C$29,Flujos!$B36/365))","v":0},"2024-05-23",34,{"$f":"+DIAS365($A$2,A36)","v":1034},184502760443.89325,2865741500.4030519,1043267818.8258418,3909009319.2288938]
["2024-06-23",{"$f":"IF(DIAS365(CALCULADORA!$C$27,A37)<0,0,DIAS365(CALCULADORA!$C$27,A37))","v":0},{"$f":"+HLOOKUP(CALCULADORA!$C$9,Tablas!B:B,Flujos!J37+1,FALSE)","v":6.6977E-3},55.264847000000003,0.66976999999999998,{"$f":"ROUND(D36*ROUND(((1+CALCULADORA!$C$16)^(1/12)-1),6),6)","v":0.311444},0.98121400000000003,{"$f":"IF($B37=0,0,G37/POWER(1+CALCULADORA!$C$29,Flujos!$B37/365))","v":0},"2024-06-23",35,{"$f":"+DIAS365($A$2,A37)","v":1065},182293495046.35767,2209265397.5355978,1027311370.1515976,3236576767.6871953]
["2024-07-23",{"$f":"IF(DIAS365(CALCULADORA!$C$27,A38)<0,0,DIAS365(CALCULADORA!$C$27,A38))","v":0},{"$f":"+HLOOKUP(CALCULADORA!$C$9,Tablas!B:B,Flujos!J38+1,FALSE)","v":1.013146E-2},54.251700999999997,1.0131460000000001,{"$f":"ROUND(D37*ROUND(((1+CALCULADORA!$C$16)^(1/12)-1),6),6)","v":0.30771500000000002},1.3208610000000001,{"$f":"IF($B38=0,0,G38/POWER(1+CALCULADORA!$C$29,Flujos!$B38/365))","v":0},"2024-07-23",36,{"$f":"+DIAS365($A$2,A38)","v":1095},178951589018.24115,3341906028.1165185,1015010180.4181195,4356916208.5346384]
["2024-08-23",{"$f":"IF(DIAS365(CALCULADORA!$C$27,A39)<0,0,DIAS365(CALCULADORA!$C$27,A39))","v":0},{"$f":"+HLOOKUP(CALCULADORA!$C$9,Tablas!B:B,Flujos!J39+1,FALSE)","v":9.4565099999999996E-3},53.306049999999999,0.94565100000000002,{"$f":"ROUND(D38*ROUND(((1+CALCULADORA!$C$16)^(1/12)-1),6),6)","v":0.30207299999999998},1.2477240000000001,{"$f":"IF($B39=0,0,G39/POWER(1+CALCULADORA!$C$29,Flujos!$B39/365))","v":0},"2024-08-23",37,{"$f":"+DIAS365($A$2,A39)","v":1126},175832318175.34741,3119270842.8937325,996402447.65356672,4115673290.5472994]
["2024-09-23",{"$f":"IF(DIAS365(CALCULADORA!$C$27,A40)<0,0,DIAS365(CALCULADORA!$C$27,A40))","v":0},{"$f":"+HLOOKUP(CALCULADORA!$C$9,Tablas!B:B,Flujos!J40+1,FALSE)","v":9.6219099999999991E-3},{"$f":"+ROUND(D39-E40,6)","v":52.343859000000002},{"$f":"ROUND(C40*$D$2,6)","v":0.96219100000000002},{"$f":"ROUND(D39*ROUND(((1+CALCULADORA!$C$16)^(1/12)-1),6),6)","v":0.29680800000000002},{"$f":"F40+E40","v":1.258999},{"$f":"IF($B40=0,0,G40/POWER(1+CALCULADORA!$C$29,Flujos!$B40/365))","v":0},{"$f":"+A40","v":"2024-09-23"},38,{"$f":"+DIAS365($A$2,A40)","v":1157},172658489425.00003,3173828750.347394,979034347.60033441,4152863097.9477282]
["2024-10-23",{"$f":"IF(DIAS365(CALCULADORA!$C$27,A41)<0,0,DIAS365(CALCULADORA!$C$27,A41))","v":22},{"$f":"+HLOOKUP(CALCULADORA!$C$9,Tablas!B:B,Flujos!J41+1,FALSE)","v":9.5536300000000005E-3},51.388496000000004,0.95536299999999996,{"$f":"ROUND(D40*ROUND(((1+CALCULADORA!$C$16)^(1/12)-1),6),6)","v":0.29145100000000002},1.2468140000000001,{"$f":"IF($B41=0,0,G41/POWER(1+CALCULADORA!$C$29,Flujos!$B41/365))","v":1.2390632248006752},"2024-10-23",39,{"$f":"+DIAS365($A$2,A41)","v":1187},169507183128.82999,3151306296.1700306,961362469.11840022,4112668765.2884307]
["2024-11-23",{"$f":"IF(DIAS365(CALCULADORA!$C$27,A42)<0,0,DIAS365(CALCULADORA!$C$27,A42))","v":53},{"$f":"+HLOOKUP(CALCULADORA!$C$9,Tablas!B:B,Flujos!J42+1,FALSE)","v":8.4620200000000007E-3},50.542293999999998,0.84620200000000001,{"$f":"ROUND(D41*ROUND(((1+CALCULADORA!$C$16)^(1/12)-1),6),6)","v":0.28613100000000002},1.132333,{"$f":"IF($B42=0,0,G42/POWER(1+CALCULADORA!$C$29,Flujos!$B42/365))","v":1.1154493573272886},"2024-11-23",40,{"$f":"+DIAS365($A$2,A42)","v":1218},166715949126.224,2791234002.6059961,943815995.66132534,3735049998.2673216]
["2024-12-23",{"$f":"IF(DIAS365(CALCULADORA!$C$27,A43)<0,0,DIAS365(CALCULADORA!$C$27,A43))","v":83},{"$f":"+HLOOKUP(CALCULADORA!$C$9,Tablas!B:B,Flujos!J43+1,FALSE)","v":8.3559099999999994E-3},49.706702999999997,0.83559099999999997,{"$f":"ROUND(D42*ROUND(((1+CALCULADORA!$C$16)^(1/12)-1),6),6)","v":0.28141899999999997},1.1170100000000001,{"$f":"IF($B43=0,0,G43/POWER(1+CALCULADORA!$C$29,Flujos!$B43/365))","v":1.0910376826049615},"2024-12-23",41,{"$f":"+DIAS365($A$2,A43)","v":1248},163959715967.39011,2756233158.8338795,928274404.73481524,3684507563.5686946]
["2025-01-23",{"$f":"IF(DIAS365(CALCULADORA!$C$27,A44)<0,0,DIAS365(CALCULADORA!$C$27,A44))","v":114},{"$f":"+HLOOKUP(CALCULADORA!$C$9,Tablas!B:B,Flujos!J44+1,FALSE)","v":8.2596500000000003E-3},48.880738000000001,0.82596499999999995,{"$f":"ROUND(D43*ROUND(((1+CALCULADORA!$C$16)^(1/12)-1),6),6)","v":0.27676699999999999},1.102732,{"$f":"IF($B44=0,0,G44/POWER(1+CALCULADORA!$C$29,Flujos!$B44/365))","v":1.0676688278916888},"2025-01-23",42,{"$f":"+DIAS365($A$2,A44)","v":1279},161235234587.10211,2724481380.2879944,912927698.50642812,3637409078.7944226]
["2025-02-23",{"$f":"IF(DIAS365(CALCULADORA!$C$27,A45)<0,0,DIAS365(CALCULADORA!$C$27,A45))","v":145},{"$f":"+HLOOKUP(CALCULADORA!$C$9,Tablas!B:B,Flujos!J45+1,FALSE)","v":8.1701499999999993E-3},48.063723000000003,0.81701500000000005,{"$f":"ROUND(D44*ROUND(((1+CALCULADORA!$C$16)^(1/12)-1),6),6)","v":0.27216800000000002},1.089183,{"$f":"IF($B45=0,0,G45/POWER(1+CALCULADORA!$C$29,Flujos!$B45/365))","v":1.0453249971038427},"2025-02-23",43,{"$f":"+DIAS365($A$2,A45)","v":1310},158540275170.03723,2694959417.0648823,897757786.18098462,3592717203.2458668]
["2025-03-23",{"$f":"IF(DIAS365(CALCULADORA!$C$27,A46)<0,0,DIAS365(CALCULADORA!$C$27,A46))","v":173},{"$f":"+HLOOKUP(CALCULADORA!$C$9,Tablas!B:B,Flujos!J46+1,FALSE)","v":8.0761700000000006E-3},47.256106000000003,0.80761700000000003,{"$f":"ROUND(D45*ROUND(((1+CALCULADORA!$C$16)^(1/12)-1),6),6)","v":0.267619},1.0752360000000001,{"$f":"IF($B46=0,0,G46/POWER(1+CALCULADORA!$C$29,Flujos!$B46/365))","v":1.0237819649455211},"2025-03-23",44,{"$f":"+DIAS365($A$2,A46)","v":1338},155876315463.6283,2663959706.408927,882752252.14676726,3546711958.5556941]
["2025-04-23",{"$f":"IF(DIAS365(CALCULADORA!$C$27,A47)<0,0,DIAS365(CALCULADORA!$C$27,A47))","v":204},{"$f":"+HLOOKUP(CALCULADORA!$C$9,Tablas!B:B,Flujos!J47+1,FALSE)","v":7.9758799999999994E-3},46.458517999999998,0.79758799999999996,{"$f":"ROUND(D46*ROUND(((1+CALCULADORA!$C$16)^(1/12)-1),6),6)","v":0.26312200000000002},1.06071,{"$f":"IF($B47=0,0,G47/POWER(1+CALCULADORA!$C$29,Flujos!$B47/365))","v":1.00111561978277},"2025-04-23",45,{"$f":"+DIAS365($A$2,A47)","v":1369},153245436848.74612,2630878614.8821568,867919324.50148237,3498797939.3836393]
["2025-05-23",{"$f":"IF(DIAS365(CALCULADORA!$C$27,A48)<0,0,DIAS365(CALCULADORA!$C$27,A48))","v":234},{"$f":"+HLOOKUP(CALCULADORA!$C$9,Tablas!B:B,Flujos!J48+1,FALSE)","v":7.8757900000000006E-3},45.670938999999997,0.78757900000000003,{"$f":"ROUND(D47*ROUND(((1+CALCULADORA!$C$16)^(1/12)-1),6),6)","v":0.25868099999999999},1.04626,{"$f":"IF($B48=0,0,G48/POWER(1+CALCULADORA!$C$29,Flujos!$B48/365))","v":0.97911610102157187},"2025-05-23",46,{"$f":"+DIAS365($A$2,A48)","v":1399},150647573354.52319,2597863494.2229252,853270592.3738184,3451134086.5967436]
["2025-06-23",{"$f":"IF(DIAS365(CALCULADORA!$C$27,A49)<0,0,DIAS365(CALCULADORA!$C$27,A49))","v":265},{"$f":"+HLOOKUP(CALCULADORA!$C$9,Tablas!B:B,Flujos!J49+1,FALSE)","v":7.7871700000000004E-3},44.892221999999997,0.77871699999999999,{"$f":"ROUND(D48*ROUND(((1+CALCULADORA!$C$16)^(1/12)-1),6),6)","v":0.25429600000000002},1.033013,{"$f":"IF($B49=0,0,G49/POWER(1+CALCULADORA!$C$29,Flujos!$B49/365))","v":0.95826197122758316},"2025-06-23",47,{"$f":"+DIAS365($A$2,A49)","v":1430},148078941551.70621,2568631802.8169789,838805688.43798518,3407437491.2549639]
["2025-07-23",{"$f":"IF(DIAS365(CALCULADORA!$C$27,A50)<0,0,DIAS365(CALCULADORA!$C$27,A50))","v":295},{"$f":"+HLOOKUP(CALCULADORA!$C$9,Tablas!B:B,Flujos!J50+1,FALSE)","v":7.6969100000000004E-3},44.122531000000002,0.76969100000000001,{"$f":"ROUND(D49*ROUND(((1+CALCULADORA!$C$16)^(1/12)-1),6),6)","v":0.24995999999999999},1.0196510000000001,{"$f":"IF($B50=0,0,G50/POWER(1+CALCULADORA!$C$29,Flujos!$B50/365))","v":0.93785783775529508},"2025-07-23",48,{"$f":"+DIAS365($A$2,A50)","v":1460},145540082401.409,2538859150.297224,824503546.55990016,3363362696.8571243]
["2025-08-23",{"$f":"IF(DIAS365(CALCULADORA!$C$27,A51)<0,0,DIAS365(CALCULADORA!$C$27,A51))","v":326},{"$f":"+HLOOKUP(CALCULADORA!$C$9,Tablas!B:B,Flujos!J51+1,FALSE)","v":7.5987299999999997E-3},43.362658000000003,0.75987300000000002,{"$f":"ROUND(D50*ROUND(((1+CALCULADORA!$C$16)^(1/12)-1),6),6)","v":0.245674},1.005547,{"$f":"IF($B51=0,0,G51/POWER(1+CALCULADORA!$C$29,Flujos!$B51/365))","v":0.91679393890174032},"2025-08-23",49,{"$f":"+DIAS365($A$2,A51)","v":1491},143033608349.98602,2506474051.422977,810367178.81104529,3316841230.2340221]
["2025-09-23",{"$f":"IF(DIAS365(CALCULADORA!$C$27,A52)<0,0,DIAS365(CALCULADORA!$C$27,A52))","v":357},{"$f":"+HLOOKUP(CALCULADORA!$C$9,Tablas!B:B,Flujos!J52+1,FALSE)","v":7.5053200000000002E-3},42.612126000000004,0.75053199999999998,{"$f":"ROUND(D51*ROUND(((1+CALCULADORA!$C$16)^(1/12)-1),6),6)","v":0.24144299999999999},0.99197499999999994,{"$f":"IF($B52=0,0,G52/POWER(1+CALCULADORA!$C$29,Flujos!$B52/365))","v":0.89650761317272643},"2025-09-23",50,{"$f":"+DIAS365($A$2,A52)","v":1522},140557945992.24652,2475662357.7395034,796411131.29272223,3272073489.0322256]
["2025-10-23",{"$f":"IF(DIAS365(CALCULADORA!$C$27,A53)<0,0,DIAS365(CALCULADORA!$C$27,A53))","v":387},{"$f":"+HLOOKUP(CALCULADORA!$C$9,Tablas!B:B,Flujos!J53+1,FALSE)","v":7.4122499999999996E-3},41.870901000000003,0.74122500000000002,{"$f":"ROUND(D52*ROUND(((1+CALCULADORA!$C$16)^(1/12)-1),6),6)","v":0.237264},0.97848900000000005,{"$f":"IF($B53=0,0,G53/POWER(1+CALCULADORA!$C$29,Flujos!$B53/365))","v":0.8768316119812295},"2025-10-23",51,{"$f":"+DIAS365($A$2,A53)","v":1552},138112983177.71567,2444962814.5308437,782626643.28482866,3227589457.8156724]
["2025-11-23",{"$f":"IF(DIAS365(CALCULADORA!$C$27,A54)<0,0,DIAS365(CALCULADORA!$C$27,A54))","v":418},{"$f":"+HLOOKUP(CALCULADORA!$C$9,Tablas!B:B,Flujos!J54+1,FALSE)","v":7.3213799999999997E-3},41.138762999999997,0.73213799999999996,{"$f":"ROUND(D53*ROUND(((1+CALCULADORA!$C$16)^(1/12)-1),6),6)","v":0.23313700000000001},0.96527499999999999,{"$f":"IF($B54=0,0,G54/POWER(1+CALCULADORA!$C$29,Flujos!$B54/365))","v":0.857423150927626},"2025-11-23",52,{"$f":"+DIAS365($A$2,A54)","v":1583},135697994226.85057,2414988950.865099,769013090.33352089,3184002041.1986198]
["2025-12-23",{"$f":"IF(DIAS365(CALCULADORA!$C$27,A55)<0,0,DIAS365(CALCULADORA!$C$27,A55))","v":448},{"$f":"+HLOOKUP(CALCULADORA!$C$9,Tablas!B:B,Flujos!J55+1,FALSE)","v":7.2294999999999998E-3},40.415813,0.72294999999999998,{"$f":"ROUND(D54*ROUND(((1+CALCULADORA!$C$16)^(1/12)-1),6),6)","v":0.22906099999999999},0.95201099999999994,{"$f":"IF($B55=0,0,G55/POWER(1+CALCULADORA!$C$29,Flujos!$B55/365))","v":0.8384807758307169},"2025-12-23",53,{"$f":"+DIAS365($A$2,A55)","v":1613},133313312292.53229,2384681934.3182888,755566431.85510397,3140248366.1733928]
["2026-01-23",{"$f":"IF(DIAS365(CALCULADORA!$C$27,A56)<0,0,DIAS365(CALCULADORA!$C$27,A56))","v":479},{"$f":"+HLOOKUP(CALCULADORA!$C$9,Tablas!B:B,Flujos!J56+1,FALSE)","v":7.7163300000000004E-3},39.644179999999999,0.77163300000000001,{"$f":"ROUND(D55*ROUND(((1+CALCULADORA!$C$16)^(1/12)-1),6),6)","v":0.22503500000000001},0.996668,{"$f":"IF($B56=0,0,G56/POWER(1+CALCULADORA!$C$29,Flujos!$B56/365))","v":0.87013282839190575},"2026-01-23",54,{"$f":"+DIAS365($A$2,A56)","v":1644},130768047370.99716,2545264921.5351329,742288522.84481978,3287553444.3799524]
["2026-02-23",{"$f":"IF(DIAS365(CALCULADORA!$C$27,A57)<0,0,DIAS365(CALCULADORA!$C$27,A57))","v":510},{"$f":"+HLOOKUP(CALCULADORA!$C$9,Tablas!B:B,Flujos!J57+1,FALSE)","v":9.2823999999999997E-3},38.715940000000003,0.92823999999999995,{"$f":"ROUND(D56*ROUND(((1+CALCULADORA!$C$16)^(1/12)-1),6),6)","v":0.22073899999999999},1.148979,{"$f":"IF($B57=0,0,G57/POWER(1+CALCULADORA!$C$29,Flujos!$B57/365))","v":0.99433110789179013},"2026-02-23",55,{"$f":"+DIAS365($A$2,A57)","v":1675},127706207466.83836,3061839904.1588054,728116487.76171219,3789956391.9205174]
["2026-03-23",{"$f":"IF(DIAS365(CALCULADORA!$C$27,A58)<0,0,DIAS365(CALCULADORA!$C$27,A58))","v":538},{"$f":"+HLOOKUP(CALCULADORA!$C$9,Tablas!B:B,Flujos!J58+1,FALSE)","v":9.1909399999999999E-3},37.796846000000002,0.91909399999999997,{"$f":"ROUND(D57*ROUND(((1+CALCULADORA!$C$16)^(1/12)-1),6),6)","v":0.21557000000000001},1.1346639999999999,{"$f":"IF($B58=0,0,G58/POWER(1+CALCULADORA!$C$29,Flujos!$B58/365))","v":0.974180445882464},"2026-03-23",56,{"$f":"+DIAS365($A$2,A58)","v":1703},124674536040.40454,3031671426.4338245,711068163.17535603,3742739589.6091805]
["2026-04-23",{"$f":"IF(DIAS365(CALCULADORA!$C$27,A59)<0,0,DIAS365(CALCULADORA!$C$27,A59))","v":569},{"$f":"+HLOOKUP(CALCULADORA!$C$9,Tablas!B:B,Flujos!J59+1,FALSE)","v":9.0940799999999992E-3},36.887438000000003,0.90940799999999999,{"$f":"ROUND(D58*ROUND(((1+CALCULADORA!$C$16)^(1/12)-1),6),6)","v":0.210453},1.119861,{"$f":"IF($B59=0,0,G59/POWER(1+CALCULADORA!$C$29,Flujos!$B59/365))","v":0.95305979323116208},"2026-04-23",57,{"$f":"+DIAS365($A$2,A59)","v":1734},121674814305.11922,2999721735.2853255,694187816.67297244,3693909551.9582977]
["2026-05-23",{"$f":"IF(DIAS365(CALCULADORA!$C$27,A60)<0,0,DIAS365(CALCULADORA!$C$27,A60))","v":599},{"$f":"+HLOOKUP(CALCULADORA!$C$9,Tablas!B:B,Flujos!J60+1,FALSE)","v":8.5305099999999998E-3},36.034387000000002,0.853051,{"$f":"ROUND(D59*ROUND(((1+CALCULADORA!$C$16)^(1/12)-1),6),6)","v":0.20538899999999999},1.05844,{"$f":"IF($B60=0,0,G60/POWER(1+CALCULADORA!$C$29,Flujos!$B60/365))","v":0.89316000686965136},"2026-05-23",58,{"$f":"+DIAS365($A$2,A60)","v":1764},118860988578.92494,2813825726.1942744,677485366.0509038,3491311092.2451782]
["2026-06-23",{"$f":"IF(DIAS365(CALCULADORA!$C$27,A61)<0,0,DIAS365(CALCULADORA!$C$27,A61))","v":630},{"$f":"+HLOOKUP(CALCULADORA!$C$9,Tablas!B:B,Flujos!J61+1,FALSE)","v":8.8858199999999991E-3},35.145805000000003,0.88858199999999998,{"$f":"ROUND(D60*ROUND(((1+CALCULADORA!$C$16)^(1/12)-1),6),6)","v":0.20063900000000001},1.089221,{"$f":"IF($B61=0,0,G61/POWER(1+CALCULADORA!$C$29,Flujos!$B61/365))","v":0.91109345374346884},"2026-06-23",59,{"$f":"+DIAS365($A$2,A61)","v":1795},115929962308.00661,2931026270.9183397,661817984.40745413,3592844255.3257937]
["2026-07-23",{"$f":"IF(DIAS365(CALCULADORA!$C$27,A62)<0,0,DIAS365(CALCULADORA!$C$27,A62))","v":660},{"$f":"+HLOOKUP(CALCULADORA!$C$9,Tablas!B:B,Flujos!J62+1,FALSE)","v":8.7829999999999991E-3},34.267505,0.87829999999999997,{"$f":"ROUND(D61*ROUND(((1+CALCULADORA!$C$16)^(1/12)-1),6),6)","v":0.195692},1.0739920000000001,{"$f":"IF($B62=0,0,G62/POWER(1+CALCULADORA!$C$29,Flujos!$B62/365))","v":0.89074821953015437},"2026-07-23",60,{"$f":"+DIAS365($A$2,A62)","v":1825},113032851660.08939,2897110647.9172182,645498030.13098085,3542608678.0481992]
["2026-08-23",{"$f":"IF(DIAS365(CALCULADORA!$C$27,A63)<0,0,DIAS365(CALCULADORA!$C$27,A63))","v":691},{"$f":"+HLOOKUP(CALCULADORA!$C$9,Tablas!B:B,Flujos!J63+1,FALSE)","v":8.6522200000000004E-3},33.402282999999997,0.86522200000000005,{"$f":"ROUND(D62*ROUND(((1+CALCULADORA!$C$16)^(1/12)-1),6),6)","v":0.190801},1.0560230000000002,{"$f":"IF($B63=0,0,G63/POWER(1+CALCULADORA!$C$29,Flujos!$B63/365))","v":0.86818282444523931},"2026-08-23",61,{"$f":"+DIAS365($A$2,A63)","v":1856},110178879362.45506,2853972297.6343298,629366918.04337776,3483339215.6777077]
["2026-09-23",{"$f":"IF(DIAS365(CALCULADORA!$C$27,A64)<0,0,DIAS365(CALCULADORA!$C$27,A64))","v":722},{"$f":"+HLOOKUP(CALCULADORA!$C$9,Tablas!B:B,Flujos!J64+1,FALSE)","v":8.5339700000000001E-3},32.548886000000003,0.85339699999999996,{"$f":"ROUND(D63*ROUND(((1+CALCULADORA!$C$16)^(1/12)-1),6),6)","v":0.18598400000000001},1.0393809999999999,{"$f":"IF($B64=0,0,G64/POWER(1+CALCULADORA!$C$29,Flujos!$B64/365))","v":0.84702549455055953},"2026-09-23",62,{"$f":"+DIAS365($A$2,A64)","v":1887},107363912340.25238,2814967022.2026763,613476000.29014981,3428443022.492826]
["2026-10-23",{"$f":"IF(DIAS365(CALCULADORA!$C$27,A65)<0,0,DIAS365(CALCULADORA!$C$27,A65))","v":752},{"$f":"+HLOOKUP(CALCULADORA!$C$9,Tablas!B:B,Flujos!J65+1,FALSE)","v":8.4357600000000005E-3},31.705310000000001,0.84357599999999999,{"$f":"ROUND(D64*ROUND(((1+CALCULADORA!$C$16)^(1/12)-1),6),6)","v":0.181232},1.0248079999999999,{"$f":"IF($B65=0,0,G65/POWER(1+CALCULADORA!$C$29,Flujos!$B65/365))","v":0.8280779337671329},"2026-10-23",63,{"$f":"+DIAS365($A$2,A65)","v":1917},104581340312.55408,2782572027.6982985,597802263.9105252,3380374291.6088238]
["2026-11-23",{"$f":"IF(DIAS365(CALCULADORA!$C$27,A66)<0,0,DIAS365(CALCULADORA!$C$27,A66))","v":783},{"$f":"+HLOOKUP(CALCULADORA!$C$9,Tablas!B:B,Flujos!J66+1,FALSE)","v":8.3330399999999999E-3},30.872005999999999,0.83330400000000004,{"$f":"ROUND(D65*ROUND(((1+CALCULADORA!$C$16)^(1/12)-1),6),6)","v":0.176535},1.0098389999999999,{"$f":"IF($B66=0,0,G66/POWER(1+CALCULADORA!$C$29,Flujos!$B66/365))","v":0.80884394766013823},"2026-11-23",64,{"$f":"+DIAS365($A$2,A66)","v":1948},101832650922.42313,2748689390.1309462,582308902.86030114,3330998292.9912472]
[{"$f":"EDATE(A66,1)","v":"2026-12-23"},{"$f":"IF(DIAS365(CALCULADORA!$C$27,A67)<0,0,DIAS365(CALCULADORA!$C$27,A67))","v":813},{"$f":"+HLOOKUP(CALCULADORA!$C$9,Tablas!B:B,Flujos!J67+1,FALSE)","v":8.19954E-3},30.052052,0.81995399999999996,{"$f":"ROUND(D66*ROUND(((1+CALCULADORA!$C$16)^(1/12)-1),6),6)","v":0.17189499999999999},0.99184899999999998,{"$f":"IF($B67=0,0,G67/POWER(1+CALCULADORA!$C$29,Flujos!$B67/365))","v":0.78770782006958329},{"$f":"+A67","v":"2026-12-23"},65,{"$f":"+DIAS365($A$2,A67)","v":1978},99127997086.373581,2704653836.0495443,567004200.33605194,3271658036.3855963]
["2027-01-23",{"$f":"IF(DIAS365(CALCULADORA!$C$27,A68)<0,0,DIAS365(CALCULADORA!$C$27,A68))","v":844},{"$f":"+HLOOKUP(CALCULADORA!$C$9,Tablas!B:B,Flujos!J68+1,FALSE)","v":8.07043E-3},{"$f":"+ROUND(D67-E68,6)","v":29.245009},{"$f":"ROUND(C68*$D$2,6)","v":0.80704299999999995},{"$f":"ROUND(D67*ROUND(((1+CALCULADORA!$C$16)^(1/12)-1),6),6)","v":0.16733000000000001},{"$f":"F68+E68","v":0.97437299999999993},{"$f":"IF($B68=0,0,G68/POWER(1+CALCULADORA!$C$29,Flujos!$B68/365))","v":0.76705893722165963},"2027-01-23",66,{"$f":"+DIAS365($A$2,A68)","v":2009},{"$f":"+L67-M68","v":96465930743.862991},{"$f":"+$L$2*C68","v":2662066342.5105953},{"$f":"+L67*$F$3%","v":551944687.77692807},{"$f":"+N68+M68","v":3214011030.2875233}]
["2027-02-23",{"$f":"IF(DIAS365(CALCULADORA!$C$27,A69)<0,0,DIAS365(CALCULADORA!$C$27,A69))","v":875},{"$f":"+HLOOKUP(CALCULADORA!$C$9,Tablas!B:B,Flujos!J69+1,FALSE)","v":7.9525399999999993E-3},28.449755,0.79525400000000002,{"$f":"ROUND(D68*ROUND(((1+CALCULADORA!$C$16)^(1/12)-1),6),6)","v":0.16283600000000001},0.95809,{"$f":"IF($B69=0,0,G69/POWER(1+CALCULADORA!$C$29,Flujos!$B69/365))","v":0.74764201041626022},"2027-02-23",67,{"$f":"+DIAS365($A$2,A69)","v":2040},93842750929.222488,2623179814.6405096,537122302.38182914,3160302117.0223389]
["2027-03-23",{"$f":"IF(DIAS365(CALCULADORA!$C$27,A70)<0,0,DIAS365(CALCULADORA!$C$27,A70))","v":903},{"$f":"+HLOOKUP(CALCULADORA!$C$9,Tablas!B:B,Flujos!J70+1,FALSE)","v":7.8388899999999994E-3},27.665866000000001,0.78388899999999995,{"$f":"ROUND(D69*ROUND(((1+CALCULADORA!$C$16)^(1/12)-1),6),6)","v":0.15840799999999999},0.94229699999999994,{"$f":"IF($B70=0,0,G70/POWER(1+CALCULADORA!$C$29,Flujos!$B70/365))","v":0.72950520392687479},"2027-03-23",68,{"$f":"+DIAS365($A$2,A70)","v":2068},91257059060.060272,2585691869.1622229,522516437.1739108,3108208306.3361335]
["2027-04-23",{"$f":"IF(DIAS365(CALCULADORA!$C$27,A71)<0,0,DIAS365(CALCULADORA!$C$27,A71))","v":934},{"$f":"+HLOOKUP(CALCULADORA!$C$9,Tablas!B:B,Flujos!J71+1,FALSE)","v":7.6850699999999996E-3},26.897359000000002,0.76850700000000005,{"$f":"ROUND(D70*ROUND(((1+CALCULADORA!$C$16)^(1/12)-1),6),6)","v":0.15404399999999999},0.92255100000000001,{"$f":"IF($B71=0,0,G71/POWER(1+CALCULADORA!$C$29,Flujos!$B71/365))","v":0.70797001770530155},"2027-04-23",69,{"$f":"+DIAS365($A$2,A71)","v":2099},88722105385.121277,2534953674.938993,508119304.84641558,3043072979.7854085]
["2027-05-23",{"$f":"IF(DIAS365(CALCULADORA!$C$27,A72)<0,0,DIAS365(CALCULADORA!$C$27,A72))","v":964},{"$f":"+HLOOKUP(CALCULADORA!$C$9,Tablas!B:B,Flujos!J72+1,FALSE)","v":7.1230599999999996E-3},26.185053,0.71230599999999999,{"$f":"ROUND(D71*ROUND(((1+CALCULADORA!$C$16)^(1/12)-1),6),6)","v":0.14976400000000001},0.86207,{"$f":"IF($B72=0,0,G72/POWER(1+CALCULADORA!$C$29,Flujos!$B72/365))","v":0.65595494446317393},"2027-05-23",70,{"$f":"+DIAS365($A$2,A72)","v":2129},86372533146.506546,2349572238.6147356,494004682.78435528,2843576921.3990908]
["2027-06-23",{"$f":"IF(DIAS365(CALCULADORA!$C$27,A73)<0,0,DIAS365(CALCULADORA!$C$27,A73))","v":995},{"$f":"+HLOOKUP(CALCULADORA!$C$9,Tablas!B:B,Flujos!J73+1,FALSE)","v":7.4818799999999998E-3},25.436865000000001,0.74818799999999996,{"$f":"ROUND(D72*ROUND(((1+CALCULADORA!$C$16)^(1/12)-1),6),6)","v":0.14579800000000001},0.89398599999999995,{"$f":"IF($B73=0,0,G73/POWER(1+CALCULADORA!$C$29,Flujos!$B73/365))","v":0.67428902643544109},"2027-06-23",71,{"$f":"+DIAS365($A$2,A73)","v":2160},83904602574.442459,2467930572.0640874,480922264.55974847,2948852836.623836]
["2027-07-23",{"$f":"IF(DIAS365(CALCULADORA!$C$27,A74)<0,0,DIAS365(CALCULADORA!$C$27,A74))","v":1025},{"$f":"+HLOOKUP(CALCULADORA!$C$9,Tablas!B:B,Flujos!J74+1,FALSE)","v":7.3915700000000001E-3},24.697707999999999,0.73915699999999995,{"$f":"ROUND(D73*ROUND(((1+CALCULADORA!$C$16)^(1/12)-1),6),6)","v":0.14163200000000001},0.88078899999999993,{"$f":"IF($B74=0,0,G74/POWER(1+CALCULADORA!$C$29,Flujos!$B74/365))","v":0.65870999391033835},"2027-07-23",72,{"$f":"+DIAS365($A$2,A74)","v":2190},81466461147.615005,2438141426.8274479,467180827.13449562,2905322253.9619436]
["2027-08-23",{"$f":"IF(DIAS365(CALCULADORA!$C$27,A75)<0,0,DIAS365(CALCULADORA!$C$27,A75))","v":1056},{"$f":"+HLOOKUP(CALCULADORA!$C$9,Tablas!B:B,Flujos!J75+1,FALSE)","v":7.3054000000000001E-3},23.967168000000001,0.73053999999999997,{"$f":"ROUND(D74*ROUND(((1+CALCULADORA!$C$16)^(1/12)-1),6),6)","v":0.137517},0.86805699999999997,{"$f":"IF($B75=0,0,G75/POWER(1+CALCULADORA!$C$29,Flujos!$B75/365))","v":0.6435088293266451},"2027-08-23",73,{"$f":"+DIAS365($A$2,A75)","v":2221},79056743269.066162,2409717878.5488386,453605255.66992033,2863323134.2187591]
["2027-09-23",{"$f":"IF(DIAS365(CALCULADORA!$C$27,A76)<0,0,DIAS365(CALCULADORA!$C$27,A76))","v":1087},{"$f":"+HLOOKUP(CALCULADORA!$C$9,Tablas!B:B,Flujos!J76+1,FALSE)","v":7.1998599999999998E-3},23.247181999999999,0.71998600000000001,{"$f":"ROUND(D75*ROUND(((1+CALCULADORA!$C$16)^(1/12)-1),6),6)","v":0.13344900000000001},0.85343500000000005,{"$f":"IF($B76=0,0,G76/POWER(1+CALCULADORA!$C$29,Flujos!$B76/365))","v":0.627134383461457},"2027-09-23",74,{"$f":"+DIAS365($A$2,A76)","v":2252},76681838217.316956,2374905051.7492046,440187946.52216041,2815092998.2713652]
["2027-10-23",{"$f":"IF(DIAS365(CALCULADORA!$C$27,A77)<0,0,DIAS365(CALCULADORA!$C$27,A77))","v":1117},{"$f":"+HLOOKUP(CALCULADORA!$C$9,Tablas!B:B,Flujos!J77+1,FALSE)","v":7.1145699999999997E-3},22.535724999999999,0.71145700000000001,{"$f":"ROUND(D76*ROUND(((1+CALCULADORA!$C$16)^(1/12)-1),6),6)","v":0.12944},0.84089700000000001,{"$f":"IF($B77=0,0,G77/POWER(1+CALCULADORA!$C$29,Flujos!$B77/365))","v":0.6126888287650154},"2027-10-23",75,{"$f":"+DIAS365($A$2,A77)","v":2282},74335066442.02919,2346771775.2877607,426964475.19402081,2773736250.4817815]
["2027-11-23",{"$f":"IF(DIAS365(CALCULADORA!$C$27,A78)<0,0,DIAS365(CALCULADORA!$C$27,A78))","v":1148},{"$f":"+HLOOKUP(CALCULADORA!$C$9,Tablas!B:B,Flujos!J78+1,FALSE)","v":7.0047900000000003E-3},21.835246000000001,0.70047899999999996,{"$f":"ROUND(D77*ROUND(((1+CALCULADORA!$C$16)^(1/12)-1),6),6)","v":0.12547900000000001},0.82595799999999997,{"$f":"IF($B78=0,0,G78/POWER(1+CALCULADORA!$C$29,Flujos!$B78/365))","v":0.5965392431025982},"2027-11-23",76,{"$f":"+DIAS365($A$2,A78)","v":2313},72024506075.932861,2310560366.0963287,413897649.94921851,2724458016.0455475]
["2027-12-23",{"$f":"IF(DIAS365(CALCULADORA!$C$27,A79)<0,0,DIAS365(CALCULADORA!$C$27,A79))","v":1178},{"$f":"+HLOOKUP(CALCULADORA!$C$9,Tablas!B:B,Flujos!J79+1,FALSE)","v":6.8914700000000002E-3},21.146099,0.68914699999999995,{"$f":"ROUND(D78*ROUND(((1+CALCULADORA!$C$16)^(1/12)-1),6),6)","v":0.12157900000000001},0.81072599999999995,{"$f":"IF($B79=0,0,G79/POWER(1+CALCULADORA!$C$29,Flujos!$B79/365))","v":0.58058010840384577},"2027-12-23",77,{"$f":"+DIAS365($A$2,A79)","v":2343},69751324803.383377,2273181272.549479,401032449.83079416,2674213722.3802733]
["2028-01-23",{"$f":"IF(DIAS365(CALCULADORA!$C$27,A80)<0,0,DIAS365(CALCULADORA!$C$27,A80))","v":1209},{"$f":"+HLOOKUP(CALCULADORA!$C$9,Tablas!B:B,Flujos!J80+1,FALSE)","v":6.7864099999999997E-3},20.467458000000001,0.67864100000000005,{"$f":"ROUND(D79*ROUND(((1+CALCULADORA!$C$16)^(1/12)-1),6),6)","v":0.117741},0.79638200000000003,{"$f":"IF($B80=0,0,G80/POWER(1+CALCULADORA!$C$29,Flujos!$B80/365))","v":0.56531874034943064},"2028-01-23",78,{"$f":"+DIAS365($A$2,A80)","v":2374},67512798027.551445,2238526775.8319354,388375376.50523865,2626902152.3371739]
["2028-02-23",{"$f":"IF(DIAS365(CALCULADORA!$C$27,A81)<0,0,DIAS365(CALCULADORA!$C$27,A81))","v":1240},{"$f":"+HLOOKUP(CALCULADORA!$C$9,Tablas!B:B,Flujos!J81+1,FALSE)","v":6.6882199999999999E-3},19.798635999999998,0.66882200000000003,{"$f":"ROUND(D80*ROUND(((1+CALCULADORA!$C$16)^(1/12)-1),6),6)","v":0.11396299999999999},0.78278500000000006,{"$f":"IF($B81=0,0,G81/POWER(1+CALCULADORA!$C$29,Flujos!$B81/365))","v":0.55080558875651908},"2028-02-23",79,{"$f":"+DIAS365($A$2,A81)","v":2405},65306659649.137131,2206138378.4143114,375911259.41740644,2582049637.831718]
["2028-03-23",{"$f":"IF(DIAS365(CALCULADORA!$C$27,A82)<0,0,DIAS365(CALCULADORA!$C$27,A82))","v":1268},{"$f":"+HLOOKUP(CALCULADORA!$C$9,Tablas!B:B,Flujos!J82+1,FALSE)","v":6.6006800000000003E-3},19.138567999999999,0.66006799999999999,{"$f":"ROUND(D81*ROUND(((1+CALCULADORA!$C$16)^(1/12)-1),6),6)","v":0.110239},0.77030699999999996,{"$f":"IF($B82=0,0,G82/POWER(1+CALCULADORA!$C$29,Flujos!$B82/365))","v":0.53774067020032323},"2028-03-23",80,{"$f":"+DIAS365($A$2,A82)","v":2433},63129396719.444061,2177262929.693069,363627480.92639554,2540890410.6194644]
["2028-04-23",{"$f":"IF(DIAS365(CALCULADORA!$C$27,A83)<0,0,DIAS365(CALCULADORA!$C$27,A83))","v":1299},{"$f":"+HLOOKUP(CALCULADORA!$C$9,Tablas!B:B,Flujos!J83+1,FALSE)","v":6.4923899999999998E-3},18.489329000000001,0.64923900000000001,{"$f":"ROUND(D82*ROUND(((1+CALCULADORA!$C$16)^(1/12)-1),6),6)","v":0.10656400000000001},0.755803,{"$f":"IF($B83=0,0,G83/POWER(1+CALCULADORA!$C$29,Flujos!$B83/365))","v":0.52299982937764222},"2028-04-23",81,{"$f":"+DIAS365($A$2,A83)","v":2464},60987853715.979271,2141543003.4647923,351504480.93386453,2493047484.3986568]
["2028-05-23",{"$f":"IF(DIAS365(CALCULADORA!$C$27,A84)<0,0,DIAS365(CALCULADORA!$C$27,A84))","v":1329},{"$f":"+HLOOKUP(CALCULADORA!$C$9,Tablas!B:B,Flujos!J84+1,FALSE)","v":5.9068599999999999E-3},17.898643,0.59068600000000004,{"$f":"ROUND(D83*ROUND(((1+CALCULADORA!$C$16)^(1/12)-1),6),6)","v":0.102949},0.693635,{"$f":"IF($B84=0,0,G84/POWER(1+CALCULADORA!$C$29,Flujos!$B84/365))","v":0.47591668513726171},"2028-05-23",82,{"$f":"+DIAS365($A$2,A84)","v":2494},59039450322.861168,1948403393.1181033,339580369.49057257,2287983762.608676]
["2028-06-23",{"$f":"IF(DIAS365(CALCULADORA!$C$27,A85)<0,0,DIAS365(CALCULADORA!$C$27,A85))","v":1360},{"$f":"+HLOOKUP(CALCULADORA!$C$9,Tablas!B:B,Flujos!J85+1,FALSE)","v":6.27883E-3},17.270759999999999,0.62788299999999997,{"$f":"ROUND(D84*ROUND(((1+CALCULADORA!$C$16)^(1/12)-1),6),6)","v":9.9659999999999999E-2},0.72754299999999994,{"$f":"IF($B85=0,0,G85/POWER(1+CALCULADORA!$C$29,Flujos!$B85/365))","v":0.49481458763382746},"2028-06-23",83,{"$f":"+DIAS365($A$2,A85)","v":2525},56968351011.753113,2071099311.1080575,328731659.39769101,2399830970.5057487]
["2028-07-23",{"$f":"IF(DIAS365(CALCULADORA!$C$27,A86)<0,0,DIAS365(CALCULADORA!$C$27,A86))","v":1390},{"$f":"+HLOOKUP(CALCULADORA!$C$9,Tablas!B:B,Flujos!J86+1,FALSE)","v":6.1950299999999998E-3},16.651257000000001,0.61950300000000003,{"$f":"ROUND(D85*ROUND(((1+CALCULADORA!$C$16)^(1/12)-1),6),6)","v":9.6163999999999999E-2},0.71566700000000005,{"$f":"IF($B86=0,0,G86/POWER(1+CALCULADORA!$C$29,Flujos!$B86/365))","v":0.48261611159886575},"2028-07-23",84,{"$f":"+DIAS365($A$2,A86)","v":2555},54924893494.143341,2043457517.6097696,317199778.43344134,2360657296.043211]
["2028-08-23",{"$f":"IF(DIAS365(CALCULADORA!$C$27,A87)<0,0,DIAS365(CALCULADORA!$C$27,A87))","v":1421},{"$f":"+HLOOKUP(CALCULADORA!$C$9,Tablas!B:B,Flujos!J87+1,FALSE)","v":6.0906800000000002E-3},16.042189,0.60906800000000005,{"$f":"ROUND(D86*ROUND(((1+CALCULADORA!$C$16)^(1/12)-1),6),6)","v":9.2714000000000005E-2},0.70178200000000002,{"$f":"IF($B87=0,0,G87/POWER(1+CALCULADORA!$C$29,Flujos!$B87/365))","v":0.46911243497708266},"2028-08-23",85,{"$f":"+DIAS365($A$2,A87)","v":2586},52915856276.671356,2009037217.4719851,305821806.97539014,2314859024.4473753]
["2028-09-23",{"$f":"IF(DIAS365(CALCULADORA!$C$27,A88)<0,0,DIAS365(CALCULADORA!$C$27,A88))","v":1452},{"$f":"+HLOOKUP(CALCULADORA!$C$9,Tablas!B:B,Flujos!J88+1,FALSE)","v":5.9823100000000002E-3},15.443958,0.59823099999999996,{"$f":"ROUND(D87*ROUND(((1+CALCULADORA!$C$16)^(1/12)-1),6),6)","v":8.9323E-2},0.687554,{"$f":"IF($B88=0,0,G88/POWER(1+CALCULADORA!$C$29,Flujos!$B88/365))","v":0.45558081736284339},"2028-09-23",86,{"$f":"+DIAS365($A$2,A88)","v":2617},50942565373.774666,1973290902.8966932,294635487.74850613,2267926390.6451993]
["2028-10-23",{"$f":"IF(DIAS365(CALCULADORA!$C$27,A89)<0,0,DIAS365(CALCULADORA!$C$27,A89))","v":1482},{"$f":"+HLOOKUP(CALCULADORA!$C$9,Tablas!B:B,Flujos!J89+1,FALSE)","v":5.8935599999999999E-3},14.854602,0.58935599999999999,{"$f":"ROUND(D88*ROUND(((1+CALCULADORA!$C$16)^(1/12)-1),6),6)","v":8.5991999999999999E-2},0.67534799999999995,{"$f":"IF($B89=0,0,G89/POWER(1+CALCULADORA!$C$29,Flujos!$B89/365))","v":0.443703884328085},"2028-10-23",87,{"$f":"+DIAS365($A$2,A89)","v":2647},48998549043.347816,1944016330.4268475,283648204.00117737,2227664534.4280248]
["2028-11-23",{"$f":"IF(DIAS365(CALCULADORA!$C$27,A90)<0,0,DIAS365(CALCULADORA!$C$27,A90))","v":1513},{"$f":"+HLOOKUP(CALCULADORA!$C$9,Tablas!B:B,Flujos!J90+1,FALSE)","v":5.8074600000000004E-3},14.273856,0.58074599999999998,{"$f":"ROUND(D89*ROUND(((1+CALCULADORA!$C$16)^(1/12)-1),6),6)","v":8.2710000000000006E-2},0.66345600000000005,{"$f":"IF($B90=0,0,G90/POWER(1+CALCULADORA!$C$29,Flujos!$B90/365))","v":0.43207748334330021},"2028-11-23",88,{"$f":"+DIAS365($A$2,A90)","v":2678},47082933171.395943,1915615871.9518764,272823921.07336062,2188439793.0252371]
["2028-12-23",{"$f":"IF(DIAS365(CALCULADORA!$C$27,A91)<0,0,DIAS365(CALCULADORA!$C$27,A91))","v":1543},{"$f":"+HLOOKUP(CALCULADORA!$C$9,Tablas!B:B,Flujos!J91+1,FALSE)","v":5.6900800000000001E-3},13.704848,0.56900799999999996,{"$f":"ROUND(D90*ROUND(((1+CALCULADORA!$C$16)^(1/12)-1),6),6)","v":7.9477000000000006E-2},0.64848499999999998,{"$f":"IF($B91=0,0,G91/POWER(1+CALCULADORA!$C$29,Flujos!$B91/365))","v":0.41875156183224094},"2028-12-23",89,{"$f":"+DIAS365($A$2,A91)","v":2708},45206035601.601929,1876897569.7940121,262157771.8983326,2139055341.6923447]
["2029-01-23",{"$f":"IF(DIAS365(CALCULADORA!$C$27,A92)<0,0,DIAS365(CALCULADORA!$C$27,A92))","v":1574},{"$f":"+HLOOKUP(CALCULADORA!$C$9,Tablas!B:B,Flujos!J92+1,FALSE)","v":5.6065899999999998E-3},13.144189000000001,0.56065900000000002,{"$f":"ROUND(D91*ROUND(((1+CALCULADORA!$C$16)^(1/12)-1),6),6)","v":7.6309000000000002E-2},0.63696799999999998,{"$f":"IF($B92=0,0,G92/POWER(1+CALCULADORA!$C$29,Flujos!$B92/365))","v":0.40771624500805814},"2029-01-23",90,{"$f":"+DIAS365($A$2,A92)","v":2739},43356677570.461525,1849358031.1404073,251707206.22971955,2101065237.370127]
["2029-02-23",{"$f":"IF(DIAS365(CALCULADORA!$C$27,A93)<0,0,DIAS365(CALCULADORA!$C$27,A93))","v":1605},{"$f":"+HLOOKUP(CALCULADORA!$C$9,Tablas!B:B,Flujos!J93+1,FALSE)","v":5.5309399999999998E-3},12.591094999999999,0.55309399999999997,{"$f":"ROUND(D92*ROUND(((1+CALCULADORA!$C$16)^(1/12)-1),6),6)","v":7.3187000000000002E-2},0.62628099999999998,{"$f":"IF($B93=0,0,G93/POWER(1+CALCULADORA!$C$29,Flujos!$B93/365))","v":0.39736858826179361},"2029-02-23",91,{"$f":"+DIAS365($A$2,A93)","v":2770},41532273019.967247,1824404550.4942799,241409980.71232978,2065814531.2066097]
["2029-03-23",{"$f":"IF(DIAS365(CALCULADORA!$C$27,A94)<0,0,DIAS365(CALCULADORA!$C$27,A94))","v":1633},{"$f":"+HLOOKUP(CALCULADORA!$C$9,Tablas!B:B,Flujos!J94+1,FALSE)","v":5.4635400000000002E-3},12.044741,0.54635400000000001,{"$f":"ROUND(D93*ROUND(((1+CALCULADORA!$C$16)^(1/12)-1),6),6)","v":7.0107000000000003E-2},0.61646100000000004,{"$f":"IF($B94=0,0,G94/POWER(1+CALCULADORA!$C$29,Flujos!$B94/365))","v":0.38804590074228218},"2029-03-23",92,{"$f":"+DIAS365($A$2,A94)","v":2798},39730100651.833168,1802172368.1340818,231251696.17517763,2033424064.3092594]
["2029-04-23",{"$f":"IF(DIAS365(CALCULADORA!$C$27,A95)<0,0,DIAS365(CALCULADORA!$C$27,A95))","v":1664},{"$f":"+HLOOKUP(CALCULADORA!$C$9,Tablas!B:B,Flujos!J95+1,FALSE)","v":5.3929399999999997E-3},11.505447,0.53929400000000005,{"$f":"ROUND(D94*ROUND(((1+CALCULADORA!$C$16)^(1/12)-1),6),6)","v":6.7065E-2},0.60635900000000009,{"$f":"IF($B95=0,0,G95/POWER(1+CALCULADORA!$C$29,Flujos!$B95/365))","v":0.37834780406748519},"2029-04-23",93,{"$f":"+DIAS365($A$2,A95)","v":2829},37951215999.939888,1778884651.8932805,221217200.42940709,2000101852.3226876]
["2029-05-23",{"$f":"IF(DIAS365(CALCULADORA!$C$27,A96)<0,0,DIAS365(CALCULADORA!$C$27,A96))","v":1694},{"$f":"+HLOOKUP(CALCULADORA!$C$9,Tablas!B:B,Flujos!J96+1,FALSE)","v":4.7906800000000003E-3},11.026379,0.47906799999999999,{"$f":"ROUND(D95*ROUND(((1+CALCULADORA!$C$16)^(1/12)-1),6),6)","v":6.4061999999999994E-2},0.54313,{"$f":"IF($B96=0,0,G96/POWER(1+CALCULADORA!$C$29,Flujos!$B96/365))","v":0.33602545490051633},"2029-05-23",94,{"$f":"+DIAS365($A$2,A96)","v":2859},36370989421.462822,1580226578.4770648,211312370.68766528,1791538949.1647301]
["2029-06-23",{"$f":"IF(DIAS365(CALCULADORA!$C$27,A97)<0,0,DIAS365(CALCULADORA!$C$27,A97))","v":1725},{"$f":"+HLOOKUP(CALCULADORA!$C$9,Tablas!B:B,Flujos!J97+1,FALSE)","v":5.2230799999999997E-3},10.504071,0.52230799999999999,{"$f":"ROUND(D96*ROUND(((1+CALCULADORA!$C$16)^(1/12)-1),6),6)","v":6.1394999999999998E-2},0.58370299999999997,{"$f":"IF($B97=0,0,G97/POWER(1+CALCULADORA!$C$29,Flujos!$B97/365))","v":0.35796800166774501},"2029-06-23",95,{"$f":"+DIAS365($A$2,A97)","v":2890},34648133827.369293,1722855594.093529,202513669.09870499,1925369263.192234]
["2029-07-23",{"$f":"IF(DIAS365(CALCULADORA!$C$27,A98)<0,0,DIAS365(CALCULADORA!$C$27,A98))","v":1755},{"$f":"+HLOOKUP(CALCULADORA!$C$9,Tablas!B:B,Flujos!J98+1,FALSE)","v":5.1383000000000002E-3},9.9902409999999993,0.51383000000000001,{"$f":"ROUND(D97*ROUND(((1+CALCULADORA!$C$16)^(1/12)-1),6),6)","v":5.8486999999999997E-2},0.57231699999999996,{"$f":"IF($B98=0,0,G98/POWER(1+CALCULADORA!$C$29,Flujos!$B98/365))","v":0.34801336630471891},"2029-07-23",96,{"$f":"+DIAS365($A$2,A98)","v":2920},32953243284.024986,1694890543.3443065,192920809.15079221,1887811352.4950986]
[{"$f":"EDATE(A98,1)","v":"2029-08-23"},{"$f":"IF(DIAS365(CALCULADORA!$C$27,A99)<0,0,DIAS365(CALCULADORA!$C$27,A99))","v":1786},{"$f":"+HLOOKUP(CALCULADORA!$C$9,Tablas!B:B,Flujos!J99+1,FALSE)","v":5.0607100000000004E-3},9.4841700000000007,0.50607100000000005,{"$f":"ROUND(D98*ROUND(((1+CALCULADORA!$C$16)^(1/12)-1),6),6)","v":5.5626000000000002E-2},0.561697,{"$f":"IF($B99=0,0,G99/POWER(1+CALCULADORA!$C$29,Flujos!$B99/365))","v":0.33856750922584689},"2029-08-23",97,{"$f":"+DIAS365($A$2,A99)","v":2951},31283946138.741924,1669297145.2830637,183483658.60545114,1852780803.8885148]
["2029-09-23",{"$f":"IF(DIAS365(CALCULADORA!$C$27,A100)<0,0,DIAS365(CALCULADORA!$C$27,A100))","v":1817},{"$f":"+HLOOKUP(CALCULADORA!$C$9,Tablas!B:B,Flujos!J100+1,FALSE)","v":4.9916300000000004E-3},8.9850069999999995,0.49916300000000002,{"$f":"ROUND(D99*ROUND(((1+CALCULADORA!$C$16)^(1/12)-1),6),6)","v":5.2808000000000001E-2},0.55197099999999999,{"$f":"IF($B100=0,0,G100/POWER(1+CALCULADORA!$C$29,Flujos!$B100/365))","v":0.32979444121082668},"2029-09-23",98,{"$f":"+DIAS365($A$2,A100)","v":2982},29637435331.106377,1646510807.6355488,174189012.10051504,1820699819.736064]
["2029-10-23",{"$f":"IF(DIAS365(CALCULADORA!$C$27,A101)<0,0,DIAS365(CALCULADORA!$C$27,A101))","v":1847},{"$f":"+HLOOKUP(CALCULADORA!$C$9,Tablas!B:B,Flujos!J101+1,FALSE)","v":4.91692E-3},8.4933150000000008,0.49169200000000002,{"$f":"ROUND(D100*ROUND(((1+CALCULADORA!$C$16)^(1/12)-1),6),6)","v":5.0028999999999997E-2},0.54172100000000001,{"$f":"IF($B101=0,0,G101/POWER(1+CALCULADORA!$C$29,Flujos!$B101/365))","v":0.32092957276187345},"2029-10-23",99,{"$f":"+DIAS365($A$2,A101)","v":3012},28015567941.039528,1621867390.0668485,165021239.92360032,1786888629.990449]
["2029-11-23",{"$f":"IF(DIAS365(CALCULADORA!$C$27,A102)<0,0,DIAS365(CALCULADORA!$C$27,A102))","v":1878},{"$f":"+HLOOKUP(CALCULADORA!$C$9,Tablas!B:B,Flujos!J102+1,FALSE)","v":4.8546500000000003E-3},8.0078499999999995,0.48546499999999998,{"$f":"ROUND(D101*ROUND(((1+CALCULADORA!$C$16)^(1/12)-1),6),6)","v":4.7291E-2},0.53275600000000001,{"$f":"IF($B102=0,0,G102/POWER(1+CALCULADORA!$C$29,Flujos!$B102/365))","v":0.31285731376634923},"2029-11-23",100,{"$f":"+DIAS365($A$2,A102)","v":3043},26414240580.580536,1601327360.4589918,155990682.29570809,1757318042.7546999]
["2029-12-23",{"$f":"IF(DIAS365(CALCULADORA!$C$27,A103)<0,0,DIAS365(CALCULADORA!$C$27,A103))","v":1908},{"$f":"+HLOOKUP(CALCULADORA!$C$9,Tablas!B:B,Flujos!J103+1,FALSE)","v":4.7985800000000002E-3},7.5279920000000002,0.47985800000000001,{"$f":"ROUND(D102*ROUND(((1+CALCULADORA!$C$16)^(1/12)-1),6),6)","v":4.4588000000000003E-2},0.52444599999999997,{"$f":"IF($B103=0,0,G103/POWER(1+CALCULADORA!$C$29,Flujos!$B103/365))","v":0.30536955493355022},"2029-12-23",101,{"$f":"+DIAS365($A$2,A103)","v":3073},24831408152.835732,1582832427.7448032,147074491.55267242,1729906919.2974756]
["2030-01-23",{"$f":"IF(DIAS365(CALCULADORA!$C$27,A104)<0,0,DIAS365(CALCULADORA!$C$27,A104))","v":1939},{"$f":"+HLOOKUP(CALCULADORA!$C$9,Tablas!B:B,Flujos!J104+1,FALSE)","v":4.7445500000000002E-3},7.0535370000000004,0.47445500000000002,{"$f":"ROUND(D103*ROUND(((1+CALCULADORA!$C$16)^(1/12)-1),6),6)","v":4.1916000000000002E-2},0.51637100000000002,{"$f":"IF($B104=0,0,G104/POWER(1+CALCULADORA!$C$29,Flujos!$B104/365))","v":0.29803735372026052},"2030-01-23",102,{"$f":"+DIAS365($A$2,A104)","v":3104},23266397754.956234,1565010397.879499,138261280.59498936,1703271678.4744883]
["2030-02-23",{"$f":"IF(DIAS365(CALCULADORA!$C$27,A105)<0,0,DIAS365(CALCULADORA!$C$27,A105))","v":1970},{"$f":"+HLOOKUP(CALCULADORA!$C$9,Tablas!B:B,Flujos!J105+1,FALSE)","v":4.6937699999999999E-3},6.5841599999999998,0.46937699999999999,{"$f":"ROUND(D104*ROUND(((1+CALCULADORA!$C$16)^(1/12)-1),6),6)","v":3.9274000000000003E-2},0.50865099999999996,{"$f":"IF($B105=0,0,G105/POWER(1+CALCULADORA!$C$29,Flujos!$B105/365))","v":0.29101317659858106},"2030-02-23",103,{"$f":"+DIAS365($A$2,A105)","v":3135},21718137360.344551,1548260394.6116819,129547302.69959632,1677807697.3112783]
["2030-03-23",{"$f":"IF(DIAS365(CALCULADORA!$C$27,A106)<0,0,DIAS365(CALCULADORA!$C$27,A106))","v":1998},{"$f":"+HLOOKUP(CALCULADORA!$C$9,Tablas!B:B,Flujos!J106+1,FALSE)","v":4.6429399999999999E-3},6.119866,0.46429399999999998,{"$f":"ROUND(D105*ROUND(((1+CALCULADORA!$C$16)^(1/12)-1),6),6)","v":3.6660999999999999E-2},0.50095500000000004,{"$f":"IF($B106=0,0,G106/POWER(1+CALCULADORA!$C$29,Flujos!$B106/365))","v":0.28434438920888028},"2030-03-23",104,{"$f":"+DIAS365($A$2,A106)","v":3163},20186643461.717571,1531493898.6269805,120926588.82239845,1652420487.449379]
["2030-04-23",{"$f":"IF(DIAS365(CALCULADORA!$C$27,A107)<0,0,DIAS365(CALCULADORA!$C$27,A107))","v":2029},{"$f":"+HLOOKUP(CALCULADORA!$C$9,Tablas!B:B,Flujos!J107+1,FALSE)","v":4.5949700000000003E-3},5.6603690000000002,0.45949699999999999,{"$f":"ROUND(D106*ROUND(((1+CALCULADORA!$C$16)^(1/12)-1),6),6)","v":3.4075000000000001E-2},0.49357200000000001,{"$f":"IF($B107=0,0,G107/POWER(1+CALCULADORA!$C$29,Flujos!$B107/365))","v":0.27770286350568019},"2030-04-23",105,{"$f":"+DIAS365($A$2,A107)","v":3194},18670972675.669502,1515670786.048068,112399230.79484344,1628070016.8429115]
["2030-05-23",{"$f":"IF(DIAS365(CALCULADORA!$C$27,A108)<0,0,DIAS365(CALCULADORA!$C$27,A108))","v":2059},{"$f":"+HLOOKUP(CALCULADORA!$C$9,Tablas!B:B,Flujos!J108+1,FALSE)","v":3.9931999999999997E-3},5.2610489999999999,0.39932000000000001,{"$f":"ROUND(D107*ROUND(((1+CALCULADORA!$C$16)^(1/12)-1),6),6)","v":3.1517000000000003E-2},0.43083700000000003,{"$f":"IF($B108=0,0,G108/POWER(1+CALCULADORA!$C$29,Flujos!$B108/365))","v":0.24035315806912963},"2030-05-23",106,{"$f":"+DIAS365($A$2,A108)","v":3224},17353798334.412182,1317174341.2573195,103959975.85812779,1421134317.1154473]
["2030-06-23",{"$f":"IF(DIAS365(CALCULADORA!$C$27,A109)<0,0,DIAS365(CALCULADORA!$C$27,A109))","v":2090},{"$f":"+HLOOKUP(CALCULADORA!$C$9,Tablas!B:B,Flujos!J109+1,FALSE)","v":4.4871499999999996E-3},4.8123339999999999,0.44871499999999997,{"$f":"ROUND(D108*ROUND(((1+CALCULADORA!$C$16)^(1/12)-1),6),6)","v":2.9294000000000001E-2},0.47800899999999996,{"$f":"IF($B109=0,0,G109/POWER(1+CALCULADORA!$C$29,Flujos!$B109/365))","v":0.26433630160125809},"2030-06-23",107,{"$f":"+DIAS365($A$2,A109)","v":3255},15873692443.053677,1480105891.3585045,96625949.126007035,1576731840.4845116]
["2030-07-23",{"$f":"IF(DIAS365(CALCULADORA!$C$27,A110)<0,0,DIAS365(CALCULADORA!$C$27,A110))","v":2120},{"$f":"+HLOOKUP(CALCULADORA!$C$9,Tablas!B:B,Flujos!J110+1,FALSE)","v":4.43495E-3},4.3688390000000004,0.44349499999999997,{"$f":"ROUND(D109*ROUND(((1+CALCULADORA!$C$16)^(1/12)-1),6),6)","v":2.6794999999999999E-2},0.47028999999999999,{"$f":"IF($B110=0,0,G110/POWER(1+CALCULADORA!$C$29,Flujos!$B110/365))","v":0.2578656393656642},"2030-07-23",108,{"$f":"+DIAS365($A$2,A110)","v":3285},14410804948.122507,1462887494.9311702,88384719.522922873,1551272214.454093]
["2030-08-23",{"$f":"IF(DIAS365(CALCULADORA!$C$27,A111)<0,0,DIAS365(CALCULADORA!$C$27,A111))","v":2151},{"$f":"+HLOOKUP(CALCULADORA!$C$9,Tablas!B:B,Flujos!J111+1,FALSE)","v":4.3798300000000004E-3},3.9308559999999999,0.43798300000000001,{"$f":"ROUND(D110*ROUND(((1+CALCULADORA!$C$16)^(1/12)-1),6),6)","v":2.4326E-2},0.46230900000000003,{"$f":"IF($B111=0,0,G111/POWER(1+CALCULADORA!$C$29,Flujos!$B111/365))","v":0.25127193036533335},"2030-08-23",109,{"$f":"+DIAS365($A$2,A111)","v":3316},12966099024.284721,1444705923.8377857,80239361.951146126,1524945285.7889318]
["2030-09-23",{"$f":"IF(DIAS365(CALCULADORA!$C$27,A112)<0,0,DIAS365(CALCULADORA!$C$27,A112))","v":2182},{"$f":"+HLOOKUP(CALCULADORA!$C$9,Tablas!B:B,Flujos!J112+1,FALSE)","v":4.3262700000000001E-3},3.4982289999999998,0.43262699999999998,{"$f":"ROUND(D111*ROUND(((1+CALCULADORA!$C$16)^(1/12)-1),6),6)","v":2.1887E-2},0.45451399999999997,{"$f":"IF($B112=0,0,G112/POWER(1+CALCULADORA!$C$29,Flujos!$B112/365))","v":0.24487406405965664},"2030-09-23",110,{"$f":"+DIAS365($A$2,A112)","v":3347},11539060098.773527,1427038925.5111949,72195239.367217332,1499234164.8784122]
["2030-10-23",{"$f":"IF(DIAS365(CALCULADORA!$C$27,A113)<0,0,DIAS365(CALCULADORA!$C$27,A113))","v":2212},{"$f":"+HLOOKUP(CALCULADORA!$C$9,Tablas!B:B,Flujos!J113+1,FALSE)","v":4.2701500000000003E-3},3.0712139999999999,0.42701499999999998,{"$f":"ROUND(D112*ROUND(((1+CALCULADORA!$C$16)^(1/12)-1),6),6)","v":1.9477999999999999E-2},0.44649299999999997,{"$f":"IF($B113=0,0,G113/POWER(1+CALCULADORA!$C$29,Flujos!$B113/365))","v":0.23851581183643936},"2030-10-23",111,{"$f":"+DIAS365($A$2,A113)","v":3377},10130532598.693405,1408527500.080122,64249486.629970998,1472776986.710093]
["2030-11-23",{"$f":"IF(DIAS365(CALCULADORA!$C$27,A114)<0,0,DIAS365(CALCULADORA!$C$27,A114))","v":2243},{"$f":"+HLOOKUP(CALCULADORA!$C$9,Tablas!B:B,Flujos!J114+1,FALSE)","v":4.21486E-3},2.6497280000000001,0.42148600000000003,{"$f":"ROUND(D113*ROUND(((1+CALCULADORA!$C$16)^(1/12)-1),6),6)","v":1.7101000000000002E-2},0.438587,{"$f":"IF($B114=0,0,G114/POWER(1+CALCULADORA!$C$29,Flujos!$B114/365))","v":0.23224275310627762},"2030-11-23",112,{"$f":"+DIAS365($A$2,A114)","v":3408},8740242744.9440746,1390289853.7493303,56406805.509524882,1446696659.2588551]
["2030-12-23",{"$f":"IF(DIAS365(CALCULADORA!$C$27,A115)<0,0,DIAS365(CALCULADORA!$C$27,A115))","v":2273},{"$f":"+HLOOKUP(CALCULADORA!$C$9,Tablas!B:B,Flujos!J115+1,FALSE)","v":4.1626900000000001E-3},2.2334589999999999,0.416269,{"$f":"ROUND(D114*ROUND(((1+CALCULADORA!$C$16)^(1/12)-1),6),6)","v":1.4754E-2},0.43102299999999999,{"$f":"IF($B115=0,0,G115/POWER(1+CALCULADORA!$C$29,Flujos!$B115/365))","v":0.22630484813697649},"2030-12-23",113,{"$f":"+DIAS365($A$2,A115)","v":3438},7367161391.9919481,1373081352.9521265,48665671.603848606,1421747024.5559752]
["2031-01-23",{"$f":"IF(DIAS365(CALCULADORA!$C$27,A116)<0,0,DIAS365(CALCULADORA!$C$27,A116))","v":2304},{"$f":"+HLOOKUP(CALCULADORA!$C$9,Tablas!B:B,Flujos!J116+1,FALSE)","v":4.0998199999999997E-3},1.823477,0.40998200000000001,{"$f":"ROUND(D115*ROUND(((1+CALCULADORA!$C$16)^(1/12)-1),6),6)","v":1.2435999999999999E-2},0.42241800000000002,{"$f":"IF($B116=0,0,G116/POWER(1+CALCULADORA!$C$29,Flujos!$B116/365))","v":0.21984658541557137},"2031-01-23",114,{"$f":"+DIAS365($A$2,A116)","v":3469},6014817981.2502918,1352343410.7416565,41020354.630611166,1393363765.3722677]
["2031-02-23",{"$f":"IF(DIAS365(CALCULADORA!$C$27,A117)<0,0,DIAS365(CALCULADORA!$C$27,A117))","v":2335},{"$f":"+HLOOKUP(CALCULADORA!$C$9,Tablas!B:B,Flujos!J117+1,FALSE)","v":4.0431900000000003E-3},1.4191579999999999,0.40431899999999998,{"$f":"ROUND(D116*ROUND(((1+CALCULADORA!$C$16)^(1/12)-1),6),6)","v":1.0153000000000001E-2},0.41447200000000001,{"$f":"IF($B117=0,0,G117/POWER(1+CALCULADORA!$C$29,Flujos!$B117/365))","v":0.21382397631946118},"2031-02-23",115,{"$f":"+DIAS365($A$2,A117)","v":3500},4681154221.6519289,1333663759.5983627,33490506.519601624,1367154266.1179643]
["2031-03-23",{"$f":"IF(DIAS365(CALCULADORA!$C$27,A118)<0,0,DIAS365(CALCULADORA!$C$27,A118))","v":2363},{"$f":"+HLOOKUP(CALCULADORA!$C$9,Tablas!B:B,Flujos!J118+1,FALSE)","v":3.99023E-3},1.020135,0.39902300000000002,{"$f":"ROUND(D117*ROUND(((1+CALCULADORA!$C$16)^(1/12)-1),6),6)","v":7.9019999999999993E-3},0.40692500000000004,{"$f":"IF($B118=0,0,G118/POWER(1+CALCULADORA!$C$29,Flujos!$B118/365))","v":0.20827098614742981},"2031-03-23",116,{"$f":"+DIAS365($A$2,A118)","v":3528},3364959547.777544,1316194673.8743849,26064666.706157941,1342259340.5805428]
["2031-04-23",{"$f":"IF(DIAS365(CALCULADORA!$C$27,A119)<0,0,DIAS365(CALCULADORA!$C$27,A119))","v":2394},{"$f":"+HLOOKUP(CALCULADORA!$C$9,Tablas!B:B,Flujos!J119+1,FALSE)","v":3.9217000000000002E-3},0.627965,0.39217000000000002,{"$f":"ROUND(D118*ROUND(((1+CALCULADORA!$C$16)^(1/12)-1),6),6)","v":5.6800000000000002E-3},0.39785000000000004,{"$f":"IF($B119=0,0,G119/POWER(1+CALCULADORA!$C$29,Flujos!$B119/365))","v":0.20184484381476042},{"$f":"+A119","v":"2031-04-23"},117,{"$f":"+DIAS365($A$2,A119)","v":3559},2071369791.6649451,1293589756.1125989,18736094.762025364,1312325850.8746243]
["2031-05-23",{"$f":"IF(DIAS365(CALCULADORA!$C$27,A120)<0,0,DIAS365(CALCULADORA!$C$27,A120))","v":2424},{"$f":"+HLOOKUP(CALCULADORA!$C$9,Tablas!B:B,Flujos!J120+1,FALSE)","v":3.2861000000000001E-3},0.29935499999999998,0.32861000000000001,{"$f":"ROUND(D119*ROUND(((1+CALCULADORA!$C$16)^(1/12)-1),6),6)","v":3.4970000000000001E-3},0.33210700000000004,{"$f":"IF($B120=0,0,G120/POWER(1+CALCULADORA!$C$29,Flujos!$B120/365))","v":0.16706417218345895},{"$f":"+A120","v":"2031-05-23"},118,{"$f":"+DIAS365($A$2,A120)","v":3589},987435452.58709335,1083934339.0778518,11533386.999990415,1095467726.0778422]
["2031-06-23",{"$f":"IF(DIAS365(CALCULADORA!$C$27,A121)<0,0,DIAS365(CALCULADORA!$C$27,A121))","v":2455},{"$f":"+HLOOKUP(CALCULADORA!$C$9,Tablas!B:B,Flujos!J121+1,FALSE)","v":2.9935500000000002E-3},0,0.29935499999999998,{"$f":"ROUND(D120*ROUND(((1+CALCULADORA!$C$16)^(1/12)-1),6),6)","v":1.6670000000000001E-3},0.30102199999999996,{"$f":"IF($B121=0,0,G121/POWER(1+CALCULADORA!$C$29,Flujos!$B121/365))","v":0.15010232749411095},"2031-06-23",119,{"$f":"+DIAS365($A$2,A121)","v":3620},-1.6927719116210938E-5,987435452.58711028,5498040.6000049356,992933493.18711519]
["2031-07-23",{"$f":"IF(DIAS365(CALCULADORA!$C$27,A122)<0,0,DIAS365(CALCULADORA!$C$27,A122))","v":2485},{"$f":"+HLOOKUP(CALCULADORA!$C$9,Tablas!B:B,Flujos!J122+1,FALSE)","v":0},0,0,{"$f":"ROUND(D121*ROUND(((1+CALCULADORA!$C$16)^(1/12)-1),6),6)","v":0},0,{"$f":"IF($B122=0,0,G122/POWER(1+CALCULADORA!$C$29,Flujos!$B122/365))","v":0},"2031-07-23",120,{"$f":"+DIAS365($A$2,A122)","v":3650},-1.6927719116210938E-5,0,-9.4253540039062503E-8,-9.4253540039062503E-8]
["2031-08-23",{"$f":"IF(DIAS365(CALCULADORA!$C$27,A123)<0,0,DIAS365(CALCULADORA!$C$27,A123))","v":2516},{"$f":"+HLOOKUP(CALCULADORA!$C$9,Tablas!B:B,Flujos!J123+1,FALSE)","v":0},0,0,{"$f":"ROUND(D122*ROUND(((1+CALCULADORA!$C$16)^(1/12)-1),6),6)","v":0},0,{"$f":"IF($B123=0,0,G123/POWER(1+CALCULADORA!$C$29,Flujos!$B123/365))","v":0},"2031-08-23",121,{"$f":"+DIAS365($A$2,A123)","v":3681},-1.6927719116210938E-5,0,-9.4253540039062503E-8,-9.4253540039062503E-8]
["2031-09-23",{"$f":"IF(DIAS365(CALCULADORA!$C$27,A124)<0,0,DIAS365(CALCULADORA!$C$27,A124))","v":2547},{"$f":"+HLOOKUP(CALCULADORA!$C$9,Tablas!B:B,Flujos!J124+1,FALSE)","v":0},0,0,{"$f":"ROUND(D123*ROUND(((1+CALCULADORA!$C$16)^(1/12)-1),6),6)","v":0},0,{"$f":"IF($B124=0,0,G124/POWER(1+CALCULADORA!$C$29,Flujos!$B124/365))","v":0},"2031-09-23",122,{"$f":"+DIAS365($A$2,A124)","v":3712},-1.6927719116210938E-5,0,-9.4253540039062503E-8,-9.4253540039062503E-8]
["2031-10-23",{"$f":"IF(DIAS365(CALCULADORA!$C$27,A125)<0,0,DIAS365(CALCULADORA!$C$27,A125))","v":2577},{"$f":"+HLOOKUP(CALCULADORA!$C$9,Tablas!B:B,Flujos!J125+1,FALSE)","v":0},0,0,{"$f":"ROUND(D124*ROUND(((1+CALCULADORA!$C$16)^(1/12)-1),6),6)","v":0},0,{"$f":"IF($B125=0,0,G125/POWER(1+CALCULADORA!$C$29,Flujos!$B125/365))","v":0},"2031-10-23",123,{"$f":"+DIAS365($A$2,A125)","v":3742},-1.6927719116210938E-5,0,-9.4253540039062503E-8,-9.4253540039062503E-8]
["2031-11-23",{"$f":"IF(DIAS365(CALCULADORA!$C$27,A126)<0,0,DIAS365(CALCULADORA!$C$27,A126))","v":2608},{"$f":"+HLOOKUP(CALCULADORA!$C$9,Tablas!B:B,Flujos!J126+1,FALSE)","v":0},0,0,{"$f":"ROUND(D125*ROUND(((1+CALCULADORA!$C$16)^(1/12)-1),6),6)","v":0},0,{"$f":"IF($B126=0,0,G126/POWER(1+CALCULADORA!$C$29,Flujos!$B126/365))","v":0},"2031-11-23",124,{"$f":"+DIAS365($A$2,A126)","v":3773},-1.6927719116210938E-5,0,-9.4253540039062503E-8,-9.4253540039062503E-8]
["2031-12-23",{"$f":"IF(DIAS365(CALCULADORA!$C$27,A127)<0,0,DIAS365(CALCULADORA!$C$27,A127))","v":2638},{"$f":"+HLOOKUP(CALCULADORA!$C$9,Tablas!B:B,Flujos!J127+1,FALSE)","v":0},0,0,{"$f":"ROUND(D126*ROUND(((1+CALCULADORA!$C$16)^(1/12)-1),6),6)","v":0},0,{"$f":"IF($B127=0,0,G127/POWER(1+CALCULADORA!$C$29,Flujos!$B127/365))","v":0},"2031-12-23",125,{"$f":"+DIAS365($A$2,A127)","v":3803},-1.6927719116210938E-5,0,-9.4253540039062503E-8,-9.4253540039062503E-8]
["2032-01-23",{"$f":"IF(DIAS365(CALCULADORA!$C$27,A128)<0,0,DIAS365(CALCULADORA!$C$27,A128))","v":2669},{"$f":"+HLOOKUP(CALCULADORA!$C$9,Tablas!B:B,Flujos!J128+1,FALSE)","v":0},0,0,{"$f":"ROUND(D127*ROUND(((1+CALCULADORA!$C$16)^(1/12)-1),6),6)","v":0},0,{"$f":"IF($B128=0,0,G128/POWER(1+CALCULADORA!$C$29,Flujos!$B128/365))","v":0},"2032-01-23",126,{"$f":"+DIAS365($A$2,A128)","v":3834},-1.6927719116210938E-5,0,-9.4253540039062503E-8,-9.4253540039062503E-8]
["2032-02-23",{"$f":"IF(DIAS365(CALCULADORA!$C$27,A129)<0,0,DIAS365(CALCULADORA!$C$27,A129))","v":2700},{"$f":"+HLOOKUP(CALCULADORA!$C$9,Tablas!B:B,Flujos!J129+1,FALSE)","v":0},0,0,{"$f":"ROUND(D128*ROUND(((1+CALCULADORA!$C$16)^(1/12)-1),6),6)","v":0},0,{"$f":"IF($B129=0,0,G129/POWER(1+CALCULADORA!$C$29,Flujos!$B129/365))","v":0},"2032-02-23",127,{"$f":"+DIAS365($A$2,A129)","v":3865},-1.6927719116210938E-5,0,-9.4253540039062503E-8,-9.4253540039062503E-8]
["2032-03-23",{"$f":"IF(DIAS365(CALCULADORA!$C$27,A130)<0,0,DIAS365(CALCULADORA!$C$27,A130))","v":2728},{"$f":"+HLOOKUP(CALCULADORA!$C$9,Tablas!B:B,Flujos!J130+1,FALSE)","v":0},0,0,{"$f":"ROUND(D129*ROUND(((1+CALCULADORA!$C$16)^(1/12)-1),6),6)","v":0},0,{"$f":"IF($B130=0,0,G130/POWER(1+CALCULADORA!$C$29,Flujos!$B130/365))","v":0},"2032-03-23",128,{"$f":"+DIAS365($A$2,A130)","v":3893},-1.6927719116210938E-5,0,-9.4253540039062503E-8,-9.4253540039062503E-8]
[{"$f":"EDATE(A130,1)","v":"2032-04-23"},{"$f":"IF(DIAS365(CALCULADORA!$C$27,A131)<0,0,DIAS365(CALCULADORA!$C$27,A131))","v":2759},{"$f":"+HLOOKUP(CALCULADORA!$C$9,Tablas!B:B,Flujos!J131+1,FALSE)","v":0},0,0,{"$f":"ROUND(D130*ROUND(((1+CALCULADORA!$C$16)^(1/12)-1),6),6)","v":0},0,{"$f":"IF($B131=0,0,G131/POWER(1+CALCULADORA!$C$29,Flujos!$B131/365))","v":0},{"$f":"+A131","v":"2032-04-23"},129,{"$f":"+DIAS365($A$2,A131)","v":3924},-1.6927719116210938E-5,0,-9.4253540039062503E-8,-9.4253540039062503E-8]
["2032-05-23",{"$f":"IF(DIAS365(CALCULADORA!$C$27,A132)<0,0,DIAS365(CALCULADORA!$C$27,A132))","v":2789},{"$f":"+HLOOKUP(CALCULADORA!$C$9,Tablas!B:B,Flujos!J132+1,FALSE)","v":0},{"$f":"+ROUND(D131-E132,6)","v":0},{"$f":"ROUND(C132*$D$2,6)","v":0},{"$f":"ROUND(D131*ROUND(((1+CALCULADORA!$C$16)^(1/12)-1),6),6)","v":0},{"$f":"F132+E132","v":0},{"$f":"IF($B132=0,0,G132/POWER(1+CALCULADORA!$C$29,Flujos!$B132/365))","v":0},"2032-05-23",130,{"$f":"+DIAS365($A$2,A132)","v":3954},{"$f":"+L131-M132","v":-1.6927719116210938E-5},{"$f":"+$L$2*C132","v":0},{"$f":"+L131*$F$3%","v":-9.4253540039062503E-8},{"$f":"+N132+M132","v":-9.4253540039062503E-8}]
["2032-06-23",{"$f":"IF(DIAS365(CALCULADORA!$C$27,A133)<0,0,DIAS365(CALCULADORA!$C$27,A133))","v":2820},{"$f":"+HLOOKUP(CALCULADORA!$C$9,Tablas!B:B,Flujos!J133+1,FALSE)","v":0},0,0,{"$f":"ROUND(D132*ROUND(((1+CALCULADORA!$C$16)^(1/12)-1),6),6)","v":0},0,{"$f":"IF($B133=0,0,G133/POWER(1+CALCULADORA!$C$29,Flujos!$B133/365))","v":0},"2032-06-23",131,{"$f":"+DIAS365($A$2,A133)","v":3985},-1.6927719116210938E-5,0,-9.4253540039062503E-8,-9.4253540039062503E-8]
["2032-07-23",{"$f":"IF(DIAS365(CALCULADORA!$C$27,A134)<0,0,DIAS365(CALCULADORA!$C$27,A134))","v":2850},{"$f":"+HLOOKUP(CALCULADORA!$C$9,Tablas!B:B,Flujos!J134+1,FALSE)","v":0},0,0,{"$f":"ROUND(D133*ROUND(((1+CALCULADORA!$C$16)^(1/12)-1),6),6)","v":0},0,{"$f":"IF($B134=0,0,G134/POWER(1+CALCULADORA!$C$29,Flujos!$B134/365))","v":0},"2032-07-23",132,{"$f":"+DIAS365($A$2,A134)","v":4015},-1.6927719116210938E-5,0,-9.4253540039062503E-8,-9.4253540039062503E-8]
["2032-08-23",{"$f":"IF(DIAS365(CALCULADORA!$C$27,A135)<0,0,DIAS365(CALCULADORA!$C$27,A135))","v":2881},{"$f":"+HLOOKUP(CALCULADORA!$C$9,Tablas!B:B,Flujos!J135+1,FALSE)","v":0},0,0,{"$f":"ROUND(D134*ROUND(((1+CALCULADORA!$C$16)^(1/12)-1),6),6)","v":0},0,{"$f":"IF($B135=0,0,G135/POWER(1+CALCULADORA!$C$29,Flujos!$B135/365))","v":0},"2032-08-23",133,{"$f":"+DIAS365($A$2,A135)","v":4046},-1.6927719116210938E-5,0,-9.4253540039062503E-8,-9.4253540039062503E-8]
["2032-09-23",{"$f":"IF(DIAS365(CALCULADORA!$C$27,A136)<0,0,DIAS365(CALCULADORA!$C$27,A136))","v":2912},{"$f":"+HLOOKUP(CALCULADORA!$C$9,Tablas!B:B,Flujos!J136+1,FALSE)","v":0},0,0,{"$f":"ROUND(D135*ROUND(((1+CALCULADORA!$C$16)^(1/12)-1),6),6)","v":0},0,{"$f":"IF($B136=0,0,G136/POWER(1+CALCULADORA!$C$29,Flujos!$B136/365))","v":0},"2032-09-23",134,{"$f":"+DIAS365($A$2,A136)","v":4077},-1.6927719116210938E-5,0,-9.4253540039062503E-8,-9.4253540039062503E-8]
["2032-10-23",{"$f":"IF(DIAS365(CALCULADORA!$C$27,A137)<0,0,DIAS365(CALCULADORA!$C$27,A137))","v":2942},{"$f":"+HLOOKUP(CALCULADORA!$C$9,Tablas!B:B,Flujos!J137+1,FALSE)","v":0},0,0,{"$f":"ROUND(D136*ROUND(((1+CALCULADORA!$C$16)^(1/12)-1),6),6)","v":0},0,{"$f":"IF($B137=0,0,G137/POWER(1+CALCULADORA!$C$29,Flujos!$B137/365))","v":0},"2032-10-23",135,{"$f":"+DIAS365($A$2,A137)","v":4107},-1.6927719116210938E-5,0,-9.4253540039062503E-8,-9.4253540039062503E-8]
["2032-11-23",{"$f":"IF(DIAS365(CALCULADORA!$C$27,A138)<0,0,DIAS365(CALCULADORA!$C$27,A138))","v":2973},{"$f":"+HLOOKUP(CALCULADORA!$C$9,Tablas!B:B,Flujos!J138+1,FALSE)","v":0},0,0,{"$f":"ROUND(D137*ROUND(((1+CALCULADORA!$C$16)^(1/12)-1),6),6)","v":0},0,{"$f":"IF($B138=0,0,G138/POWER(1+CALCULADORA!$C$29,Flujos!$B138/365))","v":0},"2032-11-23",136,{"$f":"+DIAS365($A$2,A138)","v":4138},-1.6927719116210938E-5,0,-9.4253540039062503E-8,-9.4253540039062503E-8]
["2032-12-23",{"$f":"IF(DIAS365(CALCULADORA!$C$27,A139)<0,0,DIAS365(CALCULADORA!$C$27,A139))","v":3003},{"$f":"+HLOOKUP(CALCULADORA!$C$9,Tablas!B:B,Flujos!J139+1,FALSE)","v":0},0,0,{"$f":"ROUND(D138*ROUND(((1+CALCULADORA!$C$16)^(1/12)-1),6),6)","v":0},0,{"$f":"IF($B139=0,0,G139/POWER(1+CALCULADORA!$C$29,Flujos!$B139/365))","v":0},"2032-12-23",137,{"$f":"+DIAS365($A$2,A139)","v":4168},-1.6927719116210938E-5,0,-9.4253540039062503E-8,-9.4253540039062503E-8]
["2033-01-23",{"$f":"IF(DIAS365(CALCULADORA!$C$27,A140)<0,0,DIAS365(CALCULADORA!$C$27,A140))","v":3034},{"$f":"+HLOOKUP(CALCULADORA!$C$9,Tablas!B:B,Flujos!J140+1,FALSE)","v":0},0,0,{"$f":"ROUND(D139*ROUND(((1+CALCULADORA!$C$16)^(1/12)-1),6),6)","v":0},0,{"$f":"IF($B140=0,0,G140/POWER(1+CALCULADORA!$C$29,Flujos!$B140/365))","v":0},"2033-01-23",138,{"$f":"+DIAS365($A$2,A140)","v":4199},-1.6927719116210938E-5,0,-9.4253540039062503E-8,-9.4253540039062503E-8]
["2033-02-23",{"$f":"IF(DIAS365(CALCULADORA!$C$27,A141)<0,0,DIAS365(CALCULADORA!$C$27,A141))","v":3065},{"$f":"+HLOOKUP(CALCULADORA!$C$9,Tablas!B:B,Flujos!J141+1,FALSE)","v":0},0,0,{"$f":"ROUND(D140*ROUND(((1+CALCULADORA!$C$16)^(1/12)-1),6),6)","v":0},0,{"$f":"IF($B141=0,0,G141/POWER(1+CALCULADORA!$C$29,Flujos!$B141/365))","v":0},"2033-02-23",139,{"$f":"+DIAS365($A$2,A141)","v":4230},-1.6927719116210938E-5,0,-9.4253540039062503E-8,-9.4253540039062503E-8]
["2033-03-23",{"$f":"IF(DIAS365(CALCULADORA!$C$27,A142)<0,0,DIAS365(CALCULADORA!$C$27,A142))","v":3093},{"$f":"+HLOOKUP(CALCULADORA!$C$9,Tablas!B:B,Flujos!J142+1,FALSE)","v":0},0,0,{"$f":"ROUND(D141*ROUND(((1+CALCULADORA!$C$16)^(1/12)-1),6),6)","v":0},0,{"$f":"IF($B142=0,0,G142/POWER(1+CALCULADORA!$C$29,Flujos!$B142/365))","v":0},"2033-03-23",140,{"$f":"+DIAS365($A$2,A142)","v":4258},-1.6927719116210938E-5,0,-9.4253540039062503E-8,-9.4253540039062503E-8]
["2033-04-23",{"$f":"IF(DIAS365(CALCULADORA!$C$27,A143)<0,0,DIAS365(CALCULADORA!$C$27,A143))","v":3124},{"$f":"+HLOOKUP(CALCULADORA!$C$9,Tablas!B:B,Flujos!J143+1,FALSE)","v":0},0,0,{"$f":"ROUND(D142*ROUND(((1+CALCULADORA!$C$16)^(1/12)-1),6),6)","v":0},0,{"$f":"IF($B143=0,0,G143/POWER(1+CALCULADORA!$C$29,Flujos!$B143/365))","v":0},"2033-04-23",141,{"$f":"+DIAS365($A$2,A143)","v":4289},-1.6927719116210938E-5,0,-9.4253540039062503E-8,-9.4253540039062503E-8]
["2033-05-23",{"$f":"IF(DIAS365(CALCULADORA!$C$27,A144)<0,0,DIAS365(CALCULADORA!$C$27,A144))","v":3154},{"$f":"+HLOOKUP(CALCULADORA!$C$9,Tablas!B:B,Flujos!J144+1,FALSE)","v":0},0,0,{"$f":"ROUND(D143*ROUND(((1+CALCULADORA!$C$16)^(1/12)-1),6),6)","v":0},0,{"$f":"IF($B144=0,0,G144/POWER(1+CALCULADORA!$C$29,Flujos!$B144/365))","v":0},"2033-05-23",142,{"$f":"+DIAS365($A$2,A144)","v":4319},-1.6927719116210938E-5,0,-9.4253540039062503E-8,-9.4253540039062503E-8]
["2033-06-23",{"$f":"IF(DIAS365(CALCULADORA!$C$27,A145)<0,0,DIAS365(CALCULADORA!$C$27,A145))","v":3185},{"$f":"+HLOOKUP(CALCULADORA!$C$9,Tablas!B:B,Flujos!J145+1,FALSE)","v":0},0,0,{"$f":"ROUND(D144*ROUND(((1+CALCULADORA!$C$16)^(1/12)-1),6),6)","v":0},0,{"$f":"IF($B145=0,0,G145/POWER(1+CALCULADORA!$C$29,Flujos!$B145/365))","v":0},"2033-06-23",143,{"$f":"+DIAS365($A$2,A145)","v":4350},-1.6927719116210938E-5,0,-9.4253540039062503E-8,-9.4253540039062503E-8]
["2033-07-23",{"$f":"IF(DIAS365(CALCULADORA!$C$27,A146)<0,0,DIAS365(CALCULADORA!$C$27,A146))","v":3215},{"$f":"+HLOOKUP(CALCULADORA!$C$9,Tablas!B:B,Flujos!J146+1,FALSE)","v":0},0,0,{"$f":"ROUND(D145*ROUND(((1+CALCULADORA!$C$16)^(1/12)-1),6),6)","v":0},0,{"$f":"IF($B146=0,0,G146/POWER(1+CALCULADORA!$C$29,Flujos!$B146/365))","v":0},"2033-07-23",144,{"$f":"+DIAS365($A$2,A146)","v":4380},-1.6927719116210938E-5,0,-9.4253540039062503E-8,-9.4253540039062503E-8]
["2033-08-23",{"$f":"IF(DIAS365(CALCULADORA!$C$27,A147)<0,0,DIAS365(CALCULADORA!$C$27,A147))","v":3246},{"$f":"+HLOOKUP(CALCULADORA!$C$9,Tablas!B:B,Flujos!J147+1,FALSE)","v":0},0,0,{"$f":"ROUND(D146*ROUND(((1+CALCULADORA!$C$16)^(1/12)-1),6),6)","v":0},0,{"$f":"IF($B147=0,0,G147/POWER(1+CALCULADORA!$C$29,Flujos!$B147/365))","v":0},"2033-08-23",145,{"$f":"+DIAS365($A$2,A147)","v":4411},-1.6927719116210938E-5,0,-9.4253540039062503E-8,-9.4253540039062503E-8]
["2033-09-23",{"$f":"IF(DIAS365(CALCULADORA!$C$27,A148)<0,0,DIAS365(CALCULADORA!$C$27,A148))","v":3277},{"$f":"+HLOOKUP(CALCULADORA!$C$9,Tablas!B:B,Flujos!J148+1,FALSE)","v":0},0,0,{"$f":"ROUND(D147*ROUND(((1+CALCULADORA!$C$16)^(1/12)-1),6),6)","v":0},0,{"$f":"IF($B148=0,0,G148/POWER(1+CALCULADORA!$C$29,Flujos!$B148/365))","v":0},"2033-09-23",146,{"$f":"+DIAS365($A$2,A148)","v":4442},-1.6927719116210938E-5,0,-9.4253540039062503E-8,-9.4253540039062503E-8]
["2033-10-23",{"$f":"IF(DIAS365(CALCULADORA!$C$27,A149)<0,0,DIAS365(CALCULADORA!$C$27,A149))","v":3307},{"$f":"+HLOOKUP(CALCULADORA!$C$9,Tablas!B:B,Flujos!J149+1,FALSE)","v":0},0,0,{"$f":"ROUND(D148*ROUND(((1+CALCULADORA!$C$16)^(1/12)-1),6),6)","v":0},0,{"$f":"IF($B149=0,0,G149/POWER(1+CALCULADORA!$C$29,Flujos!$B149/365))","v":0},"2033-10-23",147,{"$f":"+DIAS365($A$2,A149)","v":4472},-1.6927719116210938E-5,0,-9.4253540039062503E-8,-9.4253540039062503E-8]
["2033-11-23",{"$f":"IF(DIAS365(CALCULADORA!$C$27,A150)<0,0,DIAS365(CALCULADORA!$C$27,A150))","v":3338},{"$f":"+HLOOKUP(CALCULADORA!$C$9,Tablas!B:B,Flujos!J150+1,FALSE)","v":0},0,0,{"$f":"ROUND(D149*ROUND(((1+CALCULADORA!$C$16)^(1/12)-1),6),6)","v":0},0,{"$f":"IF($B150=0,0,G150/POWER(1+CALCULADORA!$C$29,Flujos!$B150/365))","v":0},"2033-11-23",148,{"$f":"+DIAS365($A$2,A150)","v":4503},-1.6927719116210938E-5,0,-9.4253540039062503E-8,-9.4253540039062503E-8]
["2033-12-23",{"$f":"IF(DIAS365(CALCULADORA!$C$27,A151)<0,0,DIAS365(CALCULADORA!$C$27,A151))","v":3368},{"$f":"+HLOOKUP(CALCULADORA!$C$9,Tablas!B:B,Flujos!J151+1,FALSE)","v":0},0,0,{"$f":"ROUND(D150*ROUND(((1+CALCULADORA!$C$16)^(1/12)-1),6),6)","v":0},0,{"$f":"IF($B151=0,0,G151/POWER(1+CALCULADORA!$C$29,Flujos!$B151/365))","v":0},"2033-12-23",149,{"$f":"+DIAS365($A$2,A151)","v":4533},-1.6927719116210938E-5,0,-9.4253540039062503E-8,-9.4253540039062503E-8]
["2034-01-23",{"$f":"IF(DIAS365(CALCULADORA!$C$27,A152)<0,0,DIAS365(CALCULADORA!$C$27,A152))","v":3399},{"$f":"+HLOOKUP(CALCULADORA!$C$9,Tablas!B:B,Flujos!J152+1,FALSE)","v":0},0,0,{"$f":"ROUND(D151*ROUND(((1+CALCULADORA!$C$16)^(1/12)-1),6),6)","v":0},0,{"$f":"IF($B152=0,0,G152/POWER(1+CALCULADORA!$C$29,Flujos!$B152/365))","v":0},"2034-01-23",150,{"$f":"+DIAS365($A$2,A152)","v":4564},-1.6927719116210938E-5,0,-9.4253540039062503E-8,-9.4253540039062503E-8]
["2034-02-23",{"$f":"IF(DIAS365(CALCULADORA!$C$27,A153)<0,0,DIAS365(CALCULADORA!$C$27,A153))","v":3430},{"$f":"+HLOOKUP(CALCULADORA!$C$9,Tablas!B:B,Flujos!J153+1,FALSE)","v":0},0,0,{"$f":"ROUND(D152*ROUND(((1+CALCULADORA!$C$16)^(1/12)-1),6),6)","v":0},0,{"$f":"IF($B153=0,0,G153/POWER(1+CALCULADORA!$C$29,Flujos!$B153/365))","v":0},"2034-02-23",151,{"$f":"+DIAS365($A$2,A153)","v":4595},-1.6927719116210938E-5,0,-9.4253540039062503E-8,-9.4253540039062503E-8]
["2034-03-23",{"$f":"IF(DIAS365(CALCULADORA!$C$27,A154)<0,0,DIAS365(CALCULADORA!$C$27,A154))","v":3458},{"$f":"+HLOOKUP(CALCULADORA!$C$9,Tablas!B:B,Flujos!J154+1,FALSE)","v":0},0,0,{"$f":"ROUND(D153*ROUND(((1+CALCULADORA!$C$16)^(1/12)-1),6),6)","v":0},0,{"$f":"IF($B154=0,0,G154/POWER(1+CALCULADORA!$C$29,Flujos!$B154/365))","v":0},"2034-03-23",152,{"$f":"+DIAS365($A$2,A154)","v":4623},-1.6927719116210938E-5,0,-9.4253540039062503E-8,-9.4253540039062503E-8]
["2034-04-23",{"$f":"IF(DIAS365(CALCULADORA!$C$27,A155)<0,0,DIAS365(CALCULADORA!$C$27,A155))","v":3489},{"$f":"+HLOOKUP(CALCULADORA!$C$9,Tablas!B:B,Flujos!J155+1,FALSE)","v":0},0,0,{"$f":"ROUND(D154*ROUND(((1+CALCULADORA!$C$16)^(1/12)-1),6),6)","v":0},0,{"$f":"IF($B155=0,0,G155/POWER(1+CALCULADORA!$C$29,Flujos!$B155/365))","v":0},"2034-04-23",153,{"$f":"+DIAS365($A$2,A155)","v":4654},-1.6927719116210938E-5,0,-9.4253540039062503E-8,-9.4253540039062503E-8]
["2034-05-23",{"$f":"IF(DIAS365(CALCULADORA!$C$27,A156)<0,0,DIAS365(CALCULADORA!$C$27,A156))","v":3519},{"$f":"+HLOOKUP(CALCULADORA!$C$9,Tablas!B:B,Flujos!J156+1,FALSE)","v":0},0,0,{"$f":"ROUND(D155*ROUND(((1+CALCULADORA!$C$16)^(1/12)-1),6),6)","v":0},0,{"$f":"IF($B156=0,0,G156/POWER(1+CALCULADORA!$C$29,Flujos!$B156/365))","v":0},"2034-05-23",154,{"$f":"+DIAS365($A$2,A156)","v":4684},-1.6927719116210938E-5,0,-9.4253540039062503E-8,-9.4253540039062503E-8]
["2034-06-23",{"$f":"IF(DIAS365(CALCULADORA!$C$27,A157)<0,0,DIAS365(CALCULADORA!$C$27,A157))","v":3550},{"$f":"+HLOOKUP(CALCULADORA!$C$9,Tablas!B:B,Flujos!J157+1,FALSE)","v":0},0,0,{"$f":"ROUND(D156*ROUND(((1+CALCULADORA!$C$16)^(1/12)-1),6),6)","v":0},0,{"$f":"IF($B157=0,0,G157/POWER(1+CALCULADORA!$C$29,Flujos!$B157/365))","v":0},"2034-06-23",155,{"$f":"+DIAS365($A$2,A157)","v":4715},-1.6927719116210938E-5,0,-9.4253540039062503E-8,-9.4253540039062503E-8]
["2034-07-23",{"$f":"IF(DIAS365(CALCULADORA!$C$27,A158)<0,0,DIAS365(CALCULADORA!$C$27,A158))","v":3580},{"$f":"+HLOOKUP(CALCULADORA!$C$9,Tablas!B:B,Flujos!J158+1,FALSE)","v":0},0,0,{"$f":"ROUND(D157*ROUND(((1+CALCULADORA!$C$16)^(1/12)-1),6),6)","v":0},0,{"$f":"IF($B158=0,0,G158/POWER(1+CALCULADORA!$C$29,Flujos!$B158/365))","v":0},"2034-07-23",156,{"$f":"+DIAS365($A$2,A158)","v":4745},-1.6927719116210938E-5,0,-9.4253540039062503E-8,-9.4253540039062503E-8]
["2034-08-23",{"$f":"IF(DIAS365(CALCULADORA!$C$27,A159)<0,0,DIAS365(CALCULADORA!$C$27,A159))","v":3611},{"$f":"+HLOOKUP(CALCULADORA!$C$9,Tablas!B:B,Flujos!J159+1,FALSE)","v":0},0,0,{"$f":"ROUND(D158*ROUND(((1+CALCULADORA!$C$16)^(1/12)-1),6),6)","v":0},0,{"$f":"IF($B159=0,0,G159/POWER(1+CALCULADORA!$C$29,Flujos!$B159/365))","v":0},"2034-08-23",157,{"$f":"+DIAS365($A$2,A159)","v":4776},-1.6927719116210938E-5,0,-9.4253540039062503E-8,-9.4253540039062503E-8]
["2034-09-23",{"$f":"IF(DIAS365(CALCULADORA!$C$27,A160)<0,0,DIAS365(CALCULADORA!$C$27,A160))","v":3642},{"$f":"+HLOOKUP(CALCULADORA!$C$9,Tablas!B:B,Flujos!J160+1,FALSE)","v":0},0,0,{"$f":"ROUND(D159*ROUND(((1+CALCULADORA!$C$16)^(1/12)-1),6),6)","v":0},0,{"$f":"IF($B160=0,0,G160/POWER(1+CALCULADORA!$C$29,Flujos!$B160/365))","v":0},"2034-09-23",158,{"$f":"+DIAS365($A$2,A160)","v":4807},-1.6927719116210938E-5,0,-9.4253540039062503E-8,-9.4253540039062503E-8]
["2034-10-23",{"$f":"IF(DIAS365(CALCULADORA!$C$27,A161)<0,0,DIAS365(CALCULADORA!$C$27,A161))","v":3672},{"$f":"+HLOOKUP(CALCULADORA!$C$9,Tablas!B:B,Flujos!J161+1,FALSE)","v":0},0,0,{"$f":"ROUND(D160*ROUND(((1+CALCULADORA!$C$16)^(1/12)-1),6),6)","v":0},0,{"$f":"IF($B161=0,0,G161/POWER(1+CALCULADORA!$C$29,Flujos!$B161/365))","v":0},"2034-10-23",159,{"$f":"+DIAS365($A$2,A161)","v":4837},-1.6927719116210938E-5,0,-9.4253540039062503E-8,-9.4253540039062503E-8]
["2034-11-23",{"$f":"IF(DIAS365(CALCULADORA!$C$27,A162)<0,0,DIAS365(CALCULADORA!$C$27,A162))","v":3703},{"$f":"+HLOOKUP(CALCULADORA!$C$9,Tablas!B:B,Flujos!J162+1,FALSE)","v":0},0,0,{"$f":"ROUND(D161*ROUND(((1+CALCULADORA!$C$16)^(1/12)-1),6),6)","v":0},0,{"$f":"IF($B162=0,0,G162/POWER(1+CALCULADORA!$C$29,Flujos!$B162/365))","v":0},"2034-11-23",160,{"$f":"+DIAS365($A$2,A162)","v":4868},-1.6927719116210938E-5,0,-9.4253540039062503E-8,-9.4253540039062503E-8]
[{"$f":"EDATE(A162,1)","v":"2034-12-23"},{"$f":"IF(DIAS365(CALCULADORA!$C$27,A163)<0,0,DIAS365(CALCULADORA!$C$27,A163))","v":3733},{"$f":"+HLOOKUP(CALCULADORA!$C$9,Tablas!B:B,Flujos!J163+1,FALSE)","v":0},0,0,{"$f":"ROUND(D162*ROUND(((1+CALCULADORA!$C$16)^(1/12)-1),6),6)","v":0},0,{"$f":"IF($B163=0,0,G163/POWER(1+CALCULADORA!$C$29,Flujos!$B163/365))","v":0},"2034-12-23",161,{"$f":"+DIAS365($A$2,A163)","v":4898},-1.6927719116210938E-5,0,-9.4253540039062503E-8,-9.4253540039062503E-8]
["2035-01-23",{"$f":"IF(DIAS365(CALCULADORA!$C$27,A164)<0,0,DIAS365(CALCULADORA!$C$27,A164))","v":3764},{"$f":"+HLOOKUP(CALCULADORA!$C$9,Tablas!B:B,Flujos!J164+1,FALSE)","v":0},0,0,{"$f":"ROUND(D163*ROUND(((1+CALCULADORA!$C$16)^(1/12)-1),6),6)","v":0},0,{"$f":"IF($B164=0,0,G164/POWER(1+CALCULADORA!$C$29,Flujos!$B164/365))","v":0},"2035-01-23",162,{"$f":"+DIAS365($A$2,A164)","v":4929},-1.6927719116210938E-5,0,-9.4253540039062503E-8,-9.4253540039062503E-8]
["2035-02-23",{"$f":"IF(DIAS365(CALCULADORA!$C$27,A165)<0,0,DIAS365(CALCULADORA!$C$27,A165))","v":3795},{"$f":"+HLOOKUP(CALCULADORA!$C$9,Tablas!B:B,Flujos!J165+1,FALSE)","v":0},0,0,{"$f":"ROUND(D164*ROUND(((1+CALCULADORA!$C$16)^(1/12)-1),6),6)","v":0},0,{"$f":"IF($B165=0,0,G165/POWER(1+CALCULADORA!$C$29,Flujos!$B165/365))","v":0},"2035-02-23",163,{"$f":"+DIAS365($A$2,A165)","v":4960},-1.6927719116210938E-5,0,-9.4253540039062503E-8,-9.4253540039062503E-8]
["2035-03-23",{"$f":"IF(DIAS365(CALCULADORA!$C$27,A166)<0,0,DIAS365(CALCULADORA!$C$27,A166))","v":3823},{"$f":"+HLOOKUP(CALCULADORA!$C$9,Tablas!B:B,Flujos!J166+1,FALSE)","v":0},0,0,{"$f":"ROUND(D165*ROUND(((1+CALCULADORA!$C$16)^(1/12)-1),6),6)","v":0},0,{"$f":"IF($B166=0,0,G166/POWER(1+CALCULADORA!$C$29,Flujos!$B166/365))","v":0},"2035-03-23",164,{"$f":"+DIAS365($A$2,A166)","v":4988},-1.6927719116210938E-5,0,-9.4253540039062503E-8,-9.4253540039062503E-8]
["2035-04-23",{"$f":"IF(DIAS365(CALCULADORA!$C$27,A167)<0,0,DIAS365(CALCULADORA!$C$27,A167))","v":3854},{"$f":"+HLOOKUP(CALCULADORA!$C$9,Tablas!B:B,Flujos!J167+1,FALSE)","v":0},0,0,{"$f":"ROUND(D166*ROUND(((1+CALCULADORA!$C$16)^(1/12)-1),6),6)","v":0},0,{"$f":"IF($B167=0,0,G167/POWER(1+CALCULADORA!$C$29,Flujos!$B167/365))","v":0},"2035-04-23",165,{"$f":"+DIAS365($A$2,A167)","v":5019},-1.6927719116210938E-5,0,-9.4253540039062503E-8,-9.4253540039062503E-8]
["2035-05-23",{"$f":"IF(DIAS365(CALCULADORA!$C$27,A168)<0,0,DIAS365(CALCULADORA!$C$27,A168))","v":3884},{"$f":"+HLOOKUP(CALCULADORA!$C$9,Tablas!B:B,Flujos!J168+1,FALSE)","v":0},0,0,{"$f":"ROUND(D167*ROUND(((1+CALCULADORA!$C$16)^(1/12)-1),6),6)","v":0},0,{"$f":"IF($B168=0,0,G168/POWER(1+CALCULADORA!$C$29,Flujos!$B168/365))","v":0},"2035-05-23",166,{"$f":"+DIAS365($A$2,A168)","v":5049},-1.6927719116210938E-5,0,-9.4253540039062503E-8,-9.4253540039062503E-8]
["2035-06-23",{"$f":"IF(DIAS365(CALCULADORA!$C$27,A169)<0,0,DIAS365(CALCULADORA!$C$27,A169))","v":3915},{"$f":"+HLOOKUP(CALCULADORA!$C$9,Tablas!B:B,Flujos!J169+1,FALSE)","v":0},0,0,{"$f":"ROUND(D168*ROUND(((1+CALCULADORA!$C$16)^(1/12)-1),6),6)","v":0},0,{"$f":"IF($B169=0,0,G169/POWER(1+CALCULADORA!$C$29,Flujos!$B169/365))","v":0},"2035-06-23",167,{"$f":"+DIAS365($A$2,A169)","v":5080},-1.6927719116210938E-5,0,-9.4253540039062503E-8,-9.4253540039062503E-8]
["2035-07-23",{"$f":"IF(DIAS365(CALCULADORA!$C$27,A170)<0,0,DIAS365(CALCULADORA!$C$27,A170))","v":3945},{"$f":"+HLOOKUP(CALCULADORA!$C$9,Tablas!B:B,Flujos!J170+1,FALSE)","v":0},0,0,{"$f":"ROUND(D169*ROUND(((1+CALCULADORA!$C$16)^(1/12)-1),6),6)","v":0},0,{"$f":"IF($B170=0,0,G170/POWER(1+CALCULADORA!$C$29,Flujos!$B170/365))","v":0},"2035-07-23",168,{"$f":"+DIAS365($A$2,A170)","v":5110},-1.6927719116210938E-5,0,-9.4253540039062503E-8,-9.4253540039062503E-8]
["2035-08-23",{"$f":"IF(DIAS365(CALCULADORA!$C$27,A171)<0,0,DIAS365(CALCULADORA!$C$27,A171))","v":3976},{"$f":"+HLOOKUP(CALCULADORA!$C$9,Tablas!B:B,Flujos!J171+1,FALSE)","v":0},0,0,{"$f":"ROUND(D170*ROUND(((1+CALCULADORA!$C$16)^(1/12)-1),6),6)","v":0},0,{"$f":"IF($B171=0,0,G171/POWER(1+CALCULADORA!$C$29,Flujos!$B171/365))","v":0},"2035-08-23",169,{"$f":"+DIAS365($A$2,A171)","v":5141},-1.6927719116210938E-5,0,-9.4253540039062503E-8,-9.4253540039062503E-8]
["2035-09-23",{"$f":"IF(DIAS365(CALCULADORA!$C$27,A172)<0,0,DIAS365(CALCULADORA!$C$27,A172))","v":4007},{"$f":"+HLOOKUP(CALCULADORA!$C$9,Tablas!B:B,Flujos!J172+1,FALSE)","v":0},0,0,{"$f":"ROUND(D171*ROUND(((1+CALCULADORA!$C$16)^(1/12)-1),6),6)","v":0},0,{"$f":"IF($B172=0,0,G172/POWER(1+CALCULADORA!$C$29,Flujos!$B172/365))","v":0},"2035-09-23",170,{"$f":"+DIAS365($A$2,A172)","v":5172},-1.6927719116210938E-5,0,-9.4253540039062503E-8,-9.4253540039062503E-8]
["2035-10-23",{"$f":"IF(DIAS365(CALCULADORA!$C$27,A173)<0,0,DIAS365(CALCULADORA!$C$27,A173))","v":4037},{"$f":"+HLOOKUP(CALCULADORA!$C$9,Tablas!B:B,Flujos!J173+1,FALSE)","v":0},0,0,{"$f":"ROUND(D172*ROUND(((1+CALCULADORA!$C$16)^(1/12)-1),6),6)","v":0},0,{"$f":"IF($B173=0,0,G173/POWER(1+CALCULADORA!$C$29,Flujos!$B173/365))","v":0},"2035-10-23",171,{"$f":"+DIAS365($A$2,A173)","v":5202},-1.6927719116210938E-5,0,-9.4253540039062503E-8,-9.4253540039062503E-8]
["2035-11-23",{"$f":"IF(DIAS365(CALCULADORA!$C$27,A174)<0,0,DIAS365(CALCULADORA!$C$27,A174))","v":4068},{"$f":"+HLOOKUP(CALCULADORA!$C$9,Tablas!B:B,Flujos!J174+1,FALSE)","v":0},0,0,{"$f":"ROUND(D173*ROUND(((1+CALCULADORA!$C$16)^(1/12)-1),6),6)","v":0},0,{"$f":"IF($B174=0,0,G174/POWER(1+CALCULADORA!$C$29,Flujos!$B174/365))","v":0},"2035-11-23",172,{"$f":"+DIAS365($A$2,A174)","v":5233},-1.6927719116210938E-5,0,-9.4253540039062503E-8,-9.4253540039062503E-8]
["2035-12-23",{"$f":"IF(DIAS365(CALCULADORA!$C$27,A175)<0,0,DIAS365(CALCULADORA!$C$27,A175))","v":4098},{"$f":"+HLOOKUP(CALCULADORA!$C$9,Tablas!B:B,Flujos!J175+1,FALSE)","v":0},0,0,{"$f":"ROUND(D174*ROUND(((1+CALCULADORA!$C$16)^(1/12)-1),6),6)","v":0},0,{"$f":"IF($B175=0,0,G175/POWER(1+CALCULADORA!$C$29,Flujos!$B175/365))","v":0},"2035-12-23",173,{"$f":"+DIAS365($A$2,A175)","v":5263},-1.6927719116210938E-5,0,-9.4253540039062503E-8,-9.4253540039062503E-8]
["2036-01-23",{"$f":"IF(DIAS365(CALCULADORA!$C$27,A176)<0,0,DIAS365(CALCULADORA!$C$27,A176))","v":4129},{"$f":"+HLOOKUP(CALCULADORA!$C$9,Tablas!B:B,Flujos!J176+1,FALSE)","v":0},0,0,{"$f":"ROUND(D175*ROUND(((1+CALCULADORA!$C$16)^(1/12)-1),6),6)","v":0},0,{"$f":"IF($B176=0,0,G176/POWER(1+CALCULADORA!$C$29,Flujos!$B176/365))","v":0},"2036-01-23",174,{"$f":"+DIAS365($A$2,A176)","v":5294},-1.6927719116210938E-5,0,-9.4253540039062503E-8,-9.4253540039062503E-8]
["2036-02-23",{"$f":"IF(DIAS365(CALCULADORA!$C$27,A177)<0,0,DIAS365(CALCULADORA!$C$27,A177))","v":4160},{"$f":"+HLOOKUP(CALCULADORA!$C$9,Tablas!B:B,Flujos!J177+1,FALSE)","v":0},0,0,{"$f":"ROUND(D176*ROUND(((1+CALCULADORA!$C$16)^(1/12)-1),6),6)","v":0},0,{"$f":"IF($B177=0,0,G177/POWER(1+CALCULADORA!$C$29,Flujos!$B177/365))","v":0},"2036-02-23",175,{"$f":"+DIAS365($A$2,A177)","v":5325},-1.6927719116210938E-5,0,-9.4253540039062503E-8,-9.4253540039062503E-8]
["2036-03-23",{"$f":"IF(DIAS365(CALCULADORA!$C$27,A178)<0,0,DIAS365(CALCULADORA!$C$27,A178))","v":4188},{"$f":"+HLOOKUP(CALCULADORA!$C$9,Tablas!B:B,Flujos!J178+1,FALSE)","v":0},0,0,{"$f":"ROUND(D177*ROUND(((1+CALCULADORA!$C$16)^(1/12)-1),6),6)","v":0},0,{"$f":"IF($B178=0,0,G178/POWER(1+CALCULADORA!$C$29,Flujos!$B178/365))","v":0},"2036-03-23",176,{"$f":"+DIAS365($A$2,A178)","v":5353},-1.6927719116210938E-5,0,-9.4253540039062503E-8,-9.4253540039062503E-8]
["2036-04-23",{"$f":"IF(DIAS365(CALCULADORA!$C$27,A179)<0,0,DIAS365(CALCULADORA!$C$27,A179))","v":4219},{"$f":"+HLOOKUP(CALCULADORA!$C$9,Tablas!B:B,Flujos!J179+1,FALSE)","v":0},0,0,{"$f":"ROUND(D178*ROUND(((1+CALCULADORA!$C$16)^(1/12)-1),6),6)","v":0},0,{"$f":"IF($B179=0,0,G179/POWER(1+CALCULADORA!$C$29,Flujos!$B179/365))","v":0},"2036-04-23",177,{"$f":"+DIAS365($A$2,A179)","v":5384},-1.6927719116210938E-5,0,-9.4253540039062503E-8,-9.4253540039062503E-8]
["2036-05-23",{"$f":"IF(DIAS365(CALCULADORA!$C$27,A180)<0,0,DIAS365(CALCULADORA!$C$27,A180))","v":4249},{"$f":"+HLOOKUP(CALCULADORA!$C$9,Tablas!B:B,Flujos!J180+1,FALSE)","v":0},0,0,{"$f":"ROUND(D179*ROUND(((1+CALCULADORA!$C$16)^(1/12)-1),6),6)","v":0},0,{"$f":"IF($B180=0,0,G180/POWER(1+CALCULADORA!$C$29,Flujos!$B180/365))","v":0},"2036-05-23",178,{"$f":"+DIAS365($A$2,A180)","v":5414},-1.6927719116210938E-5,0,-9.4253540039062503E-8,-9.4253540039062503E-8]
["2036-06-23",{"$f":"IF(DIAS365(CALCULADORA!$C$27,A181)<0,0,DIAS365(CALCULADORA!$C$27,A181))","v":4280},{"$f":"+HLOOKUP(CALCULADORA!$C$9,Tablas!B:B,Flujos!J181+1,FALSE)","v":0},0,0,{"$f":"ROUND(D180*ROUND(((1+CALCULADORA!$C$16)^(1/12)-1),6),6)","v":0},0,{"$f":"IF($B181=0,0,G181/POWER(1+CALCULADORA!$C$29,Flujos!$B181/365))","v":0},"2036-06-23",179,{"$f":"+DIAS365($A$2,A181)","v":5445},-1.6927719116210938E-5,0,-9.4253540039062503E-8,-9.4253540039062503E-8]
["2036-07-23",{"$f":"IF(DIAS365(CALCULADORA!$C$27,A182)<0,0,DIAS365(CALCULADORA!$C$27,A182))","v":4310},{"$f":"+HLOOKUP(CALCULADORA!$C$9,Tablas!B:B,Flujos!J182+1,FALSE)","v":0},0,0,{"$f":"ROUND(D181*ROUND(((1+CALCULADORA!$C$16)^(1/12)-1),6),6)","v":0},0,{"$f":"IF($B182=0,0,G182/POWER(1+CALCULADORA!$C$29,Flujos!$B182/365))","v":0},"2036-07-23",180,{"$f":"+DIAS365($A$2,A182)","v":5475},-1.6927719116210938E-5,0,-9.4253540039062503E-8,-9.4253540039062503E-8]
[null,null,{"$f":"+SUMIF(B2:B182,\">0\",C2:C182)","v":0.52343858999999993},null,{"$f":"SUM(E2:E182)","v":99.999999999999943},{"$f":"SUM(F2:F182)","v":25.679285},{"$f":"SUM(G2:G182)","v":125.67928499999996},{"$f":"SUM(H2:H182)","v":47.811097407144501},null,null,null,"Totales",{"$f":"SUM(M2:M182)","v":329854337688.40015},{"$f":"SUM(N2:N182)","v":84704221994.420975},414558559682.82123]

{"sheet":"Características","index":2,"n_rows":39,"n_cols":14,"rows_kept":39,"cut":false,"hidden":true,"merged":[[8,0,8,1],[26,0,26,1]]}
["Serie","TIPS N13 A","TIPS N14 A","TIPS N15 A","TIPS N16 A","TIPS N17 A ","TIPS N18 A 2034","TIPS N19 A 2034","TIPS N20 A 2034","TIPS N21 A","TIPS N22 A","TIPS N23 A","TIPS N24 A1 2029","TIPS N24 A2 2039"]
["Nemo MEC","INST10011226","INST10080327","INST10270627","INST10061227","INST10150328","INST15040434","INST15230534","INST15041034","INST13240634","INST070339A","INST15180739","INST15041029","INST15041039"]
["ISIN"]
["Emisión","2016-12-01","2017-03-08","2017-06-27","2017-12-06","2018-03-15","2021-02-04","2021-07-23","2021-04-04","2021-06-24","2024-03-07","2024-07-18","2024-10-04","2026-01-04"]
["Vencimiento contractual","2026-12-01","2027-03-08","2042-03-08","2027-12-06","2033-03-15","2034-04-04","2034-05-23","2034-10-04","2034-06-24","2039-03-07","2039-07-18","2029-10-04","2039-01-04"]
["Cupón EA",8.3699999999999997E-2,7.7499999999999999E-2,6.9000000000000006E-2,6.3799999999999996E-2,6.5699999999999995E-2,6.83E-2,6.8900000000000003E-2,6.0400000000000002E-2,6.0600000000000001E-2,0.109,0.11650000000000001,0.104,0.10780000000000001]
["Moneda","COP","COP","COP","COP","COP","COP","COP","COP","COP","COP","COP","COP","COP"]
[]
["Cálculo de tasa y precio sucio a partir del limpio"]
["Fecha de liquidación",{"$f":"+CALCULADORA!C27","v":"2024-10-01"}]
["Fecha último pago cupón",{"$f":"+VLOOKUP(B10,Flujos!$A$2:$A$182,1)","v":"2024-09-23"}]
["Valor Par",{"$f":"+VLOOKUP(B11,Flujos!$A$2:$D$182,4)","v":52.343859000000002}]
["Próximo pago de interés",{"$f":"+VLOOKUP(EDATE(B10,1),Flujos!$A$2:$F$182,6)","v":0.29145100000000002}]
["Días corridos",{"$f":"+DAYS360(B11,B10,TRUE)","v":8}]
["Días entre flujos",30]
["Cupón corrido",{"$f":"ROUND(B13/B12*B14/B15*100,4)","v":0.14849999999999999}]
["Precio limpio",{"$f":"+TRUNC(Flujos!H183/VLOOKUP(CALCULADORA!C27,Flujos!A:D,4)*100,3)","v":91.34}]
["Nominal",{"$f":"+CALCULADORA!C28","v":172658489425}]
["Moneda",1]
["Contravalor",{"$f":"ROUND(B18*B19*(B17+B16)/100,0)","v":157962662098}]
["Precio unitario",{"$f":"TRUNC(B20/B18,5)","v":0.91488000000000003}]
["Precio sucio MEC",{"$f":"TRUNC(B21/B19*100,3)","v":91.488}]
["Precio sucio modelo",{"$f":"+B22","v":91.488}]
["Diferencia",{"$f":"+B22-B23","v":0}]
["Tasa de descuento equivalente",{"$f":"TRUNC(CALCULADORA!C29,5)","v":0.109}]
[]
["Cálculo de precio limpio y sucio a partir de tasa"]
["Tasa de descuento",{"$f":"TRUNC(CALCULADORA!C29,5)","v":0.109}]
["Precio sucio modelo",{"$f":"+B23","v":91.488}]
["Moneda",{"$f":"+CALCULADORA!$C$43","v":1}]
["Nominal",{"$f":"+CALCULADORA!C28","v":172658489425}]
["Contravalor",{"$f":"+ROUND(B29/100*B31*B30,0)","v":157961798805}]
["Valor Par",{"$f":"+VLOOKUP(B11,Flujos!$A$2:$D$182,4)","v":52.343859000000002}]
["Próximo pago de interés",{"$f":"+VLOOKUP(EDATE(B10,1),Flujos!$A$2:$F$182,6)","v":0.29145100000000002}]
["Días corridos",{"$f":"+DAYS360(B11,B10,TRUE)","v":8}]
["Días entre flujos",30]
["Precio unitario",{"$f":"TRUNC(B32/(B30*B31),5)","v":0.91486999999999996}]
["Cupón corrido",{"$f":"ROUND(B34/B33*B35/B36,6)*100","v":0.14849999999999999}]
["Precio limpio",{"$f":"ROUND((B37-(B38/100))*100,3)","v":91.338999999999999}]

{"sheet":"TIR de Tenencia","index":3,"n_rows":65536,"n_cols":17,"rows_kept":4500,"cut":true,"hidden":true,"merged":[],"bounds":{"rows_first":2000,"rows_last":500,"rows_between":2000,"halvings":0}}
[{"$f":"+Flujos!A1","v":"Fecha"},{"$f":"+Flujos!L1","v":"Saldo / Balance"},{"$f":"+Flujos!M1","v":"Pago de Capital"},{"$f":"+Flujos!N1","v":"Pago de Intereses"},{"$f":"+Flujos!O1","v":"Pago Total"},{"$f":"+CALCULADORA!C27","v":"2024-10-01"},"Fecha","Flujo ","Fecha","Flujo 1","TIR",{"$f":"+DAY(A2)","v":23},{"$f":"+MONTH(G2)","v":3},{"$f":"+YEAR(G2)","v":2024},null,{"$f":"MATCH(MAX('TIR de Tenencia'!I:I),'TIR de Tenencia'!I:I,0)","v":9}]
[{"$f":"+Flujos!A2","v":"2021-07-23"},{"$f":"+Flujos!L2","v":329854337688.40015},{"$f":"+Flujos!M2","v":0},{"$f":"+Flujos!N2","v":0},{"$f":"+Flujos!O2","v":0},null,{"$f":"+CALCULADORA!C23","v":"2024-03-07"},{"$f":"-CALCULADORA!C24","v":-15000000000},{"$f":"+G2","v":"2024-03-07"},{"$f":"+H2","v":-15000000000},{"$f":"+XIRR(J2:J9,I2:I9)","v":272.56046905517587},{"$f":"+L1","v":23},{"$f":"+IF(M1=12,1,M1+1)","v":4},{"$f":"+IF(M2=1,N1+1,N1)","v":2024},null,1,"Enero"]
[{"$f":"+Flujos!A3","v":"2021-08-23"},{"$f":"+Flujos!L3","v":323761779636.84344},{"$f":"+Flujos!M3","v":6092558051.5567102},{"$f":"+Flujos!N3","v":1836628952.249012},{"$f":"+Flujos!O3","v":7929187003.8057222},null,{"$f":"+DATE(N2,M2,L2)","v":"2024-04-23"},{"$f":"IF(G3<CALCULADORA!$C$23,0,IF(CALCULADORA!$C$27>'TIR de Tenencia'!G3,E3,CALCULADORA!$C$33))","v":7929187003.8057222},{"$f":"+IF(H3=H2,\" \",G3)","v":"2024-04-23"},{"$f":"+IF(H3=H2,\" \",H3)","v":7929187003.8057222},null,{"$f":"+L2","v":23},{"$f":"+IF(M2=12,1,M2+1)","v":5},{"$f":"+IF(M3=1,N2+1,N2)","v":2024},null,2,"Febrero"]
[{"$f":"+Flujos!A4","v":"2021-09-23"},{"$f":"+Flujos!L4","v":315871660580.79352},{"$f":"+Flujos!M4","v":7890119056.0499077},{"$f":"+Flujos!N4","v":1802705589.0179443},{"$f":"+Flujos!O4","v":9692824645.067852},null,{"$f":"+DATE(N3,M3,L3)","v":"2024-05-23"},{"$f":"IF(G4<CALCULADORA!$C$23,0,IF(CALCULADORA!$C$27>'TIR de Tenencia'!G4,E4,CALCULADORA!$C$33))","v":9692824645.067852},{"$f":"+IF(H4=H3,\" \",G4)","v":"2024-05-23"},{"$f":"+IF(H4=H3,\" \",H4)","v":9692824645.067852},null,23,6,2024,null,3,"Marzo"]
[{"$f":"+Flujos!A5","v":"2021-10-23"},{"$f":"+Flujos!L5","v":308890778409.49493},{"$f":"+Flujos!M5","v":6980882171.2985868},{"$f":"+Flujos!N5","v":1758773406.1138582},{"$f":"+Flujos!O5","v":8739655577.4124451},null,"2024-06-23",{"$f":"IF(G5<CALCULADORA!$C$23,0,IF(CALCULADORA!$C$27>'TIR de Tenencia'!G5,E5,CALCULADORA!$C$33))","v":8739655577.4124451},{"$f":"+IF(H5=H4,\" \",G5)","v":"2024-06-23"},{"$f":"+IF(H5=H4,\" \",H5)","v":8739655577.4124451},null,23,7,2024,null,4,"Abril"]
[{"$f":"+Flujos!A6","v":"2021-11-23"},{"$f":"+Flujos!L6","v":302807710267.23352},{"$f":"+Flujos!M6","v":6083068142.2614145},{"$f":"+Flujos!N6","v":1719903854.1840677},{"$f":"+Flujos!O6","v":7802971996.4454823},null,"2024-07-23",{"$f":"IF(G6<CALCULADORA!$C$23,0,IF(CALCULADORA!$C$27>'TIR de Tenencia'!G6,E6,CALCULADORA!$C$33))","v":7802971996.4454823},"2024-07-23",7802971996.4454823,null,23,8,2024,null,5,"Mayo"]
[{"$f":"+Flujos!A7","v":"2021-12-23"},{"$f":"+Flujos!L7","v":296202001121.07837},{"$f":"+Flujos!M7","v":6605709146.1551781},{"$f":"+Flujos!N7","v":1686033330.7679563},{"$f":"+Flujos!O7","v":8291742476.9231339},null,"2024-08-23",{"$f":"IF(G7<CALCULADORA!$C$23,0,IF(CALCULADORA!$C$27>'TIR de Tenencia'!G7,E7,CALCULADORA!$C$33))","v":8291742476.9231339},"2024-08-23",8291742476.9231339,null,23,9,2024,null,6,"Junio"]
[{"$f":"+Flujos!A8","v":"2022-01-23"},{"$f":"+Flujos!L8","v":289865842342.5954},{"$f":"+Flujos!M8","v":6336158778.4829712},{"$f":"+Flujos!N8","v":1649252742.2421644},{"$f":"+Flujos!O8","v":7985411520.7251358},null,"2024-09-23",{"$f":"IF(G8<CALCULADORA!$C$23,0,IF(CALCULADORA!$C$27>'TIR de Tenencia'!G8,E8,CALCULADORA!$C$33))","v":7985411520.7251358},"2024-09-23",7985411520.7251358,null,23,10,2024,null,7,"Julio"]
[{"$f":"+Flujos!A9","v":"2022-02-23"},{"$f":"+Flujos!L9","v":284693462444.17114},{"$f":"+Flujos!M9","v":5172379898.4242659},{"$f":"+Flujos!N9","v":1613973010.1635711},{"$f":"+Flujos!O9","v":6786352908.5878372},null,"2024-10-23",{"$f":"IF(G9<CALCULADORA!$C$23,0,IF(CALCULADORA!$C$27>'TIR de Tenencia'!G9,E9,CALCULADORA!$C$33))","v":157961798805},"2024-10-23",157961798805,null,23,11,2024,null,8,"Agosto"]
[{"$f":"+Flujos!A10","v":"2022-03-23"},{"$f":"+Flujos!L10","v":277994107651.5462},{"$f":"+Flujos!M10","v":6699354792.6249151},{"$f":"+Flujos!N10","v":1585173198.8891449},{"$f":"+Flujos!O10","v":8284527991.51406},null,"2024-11-23",{"$f":"IF(G10<CALCULADORA!$C$23,0,IF(CALCULADORA!$C$27>'TIR de Tenencia'!G10,E10,CALCULADORA!$C$33))","v":157961798805}," "," ",null,23,12,2024,null,9,"Septiembre"]
[{"$f":"+Flujos!A11","v":"2022-04-23"},{"$f":"+Flujos!L11","v":272539576949.75003},{"$f":"+Flujos!M11","v":5454530701.7961693},{"$f":"+Flujos!N11","v":1547871191.4038093},{"$f":"+Flujos!O11","v":7002401893.1999788},null,"2024-12-23",{"$f":"IF(G11<CALCULADORA!$C$23,0,IF(CALCULADORA!$C$27>'TIR de Tenencia'!G11,E11,CALCULADORA!$C$33))","v":157961798805}," "," ",null,23,{"$f":"+IF(M10=12,1,M10+1)","v":1},2025,null,10,"Octubre"]
[{"$f":"+Flujos!A12","v":"2022-05-23"},{"$f":"+Flujos!L12","v":269016056421.84564},{"$f":"+Flujos!M12","v":3523520527.9043751},{"$f":"+Flujos!N12","v":1517500364.4562082},{"$f":"+Flujos!O12","v":5041020892.3605833},null,"2025-01-23",{"$f":"IF(G12<CALCULADORA!$C$23,0,IF(CALCULADORA!$C$27>'TIR de Tenencia'!G12,E12,CALCULADORA!$C$33))","v":157961798805}," "," ",null,23,2,2025,null,11,"Noviembre"]
[{"$f":"+Flujos!A13","v":"2022-06-23"},{"$f":"+Flujos!L13","v":263568248151.45157},{"$f":"+Flujos!M13","v":5447808270.3940792},{"$f":"+Flujos!N13","v":1497881402.1568365},{"$f":"+Flujos!O13","v":6945689672.5509157},null,"2025-02-23",{"$f":"IF(G13<CALCULADORA!$C$23,0,IF(CALCULADORA!$C$27>'TIR de Tenencia'!G13,E13,CALCULADORA!$C$33))","v":157961798805}," "," ",null,23,3,2025,null,12,"Diciembre"]
[{"$f":"+Flujos!A14","v":"2022-07-23"},{"$f":"+Flujos!L14","v":258852525195.20987},{"$f":"+Flujos!M14","v":4715722956.2416897},{"$f":"+Flujos!N14","v":1467548005.7072823},{"$f":"+Flujos!O14","v":6183270961.9489717},null,"2025-03-23",{"$f":"IF(G14<CALCULADORA!$C$23,0,IF(CALCULADORA!$C$27>'TIR de Tenencia'!G14,E14,CALCULADORA!$C$33))","v":157961798805}," "," ",null,23,4,2025]
[{"$f":"+Flujos!A15","v":"2022-08-23"},{"$f":"+Flujos!L15","v":255806686524.97232},{"$f":"+Flujos!M15","v":3045838670.2375412},{"$f":"+Flujos!N15","v":1441290860.2869287},{"$f":"+Flujos!O15","v":4487129530.5244694},null,"2025-04-23",{"$f":"IF(G15<CALCULADORA!$C$23,0,IF(CALCULADORA!$C$27>'TIR de Tenencia'!G15,E15,CALCULADORA!$C$33))","v":157961798805}," "," ",null,23,{"$f":"+IF(M14=12,1,M14+1)","v":5},2025]
[{"$f":"+Flujos!A16","v":"2022-09-23"},{"$f":"+Flujos!L16","v":250859963277.50406},{"$f":"+Flujos!M16","v":4946723247.4682531},{"$f":"+Flujos!N16","v":1424331630.5710459},{"$f":"+Flujos!O16","v":6371054878.039299},null,"2025-05-23",{"$f":"IF(G16<CALCULADORA!$C$23,0,IF(CALCULADORA!$C$27>'TIR de Tenencia'!G16,E16,CALCULADORA!$C$33))","v":157961798805}," "," ",null,23,6,2025]
[{"$f":"+Flujos!A17","v":"2022-10-23"},{"$f":"+Flujos!L17","v":246382312689.48898},{"$f":"+Flujos!M17","v":4477650588.0150871},{"$f":"+Flujos!N17","v":1396788275.5291426},{"$f":"+Flujos!O17","v":5874438863.5442295},null,"2025-06-23",{"$f":"IF(G17<CALCULADORA!$C$23,0,IF(CALCULADORA!$C$27>'TIR de Tenencia'!G17,E17,CALCULADORA!$C$33))","v":157961798805},{"$f":"+IF(H17=H16,\" \",G17)","v":" "}," ",null,23,7,2025]
[{"$f":"+Flujos!A18","v":"2022-11-23"},{"$f":"+Flujos!L18","v":241488880708.81766},{"$f":"+Flujos!M18","v":4893431980.6713161},{"$f":"+Flujos!N18","v":1371856717.0550747},{"$f":"+Flujos!O18","v":6265288697.7263908},null,"2025-07-23",{"$f":"IF(G18<CALCULADORA!$C$23,0,IF(CALCULADORA!$C$27>'TIR de Tenencia'!G18,E18,CALCULADORA!$C$33))","v":157961798805}," "," ",null,23,8,2025]
[{"$f":"+Flujos!A19","v":"2022-12-23"},{"$f":"+Flujos!L19","v":238825554322.73709},{"$f":"+Flujos!M19","v":2663326386.080565},{"$f":"+Flujos!N19","v":1344610087.7866967},{"$f":"+Flujos!O19","v":4007936473.8672619},null,"2025-08-23",{"$f":"IF(G19<CALCULADORA!$C$23,0,IF(CALCULADORA!$C$27>'TIR de Tenencia'!G19,E19,CALCULADORA!$C$33))","v":157961798805}," "," ",null,23,9,2025]
[{"$f":"+Flujos!A20","v":"2023-01-23"},{"$f":"+Flujos!L20","v":234334970146.14124},{"$f":"+Flujos!M20","v":4490584176.59585},{"$f":"+Flujos!N20","v":1329780686.4690001},{"$f":"+Flujos!O20","v":5820364863.0648499},null,"2025-09-23",{"$f":"IF(G20<CALCULADORA!$C$23,0,IF(CALCULADORA!$C$27>'TIR de Tenencia'!G20,E20,CALCULADORA!$C$33))","v":157961798805}," "," ",null,23,{"$f":"+IF(M19=12,1,M19+1)","v":10},2025]
[{"$f":"+Flujos!A21","v":"2023-02-23"},{"$f":"+Flujos!L21","v":230971712646.74615},{"$f":"+Flujos!M21","v":3363257499.3950891},{"$f":"+Flujos!N21","v":1304777113.7737143},{"$f":"+Flujos!O21","v":4668034613.1688032},null,"2025-10-23",{"$f":"IF(G21<CALCULADORA!$C$23,0,IF(CALCULADORA!$C$27>'TIR de Tenencia'!G21,E21,CALCULADORA!$C$33))","v":157961798805}," "," ",null,23,11,2025]
[{"$f":"+Flujos!A22","v":"2023-03-23"},{"$f":"+Flujos!L22","v":227566214000.8667},{"$f":"+Flujos!M22","v":3405498645.8794651},{"$f":"+Flujos!N22","v":1286050496.0170827},{"$f":"+Flujos!O22","v":4691549141.8965473},null,"2025-11-23",{"$f":"IF(G22<CALCULADORA!$C$23,0,IF(CALCULADORA!$C$27>'TIR de Tenencia'!G22,E22,CALCULADORA!$C$33))","v":157961798805}," "," ",null,23,12,2025]
[{"$f":"+Flujos!A23","v":"2023-04-23"},{"$f":"+Flujos!L23","v":223469535277.25159},{"$f":"+Flujos!M23","v":4096678723.6151161},{"$f":"+Flujos!N23","v":1267088679.5568259},{"$f":"+Flujos!O23","v":5363767403.1719418},null,"2025-12-23",{"$f":"IF(G23<CALCULADORA!$C$23,0,IF(CALCULADORA!$C$27>'TIR de Tenencia'!G23,E23,CALCULADORA!$C$33))","v":157961798805}," "," ",null,23,1,2026]
[{"$f":"+Flujos!A24","v":"2023-05-23"},{"$f":"+Flujos!L24","v":220586255421.71365},{"$f":"+Flujos!M24","v":2883279855.5379438},{"$f":"+Flujos!N24","v":1244278372.4237368},{"$f":"+Flujos!O24","v":4127558227.9616804},null,"2026-01-23",{"$f":"IF(G24<CALCULADORA!$C$23,0,IF(CALCULADORA!$C$27>'TIR de Tenencia'!G24,E24,CALCULADORA!$C$33))","v":157961798805}," "," ",null,23,2,2026]
[{"$f":"+Flujos!A25","v":"2023-06-23"},{"$f":"+Flujos!L25","v":217833320806.25665},{"$f":"+Flujos!M25","v":2752934615.4569955},{"$f":"+Flujos!N25","v":1228224270.1881015},{"$f":"+Flujos!O25","v":3981158885.6450968},null,"2026-02-23",{"$f":"IF(G25<CALCULADORA!$C$23,0,IF(CALCULADORA!$C$27>'TIR de Tenencia'!G25,E25,CALCULADORA!$C$33))","v":157961798805}," "," ",null,23,3,2026]
[{"$f":"+Flujos!A26","v":"2023-07-23"},{"$f":"+Flujos!L26","v":214381193951.20157},{"$f":"+Flujos!M26","v":3452126855.0550976},{"$f":"+Flujos!N26","v":1212895930.2492371},{"$f":"+Flujos!O26","v":4665022785.3043346},null,"2026-03-23",{"$f":"IF(G26<CALCULADORA!$C$23,0,IF(CALCULADORA!$C$27>'TIR de Tenencia'!G26,E26,CALCULADORA!$C$33))","v":157961798805}," ",{"$f":"+IF(H26=H25,\" \",H26)","v":" "},null,23,4,2026]
[{"$f":"+Flujos!A27","v":"2023-08-23"},{"$f":"+Flujos!L27","v":212332122312.76434},{"$f":"+Flujos!M27","v":2049071638.4372263},{"$f":"+Flujos!N27","v":1193674487.9202902},{"$f":"+Flujos!O27","v":3242746126.3575163},null,"2026-04-23",{"$f":"IF(G27<CALCULADORA!$C$23,0,IF(CALCULADORA!$C$27>'TIR de Tenencia'!G27,E27,CALCULADORA!$C$33))","v":157961798805}," "," ",null,23,5,2026]
[{"$f":"+Flujos!A28","v":"2023-09-23"},{"$f":"+Flujos!L28","v":209774784722.46982},{"$f":"+Flujos!M28","v":2557337590.294528},{"$f":"+Flujos!N28","v":1182265257.0374718},{"$f":"+Flujos!O28","v":3739602847.3319998},null,"2026-05-23",{"$f":"IF(G28<CALCULADORA!$C$23,0,IF(CALCULADORA!$C$27>'TIR de Tenencia'!G28,E28,CALCULADORA!$C$33))","v":157961798805}," "," ",null,23,6,2026]
[{"$f":"+Flujos!A29","v":"2023-10-23"},{"$f":"+Flujos!L29","v":207408343733.0257},{"$f":"+Flujos!M29","v":2366440989.4441204},{"$f":"+Flujos!N29","v":1168026001.334712},{"$f":"+Flujos!O29","v":3534466990.7788324},null,"2026-06-23",{"$f":"IF(G29<CALCULADORA!$C$23,0,IF(CALCULADORA!$C$27>'TIR de Tenencia'!G29,E29,CALCULADORA!$C$33))","v":157961798805}," "," ",null,23,7,2026]
[{"$f":"+Flujos!A30","v":"2023-11-23"},{"$f":"+Flujos!L30","v":205059708280.72998},{"$f":"+Flujos!M30","v":2348635452.2957006},{"$f":"+Flujos!N30","v":1154849657.9054871},{"$f":"+Flujos!O30","v":3503485110.2011876},null,"2026-07-23",{"$f":"IF(G30<CALCULADORA!$C$23,0,IF(CALCULADORA!$C$27>'TIR de Tenencia'!G30,E30,CALCULADORA!$C$33))","v":157961798805}," "," ",null,23,8,2026]
[{"$f":"+Flujos!A31","v":"2023-12-23"},{"$f":"+Flujos!L31","v":201804385717.71329},{"$f":"+Flujos!M31","v":3255322563.0166903},{"$f":"+Flujos!N31","v":1141772455.7071044},{"$f":"+Flujos!O31","v":4397095018.7237949},null,"2026-08-23",{"$f":"IF(G31<CALCULADORA!$C$23,0,IF(CALCULADORA!$C$27>'TIR de Tenencia'!G31,E31,CALCULADORA!$C$33))","v":157961798805}," "," ",null,23,9,2026]
[{"$f":"+Flujos!A32","v":"2024-01-23"},{"$f":"+Flujos!L32","v":199019211139.29062},{"$f":"+Flujos!M32","v":2785174578.4226599},{"$f":"+Flujos!N32","v":1123646819.6762276},{"$f":"+Flujos!O32","v":3908821398.0988874},null,"2026-09-23",{"$f":"IF(G32<CALCULADORA!$C$23,0,IF(CALCULADORA!$C$27>'TIR de Tenencia'!G32,E32,CALCULADORA!$C$33))","v":157961798805}," "," ",null,23,10,2026]
[{"$f":"+Flujos!A33","v":"2024-02-23"},{"$f":"+Flujos!L33","v":194778419055.53943},{"$f":"+Flujos!M33","v":4240792083.7511778},{"$f":"+Flujos!N33","v":1108138967.6235702},{"$f":"+Flujos!O33","v":5348931051.3747482},null,"2026-10-23",{"$f":"IF(G33<CALCULADORA!$C$23,0,IF(CALCULADORA!$C$27>'TIR de Tenencia'!G33,E33,CALCULADORA!$C$33))","v":157961798805}," "," ",null,23,11,2026]
[{"$f":"+Flujos!A34","v":"2024-03-23"},{"$f":"+Flujos!L34","v":191715216852.96597},{"$f":"+Flujos!M34","v":3063202202.5734582},{"$f":"+Flujos!N34","v":1084526237.3012435},{"$f":"+Flujos!O34","v":4147728439.8747015},null,"2026-11-23",{"$f":"IF(G34<CALCULADORA!$C$23,0,IF(CALCULADORA!$C$27>'TIR de Tenencia'!G34,E34,CALCULADORA!$C$33))","v":157961798805}," "," ",null,23,12,2026]
[{"$f":"+Flujos!A35","v":"2024-04-23"},{"$f":"+Flujos!L35","v":187368501944.2963},{"$f":"+Flujos!M35","v":4346714908.6696768},{"$f":"+Flujos!N35","v":1067470327.4373145},{"$f":"+Flujos!O35","v":5414185236.1069908},null,{"$f":"+DATE(N34,M34,L34)","v":"2026-12-23"},{"$f":"IF(G35<CALCULADORA!$C$23,0,IF(CALCULADORA!$C$27>'TIR de Tenencia'!G35,E35,CALCULADORA!$C$33))","v":157961798805}," "," ",null,23,1,2027]
[{"$f":"+Flujos!A36","v":"2024-05-23"},{"$f":"+Flujos!L36","v":184502760443.89325},{"$f":"+Flujos!M36","v":2865741500.4030519},{"$f":"+Flujos!N36","v":1043267818.8258418},{"$f":"+Flujos!O36","v":3909009319.2288938},null,"2027-01-23",{"$f":"IF(G36<CALCULADORA!$C$23,0,IF(CALCULADORA!$C$27>'TIR de Tenencia'!G36,E36,CALCULADORA!$C$33))","v":157961798805},{"$f":"+IF(IF(H36=H35,\" \",G36)=CALCULADORA!C27,'TIR de Tenencia'!G36,CALCULADORA!C27)","v":"2024-10-01"}," ",null,23,2,2027]
[{"$f":"+Flujos!A37","v":"2024-06-23"},{"$f":"+Flujos!L37","v":182293495046.35767},{"$f":"+Flujos!M37","v":2209265397.5355978},{"$f":"+Flujos!N37","v":1027311370.1515976},{"$f":"+Flujos!O37","v":3236576767.6871953},null,"2027-02-23",{"$f":"IF(G37<CALCULADORA!$C$23,0,IF(CALCULADORA!$C$27>'TIR de Tenencia'!G37,E37,CALCULADORA!$C$33))","v":157961798805}," "," ",null,23,3,2027]
[{"$f":"+Flujos!A38","v":"2024-07-23"},{"$f":"+Flujos!L38","v":178951589018.24115},{"$f":"+Flujos!M38","v":3341906028.1165185},{"$f":"+Flujos!N38","v":1015010180.4181195},{"$f":"+Flujos!O38","v":4356916208.5346384},null,"2027-03-23",{"$f":"IF(G38<CALCULADORA!$C$23,0,IF(CALCULADORA!$C$27>'TIR de Tenencia'!G38,E38,CALCULADORA!$C$33))","v":157961798805}," "," ",null,23,4,2027]
[{"$f":"+Flujos!A39","v":"2024-08-23"},{"$f":"+Flujos!L39","v":175832318175.34741},{"$f":"+Flujos!M39","v":3119270842.8937325},{"$f":"+Flujos!N39","v":996402447.65356672},{"$f":"+Flujos!O39","v":4115673290.5472994},null,"2027-04-23",{"$f":"IF(G39<CALCULADORA!$C$23,0,IF(CALCULADORA!$C$27>'TIR de Tenencia'!G39,E39,CALCULADORA!$C$33))","v":157961798805}," "," ",null,23,5,2027]
[{"$f":"+Flujos!A40","v":"2024-09-23"},{"$f":"+Flujos!L40","v":172658489425.00003},{"$f":"+Flujos!M40","v":3173828750.347394},{"$f":"+Flujos!N40","v":979034347.60033441},{"$f":"+Flujos!O40","v":4152863097.9477282},null,"2027-05-23",{"$f":"IF(G40<CALCULADORA!$C$23,0,IF(CALCULADORA!$C$27>'TIR de Tenencia'!G40,E40,CALCULADORA!$C$33))","v":157961798805}," "," ",null,23,6,2027]
[{"$f":"+Flujos!A41","v":"2024-10-23"},{"$f":"+Flujos!L41","v":169507183128.82999},{"$f":"+Flujos!M41","v":3151306296.1700306},{"$f":"+Flujos!N41","v":961362469.11840022},{"$f":"+Flujos!O41","v":4112668765.2884307},null,"2027-06-23",{"$f":"IF(G41<CALCULADORA!$C$23,0,IF(CALCULADORA!$C$27>'TIR de Tenencia'!G41,E41,CALCULADORA!$C$33))","v":157961798805}," "," ",null,23,7,2027]
[{"$f":"+Flujos!A42","v":"2024-11-23"},{"$f":"+Flujos!L42","v":166715949126.224},{"$f":"+Flujos!M42","v":2791234002.6059961},{"$f":"+Flujos!N42","v":943815995.66132534},{"$f":"+Flujos!O42","v":3735049998.2673216},null,"2027-07-23",{"$f":"IF(G42<CALCULADORA!$C$23,0,IF(CALCULADORA!$C$27>'TIR de Tenencia'!G42,E42,CALCULADORA!$C$33))","v":157961798805}," "," ",null,23,8,2027]
[{"$f":"+Flujos!A43","v":"2024-12-23"},{"$f":"+Flujos!L43","v":163959715967.39011},{"$f":"+Flujos!M43","v":2756233158.8338795},{"$f":"+Flujos!N43","v":928274404.73481524},{"$f":"+Flujos!O43","v":3684507563.5686946},null,"2027-08-23",{"$f":"IF(G43<CALCULADORA!$C$23,0,IF(CALCULADORA!$C$27>'TIR de Tenencia'!G43,E43,CALCULADORA!$C$33))","v":157961798805}," "," ",null,23,9,2027]
[{"$f":"+Flujos!A44","v":"2025-01-23"},{"$f":"+Flujos!L44","v":161235234587.10211},{"$f":"+Flujos!M44","v":2724481380.2879944},{"$f":"+Flujos!N44","v":912927698.50642812},{"$f":"+Flujos!O44","v":3637409078.7944226},null,"2027-09-23",{"$f":"IF(G44<CALCULADORA!$C$23,0,IF(CALCULADORA!$C$27>'TIR de Tenencia'!G44,E44,CALCULADORA!$C$33))","v":157961798805}," "," ",null,23,10,2027]
[{"$f":"+Flujos!A45","v":"2025-02-23"},{"$f":"+Flujos!L45","v":158540275170.03723},{"$f":"+Flujos!M45","v":2694959417.0648823},{"$f":"+Flujos!N45","v":897757786.18098462},{"$f":"+Flujos!O45","v":3592717203.2458668},null,"2027-10-23",{"$f":"IF(G45<CALCULADORA!$C$23,0,IF(CALCULADORA!$C$27>'TIR de Tenencia'!G45,E45,CALCULADORA!$C$33))","v":157961798805}," "," ",null,23,11,2027]
[{"$f":"+Flujos!A46","v":"2025-03-23"},{"$f":"+Flujos!L46","v":155876315463.6283},{"$f":"+Flujos!M46","v":2663959706.408927},{"$f":"+Flujos!N46","v":882752252.14676726},{"$f":"+Flujos!O46","v":3546711958.5556941},null,"2027-11-23",{"$f":"IF(G46<CALCULADORA!$C$23,0,IF(CALCULADORA!$C$27>'TIR de Tenencia'!G46,E46,CALCULADORA!$C$33))","v":157961798805}," "," ",null,23,12,2027]
[{"$f":"+Flujos!A47","v":"2025-04-23"},{"$f":"+Flujos!L47","v":153245436848.74612},{"$f":"+Flujos!M47","v":2630878614.8821568},{"$f":"+Flujos!N47","v":867919324.50148237},{"$f":"+Flujos!O47","v":3498797939.3836393},null,"2027-12-23",{"$f":"IF(G47<CALCULADORA!$C$23,0,IF(CALCULADORA!$C$27>'TIR de Tenencia'!G47,E47,CALCULADORA!$C$33))","v":157961798805}," "," ",null,23,1,2028]
[{"$f":"+Flujos!A48","v":"2025-05-23"},{"$f":"+Flujos!L48","v":150647573354.52319},{"$f":"+Flujos!M48","v":2597863494.2229252},{"$f":"+Flujos!N48","v":853270592.3738184},{"$f":"+Flujos!O48","v":3451134086.5967436},null,"2028-01-23",{"$f":"IF(G48<CALCULADORA!$C$23,0,IF(CALCULADORA!$C$27>'TIR de Tenencia'!G48,E48,CALCULADORA!$C$33))","v":157961798805}," "," ",null,23,2,2028]
[{"$f":"+Flujos!A49","v":"2025-06-23"},{"$f":"+Flujos!L49","v":148078941551.70621},{"$f":"+Flujos!M49","v":2568631802.8169789},{"$f":"+Flujos!N49","v":838805688.43798518},{"$f":"+Flujos!O49","v":3407437491.2549639},null,"2028-02-23",{"$f":"IF(G49<CALCULADORA!$C$23,0,IF(CALCULADORA!$C$27>'TIR de Tenencia'!G49,E49,CALCULADORA!$C$33))","v":157961798805}," "," ",null,23,3,2028]
[{"$f":"+Flujos!A50","v":"2025-07-23"},{"$f":"+Flujos!L50","v":145540082401.409},{"$f":"+Flujos!M50","v":2538859150.297224},{"$f":"+Flujos!N50","v":824503546.55990016},{"$f":"+Flujos!O50","v":3363362696.8571243},null,"2028-03-23",{"$f":"IF(G50<CALCULADORA!$C$23,0,IF(CALCULADORA!$C$27>'TIR de Tenencia'!G50,E50,CALCULADORA!$C$33))","v":157961798805}," "," ",null,23,4,2028]
[{"$f":"+Flujos!A51","v":"2025-08-23"},{"$f":"+Flujos!L51","v":143033608349.98602},{"$f":"+Flujos!M51","v":2506474051.422977},{"$f":"+Flujos!N51","v":810367178.81104529},{"$f":"+Flujos!O51","v":3316841230.2340221},null,"2028-04-23",{"$f":"IF(G51<CALCULADORA!$C$23,0,IF(CALCULADORA!$C$27>'TIR de Tenencia'!G51,E51,CALCULADORA!$C$33))","v":157961798805}," "," ",null,23,5,2028]
[{"$f":"+Flujos!A52","v":"2025-09-23"},{"$f":"+Flujos!L52","v":140557945992.24652},{"$f":"+Flujos!M52","v":2475662357.7395034},{"$f":"+Flujos!N52","v":796411131.29272223},{"$f":"+Flujos!O52","v":3272073489.0322256},null,"2028-05-23",{"$f":"IF(G52<CALCULADORA!$C$23,0,IF(CALCULADORA!$C$27>'TIR de Tenencia'!G52,E52,CALCULADORA!$C$33))","v":157961798805}," "," ",null,23,6,2028]
[{"$f":"+Flujos!A53","v":"2025-10-23"},{"$f":"+Flujos!L53","v":138112983177.71567},{"$f":"+Flujos!M53","v":2444962814.5308437},{"$f":"+Flujos!N53","v":782626643.28482866},{"$f":"+Flujos!O53","v":3227589457.8156724},null,"2028-06-23",{"$f":"IF(G53<CALCULADORA!$C$23,0,IF(CALCULADORA!$C$27>'TIR de Tenencia'!G53,E53,CALCULADORA!$C$33))","v":157961798805}," "," ",null,23,7,2028]
[{"$f":"+Flujos!A54","v":"2025-11-23"},{"$f":"+Flujos!L54","v":135697994226.85057},{"$f":"+Flujos!M54","v":2414988950.865099},{"$f":"+Flujos!N54","v":769013090.33352089},{"$f":"+Flujos!O54","v":3184002041.1986198},null,"2028-07-23",{"$f":"IF(G54<CALCULADORA!$C$23,0,IF(CALCULADORA!$C$27>'TIR de Tenencia'!G54,E54,CALCULADORA!$C$33))","v":157961798805}," "," ",null,23,8,2028]
[{"$f":"+Flujos!A55","v":"2025-12-23"},{"$f":"+Flujos!L55","v":133313312292.53229},{"$f":"+Flujos!M55","v":2384681934.3182888},{"$f":"+Flujos!N55","v":755566431.85510397},{"$f":"+Flujos!O55","v":3140248366.1733928},null,"2028-08-23",{"$f":"IF(G55<CALCULADORA!$C$23,0,IF(CALCULADORA!$C$27>'TIR de Tenencia'!G55,E55,CALCULADORA!$C$33))","v":157961798805}," "," ",null,23,9,2028]
[{"$f":"+Flujos!A56","v":"2026-01-23"},{"$f":"+Flujos!L56","v":130768047370.99716},{"$f":"+Flujos!M56","v":2545264921.5351329},{"$f":"+Flujos!N56","v":742288522.84481978},{"$f":"+Flujos!O56","v":3287553444.3799524},null,"2028-09-23",{"$f":"IF(G56<CALCULADORA!$C$23,0,IF(CALCULADORA!$C$27>'TIR de Tenencia'!G56,E56,CALCULADORA!$C$33))","v":157961798805}," "," ",null,23,10,2028]
[{"$f":"+Flujos!A57","v":"2026-02-23"},{"$f":"+Flujos!L57","v":127706207466.83836},{"$f":"+Flujos!M57","v":3061839904.1588054},{"$f":"+Flujos!N57","v":728116487.76171219},{"$f":"+Flujos!O57","v":3789956391.9205174},null,"2028-10-23",{"$f":"IF(G57<CALCULADORA!$C$23,0,IF(CALCULADORA!$C$27>'TIR de Tenencia'!G57,E57,CALCULADORA!$C$33))","v":157961798805}," "," ",null,23,11,2028]
[{"$f":"+Flujos!A58","v":"2026-03-23"},{"$f":"+Flujos!L58","v":124674536040.40454},{"$f":"+Flujos!M58","v":3031671426.4338245},{"$f":"+Flujos!N58","v":711068163.17535603},{"$f":"+Flujos!O58","v":3742739589.6091805},null,"2028-11-23",{"$f":"IF(G58<CALCULADORA!$C$23,0,IF(CALCULADORA!$C$27>'TIR de Tenencia'!G58,E58,CALCULADORA!$C$33))","v":157961798805}," "," ",null,23,12,2028]
[{"$f":"+Flujos!A59","v":"2026-04-23"},{"$f":"+Flujos!L59","v":121674814305.11922},{"$f":"+Flujos!M59","v":2999721735.2853255},{"$f":"+Flujos!N59","v":694187816.67297244},{"$f":"+Flujos!O59","v":3693909551.9582977},null,"2028-12-23",{"$f":"IF(G59<CALCULADORA!$C$23,0,IF(CALCULADORA!$C$27>'TIR de Tenencia'!G59,E59,CALCULADORA!$C$33))","v":157961798805}," "," ",null,23,1,2029]
[{"$f":"+Flujos!A60","v":"2026-05-23"},{"$f":"+Flujos!L60","v":118860988578.92494},{"$f":"+Flujos!M60","v":2813825726.1942744},{"$f":"+Flujos!N60","v":677485366.0509038},{"$f":"+Flujos!O60","v":3491311092.2451782},null,"2029-01-23",{"$f":"IF(G60<CALCULADORA!$C$23,0,IF(CALCULADORA!$C$27>'TIR de Tenencia'!G60,E60,CALCULADORA!$C$33))","v":157961798805}," "," ",null,23,2,2029]
[{"$f":"+Flujos!A61","v":"2026-06-23"},{"$f":"+Flujos!L61","v":115929962308.00661},{"$f":"+Flujos!M61","v":2931026270.9183397},{"$f":"+Flujos!N61","v":661817984.40745413},{"$f":"+Flujos!O61","v":3592844255.3257937},null,"2029-02-23",{"$f":"IF(G61<CALCULADORA!$C$23,0,IF(CALCULADORA!$C$27>'TIR de Tenencia'!G61,E61,CALCULADORA!$C$33))","v":157961798805}," "," ",null,23,3,2029]
[{"$f":"+Flujos!A62","v":"2026-07-23"},{"$f":"+Flujos!L62","v":113032851660.08939},{"$f":"+Flujos!M62","v":2897110647.9172182},{"$f":"+Flujos!N62","v":645498030.13098085},{"$f":"+Flujos!O62","v":3542608678.0481992},null,"2029-03-23",{"$f":"IF(G62<CALCULADORA!$C$23,0,IF(CALCULADORA!$C$27>'TIR de Tenencia'!G62,E62,CALCULADORA!$C$33))","v":157961798805}," "," ",null,23,4,2029]
[{"$f":"+Flujos!A63","v":"2026-08-23"},{"$f":"+Flujos!L63","v":110178879362.45506},{"$f":"+Flujos!M63","v":2853972297.6343298},{"$f":"+Flujos!N63","v":629366918.04337776},{"$f":"+Flujos!O63","v":3483339215.6777077},null,"2029-04-23",{"$f":"IF(G63<CALCULADORA!$C$23,0,IF(CALCULADORA!$C$27>'TIR de Tenencia'!G63,E63,CALCULADORA!$C$33))","v":157961798805}," "," ",null,23,5,2029]
[{"$f":"+Flujos!A64","v":"2026-09-23"},{"$f":"+Flujos!L64","v":107363912340.25238},{"$f":"+Flujos!M64","v":2814967022.2026763},{"$f":"+Flujos!N64","v":613476000.29014981},{"$f":"+Flujos!O64","v":3428443022.492826},null,"2029-05-23",{"$f":"IF(G64<CALCULADORA!$C$23,0,IF(CALCULADORA!$C$27>'TIR de Tenencia'!G64,E64,CALCULADORA!$C$33))","v":157961798805}," "," ",null,23,6,2029]
[{"$f":"+Flujos!A65","v":"2026-10-23"},{"$f":"+Flujos!L65","v":104581340312.55408},{"$f":"+Flujos!M65","v":2782572027.6982985},{"$f":"+Flujos!N65","v":597802263.9105252},{"$f":"+Flujos!O65","v":3380374291.6088238},null,"2029-06-23",{"$f":"IF(G65<CALCULADORA!$C$23,0,IF(CALCULADORA!$C$27>'TIR de Tenencia'!G65,E65,CALCULADORA!$C$33))","v":157961798805}," "," ",null,23,7,2029]
[{"$f":"+Flujos!A66","v":"2026-11-23"},{"$f":"+Flujos!L66","v":101832650922.42313},{"$f":"+Flujos!M66","v":2748689390.1309462},{"$f":"+Flujos!N66","v":582308902.86030114},{"$f":"+Flujos!O66","v":3330998292.9912472},null,"2029-07-23",{"$f":"IF(G66<CALCULADORA!$C$23,0,IF(CALCULADORA!$C$27>'TIR de Tenencia'!G66,E66,CALCULADORA!$C$33))","v":157961798805}," "," ",null,23,8,{"$f":"+IF(M66=1,N65+1,N65)","v":2029}]
[{"$f":"+Flujos!A67","v":"2026-12-23"},{"$f":"+Flujos!L67","v":99127997086.373581},{"$f":"+Flujos!M67","v":2704653836.0495443},{"$f":"+Flujos!N67","v":567004200.33605194},{"$f":"+Flujos!O67","v":3271658036.3855963},null,{"$f":"+DATE(N66,M66,L66)","v":"2029-08-23"},{"$f":"IF(G67<CALCULADORA!$C$23,0,IF(CALCULADORA!$C$27>'TIR de Tenencia'!G67,E67,CALCULADORA!$C$33))","v":157961798805}," "," ",null,{"$f":"+L66","v":23},{"$f":"+IF(M66=12,1,M66+1)","v":9},2029]
[{"$f":"+Flujos!A68","v":"2027-01-23"},{"$f":"+Flujos!L68","v":96465930743.862991},{"$f":"+Flujos!M68","v":2662066342.5105953},{"$f":"+Flujos!N68","v":551944687.77692807},{"$f":"+Flujos!O68","v":3214011030.2875233},null,"2029-09-23",{"$f":"IF(G68<CALCULADORA!$C$23,0,IF(CALCULADORA!$C$27>'TIR de Tenencia'!G68,E68,CALCULADORA!$C$33))","v":157961798805},{"$f":"+IF(H68=H67,\" \",G68)","v":" "},{"$f":"+IF(H68=H67,\" \",H68)","v":" "},null,23,10,2029]
[{"$f":"+Flujos!A69","v":"2027-02-23"},{"$f":"+Flujos!L69","v":93842750929.222488},{"$f":"+Flujos!M69","v":2623179814.6405096},{"$f":"+Flujos!N69","v":537122302.38182914},{"$f":"+Flujos!O69","v":3160302117.0223389},null,"2029-10-23",{"$f":"IF(G69<CALCULADORA!$C$23,0,IF(CALCULADORA!$C$27>'TIR de Tenencia'!G69,E69,CALCULADORA!$C$33))","v":157961798805}," "," ",null,23,11,2029]
[{"$f":"+Flujos!A70","v":"2027-03-23"},{"$f":"+Flujos!L70","v":91257059060.060272},{"$f":"+Flujos!M70","v":2585691869.1622229},{"$f":"+Flujos!N70","v":522516437.1739108},{"$f":"+Flujos!O70","v":3108208306.3361335},null,"2029-11-23",{"$f":"IF(G70<CALCULADORA!$C$23,0,IF(CALCULADORA!$C$27>'TIR de Tenencia'!G70,E70,CALCULADORA!$C$33))","v":157961798805}," "," ",null,23,12,2029]
[{"$f":"+Flujos!A71","v":"2027-04-23"},{"$f":"+Flujos!L71","v":88722105385.121277},{"$f":"+Flujos!M71","v":2534953674.938993},{"$f":"+Flujos!N71","v":508119304.84641558},{"$f":"+Flujos!O71","v":3043072979.7854085},null,"2029-12-23",{"$f":"IF(G71<CALCULADORA!$C$23,0,IF(CALCULADORA!$C$27>'TIR de Tenencia'!G71,E71,CALCULADORA!$C$33))","v":157961798805}," "," ",null,23,1,2030]
[{"$f":"+Flujos!A72","v":"2027-05-23"},{"$f":"+Flujos!L72","v":86372533146.506546},{"$f":"+Flujos!M72","v":2349572238.6147356},{"$f":"+Flujos!N72","v":494004682.78435528},{"$f":"+Flujos!O72","v":2843576921.3990908},null,"2030-01-23",{"$f":"IF(G72<CALCULADORA!$C$23,0,IF(CALCULADORA!$C$27>'TIR de Tenencia'!G72,E72,CALCULADORA!$C$33))","v":157961798805}," "," ",null,23,2,2030]
[{"$f":"+Flujos!A73","v":"2027-06-23"},{"$f":"+Flujos!L73","v":83904602574.442459},{"$f":"+Flujos!M73","v":2467930572.0640874},{"$f":"+Flujos!N73","v":480922264.55974847},{"$f":"+Flujos!O73","v":2948852836.623836},null,"2030-02-23",{"$f":"IF(G73<CALCULADORA!$C$23,0,IF(CALCULADORA!$C$27>'TIR de Tenencia'!G73,E73,CALCULADORA!$C$33))","v":157961798805}," "," ",null,23,3,2030]
[{"$f":"+Flujos!A74","v":"2027-07-23"},{"$f":"+Flujos!L74","v":81466461147.615005},{"$f":"+Flujos!M74","v":2438141426.8274479},{"$f":"+Flujos!N74","v":467180827.13449562},{"$f":"+Flujos!O74","v":2905322253.9619436},null,"2030-03-23",{"$f":"IF(G74<CALCULADORA!$C$23,0,IF(CALCULADORA!$C$27>'TIR de Tenencia'!G74,E74,CALCULADORA!$C$33))","v":157961798805}," "," ",null,23,4,2030]
[{"$f":"+Flujos!A75","v":"2027-08-23"},{"$f":"+Flujos!L75","v":79056743269.066162},{"$f":"+Flujos!M75","v":2409717878.5488386},{"$f":"+Flujos!N75","v":453605255.66992033},{"$f":"+Flujos!O75","v":2863323134.2187591},null,"2030-04-23",{"$f":"IF(G75<CALCULADORA!$C$23,0,IF(CALCULADORA!$C$27>'TIR de Tenencia'!G75,E75,CALCULADORA!$C$33))","v":157961798805}," "," ",null,23,5,2030]
[{"$f":"+Flujos!A76","v":"2027-09-23"},{"$f":"+Flujos!L76","v":76681838217.316956},{"$f":"+Flujos!M76","v":2374905051.7492046},{"$f":"+Flujos!N76","v":440187946.52216041},{"$f":"+Flujos!O76","v":2815092998.2713652},null,"2030-05-23",{"$f":"IF(G76<CALCULADORA!$C$23,0,IF(CALCULADORA!$C$27>'TIR de Tenencia'!G76,E76,CALCULADORA!$C$33))","v":157961798805}," "," ",null,23,6,2030]
[{"$f":"+Flujos!A77","v":"2027-10-23"},{"$f":"+Flujos!L77","v":74335066442.02919},{"$f":"+Flujos!M77","v":2346771775.2877607},{"$f":"+Flujos!N77","v":426964475.19402081},{"$f":"+Flujos!O77","v":2773736250.4817815},null,"2030-06-23",{"$f":"IF(G77<CALCULADORA!$C$23,0,IF(CALCULADORA!$C$27>'TIR de Tenencia'!G77,E77,CALCULADORA!$C$33))","v":157961798805}," "," ",null,23,7,2030]
[{"$f":"+Flujos!A78","v":"2027-11-23"},{"$f":"+Flujos!L78","v":72024506075.932861},{"$f":"+Flujos!M78","v":2310560366.0963287},{"$f":"+Flujos!N78","v":413897649.94921851},{"$f":"+Flujos!O78","v":2724458016.0455475},null,"2030-07-23",{"$f":"IF(G78<CALCULADORA!$C$23,0,IF(CALCULADORA!$C$27>'TIR de Tenencia'!G78,E78,CALCULADORA!$C$33))","v":157961798805}," "," ",null,23,8,2030]
[{"$f":"+Flujos!A79","v":"2027-12-23"},{"$f":"+Flujos!L79","v":69751324803.383377},{"$f":"+Flujos!M79","v":2273181272.549479},{"$f":"+Flujos!N79","v":401032449.83079416},{"$f":"+Flujos!O79","v":2674213722.3802733},null,"2030-08-23",{"$f":"IF(G79<CALCULADORA!$C$23,0,IF(CALCULADORA!$C$27>'TIR de Tenencia'!G79,E79,CALCULADORA!$C$33))","v":157961798805}," "," ",null,23,9,2030]
[{"$f":"+Flujos!A80","v":"2028-01-23"},{"$f":"+Flujos!L80","v":67512798027.551445},{"$f":"+Flujos!M80","v":2238526775.8319354},{"$f":"+Flujos!N80","v":388375376.50523865},{"$f":"+Flujos!O80","v":2626902152.3371739},null,"2030-09-23",{"$f":"IF(G80<CALCULADORA!$C$23,0,IF(CALCULADORA!$C$27>'TIR de Tenencia'!G80,E80,CALCULADORA!$C$33))","v":157961798805}," "," ",null,23,10,2030]
[{"$f":"+Flujos!A81","v":"2028-02-23"},{"$f":"+Flujos!L81","v":65306659649.137131},{"$f":"+Flujos!M81","v":2206138378.4143114},{"$f":"+Flujos!N81","v":375911259.41740644},{"$f":"+Flujos!O81","v":2582049637.831718},null,"2030-10-23",{"$f":"IF(G81<CALCULADORA!$C$23,0,IF(CALCULADORA!$C$27>'TIR de Tenencia'!G81,E81,CALCULADORA!$C$33))","v":157961798805}," "," ",null,23,11,2030]
[{"$f":"+Flujos!A82","v":"2028-03-23"},{"$f":"+Flujos!L82","v":63129396719.444061},{"$f":"+Flujos!M82","v":2177262929.693069},{"$f":"+Flujos!N82","v":363627480.92639554},{"$f":"+Flujos!O82","v":2540890410.6194644},null,"2030-11-23",{"$f":"IF(G82<CALCULADORA!$C$23,0,IF(CALCULADORA!$C$27>'TIR de Tenencia'!G82,E82,CALCULADORA!$C$33))","v":157961798805}," "," ",null,23,12,2030]
[{"$f":"+Flujos!A83","v":"2028-04-23"},{"$f":"+Flujos!L83","v":60987853715.979271},{"$f":"+Flujos!M83","v":2141543003.4647923},{"$f":"+Flujos!N83","v":351504480.93386453},{"$f":"+Flujos!O83","v":2493047484.3986568},null,"2030-12-23",{"$f":"IF(G83<CALCULADORA!$C$23,0,IF(CALCULADORA!$C$27>'TIR de Tenencia'!G83,E83,CALCULADORA!$C$33))","v":157961798805}," "," ",null,23,1,2031]
[{"$f":"+Flujos!A84","v":"2028-05-23"},{"$f":"+Flujos!L84","v":59039450322.861168},{"$f":"+Flujos!M84","v":1948403393.1181033},{"$f":"+Flujos!N84","v":339580369.49057257},{"$f":"+Flujos!O84","v":2287983762.608676},null,"2031-01-23",{"$f":"IF(G84<CALCULADORA!$C$23,0,IF(CALCULADORA!$C$27>'TIR de Tenencia'!G84,E84,CALCULADORA!$C$33))","v":157961798805}," "," ",null,23,2,2031]
[{"$f":"+Flujos!A85","v":"2028-06-23"},{"$f":"+Flujos!L85","v":56968351011.753113},{"$f":"+Flujos!M85","v":2071099311.1080575},{"$f":"+Flujos!N85","v":328731659.39769101},{"$f":"+Flujos!O85","v":2399830970.5057487},null,"2031-02-23",{"$f":"IF(G85<CALCULADORA!$C$23,0,IF(CALCULADORA!$C$27>'TIR de Tenencia'!G85,E85,CALCULADORA!$C$33))","v":157961798805}," "," ",null,23,3,2031]
[{"$f":"+Flujos!A86","v":"2028-07-23"},{"$f":"+Flujos!L86","v":54924893494.143341},{"$f":"+Flujos!M86","v":2043457517.6097696},{"$f":"+Flujos!N86","v":317199778.43344134},{"$f":"+Flujos!O86","v":2360657296.043211},null,"2031-03-23",{"$f":"IF(G86<CALCULADORA!$C$23,0,IF(CALCULADORA!$C$27>'TIR de Tenencia'!G86,E86,CALCULADORA!$C$33))","v":157961798805}," "," ",null,23,4,2031]
[{"$f":"+Flujos!A87","v":"2028-08-23"},{"$f":"+Flujos!L87","v":52915856276.671356},{"$f":"+Flujos!M87","v":2009037217.4719851},{"$f":"+Flujos!N87","v":305821806.97539014},{"$f":"+Flujos!O87","v":2314859024.4473753},null,"2031-04-23",{"$f":"IF(G87<CALCULADORA!$C$23,0,IF(CALCULADORA!$C$27>'TIR de Tenencia'!G87,E87,CALCULADORA!$C$33))","v":157961798805}," "," ",null,23,5,2031]
[{"$f":"+Flujos!A88","v":"2028-09-23"},{"$f":"+Flujos!L88","v":50942565373.774666},{"$f":"+Flujos!M88","v":1973290902.8966932},{"$f":"+Flujos!N88","v":294635487.74850613},{"$f":"+Flujos!O88","v":2267926390.6451993},null,"2031-05-23",{"$f":"IF(G88<CALCULADORA!$C$23,0,IF(CALCULADORA!$C$27>'TIR de Tenencia'!G88,E88,CALCULADORA!$C$33))","v":157961798805}," "," ",null,23,6,2031]
[{"$f":"+Flujos!A89","v":"2028-10-23"},{"$f":"+Flujos!L89","v":48998549043.347816},{"$f":"+Flujos!M89","v":1944016330.4268475},{"$f":"+Flujos!N89","v":283648204.00117737},{"$f":"+Flujos!O89","v":2227664534.4280248},null,"2031-06-23",{"$f":"IF(G89<CALCULADORA!$C$23,0,IF(CALCULADORA!$C$27>'TIR de Tenencia'!G89,E89,CALCULADORA!$C$33))","v":157961798805}," "," ",null,23,7,2031]
[{"$f":"+Flujos!A90","v":"2028-11-23"},{"$f":"+Flujos!L90","v":47082933171.395943},{"$f":"+Flujos!M90","v":1915615871.9518764},{"$f":"+Flujos!N90","v":272823921.07336062},{"$f":"+Flujos!O90","v":2188439793.0252371},null,"2031-07-23",{"$f":"IF(G90<CALCULADORA!$C$23,0,IF(CALCULADORA!$C$27>'TIR de Tenencia'!G90,E90,CALCULADORA!$C$33))","v":157961798805}," "," ",null,23,8,2031]
[{"$f":"+Flujos!A91","v":"2028-12-23"},{"$f":"+Flujos!L91","v":45206035601.601929},{"$f":"+Flujos!M91","v":1876897569.7940121},{"$f":"+Flujos!N91","v":262157771.8983326},{"$f":"+Flujos!O91","v":2139055341.6923447},null,"2031-08-23",{"$f":"IF(G91<CALCULADORA!$C$23,0,IF(CALCULADORA!$C$27>'TIR de Tenencia'!G91,E91,CALCULADORA!$C$33))","v":157961798805}," "," ",null,23,9,2031]
[{"$f":"+Flujos!A92","v":"2029-01-23"},{"$f":"+Flujos!L92","v":43356677570.461525},{"$f":"+Flujos!M92","v":1849358031.1404073},{"$f":"+Flujos!N92","v":251707206.22971955},{"$f":"+Flujos!O92","v":2101065237.370127},null,"2031-09-23",{"$f":"IF(G92<CALCULADORA!$C$23,0,IF(CALCULADORA!$C$27>'TIR de Tenencia'!G92,E92,CALCULADORA!$C$33))","v":157961798805}," "," ",null,23,10,2031]
[{"$f":"+Flujos!A93","v":"2029-02-23"},{"$f":"+Flujos!L93","v":41532273019.967247},{"$f":"+Flujos!M93","v":1824404550.4942799},{"$f":"+Flujos!N93","v":241409980.71232978},{"$f":"+Flujos!O93","v":2065814531.2066097},null,"2031-10-23",{"$f":"IF(G93<CALCULADORA!$C$23,0,IF(CALCULADORA!$C$27>'TIR de Tenencia'!G93,E93,CALCULADORA!$C$33))","v":157961798805}," "," ",null,23,11,2031]
[{"$f":"+Flujos!A94","v":"2029-03-23"},{"$f":"+Flujos!L94","v":39730100651.833168},{"$f":"+Flujos!M94","v":1802172368.1340818},{"$f":"+Flujos!N94","v":231251696.17517763},{"$f":"+Flujos!O94","v":2033424064.3092594},null,"2031-11-23",{"$f":"IF(G94<CALCULADORA!$C$23,0,IF(CALCULADORA!$C$27>'TIR de Tenencia'!G94,E94,CALCULADORA!$C$33))","v":157961798805}," "," ",null,23,12,2031]
[{"$f":"+Flujos!A95","v":"2029-04-23"},{"$f":"+Flujos!L95","v":37951215999.939888},{"$f":"+Flujos!M95","v":1778884651.8932805},{"$f":"+Flujos!N95","v":221217200.42940709},{"$f":"+Flujos!O95","v":2000101852.3226876},null,"2031-12-23",{"$f":"IF(G95<CALCULADORA!$C$23,0,IF(CALCULADORA!$C$27>'TIR de Tenencia'!G95,E95,CALCULADORA!$C$33))","v":157961798805}," "," ",null,23,1,2032]
[{"$f":"+Flujos!A96","v":"2029-05-23"},{"$f":"+Flujos!L96","v":36370989421.462822},{"$f":"+Flujos!M96","v":1580226578.4770648},{"$f":"+Flujos!N96","v":211312370.68766528},{"$f":"+Flujos!O96","v":1791538949.1647301},null,"2032-01-23",{"$f":"IF(G96<CALCULADORA!$C$23,0,IF(CALCULADORA!$C$27>'TIR de Tenencia'!G96,E96,CALCULADORA!$C$33))","v":157961798805}," "," ",null,23,2,2032]
[{"$f":"+Flujos!A97","v":"2029-06-23"},{"$f":"+Flujos!L97","v":34648133827.369293},{"$f":"+Flujos!M97","v":1722855594.093529},{"$f":"+Flujos!N97","v":202513669.09870499},{"$f":"+Flujos!O97","v":1925369263.192234},null,"2032-02-23",{"$f":"IF(G97<CALCULADORA!$C$23,0,IF(CALCULADORA!$C$27>'TIR de Tenencia'!G97,E97,CALCULADORA!$C$33))","v":157961798805}," "," ",null,23,3,2032]
[{"$f":"+Flujos!A98","v":"2029-07-23"},{"$f":"+Flujos!L98","v":32953243284.024986},{"$f":"+Flujos!M98","v":1694890543.3443065},{"$f":"+Flujos!N98","v":192920809.15079221},{"$f":"+Flujos!O98","v":1887811352.4950986},null,"2032-03-23",{"$f":"IF(G98<CALCULADORA!$C$23,0,IF(CALCULADORA!$C$27>'TIR de Tenencia'!G98,E98,CALCULADORA!$C$33))","v":157961798805}," "," ",null,23,4,2032]
[{"$f":"+Flujos!A99","v":"2029-08-23"},{"$f":"+Flujos!L99","v":31283946138.741924},{"$f":"+Flujos!M99","v":1669297145.2830637},{"$f":"+Flujos!N99","v":183483658.60545114},{"$f":"+Flujos!O99","v":1852780803.8885148},null,{"$f":"+DATE(N98,M98,L98)","v":"2032-04-23"},{"$f":"IF(G99<CALCULADORA!$C$23,0,IF(CALCULADORA!$C$27>'TIR de Tenencia'!G99,E99,CALCULADORA!$C$33))","v":157961798805}," "," ",null,23,5,2032]
[{"$f":"+Flujos!A100","v":"2029-09-23"},{"$f":"+Flujos!L100","v":29637435331.106377},{"$f":"+Flujos!M100","v":1646510807.6355488},{"$f":"+Flujos!N100","v":174189012.10051504},{"$f":"+Flujos!O100","v":1820699819.736064},null,"2032-05-23",{"$f":"IF(G100<CALCULADORA!$C$23,0,IF(CALCULADORA!$C$27>'TIR de Tenencia'!G100,E100,CALCULADORA!$C$33))","v":157961798805}," "," ",null,23,6,2032]
[{"$f":"+Flujos!A101","v":"2029-10-23"},{"$f":"+Flujos!L101","v":28015567941.039528},{"$f":"+Flujos!M101","v":1621867390.0668485},{"$f":"+Flujos!N101","v":165021239.92360032},{"$f":"+Flujos!O101","v":1786888629.990449},null,"2032-06-23",{"$f":"IF(G101<CALCULADORA!$C$23,0,IF(CALCULADORA!$C$27>'TIR de Tenencia'!G101,E101,CALCULADORA!$C$33))","v":157961798805}," "," ",null,23,7,2032]
[{"$f":"+Flujos!A102","v":"2029-11-23"},{"$f":"+Flujos!L102","v":26414240580.580536},{"$f":"+Flujos!M102","v":1601327360.4589918},{"$f":"+Flujos!N102","v":155990682.29570809},{"$f":"+Flujos!O102","v":1757318042.7546999},null,"2032-07-23",{"$f":"IF(G102<CALCULADORA!$C$23,0,IF(CALCULADORA!$C$27>'TIR de Tenencia'!G102,E102,CALCULADORA!$C$33))","v":157961798805}," "," ",null,23,8,2032]
[{"$f":"+Flujos!A103","v":"2029-12-23"},{"$f":"+Flujos!L103","v":24831408152.835732},{"$f":"+Flujos!M103","v":1582832427.7448032},{"$f":"+Flujos!N103","v":147074491.55267242},{"$f":"+Flujos!O103","v":1729906919.2974756},null,"2032-08-23",{"$f":"IF(G103<CALCULADORA!$C$23,0,IF(CALCULADORA!$C$27>'TIR de Tenencia'!G103,E103,CALCULADORA!$C$33))","v":157961798805}," "," ",null,23,9,2032]
[{"$f":"+Flujos!A104","v":"2030-01-23"},{"$f":"+Flujos!L104","v":23266397754.956234},{"$f":"+Flujos!M104","v":1565010397.879499},{"$f":"+Flujos!N104","v":138261280.59498936},{"$f":"+Flujos!O104","v":1703271678.4744883},null,"2032-09-23",{"$f":"IF(G104<CALCULADORA!$C$23,0,IF(CALCULADORA!$C$27>'TIR de Tenencia'!G104,E104,CALCULADORA!$C$33))","v":157961798805}," "," ",null,23,10,2032]
[{"$f":"+Flujos!A105","v":"2030-02-23"},{"$f":"+Flujos!L105","v":21718137360.344551},{"$f":"+Flujos!M105","v":1548260394.6116819},{"$f":"+Flujos!N105","v":129547302.69959632},{"$f":"+Flujos!O105","v":1677807697.3112783},null,"2032-10-23",{"$f":"IF(G105<CALCULADORA!$C$23,0,IF(CALCULADORA!$C$27>'TIR de Tenencia'!G105,E105,CALCULADORA!$C$33))","v":157961798805}," "," ",null,23,11,2032]
[{"$f":"+Flujos!A106","v":"2030-03-23"},{"$f":"+Flujos!L106","v":20186643461.717571},{"$f":"+Flujos!M106","v":1531493898.6269805},{"$f":"+Flujos!N106","v":120926588.82239845},{"$f":"+Flujos!O106","v":1652420487.449379},null,"2032-11-23",{"$f":"IF(G106<CALCULADORA!$C$23,0,IF(CALCULADORA!$C$27>'TIR de Tenencia'!G106,E106,CALCULADORA!$C$33))","v":157961798805}," "," ",null,23,12,2032]
[{"$f":"+Flujos!A107","v":"2030-04-23"},{"$f":"+Flujos!L107","v":18670972675.669502},{"$f":"+Flujos!M107","v":1515670786.048068},{"$f":"+Flujos!N107","v":112399230.79484344},{"$f":"+Flujos!O107","v":1628070016.8429115},null,"2032-12-23",{"$f":"IF(G107<CALCULADORA!$C$23,0,IF(CALCULADORA!$C$27>'TIR de Tenencia'!G107,E107,CALCULADORA!$C$33))","v":157961798805}," "," ",null,23,1,2033]
[{"$f":"+Flujos!A108","v":"2030-05-23"},{"$f":"+Flujos!L108","v":17353798334.412182},{"$f":"+Flujos!M108","v":1317174341.2573195},{"$f":"+Flujos!N108","v":103959975.85812779},{"$f":"+Flujos!O108","v":1421134317.1154473},null,"2033-01-23",{"$f":"IF(G108<CALCULADORA!$C$23,0,IF(CALCULADORA!$C$27>'TIR de Tenencia'!G108,E108,CALCULADORA!$C$33))","v":157961798805}," "," ",null,23,2,2033]
[{"$f":"+Flujos!A109","v":"2030-06-23"},{"$f":"+Flujos!L109","v":15873692443.053677},{"$f":"+Flujos!M109","v":1480105891.3585045},{"$f":"+Flujos!N109","v":96625949.126007035},{"$f":"+Flujos!O109","v":1576731840.4845116},null,"2033-02-23",{"$f":"IF(G109<CALCULADORA!$C$23,0,IF(CALCULADORA!$C$27>'TIR de Tenencia'!G109,E109,CALCULADORA!$C$33))","v":157961798805}," "," ",null,23,3,2033]
[{"$f":"+Flujos!A110","v":"2030-07-23"},{"$f":"+Flujos!L110","v":14410804948.122507},{"$f":"+Flujos!M110","v":1462887494.9311702},{"$f":"+Flujos!N110","v":88384719.522922873},{"$f":"+Flujos!O110","v":1551272214.454093},null,"2033-03-23",{"$f":"IF(G110<CALCULADORA!$C$23,0,IF(CALCULADORA!$C$27>'TIR de Tenencia'!G110,E110,CALCULADORA!$C$33))","v":157961798805}," "," ",null,23,4,2033]
[{"$f":"+Flujos!A111","v":"2030-08-23"},{"$f":"+Flujos!L111","v":12966099024.284721},{"$f":"+Flujos!M111","v":1444705923.8377857},{"$f":"+Flujos!N111","v":80239361.951146126},{"$f":"+Flujos!O111","v":1524945285.7889318},null,"2033-04-23",{"$f":"IF(G111<CALCULADORA!$C$23,0,IF(CALCULADORA!$C$27>'TIR de Tenencia'!G111,E111,CALCULADORA!$C$33))","v":157961798805}," "," ",null,23,5,{"$f":"+IF(M111=1,N110+1,N110)","v":2033}]
[{"$f":"+Flujos!A112","v":"2030-09-23"},{"$f":"+Flujos!L112","v":11539060098.773527},{"$f":"+Flujos!M112","v":1427038925.5111949},{"$f":"+Flujos!N112","v":72195239.367217332},{"$f":"+Flujos!O112","v":1499234164.8784122},null,"2033-05-23",{"$f":"IF(G112<CALCULADORA!$C$23,0,IF(CALCULADORA!$C$27>'TIR de Tenencia'!G112,E112,CALCULADORA!$C$33))","v":157961798805}," "," ",null,23,6,2033]
[{"$f":"+Flujos!A113","v":"2030-10-23"},{"$f":"+Flujos!L113","v":10130532598.693405},{"$f":"+Flujos!M113","v":1408527500.080122},{"$f":"+Flujos!N113","v":64249486.629970998},{"$f":"+Flujos!O113","v":1472776986.710093},null,"2033-06-23",{"$f":"IF(G113<CALCULADORA!$C$23,0,IF(CALCULADORA!$C$27>'TIR de Tenencia'!G113,E113,CALCULADORA!$C$33))","v":157961798805}," "," ",null,23,7,2033]
[{"$f":"+Flujos!A114","v":"2030-11-23"},{"$f":"+Flujos!L114","v":8740242744.9440746},{"$f":"+Flujos!M114","v":1390289853.7493303},{"$f":"+Flujos!N114","v":56406805.509524882},{"$f":"+Flujos!O114","v":1446696659.2588551},null,"2033-07-23",{"$f":"IF(G114<CALCULADORA!$C$23,0,IF(CALCULADORA!$C$27>'TIR de Tenencia'!G114,E114,CALCULADORA!$C$33))","v":157961798805}," "," ",null,23,8,2033]
[{"$f":"+Flujos!A115","v":"2030-12-23"},{"$f":"+Flujos!L115","v":7367161391.9919481},{"$f":"+Flujos!M115","v":1373081352.9521265},{"$f":"+Flujos!N115","v":48665671.603848606},{"$f":"+Flujos!O115","v":1421747024.5559752},null,"2033-08-23",{"$f":"IF(G115<CALCULADORA!$C$23,0,IF(CALCULADORA!$C$27>'TIR de Tenencia'!G115,E115,CALCULADORA!$C$33))","v":157961798805}," "," ",null,23,9,2033]
[{"$f":"+Flujos!A116","v":"2031-01-23"},{"$f":"+Flujos!L116","v":6014817981.2502918},{"$f":"+Flujos!M116","v":1352343410.7416565},{"$f":"+Flujos!N116","v":41020354.630611166},{"$f":"+Flujos!O116","v":1393363765.3722677},null,"2033-09-23",{"$f":"IF(G116<CALCULADORA!$C$23,0,IF(CALCULADORA!$C$27>'TIR de Tenencia'!G116,E116,CALCULADORA!$C$33))","v":157961798805}," "," ",null,23,10,2033]
[{"$f":"+Flujos!A117","v":"2031-02-23"},{"$f":"+Flujos!L117","v":4681154221.6519289},{"$f":"+Flujos!M117","v":1333663759.5983627},{"$f":"+Flujos!N117","v":33490506.519601624},{"$f":"+Flujos!O117","v":1367154266.1179643},null,"2033-10-23",{"$f":"IF(G117<CALCULADORA!$C$23,0,IF(CALCULADORA!$C$27>'TIR de Tenencia'!G117,E117,CALCULADORA!$C$33))","v":157961798805}," "," ",null,23,11,2033]
[{"$f":"+Flujos!A118","v":"2031-03-23"},{"$f":"+Flujos!L118","v":3364959547.777544},{"$f":"+Flujos!M118","v":1316194673.8743849},{"$f":"+Flujos!N118","v":26064666.706157941},{"$f":"+Flujos!O118","v":1342259340.5805428},null,"2033-11-23",{"$f":"IF(G118<CALCULADORA!$C$23,0,IF(CALCULADORA!$C$27>'TIR de Tenencia'!G118,E118,CALCULADORA!$C$33))","v":157961798805}," "," ",null,23,12,2033]
[{"$f":"+Flujos!A119","v":"2031-04-23"},{"$f":"+Flujos!L119","v":2071369791.6649451},{"$f":"+Flujos!M119","v":1293589756.1125989},{"$f":"+Flujos!N119","v":18736094.762025364},{"$f":"+Flujos!O119","v":1312325850.8746243},null,"2033-12-23",{"$f":"IF(G119<CALCULADORA!$C$23,0,IF(CALCULADORA!$C$27>'TIR de Tenencia'!G119,E119,CALCULADORA!$C$33))","v":157961798805}," "," ",null,23,1,2034]
[{"$f":"+Flujos!A120","v":"2031-05-23"},{"$f":"+Flujos!L120","v":987435452.58709335},{"$f":"+Flujos!M120","v":1083934339.0778518},{"$f":"+Flujos!N120","v":11533386.999990415},{"$f":"+Flujos!O120","v":1095467726.0778422},null,"2034-01-23",{"$f":"IF(G120<CALCULADORA!$C$23,0,IF(CALCULADORA!$C$27>'TIR de Tenencia'!G120,E120,CALCULADORA!$C$33))","v":157961798805}," "," ",null,23,2,2034]
[{"$f":"+Flujos!A121","v":"2031-06-23"},{"$f":"+Flujos!L121","v":-1.6927719116210938E-5},{"$f":"+Flujos!M121","v":987435452.58711028},{"$f":"+Flujos!N121","v":5498040.6000049356},{"$f":"+Flujos!O121","v":992933493.18711519},null,"2034-02-23",{"$f":"IF(G121<CALCULADORA!$C$23,0,IF(CALCULADORA!$C$27>'TIR de Tenencia'!G121,E121,CALCULADORA!$C$33))","v":157961798805}," "," ",null,23,3,2034]
[{"$f":"+Flujos!A122","v":"2031-07-23"},{"$f":"+Flujos!L122","v":-1.6927719116210938E-5},{"$f":"+Flujos!M122","v":0},{"$f":"+Flujos!N122","v":-9.4253540039062503E-8},{"$f":"+Flujos!O122","v":-9.4253540039062503E-8},null,"2034-03-23",{"$f":"IF(G122<CALCULADORA!$C$23,0,IF(CALCULADORA!$C$27>'TIR de Tenencia'!G122,E122,CALCULADORA!$C$33))","v":157961798805}," "," ",null,23,4,2034]
[{"$f":"+Flujos!A123","v":"2031-08-23"},{"$f":"+Flujos!L123","v":-1.6927719116210938E-5},{"$f":"+Flujos!M123","v":0},{"$f":"+Flujos!N123","v":-9.4253540039062503E-8},{"$f":"+Flujos!O123","v":-9.4253540039062503E-8},null,"2034-04-23",{"$f":"IF(G123<CALCULADORA!$C$23,0,IF(CALCULADORA!$C$27>'TIR de Tenencia'!G123,E123,CALCULADORA!$C$33))","v":157961798805}," "," ",null,23,5,2034]
[{"$f":"+Flujos!A124","v":"2031-09-23"},{"$f":"+Flujos!L124","v":-1.6927719116210938E-5},{"$f":"+Flujos!M124","v":0},{"$f":"+Flujos!N124","v":-9.4253540039062503E-8},{"$f":"+Flujos!O124","v":-9.4253540039062503E-8},null,"2034-05-23",{"$f":"IF(G124<CALCULADORA!$C$23,0,IF(CALCULADORA!$C$27>'TIR de Tenencia'!G124,E124,CALCULADORA!$C$33))","v":157961798805}," "," ",null,23,6,2034]
[{"$f":"+Flujos!A125","v":"2031-10-23"},{"$f":"+Flujos!L125","v":-1.6927719116210938E-5},{"$f":"+Flujos!M125","v":0},{"$f":"+Flujos!N125","v":-9.4253540039062503E-8},{"$f":"+Flujos!O125","v":-9.4253540039062503E-8},null,"2034-06-23",{"$f":"IF(G125<CALCULADORA!$C$23,0,IF(CALCULADORA!$C$27>'TIR de Tenencia'!G125,E125,CALCULADORA!$C$33))","v":157961798805}," "," ",null,23,7,2034]
[{"$f":"+Flujos!A126","v":"2031-11-23"},{"$f":"+Flujos!L126","v":-1.6927719116210938E-5},{"$f":"+Flujos!M126","v":0},{"$f":"+Flujos!N126","v":-9.4253540039062503E-8},{"$f":"+Flujos!O126","v":-9.4253540039062503E-8},null,"2034-07-23",{"$f":"IF(G126<CALCULADORA!$C$23,0,IF(CALCULADORA!$C$27>'TIR de Tenencia'!G126,E126,CALCULADORA!$C$33))","v":157961798805}," "," ",null,23,8,2034]
[{"$f":"+Flujos!A127","v":"2031-12-23"},{"$f":"+Flujos!L127","v":-1.6927719116210938E-5},{"$f":"+Flujos!M127","v":0},{"$f":"+Flujos!N127","v":-9.4253540039062503E-8},{"$f":"+Flujos!O127","v":-9.4253540039062503E-8},null,"2034-08-23",{"$f":"IF(G127<CALCULADORA!$C$23,0,IF(CALCULADORA!$C$27>'TIR de Tenencia'!G127,E127,CALCULADORA!$C$33))","v":157961798805}," "," ",null,23,9,2034]
[{"$f":"+Flujos!A128","v":"2032-01-23"},{"$f":"+Flujos!L128","v":-1.6927719116210938E-5},{"$f":"+Flujos!M128","v":0},{"$f":"+Flujos!N128","v":-9.4253540039062503E-8},{"$f":"+Flujos!O128","v":-9.4253540039062503E-8},null,"2034-09-23",{"$f":"IF(G128<CALCULADORA!$C$23,0,IF(CALCULADORA!$C$27>'TIR de Tenencia'!G128,E128,CALCULADORA!$C$33))","v":157961798805}," "," ",null,23,10,2034]
[{"$f":"+Flujos!A129","v":"2032-02-23"},{"$f":"+Flujos!L129","v":-1.6927719116210938E-5},{"$f":"+Flujos!M129","v":0},{"$f":"+Flujos!N129","v":-9.4253540039062503E-8},{"$f":"+Flujos!O129","v":-9.4253540039062503E-8},null,"2034-10-23",{"$f":"IF(G129<CALCULADORA!$C$23,0,IF(CALCULADORA!$C$27>'TIR de Tenencia'!G129,E129,CALCULADORA!$C$33))","v":157961798805}," "," ",null,23,11,2034]
[{"$f":"+Flujos!A130","v":"2032-03-23"},{"$f":"+Flujos!L130","v":-1.6927719116210938E-5},{"$f":"+Flujos!M130","v":0},{"$f":"+Flujos!N130","v":-9.4253540039062503E-8},{"$f":"+Flujos!O130","v":-9.4253540039062503E-8},null,"2034-11-23",{"$f":"IF(G130<CALCULADORA!$C$23,0,IF(CALCULADORA!$C$27>'TIR de Tenencia'!G130,E130,CALCULADORA!$C$33))","v":157961798805}," "," ",null,23,12,2034]
[{"$f":"+Flujos!A131","v":"2032-04-23"},{"$f":"+Flujos!L131","v":-1.6927719116210938E-5},{"$f":"+Flujos!M131","v":0},{"$f":"+Flujos!N131","v":-9.4253540039062503E-8},{"$f":"+Flujos!O131","v":-9.4253540039062503E-8},null,{"$f":"+DATE(N130,M130,L130)","v":"2034-12-23"},{"$f":"IF(G131<CALCULADORA!$C$23,0,IF(CALCULADORA!$C$27>'TIR de Tenencia'!G131,E131,CALCULADORA!$C$33))","v":157961798805}," "," ",null,{"$f":"+L130","v":23},{"$f":"+IF(M130=12,1,M130+1)","v":1},{"$f":"+IF(M131=1,N130+1,N130)","v":2035}]
[{"$f":"+Flujos!A132","v":"2032-05-23"},{"$f":"+Flujos!L132","v":-1.6927719116210938E-5},{"$f":"+Flujos!M132","v":0},{"$f":"+Flujos!N132","v":-9.4253540039062503E-8},{"$f":"+Flujos!O132","v":-9.4253540039062503E-8},null,"2035-01-23",{"$f":"IF(G132<CALCULADORA!$C$23,0,IF(CALCULADORA!$C$27>'TIR de Tenencia'!G132,E132,CALCULADORA!$C$33))","v":157961798805},{"$f":"+IF(H132=H131,\" \",G132)","v":" "},{"$f":"+IF(H132=H131,\" \",H132)","v":" "},null,23,2,2035]
[{"$f":"+Flujos!A133","v":"2032-06-23"},{"$f":"+Flujos!L133","v":-1.6927719116210938E-5},{"$f":"+Flujos!M133","v":0},{"$f":"+Flujos!N133","v":-9.4253540039062503E-8},{"$f":"+Flujos!O133","v":-9.4253540039062503E-8},null,"2035-02-23",{"$f":"IF(G133<CALCULADORA!$C$23,0,IF(CALCULADORA!$C$27>'TIR de Tenencia'!G133,E133,CALCULADORA!$C$33))","v":157961798805}," "," ",null,23,3,2035]
[{"$f":"+Flujos!A134","v":"2032-07-23"},{"$f":"+Flujos!L134","v":-1.6927719116210938E-5},{"$f":"+Flujos!M134","v":0},{"$f":"+Flujos!N134","v":-9.4253540039062503E-8},{"$f":"+Flujos!O134","v":-9.4253540039062503E-8},null,"2035-03-23",{"$f":"IF(G134<CALCULADORA!$C$23,0,IF(CALCULADORA!$C$27>'TIR de Tenencia'!G134,E134,CALCULADORA!$C$33))","v":157961798805}," "," ",null,23,4,2035]
[{"$f":"+Flujos!A135","v":"2032-08-23"},{"$f":"+Flujos!L135","v":-1.6927719116210938E-5},{"$f":"+Flujos!M135","v":0},{"$f":"+Flujos!N135","v":-9.4253540039062503E-8},{"$f":"+Flujos!O135","v":-9.4253540039062503E-8},null,"2035-04-23",{"$f":"IF(G135<CALCULADORA!$C$23,0,IF(CALCULADORA!$C$27>'TIR de Tenencia'!G135,E135,CALCULADORA!$C$33))","v":157961798805}," "," ",null,23,5,2035]
[{"$f":"+Flujos!A136","v":"2032-09-23"},{"$f":"+Flujos!L136","v":-1.6927719116210938E-5},{"$f":"+Flujos!M136","v":0},{"$f":"+Flujos!N136","v":-9.4253540039062503E-8},{"$f":"+Flujos!O136","v":-9.4253540039062503E-8},null,"2035-05-23",{"$f":"IF(G136<CALCULADORA!$C$23,0,IF(CALCULADORA!$C$27>'TIR de Tenencia'!G136,E136,CALCULADORA!$C$33))","v":157961798805}," "," ",null,23,6,2035]
[{"$f":"+Flujos!A137","v":"2032-10-23"},{"$f":"+Flujos!L137","v":-1.6927719116210938E-5},{"$f":"+Flujos!M137","v":0},{"$f":"+Flujos!N137","v":-9.4253540039062503E-8},{"$f":"+Flujos!O137","v":-9.4253540039062503E-8},null,"2035-06-23",{"$f":"IF(G137<CALCULADORA!$C$23,0,IF(CALCULADORA!$C$27>'TIR de Tenencia'!G137,E137,CALCULADORA!$C$33))","v":157961798805}," "," ",null,23,7,2035]
[{"$f":"+Flujos!A138","v":"2032-11-23"},{"$f":"+Flujos!L138","v":-1.6927719116210938E-5},{"$f":"+Flujos!M138","v":0},{"$f":"+Flujos!N138","v":-9.4253540039062503E-8},{"$f":"+Flujos!O138","v":-9.4253540039062503E-8},null,"2035-07-23",{"$f":"IF(G138<CALCULADORA!$C$23,0,IF(CALCULADORA!$C$27>'TIR de Tenencia'!G138,E138,CALCULADORA!$C$33))","v":157961798805}," "," ",null,23,8,2035]
[{"$f":"+Flujos!A139","v":"2032-12-23"},{"$f":"+Flujos!L139","v":-1.6927719116210938E-5},{"$f":"+Flujos!M139","v":0},{"$f":"+Flujos!N139","v":-9.4253540039062503E-8},{"$f":"+Flujos!O139","v":-9.4253540039062503E-8},null,"2035-08-23",{"$f":"IF(G139<CALCULADORA!$C$23,0,IF(CALCULADORA!$C$27>'TIR de Tenencia'!G139,E139,CALCULADORA!$C$33))","v":157961798805}," "," ",null,23,9,2035]
[{"$f":"+Flujos!A140","v":"2033-01-23"},{"$f":"+Flujos!L140","v":-1.6927719116210938E-5},{"$f":"+Flujos!M140","v":0},{"$f":"+Flujos!N140","v":-9.4253540039062503E-8},{"$f":"+Flujos!O140","v":-9.4253540039062503E-8},null,"2035-09-23",{"$f":"IF(G140<CALCULADORA!$C$23,0,IF(CALCULADORA!$C$27>'TIR de Tenencia'!G140,E140,CALCULADORA!$C$33))","v":157961798805}," "," ",null,23,10,2035]
[{"$f":"+Flujos!A141","v":"2033-02-23"},{"$f":"+Flujos!L141","v":-1.6927719116210938E-5},{"$f":"+Flujos!M141","v":0},{"$f":"+Flujos!N141","v":-9.4253540039062503E-8},{"$f":"+Flujos!O141","v":-9.4253540039062503E-8},null,"2035-10-23",{"$f":"IF(G141<CALCULADORA!$C$23,0,IF(CALCULADORA!$C$27>'TIR de Tenencia'!G141,E141,CALCULADORA!$C$33))","v":157961798805}," "," ",null,23,11,2035]
[{"$f":"+Flujos!A142","v":"2033-03-23"},{"$f":"+Flujos!L142","v":-1.6927719116210938E-5},{"$f":"+Flujos!M142","v":0},{"$f":"+Flujos!N142","v":-9.4253540039062503E-8},{"$f":"+Flujos!O142","v":-9.4253540039062503E-8},null,"2035-11-23",{"$f":"IF(G142<CALCULADORA!$C$23,0,IF(CALCULADORA!$C$27>'TIR de Tenencia'!G142,E142,CALCULADORA!$C$33))","v":157961798805}," "," ",null,23,12,2035]
[{"$f":"+Flujos!A143","v":"2033-04-23"},{"$f":"+Flujos!L143","v":-1.6927719116210938E-5},{"$f":"+Flujos!M143","v":0},{"$f":"+Flujos!N143","v":-9.4253540039062503E-8},{"$f":"+Flujos!O143","v":-9.4253540039062503E-8},null,"2035-12-23",{"$f":"IF(G143<CALCULADORA!$C$23,0,IF(CALCULADORA!$C$27>'TIR de Tenencia'!G143,E143,CALCULADORA!$C$33))","v":157961798805}," "," ",null,23,1,2036]
[{"$f":"+Flujos!A144","v":"2033-05-23"},{"$f":"+Flujos!L144","v":-1.6927719116210938E-5},{"$f":"+Flujos!M144","v":0},{"$f":"+Flujos!N144","v":-9.4253540039062503E-8},{"$f":"+Flujos!O144","v":-9.4253540039062503E-8},null,"2036-01-23",{"$f":"IF(G144<CALCULADORA!$C$23,0,IF(CALCULADORA!$C$27>'TIR de Tenencia'!G144,E144,CALCULADORA!$C$33))","v":157961798805}," "," ",null,23,2,2036]
[{"$f":"+Flujos!A145","v":"2033-06-23"},{"$f":"+Flujos!L145","v":-1.6927719116210938E-5},{"$f":"+Flujos!M145","v":0},{"$f":"+Flujos!N145","v":-9.4253540039062503E-8},{"$f":"+Flujos!O145","v":-9.4253540039062503E-8},null,"2036-02-23",{"$f":"IF(G145<CALCULADORA!$C$23,0,IF(CALCULADORA!$C$27>'TIR de Tenencia'!G145,E145,CALCULADORA!$C$33))","v":157961798805}," "," ",null,23,3,2036]
[{"$f":"+Flujos!A146","v":"2033-07-23"},{"$f":"+Flujos!L146","v":-1.6927719116210938E-5},{"$f":"+Flujos!M146","v":0},{"$f":"+Flujos!N146","v":-9.4253540039062503E-8},{"$f":"+Flujos!O146","v":-9.4253540039062503E-8},null,"2036-03-23",{"$f":"IF(G146<CALCULADORA!$C$23,0,IF(CALCULADORA!$C$27>'TIR de Tenencia'!G146,E146,CALCULADORA!$C$33))","v":157961798805}," "," ",null,23,4,2036]
[{"$f":"+Flujos!A147","v":"2033-08-23"},{"$f":"+Flujos!L147","v":-1.6927719116210938E-5},{"$f":"+Flujos!M147","v":0},{"$f":"+Flujos!N147","v":-9.4253540039062503E-8},{"$f":"+Flujos!O147","v":-9.4253540039062503E-8},null,"2036-04-23",{"$f":"IF(G147<CALCULADORA!$C$23,0,IF(CALCULADORA!$C$27>'TIR de Tenencia'!G147,E147,CALCULADORA!$C$33))","v":157961798805}," "," ",null,23,5,2036]
[{"$f":"+Flujos!A148","v":"2033-09-23"},{"$f":"+Flujos!L148","v":-1.6927719116210938E-5},{"$f":"+Flujos!M148","v":0},{"$f":"+Flujos!N148","v":-9.4253540039062503E-8},{"$f":"+Flujos!O148","v":-9.4253540039062503E-8},null,"2036-05-23",{"$f":"IF(G148<CALCULADORA!$C$23,0,IF(CALCULADORA!$C$27>'TIR de Tenencia'!G148,E148,CALCULADORA!$C$33))","v":157961798805}," "," ",null,23,6,2036]
[{"$f":"+Flujos!A149","v":"2033-10-23"},{"$f":"+Flujos!L149","v":-1.6927719116210938E-5},{"$f":"+Flujos!M149","v":0},{"$f":"+Flujos!N149","v":-9.4253540039062503E-8},{"$f":"+Flujos!O149","v":-9.4253540039062503E-8},null,"2036-06-23",{"$f":"IF(G149<CALCULADORA!$C$23,0,IF(CALCULADORA!$C$27>'TIR de Tenencia'!G149,E149,CALCULADORA!$C$33))","v":157961798805}," "," ",null,23,7,2036]
[{"$f":"+Flujos!A150","v":"2033-11-23"},{"$f":"+Flujos!L150","v":-1.6927719116210938E-5},{"$f":"+Flujos!M150","v":0},{"$f":"+Flujos!N150","v":-9.4253540039062503E-8},{"$f":"+Flujos!O150","v":-9.4253540039062503E-8},null,"2036-07-23",{"$f":"IF(G150<CALCULADORA!$C$23,0,IF(CALCULADORA!$C$27>'TIR de Tenencia'!G150,E150,CALCULADORA!$C$33))","v":157961798805}," "," ",null,23,8,2036]
[{"$f":"+Flujos!A151","v":"2033-12-23"},{"$f":"+Flujos!L151","v":-1.6927719116210938E-5},{"$f":"+Flujos!M151","v":0},{"$f":"+Flujos!N151","v":-9.4253540039062503E-8},{"$f":"+Flujos!O151","v":-9.4253540039062503E-8},null,"2036-08-23",{"$f":"IF(G151<CALCULADORA!$C$23,0,IF(CALCULADORA!$C$27>'TIR de Tenencia'!G151,E151,CALCULADORA!$C$33))","v":157961798805}," "," ",null,23,9,2036]
[{"$f":"+Flujos!A152","v":"2034-01-23"},{"$f":"+Flujos!L152","v":-1.6927719116210938E-5},{"$f":"+Flujos!M152","v":0},{"$f":"+Flujos!N152","v":-9.4253540039062503E-8},{"$f":"+Flujos!O152","v":-9.4253540039062503E-8},null,"2036-09-23",{"$f":"IF(G152<CALCULADORA!$C$23,0,IF(CALCULADORA!$C$27>'TIR de Tenencia'!G152,E152,CALCULADORA!$C$33))","v":157961798805}," "," ",null,23,10,2036]
[{"$f":"+Flujos!A153","v":"2034-02-23"},{"$f":"+Flujos!L153","v":-1.6927719116210938E-5},{"$f":"+Flujos!M153","v":0},{"$f":"+Flujos!N153","v":-9.4253540039062503E-8},{"$f":"+Flujos!O153","v":-9.4253540039062503E-8},null,"2036-10-23",{"$f":"IF(G153<CALCULADORA!$C$23,0,IF(CALCULADORA!$C$27>'TIR de Tenencia'!G153,E153,CALCULADORA!$C$33))","v":157961798805}," "," ",null,23,11,2036]
[{"$f":"+Flujos!A154","v":"2034-03-23"},{"$f":"+Flujos!L154","v":-1.6927719116210938E-5},{"$f":"+Flujos!M154","v":0},{"$f":"+Flujos!N154","v":-9.4253540039062503E-8},{"$f":"+Flujos!O154","v":-9.4253540039062503E-8},null,"2036-11-23",{"$f":"IF(G154<CALCULADORA!$C$23,0,IF(CALCULADORA!$C$27>'TIR de Tenencia'!G154,E154,CALCULADORA!$C$33))","v":157961798805}," "," ",null,23,12,2036]
[{"$f":"+Flujos!A155","v":"2034-04-23"},{"$f":"+Flujos!L155","v":-1.6927719116210938E-5},{"$f":"+Flujos!M155","v":0},{"$f":"+Flujos!N155","v":-9.4253540039062503E-8},{"$f":"+Flujos!O155","v":-9.4253540039062503E-8},null,"2036-12-23",{"$f":"IF(G155<CALCULADORA!$C$23,0,IF(CALCULADORA!$C$27>'TIR de Tenencia'!G155,E155,CALCULADORA!$C$33))","v":157961798805}," "," ",null,23,1,2037]
[{"$f":"+Flujos!A156","v":"2034-05-23"},{"$f":"+Flujos!L156","v":-1.6927719116210938E-5},{"$f":"+Flujos!M156","v":0},{"$f":"+Flujos!N156","v":-9.4253540039062503E-8},{"$f":"+Flujos!O156","v":-9.4253540039062503E-8},null,"2037-01-23",{"$f":"IF(G156<CALCULADORA!$C$23,0,IF(CALCULADORA!$C$27>'TIR de Tenencia'!G156,E156,CALCULADORA!$C$33))","v":157961798805}," "," ",null,23,2,2037]
[{"$f":"+Flujos!A157","v":"2034-06-23"},{"$f":"+Flujos!L157","v":-1.6927719116210938E-5},{"$f":"+Flujos!M157","v":0},{"$f":"+Flujos!N157","v":-9.4253540039062503E-8},{"$f":"+Flujos!O157","v":-9.4253540039062503E-8},null,"2037-02-23",{"$f":"IF(G157<CALCULADORA!$C$23,0,IF(CALCULADORA!$C$27>'TIR de Tenencia'!G157,E157,CALCULADORA!$C$33))","v":157961798805}," "," ",null,23,3,2037]
[{"$f":"+Flujos!A158","v":"2034-07-23"},{"$f":"+Flujos!L158","v":-1.6927719116210938E-5},{"$f":"+Flujos!M158","v":0},{"$f":"+Flujos!N158","v":-9.4253540039062503E-8},{"$f":"+Flujos!O158","v":-9.4253540039062503E-8},null,"2037-03-23",{"$f":"IF(G158<CALCULADORA!$C$23,0,IF(CALCULADORA!$C$27>'TIR de Tenencia'!G158,E158,CALCULADORA!$C$33))","v":157961798805}," "," ",null,23,4,2037]
[{"$f":"+Flujos!A159","v":"2034-08-23"},{"$f":"+Flujos!L159","v":-1.6927719116210938E-5},{"$f":"+Flujos!M159","v":0},{"$f":"+Flujos!N159","v":-9.4253540039062503E-8},{"$f":"+Flujos!O159","v":-9.4253540039062503E-8},null,"2037-04-23",{"$f":"IF(G159<CALCULADORA!$C$23,0,IF(CALCULADORA!$C$27>'TIR de Tenencia'!G159,E159,CALCULADORA!$C$33))","v":157961798805}," "," ",null,23,5,2037]
[{"$f":"+Flujos!A160","v":"2034-09-23"},{"$f":"+Flujos!L160","v":-1.6927719116210938E-5},{"$f":"+Flujos!M160","v":0},{"$f":"+Flujos!N160","v":-9.4253540039062503E-8},{"$f":"+Flujos!O160","v":-9.4253540039062503E-8},null,"2037-05-23",{"$f":"IF(G160<CALCULADORA!$C$23,0,IF(CALCULADORA!$C$27>'TIR de Tenencia'!G160,E160,CALCULADORA!$C$33))","v":157961798805}," "," ",null,23,6,2037]
[{"$f":"+Flujos!A161","v":"2034-10-23"},{"$f":"+Flujos!L161","v":-1.6927719116210938E-5},{"$f":"+Flujos!M161","v":0},{"$f":"+Flujos!N161","v":-9.4253540039062503E-8},{"$f":"+Flujos!O161","v":-9.4253540039062503E-8},null,"2037-06-23",{"$f":"IF(G161<CALCULADORA!$C$23,0,IF(CALCULADORA!$C$27>'TIR de Tenencia'!G161,E161,CALCULADORA!$C$33))","v":157961798805}," "," ",null,23,7,2037]
[{"$f":"+Flujos!A162","v":"2034-11-23"},{"$f":"+Flujos!L162","v":-1.6927719116210938E-5},{"$f":"+Flujos!M162","v":0},{"$f":"+Flujos!N162","v":-9.4253540039062503E-8},{"$f":"+Flujos!O162","v":-9.4253540039062503E-8},null,"2037-07-23",{"$f":"IF(G162<CALCULADORA!$C$23,0,IF(CALCULADORA!$C$27>'TIR de Tenencia'!G162,E162,CALCULADORA!$C$33))","v":157961798805}," "," ",null,23,8,2037]
[{"$f":"+Flujos!A163","v":"2034-12-23"},{"$f":"+Flujos!L163","v":-1.6927719116210938E-5},{"$f":"+Flujos!M163","v":0},{"$f":"+Flujos!N163","v":-9.4253540039062503E-8},{"$f":"+Flujos!O163","v":-9.4253540039062503E-8},null,{"$f":"+DATE(N162,M162,L162)","v":"2037-08-23"},{"$f":"IF(G163<CALCULADORA!$C$23,0,IF(CALCULADORA!$C$27>'TIR de Tenencia'!G163,E163,CALCULADORA!$C$33))","v":157961798805}," "," ",null,23,9,2037]
[{"$f":"+Flujos!A164","v":"2035-01-23"},{"$f":"+Flujos!L164","v":-1.6927719116210938E-5},{"$f":"+Flujos!M164","v":0},{"$f":"+Flujos!N164","v":-9.4253540039062503E-8},{"$f":"+Flujos!O164","v":-9.4253540039062503E-8},null,"2037-09-23",{"$f":"IF(G164<CALCULADORA!$C$23,0,IF(CALCULADORA!$C$27>'TIR de Tenencia'!G164,E164,CALCULADORA!$C$33))","v":157961798805}," "," ",null,23,10,2037]
[{"$f":"+Flujos!A165","v":"2035-02-23"},{"$f":"+Flujos!L165","v":-1.6927719116210938E-5},{"$f":"+Flujos!M165","v":0},{"$f":"+Flujos!N165","v":-9.4253540039062503E-8},{"$f":"+Flujos!O165","v":-9.4253540039062503E-8},null,"2037-10-23",{"$f":"IF(G165<CALCULADORA!$C$23,0,IF(CALCULADORA!$C$27>'TIR de Tenencia'!G165,E165,CALCULADORA!$C$33))","v":157961798805}," "," ",null,23,11,2037]
[{"$f":"+Flujos!A166","v":"2035-03-23"},{"$f":"+Flujos!L166","v":-1.6927719116210938E-5},{"$f":"+Flujos!M166","v":0},{"$f":"+Flujos!N166","v":-9.4253540039062503E-8},{"$f":"+Flujos!O166","v":-9.4253540039062503E-8},null,"2037-11-23",{"$f":"IF(G166<CALCULADORA!$C$23,0,IF(CALCULADORA!$C$27>'TIR de Tenencia'!G166,E166,CALCULADORA!$C$33))","v":157961798805}," "," ",null,23,12,2037]
[{"$f":"+Flujos!A167","v":"2035-04-23"},{"$f":"+Flujos!L167","v":-1.6927719116210938E-5},{"$f":"+Flujos!M167","v":0},{"$f":"+Flujos!N167","v":-9.4253540039062503E-8},{"$f":"+Flujos!O167","v":-9.4253540039062503E-8},null,"2037-12-23",{"$f":"IF(G167<CALCULADORA!$C$23,0,IF(CALCULADORA!$C$27>'TIR de Tenencia'!G167,E167,CALCULADORA!$C$33))","v":157961798805}," "," ",null,23,1,2038]
[{"$f":"+Flujos!A168","v":"2035-05-23"},{"$f":"+Flujos!L168","v":-1.6927719116210938E-5},{"$f":"+Flujos!M168","v":0},{"$f":"+Flujos!N168","v":-9.4253540039062503E-8},{"$f":"+Flujos!O168","v":-9.4253540039062503E-8},null,"2038-01-23",{"$f":"IF(G168<CALCULADORA!$C$23,0,IF(CALCULADORA!$C$27>'TIR de Tenencia'!G168,E168,CALCULADORA!$C$33))","v":157961798805}," "," ",null,23,2,2038]
[{"$f":"+Flujos!A169","v":"2035-06-23"},{"$f":"+Flujos!L169","v":-1.6927719116210938E-5},{"$f":"+Flujos!M169","v":0},{"$f":"+Flujos!N169","v":-9.4253540039062503E-8},{"$f":"+Flujos!O169","v":-9.4253540039062503E-8},null,"2038-02-23",{"$f":"IF(G169<CALCULADORA!$C$23,0,IF(CALCULADORA!$C$27>'TIR de Tenencia'!G169,E169,CALCULADORA!$C$33))","v":157961798805}," "," ",null,23,3,2038]
[{"$f":"+Flujos!A170","v":"2035-07-23"},{"$f":"+Flujos!L170","v":-1.6927719116210938E-5},{"$f":"+Flujos!M170","v":0},{"$f":"+Flujos!N170","v":-9.4253540039062503E-8},{"$f":"+Flujos!O170","v":-9.4253540039062503E-8},null,"2038-03-23",{"$f":"IF(G170<CALCULADORA!$C$23,0,IF(CALCULADORA!$C$27>'TIR de Tenencia'!G170,E170,CALCULADORA!$C$33))","v":157961798805}," "," ",null,23,4,2038]
[{"$f":"+Flujos!A171","v":"2035-08-23"},{"$f":"+Flujos!L171","v":-1.6927719116210938E-5},{"$f":"+Flujos!M171","v":0},{"$f":"+Flujos!N171","v":-9.4253540039062503E-8},{"$f":"+Flujos!O171","v":-9.4253540039062503E-8},null,"2038-04-23",{"$f":"IF(G171<CALCULADORA!$C$23,0,IF(CALCULADORA!$C$27>'TIR de Tenencia'!G171,E171,CALCULADORA!$C$33))","v":157961798805}," "," ",null,23,5,2038]
[{"$f":"+Flujos!A172","v":"2035-09-23"},{"$f":"+Flujos!L172","v":-1.6927719116210938E-5},{"$f":"+Flujos!M172","v":0},{"$f":"+Flujos!N172","v":-9.4253540039062503E-8},{"$f":"+Flujos!O172","v":-9.4253540039062503E-8},null,"2038-05-23",{"$f":"IF(G172<CALCULADORA!$C$23,0,IF(CALCULADORA!$C$27>'TIR de Tenencia'!G172,E172,CALCULADORA!$C$33))","v":157961798805}," "," ",null,23,6,2038]
[{"$f":"+Flujos!A173","v":"2035-10-23"},{"$f":"+Flujos!L173","v":-1.6927719116210938E-5},{"$f":"+Flujos!M173","v":0},{"$f":"+Flujos!N173","v":-9.4253540039062503E-8},{"$f":"+Flujos!O173","v":-9.4253540039062503E-8},null,"2038-06-23",{"$f":"IF(G173<CALCULADORA!$C$23,0,IF(CALCULADORA!$C$27>'TIR de Tenencia'!G173,E173,CALCULADORA!$C$33))","v":157961798805}," "," ",null,23,7,2038]
[{"$f":"+Flujos!A174","v":"2035-11-23"},{"$f":"+Flujos!L174","v":-1.6927719116210938E-5},{"$f":"+Flujos!M174","v":0},{"$f":"+Flujos!N174","v":-9.4253540039062503E-8},{"$f":"+Flujos!O174","v":-9.4253540039062503E-8},null,"2038-07-23",{"$f":"IF(G174<CALCULADORA!$C$23,0,IF(CALCULADORA!$C$27>'TIR de Tenencia'!G174,E174,CALCULADORA!$C$33))","v":157961798805}," "," ",null,23,8,2038]
[{"$f":"+Flujos!A175","v":"2035-12-23"},{"$f":"+Flujos!L175","v":-1.6927719116210938E-5},{"$f":"+Flujos!M175","v":0},{"$f":"+Flujos!N175","v":-9.4253540039062503E-8},{"$f":"+Flujos!O175","v":-9.4253540039062503E-8},null,"2038-08-23",{"$f":"IF(G175<CALCULADORA!$C$23,0,IF(CALCULADORA!$C$27>'TIR de Tenencia'!G175,E175,CALCULADORA!$C$33))","v":157961798805}," "," ",null,23,9,2038]
[{"$f":"+Flujos!A176","v":"2036-01-23"},{"$f":"+Flujos!L176","v":-1.6927719116210938E-5},{"$f":"+Flujos!M176","v":0},{"$f":"+Flujos!N176","v":-9.4253540039062503E-8},{"$f":"+Flujos!O176","v":-9.4253540039062503E-8},null,"2038-09-23",{"$f":"IF(G176<CALCULADORA!$C$23,0,IF(CALCULADORA!$C$27>'TIR de Tenencia'!G176,E176,CALCULADORA!$C$33))","v":157961798805}," "," ",null,23,10,2038]
[{"$f":"+Flujos!A177","v":"2036-02-23"},{"$f":"+Flujos!L177","v":-1.6927719116210938E-5},{"$f":"+Flujos!M177","v":0},{"$f":"+Flujos!N177","v":-9.4253540039062503E-8},{"$f":"+Flujos!O177","v":-9.4253540039062503E-8},null,"2038-10-23",{"$f":"IF(G177<CALCULADORA!$C$23,0,IF(CALCULADORA!$C$27>'TIR de Tenencia'!G177,E177,CALCULADORA!$C$33))","v":157961798805}," "," ",null,23,11,2038]
[{"$f":"+Flujos!A178","v":"2036-03-23"},{"$f":"+Flujos!L178","v":-1.6927719116210938E-5},{"$f":"+Flujos!M178","v":0},{"$f":"+Flujos!N178","v":-9.4253540039062503E-8},{"$f":"+Flujos!O178","v":-9.4253540039062503E-8},null,"2038-11-23",{"$f":"IF(G178<CALCULADORA!$C$23,0,IF(CALCULADORA!$C$27>'TIR de Tenencia'!G178,E178,CALCULADORA!$C$33))","v":157961798805}," "," ",null,23,12,2038]
[{"$f":"+Flujos!A179","v":"2036-04-23"},{"$f":"+Flujos!L179","v":-1.6927719116210938E-5},{"$f":"+Flujos!M179","v":0},{"$f":"+Flujos!N179","v":-9.4253540039062503E-8},{"$f":"+Flujos!O179","v":-9.4253540039062503E-8},null,"2038-12-23",{"$f":"IF(G179<CALCULADORA!$C$23,0,IF(CALCULADORA!$C$27>'TIR de Tenencia'!G179,E179,CALCULADORA!$C$33))","v":157961798805}," "," ",null,23,1,2039]
[{"$f":"+Flujos!A180","v":"2036-05-23"},{"$f":"+Flujos!L180","v":-1.6927719116210938E-5},{"$f":"+Flujos!M180","v":0},{"$f":"+Flujos!N180","v":-9.4253540039062503E-8},{"$f":"+Flujos!O180","v":-9.4253540039062503E-8},null,"2039-01-23",{"$f":"IF(G180<CALCULADORA!$C$23,0,IF(CALCULADORA!$C$27>'TIR de Tenencia'!G180,E180,CALCULADORA!$C$33))","v":157961798805}," "," ",null,23,2,2039]
[{"$f":"+Flujos!A181","v":"2036-06-23"},{"$f":"+Flujos!L181","v":-1.6927719116210938E-5},{"$f":"+Flujos!M181","v":0},{"$f":"+Flujos!N181","v":-9.4253540039062503E-8},{"$f":"+Flujos!O181","v":-9.4253540039062503E-8},null,"2039-02-23",{"$f":"IF(G181<CALCULADORA!$C$23,0,IF(CALCULADORA!$C$27>'TIR de Tenencia'!G181,E181,CALCULADORA!$C$33))","v":157961798805}," "," ",null,23,3,2039]
[{"$f":"+Flujos!A182","v":"2036-07-23"},{"$f":"+Flujos!L182","v":-1.6927719116210938E-5},{"$f":"+Flujos!M182","v":0},{"$f":"+Flujos!N182","v":-9.4253540039062503E-8},{"$f":"+Flujos!O182","v":-9.4253540039062503E-8},null,"2039-03-23",{"$f":"IF(G182<CALCULADORA!$C$23,0,IF(CALCULADORA!$C$27>'TIR de Tenencia'!G182,E182,CALCULADORA!$C$33))","v":157961798805}," "," ",null,23,4,2039]
[null,"Totales",{"$f":"SUM(C2:C182)","v":329854337688.40015},84704221994.420975,414558559682.82123]
[null,null,null,null,null,null,null,null,{"$f":"+IF(H184=H183,\" \",H184)","v":" "},null,{"$f":"+MONTH(A184)","v":1},{"$f":"+YEAR(A184)","v":1900}]
[null,null,null,null,null,null,null,null," ",null,1,1900]
[null,null,null,null,null,null,null,null," ",null,1,1900]
[null,null,null,null,null,null,null,null," ",null,1,1900]
[null,null,null,null,null,null,null,null," ",null,1,1900]
[null,null,null,null,null,null,null,null," ",null,1,1900]
[null,null,null,null,null,null,null,null," ",null,1,1900]
[null,null,null,null,null,null,null,null," ",null,1,1900]
[null,null,null,null,null,null,null,null," ",null,1,1900]
[null,null,null,null,null,null,null,null," ",null,1,1900]
[null,null,null,null,null,null,null,null," ",null,1,1900]
[null,null,null,null,null,null,null,null," ",null,1,1900]
[null,null,null,null,null,null,null,null," ",null,1,1900]
[null,null,null,null,null,null,null,null," ",null,1,1900]
[null,null,null,null,null,null,null,null," ",null,1,1900]
[null,null,null,null,null,null,null,null," ",null,1,1900]
[null,null,null,null,null,null,null,null," ",null,1,1900]
[null,null,null,null,null,null,null,null," ",null,1,1900]
[null,null,null,null,null,null,null,null," ",null,1,1900]
[null,null,null,null,null,null,null,null," ",null,1,1900]
[null,null,null,null,null,null,null,null," ",null,1,1900]
[null,null,null,null,null,null,null,null," ",null,1,1900]
[null,null,null,null,null,null,null,null," ",null,1,1900]
[null,null,null,null,null,null,null,null," ",null,1,1900]
[null,null,null,null,null,null,null,null," ",null,1,1900]
[null,null,null,null,null,null,null,null," ",null,1,1900]
[null,null,null,null,null,null,null,null," ",null,1,1900]
[null,null,null,null,null,null,null,null," ",null,1,1900]
[null,null,null,null,null,null,null,null," ",null,1,1900]
[null,null,null,null,null,null,null,null," ",null,1,1900]
[null,null,null,null,null,null,null,null," ",null,1,1900]
[null,null,null,null,null,null,null,null," ",null,1,1900]
[null,null,null,null,null,null,null,null," ",null,1,1900]
[null,null,null,null,null,null,null,null," ",null,1,1900]
[null,null,null,null,null,null,null,null," ",null,1,1900]
[null,null,null,null,null,null,null,null," ",null,1,1900]
[null,null,null,null,null,null,null,null," ",null,1,1900]
[null,null,null,null,null,null,null,null," ",null,1,1900]
[null,null,null,null,null,null,null,null," ",null,1,1900]
[null,null,null,null,null,null,null,null," ",null,1,1900]
[null,null,null,null,null,null,null,null," ",null,1,1900]
[null,null,null,null,null,null,null,null," ",null,1,1900]
[null,null,null,null,null,null,null,null," ",null,1,1900]
[null,null,null,null,null,null,null,null," ",null,1,1900]
[null,null,null,null,null,null,null,null," ",null,1,1900]
[null,null,null,null,null,null,null,null," ",null,1,1900]
[null,null,null,null,null,null,null,null," ",null,1,1900]
[null,null,null,null,null,null,null,null," ",null,1,1900]
[null,null,null,null,null,null,null,null," ",null,1,1900]
[null,null,null,null,null,null,null,null," ",null,1,1900]
[null,null,null,null,null,null,null,null," ",null,1,1900]
[null,null,null,null,null,null,null,null," ",null,1,1900]
[null,null,null,null,null,null,null,null," ",null,1,1900]
[null,null,null,null,null,null,null,null," ",null,1,1900]
[null,null,null,null,null,null,null,null," ",null,1,1900]
[null,null,null,null,null,null,null,null," ",null,1,1900]
[null,null,null,null,null,null,null,null," ",null,1,1900]
[null,null,null,null,null,null,null,null," ",null,1,1900]
[null,null,null,null,null,null,null,null," ",null,1,1900]
[null,null,null,null,null,null,null,null," ",null,1,1900]
[null,null,null,null,null,null,null,null," ",null,1,1900]
[null,null,null,null,null,null,null,null," ",null,1,1900]
[null,null,null,null,null,null,null,null," ",null,1,1900]
[null,null,null,null,null,null,null,null," ",null,1,1900]
[null,null,null,null,null,null,null,null,{"$f":"+IF(H248=H247,\" \",H248)","v":" "},null,{"$f":"+MONTH(A248)","v":1},{"$f":"+YEAR(A248)","v":1900}]
[null,null,null,null,null,null,null,null," ",null,1,1900]
[null,null,null,null,null,null,null,null," ",null,1,1900]
[null,null,null,null,null,null,null,null," ",null,1,1900]
[null,null,null,null,null,null,null,null," ",null,1,1900]
[null,null,null,null,null,null,null,null," ",null,1,1900]
[null,null,null,null,null,null,null,null," ",null,1,1900]
[null,null,null,null,null,null,null,null," ",null,1,1900]
[null,null,null,null,null,null,null,null," ",null,1,1900]
[null,null,null,null,null,null,null,null," ",null,1,1900]
[null,null,null,null,null,null,null,null," ",null,1,1900]
[null,null,null,null,null,null,null,null," ",null,1,1900]
[null,null,null,null,null,null,null,null," ",null,1,1900]
[null,null,null,null,null,null,null,null," ",null,1,1900]
[null,null,null,null,null,null,null,null," ",null,1,1900]
[null,null,null,null,null,null,null,null," ",null,1,1900]
[null,null,null,null,null,null,null,null," ",null,1,1900]
[null,null,null,null,null,null,null,null," ",null,1,1900]
[null,null,null,null,null,null,null,null," ",null,1,1900]
[null,null,null,null,null,null,null,null," ",null,1,1900]
[null,null,null,null,null,null,null,null," ",null,1,1900]
[null,null,null,null,null,null,null,null," ",null,1,1900]
[null,null,null,null,null,null,null,null," ",null,1,1900]
[null,null,null,null,null,null,null,null," ",null,1,1900]
[null,null,null,null,null,null,null,null," ",null,1,1900]
[null,null,null,null,null,null,null,null," ",null,1,1900]
[null,null,null,null,null,null,null,null," ",null,1,1900]
[null,null,null,null,null,null,null,null," ",null,1,1900]
[null,null,null,null,null,null,null,null," ",null,1,1900]
[null,null,null,null,null,null,null,null," ",null,1,1900]
[null,null,null,null,null,null,null,null," ",null,1,1900]
[null,null,null,null,null,null,null,null," ",null,1,1900]
[null,null,null,null,null,null,null,null," ",null,1,1900]
[null,null,null,null,null,null,null,null," ",null,1,1900]
[null,null,null,null,null,null,null,null," ",null,1,1900]
[null,null,null,null,null,null,null,null," ",null,1,1900]
[null,null,null,null,null,null,null,null," ",null,1,1900]
[null,null,null,null,null,null,null,null," ",null,1,1900]
[null,null,null,null,null,null,null,null," ",null,1,1900]
[null,null,null,null,null,null,null,null," ",null,1,1900]
[null,null,null,null,null,null,null,null," ",null,1,1900]
[null,null,null,null,null,null,null,null," ",null,1,1900]
[null,null,null,null,null,null,null,null," ",null,1,1900]
[null,null,null,null,null,null,null,null," ",null,1,1900]
[null,null,null,null,null,null,null,null," ",null,1,1900]
[null,null,null,null,null,null,null,null," ",null,1,1900]
[null,null,null,null,null,null,null,null," ",null,1,1900]
[null,null,null,null,null,null,null,null," ",null,1,1900]
[null,null,null,null,null,null,null,null," ",null,1,1900]
[null,null,null,null,null,null,null,null," ",null,1,1900]
[null,null,null,null,null,null,null,null," ",null,1,1900]
[null,null,null,null,null,null,null,null," ",null,1,1900]
[null,null,null,null,null,null,null,null," ",null,1,1900]
[null,null,null,null,null,null,null,null," ",null,1,1900]
[null,null,null,null,null,null,null,null," ",null,1,1900]
[null,null,null,null,null,null,null,null," ",null,1,1900]
[null,null,null,null,null,null,null,null," ",null,1,1900]
[null,null,null,null,null,null,null,null," ",null,1,1900]
[null,null,null,null,null,null,null,null," ",null,1,1900]
[null,null,null,null,null,null,null,null," ",null,1,1900]
[null,null,null,null,null,null,null,null," ",null,1,1900]
[null,null,null,null,null,null,null,null," ",null,1,1900]
[null,null,null,null,null,null,null,null," ",null,1,1900]
[null,null,null,null,null,null,null,null," ",null,1,1900]
[null,null,null,null,null,null,null,null,{"$f":"+IF(H312=H311,\" \",H312)","v":" "},null,{"$f":"+MONTH(A312)","v":1},{"$f":"+YEAR(A312)","v":1900}]
[null,null,null,null,null,null,null,null," ",null,1,1900]
[null,null,null,null,null,null,null,null," ",null,1,1900]
[null,null,null,null,null,null,null,null," ",null,1,1900]
[null,null,null,null,null,null,null,null," ",null,1,1900]
[null,null,null,null,null,null,null,null," ",null,1,1900]
[null,null,null,null,null,null,null,null," ",null,1,1900]
[null,null,null,null,null,null,null,null," ",null,1,1900]
[null,null,null,null,null,null,null,null," ",null,1,1900]
[null,null,null,null,null,null,null,null," ",null,1,1900]
[null,null,null,null,null,null,null,null," ",null,1,1900]
[null,null,null,null,null,null,null,null," ",null,1,1900]
[null,null,null,null,null,null,null,null," ",null,1,1900]
[null,null,null,null,null,null,null,null," ",null,1,1900]
[null,null,null,null,null,null,null,null," ",null,1,1900]
[null,null,null,null,null,null,null,null," ",null,1,1900]
[null,null,null,null,null,null,null,null," ",null,1,1900]
[null,null,null,null,null,null,null,null," ",null,1,1900]
[null,null,null,null,null,null,null,null," ",null,1,1900]
[null,null,null,null,null,null,null,null," ",null,1,1900]
[null,null,null,null,null,null,null,null," ",null,1,1900]
[null,null,null,null,null,null,null,null," ",null,1,1900]
[null,null,null,null,null,null,null,null," ",null,1,1900]
[null,null,null,null,null,null,null,null," ",null,1,1900]
[null,null,null,null,null,null,null,null," ",null,1,1900]
[null,null,null,null,null,null,null,null," ",null,1,1900]
[null,null,null,null,null,null,null,null," ",null,1,1900]
[null,null,null,null,null,null,null,null," ",null,1,1900]
[null,null,null,null,null,null,null,null," ",null,1,1900]
[null,null,null,null,null,null,null,null," ",null,1,1900]
[null,null,null,null,null,null,null,null," ",null,1,1900]
[null,null,null,null,null,null,null,null," ",null,1,1900]
[null,null,null,null,null,null,null,null," ",null,1,1900]
[null,null,null,null,null,null,null,null," ",null,1,1900]
[null,null,null,null,null,null,null,null," ",null,1,1900]
[null,null,null,null,null,null,null,null," ",null,1,1900]
[null,null,null,null,null,null,null,null," ",null,1,1900]
[null,null,null,null,null,null,null,null," ",null,1,1900]
[null,null,null,null,null,null,null,null," ",null,1,1900]
[null,null,null,null,null,null,null,null," ",null,1,1900]
[null,null,null,null,null,null,null,null," ",null,1,1900]
[null,null,null,null,null,null,null,null," ",null,1,1900]
[null,null,null,null,null,null,null,null," ",null,1,1900]
[null,null,null,null,null,null,null,null," ",null,1,1900]
[null,null,null,null,null,null,null,null," ",null,1,1900]
[null,null,null,null,null,null,null,null," ",null,1,1900]
[null,null,null,null,null,null,null,null," ",null,1,1900]
[null,null,null,null,null,null,null,null," ",null,1,1900]
[null,null,null,null,null,null,null,null," ",null,1,1900]
[null,null,null,null,null,null,null,null," ",null,1,1900]
[null,null,null,null,null,null,null,null," ",null,1,1900]
[null,null,null,null,null,null,null,null," ",null,1,1900]
[null,null,null,null,null,null,null,null," ",null,1,1900]
[null,null,null,null,null,null,null,null," ",null,1,1900]
[null,null,null,null,null,null,null,null," ",null,1,1900]
[null,null,null,null,null,null,null,null," ",null,1,1900]
[null,null,null,null,null,null,null,null," ",null,1,1900]
[null,null,null,null,null,null,null,null," ",null,1,1900]
[null,null,null,null,null,null,null,null," ",null,1,1900]
[null,null,null,null,null,null,null,null," ",null,1,1900]
[null,null,null,null,null,null,null,null," ",null,1,1900]
[null,null,null,null,null,null,null,null," ",null,1,1900]
[null,null,null,null,null,null,null,null," ",null,1,1900]
[null,null,null,null,null,null,null,null," ",null,1,1900]
[null,null,null,null,null,null,null,null,{"$f":"+IF(H376=H375,\" \",H376)","v":" "},null,{"$f":"+MONTH(A376)","v":1},{"$f":"+YEAR(A376)","v":1900}]
[null,null,null,null,null,null,null,null," ",null,1,1900]
[null,null,null,null,null,null,null,null," ",null,1,1900]
[null,null,null,null,null,null,null,null," ",null,1,1900]
[null,null,null,null,null,null,null,null," ",null,1,1900]
[null,null,null,null,null,null,null,null," ",null,1,1900]
[null,null,null,null,null,null,null,null," ",null,1,1900]
[null,null,null,null,null,null,null,null," ",null,1,1900]
[null,null,null,null,null,null,null,null," ",null,1,1900]
[null,null,null,null,null,null,null,null," ",null,1,1900]
[null,null,null,null,null,null,null,null," ",null,1,1900]
[null,null,null,null,null,null,null,null," ",null,1,1900]
[null,null,null,null,null,null,null,null," ",null,1,1900]
[null,null,null,null,null,null,null,null," ",null,1,1900]
[null,null,null,null,null,null,null,null," ",null,1,1900]
[null,null,null,null,null,null,null,null," ",null,1,1900]
[null,null,null,null,null,null,null,null," ",null,1,1900]
[null,null,null,null,null,null,null,null," ",null,1,1900]
[null,null,null,null,null,null,null,null," ",null,1,1900]
[null,null,null,null,null,null,null,null," ",null,1,1900]
[null,null,null,null,null,null,null,null," ",null,1,1900]
[null,null,null,null,null,null,null,null," ",null,1,1900]
[null,null,null,null,null,null,null,null," ",null,1,1900]
[null,null,null,null,null,null,null,null," ",null,1,1900]
[null,null,null,null,null,null,null,null," ",null,1,1900]
[null,null,null,null,null,null,null,null," ",null,1,1900]
[null,null,null,null,null,null,null,null," ",null,1,1900]
[null,null,null,null,null,null,null,null," ",null,1,1900]
[null,null,null,null,null,null,null,null," ",null,1,1900]
[null,null,null,null,null,null,null,null," ",null,1,1900]
[null,null,null,null,null,null,null,null," ",null,1,1900]
[null,null,null,null,null,null,null,null," ",null,1,1900]
[null,null,null,null,null,null,null,null," ",null,1,1900]
[null,null,null,null,null,null,null,null," ",null,1,1900]
[null,null,null,null,null,null,null,null," ",null,1,1900]
[null,null,null,null,null,null,null,null," ",null,1,1900]
[null,null,null,null,null,null,null,null," ",null,1,1900]
[null,null,null,null,null,null,null,null," ",null,1,1900]
[null,null,null,null,null,null,null,null," ",null,1,1900]
[null,null,null,null,null,null,null,null," ",null,1,1900]
[null,null,null,null,null,null,null,null," ",null,1,1900]
[null,null,null,null,null,null,null,null," ",null,1,1900]
[null,null,null,null,null,null,null,null," ",null,1,1900]
[null,null,null,null,null,null,null,null," ",null,1,1900]
[null,null,null,null,null,null,null,null," ",null,1,1900]
[null,null,null,null,null,null,null,null," ",null,1,1900]
[null,null,null,null,null,null,null,null," ",null,1,1900]
[null,null,null,null,null,null,null,null," ",null,1,1900]
[null,null,null,null,null,null,null,null," ",null,1,1900]
[null,null,null,null,null,null,null,null," ",null,1,1900]
[null,null,null,null,null,null,null,null," ",null,1,1900]
[null,null,null,null,null,null,null,null," ",null,1,1900]
[null,null,null,null,null,null,null,null," ",null,1,1900]
[null,null,null,null,null,null,null,null," ",null,1,1900]
[null,null,null,null,null,null,null,null," ",null,1,1900]
[null,null,null,null,null,null,null,null," ",null,1,1900]
[null,null,null,null,null,null,null,null," ",null,1,1900]
[null,null,null,null,null,null,null,null," ",null,1,1900]
[null,null,null,null,null,null,null,null," ",null,1,1900]
[null,null,null,null,null,null,null,null," ",null,1,1900]
[null,null,null,null,null,null,null,null," ",null,1,1900]
[null,null,null,null,null,null,null,null," ",null,1,1900]
[null,null,null,null,null,null,null,null," ",null,1,1900]
[null,null,null,null,null,null,null,null," ",null,1,1900]
[null,null,null,null,null,null,null,null,{"$f":"+IF(H440=H439,\" \",H440)","v":" "},null,{"$f":"+MONTH(A440)","v":1},{"$f":"+YEAR(A440)","v":1900}]
[null,null,null,null,null,null,null,null," ",null,1,1900]
[null,null,null,null,null,null,null,null," ",null,1,1900]
[null,null,null,null,null,null,null,null," ",null,1,1900]
[null,null,null,null,null,null,null,null," ",null,1,1900]
[null,null,null,null,null,null,null,null," ",null,1,1900]
[null,null,null,null,null,null,null,null," ",null,1,1900]
[null,null,null,null,null,null,null,null," ",null,1,1900]
[null,null,null,null,null,null,null,null," ",null,1,1900]
[null,null,null,null,null,null,null,null," ",null,1,1900]
[null,null,null,null,null,null,null,null," ",null,1,1900]
[null,null,null,null,null,null,null,null," ",null,1,1900]
[null,null,null,null,null,null,null,null," ",null,1,1900]
[null,null,null,null,null,null,null,null," ",null,1,1900]
[null,null,null,null,null,null,null,null," ",null,1,1900]
[null,null,null,null,null,null,null,null," ",null,1,1900]
[null,null,null,null,null,null,null,null," ",null,1,1900]
[null,null,null,null,null,null,null,null," ",null,1,1900]
[null,null,null,null,null,null,null,null," ",null,1,1900]
[null,null,null,null,null,null,null,null," ",null,1,1900]
[null,null,null,null,null,null,null,null," ",null,1,1900]
[null,null,null,null,null,null,null,null," ",null,1,1900]
[null,null,null,null,null,null,null,null," ",null,1,1900]
[null,null,null,null,null,null,null,null," ",null,1,1900]
[null,null,null,null,null,null,null,null," ",null,1,1900]
[null,null,null,null,null,null,null,null," ",null,1,1900]
[null,null,null,null,null,null,null,null," ",null,1,1900]
[null,null,null,null,null,null,null,null," ",null,1,1900]
[null,null,null,null,null,null,null,null," ",null,1,1900]
[null,null,null,null,null,null,null,null," ",null,1,1900]
[null,null,null,null,null,null,null,null," ",null,1,1900]
[null,null,null,null,null,null,null,null," ",null,1,1900]
[null,null,null,null,null,null,null,null," ",null,1,1900]
[null,null,null,null,null,null,null,null," ",null,1,1900]
[null,null,null,null,null,null,null,null," ",null,1,1900]
[null,null,null,null,null,null,null,null," ",null,1,1900]
[null,null,null,null,null,null,null,null," ",null,1,1900]
[null,null,null,null,null,null,null,null," ",null,1,1900]
[null,null,null,null,null,null,null,null," ",null,1,1900]
[null,null,null,null,null,null,null,null," ",null,1,1900]
[null,null,null,null,null,null,null,null," ",null,1,1900]
[null,null,null,null,null,null,null,null," ",null,1,1900]
[null,null,null,null,null,null,null,null," ",null,1,1900]
[null,null,null,null,null,null,null,null," ",null,1,1900]
[null,null,null,null,null,null,null,null," ",null,1,1900]
[null,null,null,null,null,null,null,null," ",null,1,1900]
[null,null,null,null,null,null,null,null," ",null,1,1900]
[null,null,null,null,null,null,null,null," ",null,1,1900]
[null,null,null,null,null,null,null,null," ",null,1,1900]
[null,null,null,null,null,null,null,null," ",null,1,1900]
[null,null,null,null,null,null,null,null," ",null,1,1900]
[null,null,null,null,null,null,null,null," ",null,1,1900]
[null,null,null,null,null,null,null,null," ",null,1,1900]
[null,null,null,null,null,null,null,null," ",null,1,1900]
[null,null,null,null,null,null,null,null," ",null,1,1900]
[null,null,null,null,null,null,null,null," ",null,1,1900]
[null,null,null,null,null,null,null,null," ",null,1,1900]
[null,null,null,null,null,null,null,null," ",null,1,1900]
[null,null,null,null,null,null,null,null," ",null,1,1900]
[null,null,null,null,null,null,null,null," ",null,1,1900]
[null,null,null,null,null,null,null,null," ",null,1,1900]
[null,null,null,null,null,null,null,null," ",null,1,1900]
[null,null,null,null,null,null,null,null," ",null,1,1900]
[null,null,null,null,null,null,null,null," ",null,1,1900]
[null,null,null,null,null,null,null,null,{"$f":"+IF(H504=H503,\" \",H504)","v":" "},null,{"$f":"+MONTH(A504)","v":1},{"$f":"+YEAR(A504)","v":1900}]
[null,null,null,null,null,null,null,null," ",null,1,1900]
[null,null,null,null,null,null,null,null," ",null,1,1900]
[null,null,null,null,null,null,null,null," ",null,1,1900]
[null,null,null,null,null,null,null,null," ",null,1,1900]
[null,null,null,null,null,null,null,null," ",null,1,1900]
[null,null,null,null,null,null,null,null," ",null,1,1900]
[null,null,null,null,null,null,null,null," ",null,1,1900]
[null,null,null,null,null,null,null,null," ",null,1,1900]
[null,null,null,null,null,null,null,null," ",null,1,1900]
[null,null,null,null,null,null,null,null," ",null,1,1900]
[null,null,null,null,null,null,null,null," ",null,1,1900]
[null,null,null,null,null,null,null,null," ",null,1,1900]
[null,null,null,null,null,null,null,null," ",null,1,1900]
[null,null,null,null,null,null,null,null," ",null,1,1900]
[null,null,null,null,null,null,null,null," ",null,1,1900]
[null,null,null,null,null,null,null,null," ",null,1,1900]
[null,null,null,null,null,null,null,null," ",null,1,1900]
[null,null,null,null,null,null,null,null," ",null,1,1900]
[null,null,null,null,null,null,null,null," ",null,1,1900]
[null,null,null,null,null,null,null,null," ",null,1,1900]
[null,null,null,null,null,null,null,null," ",null,1,1900]
[null,null,null,null,null,null,null,null," ",null,1,1900]
[null,null,null,null,null,null,null,null," ",null,1,1900]
[null,null,null,null,null,null,null,null," ",null,1,1900]
[null,null,null,null,null,null,null,null," ",null,1,1900]
[null,null,null,null,null,null,null,null," ",null,1,1900]
[null,null,null,null,null,null,null,null," ",null,1,1900]
[null,null,null,null,null,null,null,null," ",null,1,1900]
[null,null,null,null,null,null,null,null," ",null,1,1900]
[null,null,null,null,null,null,null,null," ",null,1,1900]
[null,null,null,null,null,null,null,null," ",null,1,1900]
[null,null,null,null,null,null,null,null," ",null,1,1900]
[null,null,null,null,null,null,null,null," ",null,1,1900]
[null,null,null,null,null,null,null,null," ",null,1,1900]
[null,null,null,null,null,null,null,null," ",null,1,1900]
[null,null,null,null,null,null,null,null," ",null,1,1900]
[null,null,null,null,null,null,null,null," ",null,1,1900]
[null,null,null,null,null,null,null,null," ",null,1,1900]
[null,null,null,null,null,null,null,null," ",null,1,1900]
[null,null,null,null,null,null,null,null," ",null,1,1900]
[null,null,null,null,null,null,null,null," ",null,1,1900]
[null,null,null,null,null,null,null,null," ",null,1,1900]
[null,null,null,null,null,null,null,null," ",null,1,1900]
[null,null,null,null,null,null,null,null," ",null,1,1900]
[null,null,null,null,null,null,null,null," ",null,1,1900]
[null,null,null,null,null,null,null,null," ",null,1,1900]
[null,null,null,null,null,null,null,null," ",null,1,1900]
[null,null,null,null,null,null,null,null," ",null,1,1900]
[null,null,null,null,null,null,null,null," ",null,1,1900]
[null,null,null,null,null,null,null,null," ",null,1,1900]
[null,null,null,null,null,null,null,null," ",null,1,1900]
[null,null,null,null,null,null,null,null," ",null,1,1900]
[null,null,null,null,null,null,null,null," ",null,1,1900]
[null,null,null,null,null,null,null,null," ",null,1,1900]
[null,null,null,null,null,null,null,null," ",null,1,1900]
[null,null,null,null,null,null,null,null," ",null,1,1900]
[null,null,null,null,null,null,null,null," ",null,1,1900]
[null,null,null,null,null,null,null,null," ",null,1,1900]
[null,null,null,null,null,null,null,null," ",null,1,1900]
[null,null,null,null,null,null,null,null," ",null,1,1900]
[null,null,null,null,null,null,null,null," ",null,1,1900]
[null,null,null,null,null,null,null,null," ",null,1,1900]
[null,null,null,null,null,null,null,null," ",null,1,1900]
[null,null,null,null,null,null,null,null,{"$f":"+IF(H568=H567,\" \",H568)","v":" "},null,{"$f":"+MONTH(A568)","v":1},{"$f":"+YEAR(A568)","v":1900}]
[null,null,null,null,null,null,null,null," ",null,1,1900]
[null,null,null,null,null,null,null,null," ",null,1,1900]
[null,null,null,null,null,null,null,null," ",null,1,1900]
[null,null,null,null,null,null,null,null," ",null,1,1900]
[null,null,null,null,null,null,null,null," ",null,1,1900]
[null,null,null,null,null,null,null,null," ",null,1,1900]
[null,null,null,null,null,null,null,null," ",null,1,1900]
[null,null,null,null,null,null,null,null," ",null,1,1900]
[null,null,null,null,null,null,null,null," ",null,1,1900]
[null,null,null,null,null,null,null,null," ",null,1,1900]
[null,null,null,null,null,null,null,null," ",null,1,1900]
[null,null,null,null,null,null,null,null," ",null,1,1900]
[null,null,null,null,null,null,null,null," ",null,1,1900]
[null,null,null,null,null,null,null,null," ",null,1,1900]
[null,null,null,null,null,null,null,null," ",null,1,1900]
[null,null,null,null,null,null,null,null," ",null,1,1900]
[null,null,null,null,null,null,null,null," ",null,1,1900]
[null,null,null,null,null,null,null,null," ",null,1,1900]
[null,null,null,null,null,null,null,null," ",null,1,1900]
[null,null,null,null,null,null,null,null," ",null,1,1900]
[null,null,null,null,null,null,null,null," ",null,1,1900]
[null,null,null,null,null,null,null,null," ",null,1,1900]
[null,null,null,null,null,null,null,null," ",null,1,1900]
[null,null,null,null,null,null,null,null," ",null,1,1900]
[null,null,null,null,null,null,null,null," ",null,1,1900]
[null,null,null,null,null,null,null,null," ",null,1,1900]
[null,null,null,null,null,null,null,null," ",null,1,1900]
[null,null,null,null,null,null,null,null," ",null,1,1900]
[null,null,null,null,null,null,null,null," ",null,1,1900]
[null,null,null,null,null,null,null,null," ",null,1,1900]
[null,null,null,null,null,null,null,null," ",null,1,1900]
[null,null,null,null,null,null,null,null," ",null,1,1900]
[null,null,null,null,null,null,null,null," ",null,1,1900]
[null,null,null,null,null,null,null,null," ",null,1,1900]
[null,null,null,null,null,null,null,null," ",null,1,1900]
[null,null,null,null,null,null,null,null," ",null,1,1900]
[null,null,null,null,null,null,null,null," ",null,1,1900]
[null,null,null,null,null,null,null,null," ",null,1,1900]
[null,null,null,null,null,null,null,null," ",null,1,1900]
[null,null,null,null,null,null,null,null," ",null,1,1900]
[null,null,null,null,null,null,null,null," ",null,1,1900]
[null,null,null,null,null,null,null,null," ",null,1,1900]
[null,null,null,null,null,null,null,null," ",null,1,1900]
[null,null,null,null,null,null,null,null," ",null,1,1900]
[null,null,null,null,null,null,null,null," ",null,1,1900]
[null,null,null,null,null,null,null,null," ",null,1,1900]
[null,null,null,null,null,null,null,null," ",null,1,1900]
[null,null,null,null,null,null,null,null," ",null,1,1900]
[null,null,null,null,null,null,null,null," ",null,1,1900]
[null,null,null,null,null,null,null,null," ",null,1,1900]
[null,null,null,null,null,null,null,null," ",null,1,1900]
[null,null,null,null,null,null,null,null," ",null,1,1900]
[null,null,null,null,null,null,null,null," ",null,1,1900]
[null,null,null,null,null,null,null,null," ",null,1,1900]
[null,null,null,null,null,null,null,null," ",null,1,1900]
[null,null,null,null,null,null,null,null," ",null,1,1900]
[null,null,null,null,null,null,null,null," ",null,1,1900]
[null,null,null,null,null,null,null,null," ",null,1,1900]
[null,null,null,null,null,null,null,null," ",null,1,1900]
[null,null,null,null,null,null,null,null," ",null,1,1900]
[null,null,null,null,null,null,null,null," ",null,1,1900]
[null,null,null,null,null,null,null,null," ",null,1,1900]
[null,null,null,null,null,null,null,null," ",null,1,1900]
[null,null,null,null,null,null,null,null,{"$f":"+IF(H632=H631,\" \",H632)","v":" "},null,{"$f":"+MONTH(A632)","v":1},{"$f":"+YEAR(A632)","v":1900}]
[null,null,null,null,null,null,null,null," ",null,1,1900]
[null,null,null,null,null,null,null,null," ",null,1,1900]
[null,null,null,null,null,null,null,null," ",null,1,1900]
[null,null,null,null,null,null,null,null," ",null,1,1900]
[null,null,null,null,null,null,null,null," ",null,1,1900]
[null,null,null,null,null,null,null,null," ",null,1,1900]
[null,null,null,null,null,null,null,null," ",null,1,1900]
[null,null,null,null,null,null,null,null," ",null,1,1900]
[null,null,null,null,null,null,null,null," ",null,1,1900]
[null,null,null,null,null,null,null,null," ",null,1,1900]
[null,null,null,null,null,null,null,null," ",null,1,1900]
[null,null,null,null,null,null,null,null," ",null,1,1900]
[null,null,null,null,null,null,null,null," ",null,1,1900]
[null,null,null,null,null,null,null,null," ",null,1,1900]
[null,null,null,null,null,null,null,null," ",null,1,1900]
[null,null,null,null,null,null,null,null," ",null,1,1900]
[null,null,null,null,null,null,null,null," ",null,1,1900]
[null,null,null,null,null,null,null,null," ",null,1,1900]
[null,null,null,null,null,null,null,null," ",null,1,1900]
[null,null,null,null,null,null,null,null," ",null,1,1900]
[null,null,null,null,null,null,null,null," ",null,1,1900]
[null,null,null,null,null,null,null,null," ",null,1,1900]
[null,null,null,null,null,null,null,null," ",null,1,1900]
[null,null,null,null,null,null,null,null," ",null,1,1900]
[null,null,null,null,null,null,null,null," ",null,1,1900]
[null,null,null,null,null,null,null,null," ",null,1,1900]
[null,null,null,null,null,null,null,null," ",null,1,1900]
[null,null,null,null,null,null,null,null," ",null,1,1900]
[null,null,null,null,null,null,null,null," ",null,1,1900]
[null,null,null,null,null,null,null,null," ",null,1,1900]
[null,null,null,null,null,null,null,null," ",null,1,1900]
[null,null,null,null,null,null,null,null," ",null,1,1900]
[null,null,null,null,null,null,null,null," ",null,1,1900]
[null,null,null,null,null,null,null,null," ",null,1,1900]
[null,null,null,null,null,null,null,null," ",null,1,1900]
[null,null,null,null,null,null,null,null," ",null,1,1900]
[null,null,null,null,null,null,null,null," ",null,1,1900]
[null,null,null,null,null,null,null,null," ",null,1,1900]
[null,null,null,null,null,null,null,null," ",null,1,1900]
[null,null,null,null,null,null,null,null," ",null,1,1900]
[null,null,null,null,null,null,null,null," ",null,1,1900]
[null,null,null,null,null,null,null,null," ",null,1,1900]
[null,null,null,null,null,null,null,null," ",null,1,1900]
[null,null,null,null,null,null,null,null," ",null,1,1900]
[null,null,null,null,null,null,null,null," ",null,1,1900]
[null,null,null,null,null,null,null,null," ",null,1,1900]
[null,null,null,null,null,null,null,null," ",null,1,1900]
[null,null,null,null,null,null,null,null," ",null,1,1900]
[null,null,null,null,null,null,null,null," ",null,1,1900]
[null,null,null,null,null,null,null,null," ",null,1,1900]
[null,null,null,null,null,null,null,null," ",null,1,1900]
[null,null,null,null,null,null,null,null," ",null,1,1900]
[null,null,null,null,null,null,null,null," ",null,1,1900]
[null,null,null,null,null,null,null,null," ",null,1,1900]
[null,null,null,null,null,null,null,null," ",null,1,1900]
[null,null,null,null,null,null,null,null," ",null,1,1900]
[null,null,null,null,null,null,null,null," ",null,1,1900]
[null,null,null,null,null,null,null,null," ",null,1,1900]
[null,null,null,null,null,null,null,null," ",null,1,1900]
[null,null,null,null,null,null,null,null," ",null,1,1900]
[null,null,null,null,null,null,null,null," ",null,1,1900]
[null,null,null,null,null,null,null,null," ",null,1,1900]
[null,null,null,null,null,null,null,null," ",null,1,1900]
[null,null,null,null,null,null,null,null,{"$f":"+IF(H696=H695,\" \",H696)","v":" "},null,{"$f":"+MONTH(A696)","v":1},{"$f":"+YEAR(A696)","v":1900}]
[null,null,null,null,null,null,null,null," ",null,1,1900]
[null,null,null,null,null,null,null,null," ",null,1,1900]
[null,null,null,null,null,null,null,null," ",null,1,1900]
[null,null,null,null,null,null,null,null," ",null,1,1900]
[null,null,null,null,null,null,null,null," ",null,1,1900]
[null,null,null,null,null,null,null,null," ",null,1,1900]
[null,null,null,null,null,null,null,null," ",null,1,1900]
[null,null,null,null,null,null,null,null," ",null,1,1900]
[null,null,null,null,null,null,null,null," ",null,1,1900]
[null,null,null,null,null,null,null,null," ",null,1,1900]
[null,null,null,null,null,null,null,null," ",null,1,1900]
[null,null,null,null,null,null,null,null," ",null,1,1900]
[null,null,null,null,null,null,null,null," ",null,1,1900]
[null,null,null,null,null,null,null,null," ",null,1,1900]
[null,null,null,null,null,null,null,null," ",null,1,1900]
[null,null,null,null,null,null,null,null," ",null,1,1900]
[null,null,null,null,null,null,null,null," ",null,1,1900]
[null,null,null,null,null,null,null,null," ",null,1,1900]
[null,null,null,null,null,null,null,null," ",null,1,1900]
[null,null,null,null,null,null,null,null," ",null,1,1900]
[null,null,null,null,null,null,null,null," ",null,1,1900]
[null,null,null,null,null,null,null,null," ",null,1,1900]
[null,null,null,null,null,null,null,null," ",null,1,1900]
[null,null,null,null,null,null,null,null," ",null,1,1900]
[null,null,null,null,null,null,null,null," ",null,1,1900]
[null,null,null,null,null,null,null,null," ",null,1,1900]
[null,null,null,null,null,null,null,null," ",null,1,1900]
[null,null,null,null,null,null,null,null," ",null,1,1900]
[null,null,null,null,null,null,null,null," ",null,1,1900]
[null,null,null,null,null,null,null,null," ",null,1,1900]
[null,null,null,null,null,null,null,null," ",null,1,1900]
[null,null,null,null,null,null,null,null," ",null,1,1900]
[null,null,null,null,null,null,null,null," ",null,1,1900]
[null,null,null,null,null,null,null,null," ",null,1,1900]
[null,null,null,null,null,null,null,null," ",null,1,1900]
[null,null,null,null,null,null,null,null," ",null,1,1900]
[null,null,null,null,null,null,null,null," ",null,1,1900]
[null,null,null,null,null,null,null,null," ",null,1,1900]
[null,null,null,null,null,null,null,null," ",null,1,1900]
[null,null,null,null,null,null,null,null," ",null,1,1900]
[null,null,null,null,null,null,null,null," ",null,1,1900]
[null,null,null,null,null,null,null,null," ",null,1,1900]
[null,null,null,null,null,null,null,null," ",null,1,1900]
[null,null,null,null,null,null,null,null," ",null,1,1900]
[null,null,null,null,null,null,null,null," ",null,1,1900]
[null,null,null,null,null,null,null,null," ",null,1,1900]
[null,null,null,null,null,null,null,null," ",null,1,1900]
[null,null,null,null,null,null,null,null," ",null,1,1900]
[null,null,null,null,null,null,null,null," ",null,1,1900]
[null,null,null,null,null,null,null,null," ",null,1,1900]
[null,null,null,null,null,null,null,null," ",null,1,1900]
[null,null,null,null,null,null,null,null," ",null,1,1900]
[null,null,null,null,null,null,null,null," ",null,1,1900]
[null,null,null,null,null,null,null,null," ",null,1,1900]
[null,null,null,null,null,null,null,null," ",null,1,1900]
[null,null,null,null,null,null,null,null," ",null,1,1900]
[null,null,null,null,null,null,null,null," ",null,1,1900]
[null,null,null,null,null,null,null,null," ",null,1,1900]
[null,null,null,null,null,null,null,null," ",null,1,1900]
[null,null,null,null,null,null,null,null," ",null,1,1900]
[null,null,null,null,null,null,null,null," ",null,1,1900]
[null,null,null,null,null,null,null,null," ",null,1,1900]
[null,null,null,null,null,null,null,null," ",null,1,1900]
[null,null,null,null,null,null,null,null,{"$f":"+IF(H760=H759,\" \",H760)","v":" "},null,{"$f":"+MONTH(A760)","v":1},{"$f":"+YEAR(A760)","v":1900}]
[null,null,null,null,null,null,null,null," ",null,1,1900]
[null,null,null,null,null,null,null,null," ",null,1,1900]
[null,null,null,null,null,null,null,null," ",null,1,1900]
[null,null,null,null,null,null,null,null," ",null,1,1900]
[null,null,null,null,null,null,null,null," ",null,1,1900]
[null,null,null,null,null,null,null,null," ",null,1,1900]
[null,null,null,null,null,null,null,null," ",null,1,1900]
[null,null,null,null,null,null,null,null," ",null,1,1900]
[null,null,null,null,null,null,null,null," ",null,1,1900]
[null,null,null,null,null,null,null,null," ",null,1,1900]
[null,null,null,null,null,null,null,null," ",null,1,1900]
[null,null,null,null,null,null,null,null," ",null,1,1900]
[null,null,null,null,null,null,null,null," ",null,1,1900]
[null,null,null,null,null,null,null,null," ",null,1,1900]
[null,null,null,null,null,null,null,null," ",null,1,1900]
[null,null,null,null,null,null,null,null," ",null,1,1900]
[null,null,null,null,null,null,null,null," ",null,1,1900]
[null,null,null,null,null,null,null,null," ",null,1,1900]
[null,null,null,null,null,null,null,null," ",null,1,1900]
[null,null,null,null,null,null,null,null," ",null,1,1900]
[null,null,null,null,null,null,null,null," ",null,1,1900]
[null,null,null,null,null,null,null,null," ",null,1,1900]
[null,null,null,null,null,null,null,null," ",null,1,1900]
[null,null,null,null,null,null,null,null," ",null,1,1900]
[null,null,null,null,null,null,null,null," ",null,1,1900]
[null,null,null,null,null,null,null,null," ",null,1,1900]
[null,null,null,null,null,null,null,null," ",null,1,1900]
[null,null,null,null,null,null,null,null," ",null,1,1900]
[null,null,null,null,null,null,null,null," ",null,1,1900]
[null,null,null,null,null,null,null,null," ",null,1,1900]
[null,null,null,null,null,null,null,null," ",null,1,1900]
[null,null,null,null,null,null,null,null," ",null,1,1900]
[null,null,null,null,null,null,null,null," ",null,1,1900]
[null,null,null,null,null,null,null,null," ",null,1,1900]
[null,null,null,null,null,null,null,null," ",null,1,1900]
[null,null,null,null,null,null,null,null," ",null,1,1900]
[null,null,null,null,null,null,null,null," ",null,1,1900]
[null,null,null,null,null,null,null,null," ",null,1,1900]
[null,null,null,null,null,null,null,null," ",null,1,1900]
[null,null,null,null,null,null,null,null," ",null,1,1900]
[null,null,null,null,null,null,null,null," ",null,1,1900]
[null,null,null,null,null,null,null,null," ",null,1,1900]
[null,null,null,null,null,null,null,null," ",null,1,1900]
[null,null,null,null,null,null,null,null," ",null,1,1900]
[null,null,null,null,null,null,null,null," ",null,1,1900]
[null,null,null,null,null,null,null,null," ",null,1,1900]
[null,null,null,null,null,null,null,null," ",null,1,1900]
[null,null,null,null,null,null,null,null," ",null,1,1900]
[null,null,null,null,null,null,null,null," ",null,1,1900]
[null,null,null,null,null,null,null,null," ",null,1,1900]
[null,null,null,null,null,null,null,null," ",null,1,1900]
[null,null,null,null,null,null,null,null," ",null,1,1900]
[null,null,null,null,null,null,null,null," ",null,1,1900]
[null,null,null,null,null,null,null,null," ",null,1,1900]
[null,null,null,null,null,null,null,null," ",null,1,1900]
[null,null,null,null,null,null,null,null," ",null,1,1900]
[null,null,null,null,null,null,null,null," ",null,1,1900]
[null,null,null,null,null,null,null,null," ",null,1,1900]
[null,null,null,null,null,null,null,null," ",null,1,1900]
[null,null,null,null,null,null,null,null," ",null,1,1900]
[null,null,null,null,null,null,null,null," ",null,1,1900]
[null,null,null,null,null,null,null,null," ",null,1,1900]
[null,null,null,null,null,null,null,null," ",null,1,1900]
[null,null,null,null,null,null,null,null,{"$f":"+IF(H824=H823,\" \",H824)","v":" "},null,{"$f":"+MONTH(A824)","v":1},{"$f":"+YEAR(A824)","v":1900}]
[null,null,null,null,null,null,null,null," ",null,1,1900]
[null,null,null,null,null,null,null,null," ",null,1,1900]
[null,null,null,null,null,null,null,null," ",null,1,1900]
[null,null,null,null,null,null,null,null," ",null,1,1900]
[null,null,null,null,null,null,null,null," ",null,1,1900]
[null,null,null,null,null,null,null,null," ",null,1,1900]
[null,null,null,null,null,null,null,null," ",null,1,1900]
[null,null,null,null,null,null,null,null," ",null,1,1900]
[null,null,null,null,null,null,null,null," ",null,1,1900]
[null,null,null,null,null,null,null,null," ",null,1,1900]
[null,null,null,null,null,null,null,null," ",null,1,1900]
[null,null,null,null,null,null,null,null," ",null,1,1900]
[null,null,null,null,null,null,null,null," ",null,1,1900]
[null,null,null,null,null,null,null,null," ",null,1,1900]
[null,null,null,null,null,null,null,null," ",null,1,1900]
[null,null,null,null,null,null,null,null," ",null,1,1900]
[null,null,null,null,null,null,null,null," ",null,1,1900]
[null,null,null,null,null,null,null,null," ",null,1,1900]
[null,null,null,null,null,null,null,null," ",null,1,1900]
[null,null,null,null,null,null,null,null," ",null,1,1900]
[null,null,null,null,null,null,null,null," ",null,1,1900]
[null,null,null,null,null,null,null,null," ",null,1,1900]
[null,null,null,null,null,null,null,null," ",null,1,1900]
[null,null,null,null,null,null,null,null," ",null,1,1900]
[null,null,null,null,null,null,null,null," ",null,1,1900]
[null,null,null,null,null,null,null,null," ",null,1,1900]
[null,null,null,null,null,null,null,null," ",null,1,1900]
[null,null,null,null,null,null,null,null," ",null,1,1900]
[null,null,null,null,null,null,null,null," ",null,1,1900]
[null,null,null,null,null,null,null,null," ",null,1,1900]
[null,null,null,null,null,null,null,null," ",null,1,1900]
[null,null,null,null,null,null,null,null," ",null,1,1900]
[null,null,null,null,null,null,null,null," ",null,1,1900]
[null,null,null,null,null,null,null,null," ",null,1,1900]
[null,null,null,null,null,null,null,null," ",null,1,1900]
[null,null,null,null,null,null,null,null," ",null,1,1900]
[null,null,null,null,null,null,null,null," ",null,1,1900]
[null,null,null,null,null,null,null,null," ",null,1,1900]
[null,null,null,null,null,null,null,null," ",null,1,1900]
[null,null,null,null,null,null,null,null," ",null,1,1900]
[null,null,null,null,null,null,null,null," ",null,1,1900]
[null,null,null,null,null,null,null,null," ",null,1,1900]
[null,null,null,null,null,null,null,null," ",null,1,1900]
[null,null,null,null,null,null,null,null," ",null,1,1900]
[null,null,null,null,null,null,null,null," ",null,1,1900]
[null,null,null,null,null,null,null,null," ",null,1,1900]
[null,null,null,null,null,null,null,null," ",null,1,1900]
[null,null,null,null,null,null,null,null," ",null,1,1900]
[null,null,null,null,null,null,null,null," ",null,1,1900]
[null,null,null,null,null,null,null,null," ",null,1,1900]
[null,null,null,null,null,null,null,null," ",null,1,1900]
[null,null,null,null,null,null,null,null," ",null,1,1900]
[null,null,null,null,null,null,null,null," ",null,1,1900]
[null,null,null,null,null,null,null,null," ",null,1,1900]
[null,null,null,null,null,null,null,null," ",null,1,1900]
[null,null,null,null,null,null,null,null," ",null,1,1900]
[null,null,null,null,null,null,null,null," ",null,1,1900]
[null,null,null,null,null,null,null,null," ",null,1,1900]
[null,null,null,null,null,null,null,null," ",null,1,1900]
[null,null,null,null,null,null,null,null," ",null,1,1900]
[null,null,null,null,null,null,null,null," ",null,1,1900]
[null,null,null,null,null,null,null,null," ",null,1,1900]
[null,null,null,null,null,null,null,null," ",null,1,1900]
[null,null,null,null,null,null,null,null,{"$f":"+IF(H888=H887,\" \",H888)","v":" "},null,{"$f":"+MONTH(A888)","v":1},{"$f":"+YEAR(A888)","v":1900}]
[null,null,null,null,null,null,null,null," ",null,1,1900]
[null,null,null,null,null,null,null,null," ",null,1,1900]
[null,null,null,null,null,null,null,null," ",null,1,1900]
[null,null,null,null,null,null,null,null," ",null,1,1900]
[null,null,null,null,null,null,null,null," ",null,1,1900]
[null,null,null,null,null,null,null,null," ",null,1,1900]
[null,null,null,null,null,null,null,null," ",null,1,1900]
[null,null,null,null,null,null,null,null," ",null,1,1900]
[null,null,null,null,null,null,null,null," ",null,1,1900]
[null,null,null,null,null,null,null,null," ",null,1,1900]
[null,null,null,null,null,null,null,null," ",null,1,1900]
[null,null,null,null,null,null,null,null," ",null,1,1900]
[null,null,null,null,null,null,null,null," ",null,1,1900]
[null,null,null,null,null,null,null,null," ",null,1,1900]
[null,null,null,null,null,null,null,null," ",null,1,1900]
[null,null,null,null,null,null,null,null," ",null,1,1900]
[null,null,null,null,null,null,null,null," ",null,1,1900]
[null,null,null,null,null,null,null,null," ",null,1,1900]
[null,null,null,null,null,null,null,null," ",null,1,1900]
[null,null,null,null,null,null,null,null," ",null,1,1900]
[null,null,null,null,null,null,null,null," ",null,1,1900]
[null,null,null,null,null,null,null,null," ",null,1,1900]
[null,null,null,null,null,null,null,null," ",null,1,1900]
[null,null,null,null,null,null,null,null," ",null,1,1900]
[null,null,null,null,null,null,null,null," ",null,1,1900]
[null,null,null,null,null,null,null,null," ",null,1,1900]
[null,null,null,null,null,null,null,null," ",null,1,1900]
[null,null,null,null,null,null,null,null," ",null,1,1900]
[null,null,null,null,null,null,null,null," ",null,1,1900]
[null,null,null,null,null,null,null,null," ",null,1,1900]
[null,null,null,null,null,null,null,null," ",null,1,1900]
[null,null,null,null,null,null,null,null," ",null,1,1900]
[null,null,null,null,null,null,null,null," ",null,1,1900]
[null,null,null,null,null,null,null,null," ",null,1,1900]
[null,null,null,null,null,null,null,null," ",null,1,1900]
[null,null,null,null,null,null,null,null," ",null,1,1900]
[null,null,null,null,null,null,null,null," ",null,1,1900]
[null,null,null,null,null,null,null,null," ",null,1,1900]
[null,null,null,null,null,null,null,null," ",null,1,1900]
[null,null,null,null,null,null,null,null," ",null,1,1900]
[null,null,null,null,null,null,null,null," ",null,1,1900]
[null,null,null,null,null,null,null,null," ",null,1,1900]
[null,null,null,null,null,null,null,null," ",null,1,1900]
[null,null,null,null,null,null,null,null," ",null,1,1900]
[null,null,null,null,null,null,null,null," ",null,1,1900]
[null,null,null,null,null,null,null,null," ",null,1,1900]
[null,null,null,null,null,null,null,null," ",null,1,1900]
[null,null,null,null,null,null,null,null," ",null,1,1900]
[null,null,null,null,null,null,null,null," ",null,1,1900]
[null,null,null,null,null,null,null,null," ",null,1,1900]
[null,null,null,null,null,null,null,null," ",null,1,1900]
[null,null,null,null,null,null,null,null," ",null,1,1900]
[null,null,null,null,null,null,null,null," ",null,1,1900]
[null,null,null,null,null,null,null,null," ",null,1,1900]
[null,null,null,null,null,null,null,null," ",null,1,1900]
[null,null,null,null,null,null,null,null," ",null,1,1900]
[null,null,null,null,null,null,null,null," ",null,1,1900]
[null,null,null,null,null,null,null,null," ",null,1,1900]
[null,null,null,null,null,null,null,null," ",null,1,1900]
[null,null,null,null,null,null,null,null," ",null,1,1900]
[null,null,null,null,null,null,null,null," ",null,1,1900]
[null,null,null,null,null,null,null,null," ",null,1,1900]
[null,null,null,null,null,null,null,null," ",null,1,1900]
[null,null,null,null,null,null,null,null,{"$f":"+IF(H952=H951,\" \",H952)","v":" "},null,{"$f":"+MONTH(A952)","v":1},{"$f":"+YEAR(A952)","v":1900}]
[null,null,null,null,null,null,null,null," ",null,1,1900]
[null,null,null,null,null,null,null,null," ",null,1,1900]
[null,null,null,null,null,null,null,null," ",null,1,1900]
[null,null,null,null,null,null,null,null," ",null,1,1900]
[null,null,null,null,null,null,null,null," ",null,1,1900]
[null,null,null,null,null,null,null,null," ",null,1,1900]
[null,null,null,null,null,null,null,null," ",null,1,1900]
[null,null,null,null,null,null,null,null," ",null,1,1900]
[null,null,null,null,null,null,null,null," ",null,1,1900]
[null,null,null,null,null,null,null,null," ",null,1,1900]
[null,null,null,null,null,null,null,null," ",null,1,1900]
[null,null,null,null,null,null,null,null," ",null,1,1900]
[null,null,null,null,null,null,null,null," ",null,1,1900]
[null,null,null,null,null,null,null,null," ",null,1,1900]
[null,null,null,null,null,null,null,null," ",null,1,1900]
[null,null,null,null,null,null,null,null," ",null,1,1900]
[null,null,null,null,null,null,null,null," ",null,1,1900]
[null,null,null,null,null,null,null,null," ",null,1,1900]
[null,null,null,null,null,null,null,null," ",null,1,1900]
[null,null,null,null,null,null,null,null," ",null,1,1900]
[null,null,null,null,null,null,null,null," ",null,1,1900]
[null,null,null,null,null,null,null,null," ",null,1,1900]
[null,null,null,null,null,null,null,null," ",null,1,1900]
[null,null,null,null,null,null,null,null," ",null,1,1900]
[null,null,null,null,null,null,null,null," ",null,1,1900]
[null,null,null,null,null,null,null,null," ",null,1,1900]
[null,null,null,null,null,null,null,null," ",null,1,1900]
[null,null,null,null,null,null,null,null," ",null,1,1900]
[null,null,null,null,null,null,null,null," ",null,1,1900]
[null,null,null,null,null,null,null,null," ",null,1,1900]
[null,null,null,null,null,null,null,null," ",null,1,1900]
[null,null,null,null,null,null,null,null," ",null,1,1900]
[null,null,null,null,null,null,null,null," ",null,1,1900]
[null,null,null,null,null,null,null,null," ",null,1,1900]
[null,null,null,null,null,null,null,null," ",null,1,1900]
[null,null,null,null,null,null,null,null," ",null,1,1900]
[null,null,null,null,null,null,null,null," ",null,1,1900]
[null,null,null,null,null,null,null,null," ",null,1,1900]
[null,null,null,null,null,null,null,null," ",null,1,1900]
[null,null,null,null,null,null,null,null," ",null,1,1900]
[null,null,null,null,null,null,null,null," ",null,1,1900]
[null,null,null,null,null,null,null,null," ",null,1,1900]
[null,null,null,null,null,null,null,null," ",null,1,1900]
[null,null,null,null,null,null,null,null," ",null,1,1900]
[null,null,null,null,null,null,null,null," ",null,1,1900]
[null,null,null,null,null,null,null,null," ",null,1,1900]
[null,null,null,null,null,null,null,null," ",null,1,1900]
[null,null,null,null,null,null,null,null," ",null,1,1900]
[null,null,null,null,null,null,null,null," ",null,1,1900]
[null,null,null,null,null,null,null,null," ",null,1,1900]
[null,null,null,null,null,null,null,null," ",null,1,1900]
[null,null,null,null,null,null,null,null," ",null,1,1900]
[null,null,null,null,null,null,null,null," ",null,1,1900]
[null,null,null,null,null,null,null,null," ",null,1,1900]
[null,null,null,null,null,null,null,null," ",null,1,1900]
[null,null,null,null,null,null,null,null," ",null,1,1900]
[null,null,null,null,null,null,null,null," ",null,1,1900]
[null,null,null,null,null,null,null,null," ",null,1,1900]
[null,null,null,null,null,null,null,null," ",null,1,1900]
[null,null,null,null,null,null,null,null," ",null,1,1900]
[null,null,null,null,null,null,null,null," ",null,1,1900]
[null,null,null,null,null,null,null,null," ",null,1,1900]
[null,null,null,null,null,null,null,null," ",null,1,1900]
[null,null,null,null,null,null,null,null,{"$f":"+IF(H1016=H1015,\" \",H1016)","v":" "},null,{"$f":"+MONTH(A1016)","v":1},{"$f":"+YEAR(A1016)","v":1900}]
[null,null,null,null,null,null,null,null," ",null,1,1900]
[null,null,null,null,null,null,null,null," ",null,1,1900]
[null,null,null,null,null,null,null,null," ",null,1,1900]
[null,null,null,null,null,null,null,null," ",null,1,1900]
[null,null,null,null,null,null,null,null," ",null,1,1900]
[null,null,null,null,null,null,null,null," ",null,1,1900]
[null,null,null,null,null,null,null,null," ",null,1,1900]
[null,null,null,null,null,null,null,null," ",null,1,1900]
[null,null,null,null,null,null,null,null," ",null,1,1900]
[null,null,null,null,null,null,null,null," ",null,1,1900]
[null,null,null,null,null,null,null,null," ",null,1,1900]
[null,null,null,null,null,null,null,null," ",null,1,1900]
[null,null,null,null,null,null,null,null," ",null,1,1900]
[null,null,null,null,null,null,null,null," ",null,1,1900]
[null,null,null,null,null,null,null,null," ",null,1,1900]
[null,null,null,null,null,null,null,null," ",null,1,1900]
[null,null,null,null,null,null,null,null," ",null,1,1900]
[null,null,null,null,null,null,null,null," ",null,1,1900]
[null,null,null,null,null,null,null,null," ",null,1,1900]
[null,null,null,null,null,null,null,null," ",null,1,1900]
[null,null,null,null,null,null,null,null," ",null,1,1900]
[null,null,null,null,null,null,null,null," ",null,1,1900]
[null,null,null,null,null,null,null,null," ",null,1,1900]
[null,null,null,null,null,null,null,null," ",null,1,1900]
[null,null,null,null,null,null,null,null," ",null,1,1900]
[null,null,null,null,null,null,null,null," ",null,1,1900]
[null,null,null,null,null,null,null,null," ",null,1,1900]
[null,null,null,null,null,null,null,null," ",null,1,1900]
[null,null,null,null,null,null,null,null," ",null,1,1900]
[null,null,null,null,null,null,null,null," ",null,1,1900]
[null,null,null,null,null,null,null,null," ",null,1,1900]
[null,null,null,null,null,null,null,null," ",null,1,1900]
[null,null,null,null,null,null,null,null," ",null,1,1900]
[null,null,null,null,null,null,null,null," ",null,1,1900]
[null,null,null,null,null,null,null,null," ",null,1,1900]
[null,null,null,null,null,null,null,null," ",null,1,1900]
[null,null,null,null,null,null,null,null," ",null,1,1900]
[null,null,null,null,null,null,null,null," ",null,1,1900]
[null,null,null,null,null,null,null,null," ",null,1,1900]
[null,null,null,null,null,null,null,null," ",null,1,1900]
[null,null,null,null,null,null,null,null," ",null,1,1900]
[null,null,null,null,null,null,null,null," ",null,1,1900]
[null,null,null,null,null,null,null,null," ",null,1,1900]
[null,null,null,null,null,null,null,null," ",null,1,1900]
[null,null,null,null,null,null,null,null," ",null,1,1900]
[null,null,null,null,null,null,null,null," ",null,1,1900]
[null,null,null,null,null,null,null,null," ",null,1,1900]
[null,null,null,null,null,null,null,null," ",null,1,1900]
[null,null,null,null,null,null,null,null," ",null,1,1900]
[null,null,null,null,null,null,null,null," ",null,1,1900]
[null,null,null,null,null,null,null,null," ",null,1,1900]
[null,null,null,null,null,null,null,null," ",null,1,1900]
[null,null,null,null,null,null,null,null," ",null,1,1900]
[null,null,null,null,null,null,null,null," ",null,1,1900]
[null,null,null,null,null,null,null,null," ",null,1,1900]
[null,null,null,null,null,null,null,null," ",null,1,1900]
[null,null,null,null,null,null,null,null," ",null,1,1900]
[null,null,null,null,null,null,null,null," ",null,1,1900]
[null,null,null,null,null,null,null,null," ",null,1,1900]
[null,null,null,null,null,null,null,null," ",null,1,1900]
[null,null,null,null,null,null,null,null," ",null,1,1900]
[null,null,null,null,null,null,null,null," ",null,1,1900]
[null,null,null,null,null,null,null,null," ",null,1,1900]
[null,null,null,null,null,null,null,null,{"$f":"+IF(H1080=H1079,\" \",H1080)","v":" "},null,{"$f":"+MONTH(A1080)","v":1},{"$f":"+YEAR(A1080)","v":1900}]
[null,null,null,null,null,null,null,null," ",null,1,1900]
[null,null,null,null,null,null,null,null," ",null,1,1900]
[null,null,null,null,null,null,null,null," ",null,1,1900]
[null,null,null,null,null,null,null,null," ",null,1,1900]
[null,null,null,null,null,null,null,null," ",null,1,1900]
[null,null,null,null,null,null,null,null," ",null,1,1900]
[null,null,null,null,null,null,null,null," ",null,1,1900]
[null,null,null,null,null,null,null,null," ",null,1,1900]
[null,null,null,null,null,null,null,null," ",null,1,1900]
[null,null,null,null,null,null,null,null," ",null,1,1900]
[null,null,null,null,null,null,null,null," ",null,1,1900]
[null,null,null,null,null,null,null,null," ",null,1,1900]
[null,null,null,null,null,null,null,null," ",null,1,1900]
[null,null,null,null,null,null,null,null," ",null,1,1900]
[null,null,null,null,null,null,null,null," ",null,1,1900]
[null,null,null,null,null,null,null,null," ",null,1,1900]
[null,null,null,null,null,null,null,null," ",null,1,1900]
[null,null,null,null,null,null,null,null," ",null,1,1900]
[null,null,null,null,null,null,null,null," ",null,1,1900]
[null,null,null,null,null,null,null,null," ",null,1,1900]
[null,null,null,null,null,null,null,null," ",null,1,1900]
[null,null,null,null,null,null,null,null," ",null,1,1900]
[null,null,null,null,null,null,null,null," ",null,1,1900]
[null,null,null,null,null,null,null,null," ",null,1,1900]
[null,null,null,null,null,null,null,null," ",null,1,1900]
[null,null,null,null,null,null,null,null," ",null,1,1900]
[null,null,null,null,null,null,null,null," ",null,1,1900]
[null,null,null,null,null,null,null,null," ",null,1,1900]
[null,null,null,null,null,null,null,null," ",null,1,1900]
[null,null,null,null,null,null,null,null," ",null,1,1900]
[null,null,null,null,null,null,null,null," ",null,1,1900]
[null,null,null,null,null,null,null,null," ",null,1,1900]
[null,null,null,null,null,null,null,null," ",null,1,1900]
[null,null,null,null,null,null,null,null," ",null,1,1900]
[null,null,null,null,null,null,null,null," ",null,1,1900]
[null,null,null,null,null,null,null,null," ",null,1,1900]
[null,null,null,null,null,null,null,null," ",null,1,1900]
[null,null,null,null,null,null,null,null," ",null,1,1900]
[null,null,null,null,null,null,null,null," ",null,1,1900]
[null,null,null,null,null,null,null,null," ",null,1,1900]
[null,null,null,null,null,null,null,null," ",null,1,1900]
[null,null,null,null,null,null,null,null," ",null,1,1900]
[null,null,null,null,null,null,null,null," ",null,1,1900]
[null,null,null,null,null,null,null,null," ",null,1,1900]
[null,null,null,null,null,null,null,null," ",null,1,1900]
[null,null,null,null,null,null,null,null," ",null,1,1900]
[null,null,null,null,null,null,null,null," ",null,1,1900]
[null,null,null,null,null,null,null,null," ",null,1,1900]
[null,null,null,null,null,null,null,null," ",null,1,1900]
[null,null,null,null,null,null,null,null," ",null,1,1900]
[null,null,null,null,null,null,null,null," ",null,1,1900]
[null,null,null,null,null,null,null,null," ",null,1,1900]
[null,null,null,null,null,null,null,null," ",null,1,1900]
[null,null,null,null,null,null,null,null," ",null,1,1900]
[null,null,null,null,null,null,null,null," ",null,1,1900]
[null,null,null,null,null,null,null,null," ",null,1,1900]
[null,null,null,null,null,null,null,null," ",null,1,1900]
[null,null,null,null,null,null,null,null," ",null,1,1900]
[null,null,null,null,null,null,null,null," ",null,1,1900]
[null,null,null,null,null,null,null,null," ",null,1,1900]
[null,null,null,null,null,null,null,null," ",null,1,1900]
[null,null,null,null,null,null,null,null," ",null,1,1900]
[null,null,null,null,null,null,null,null," ",null,1,1900]
[null,null,null,null,null,null,null,null,{"$f":"+IF(H1144=H1143,\" \",H1144)","v":" "},null,{"$f":"+MONTH(A1144)","v":1},{"$f":"+YEAR(A1144)","v":1900}]
[null,null,null,null,null,null,null,null," ",null,1,1900]
[null,null,null,null,null,null,null,null," ",null,1,1900]
[null,null,null,null,null,null,null,null," ",null,1,1900]
[null,null,null,null,null,null,null,null," ",null,1,1900]
[null,null,null,null,null,null,null,null," ",null,1,1900]
[null,null,null,null,null,null,null,null," ",null,1,1900]
[null,null,null,null,null,null,null,null," ",null,1,1900]
[null,null,null,null,null,null,null,null," ",null,1,1900]
[null,null,null,null,null,null,null,null," ",null,1,1900]
[null,null,null,null,null,null,null,null," ",null,1,1900]
[null,null,null,null,null,null,null,null," ",null,1,1900]
[null,null,null,null,null,null,null,null," ",null,1,1900]
[null,null,null,null,null,null,null,null," ",null,1,1900]
[null,null,null,null,null,null,null,null," ",null,1,1900]
[null,null,null,null,null,null,null,null," ",null,1,1900]
[null,null,null,null,null,null,null,null," ",null,1,1900]
[null,null,null,null,null,null,null,null," ",null,1,1900]
[null,null,null,null,null,null,null,null," ",null,1,1900]
[null,null,null,null,null,null,null,null," ",null,1,1900]
[null,null,null,null,null,null,null,null," ",null,1,1900]
[null,null,null,null,null,null,null,null," ",null,1,1900]
[null,null,null,null,null,null,null,null," ",null,1,1900]
[null,null,null,null,null,null,null,null," ",null,1,1900]
[null,null,null,null,null,null,null,null," ",null,1,1900]
[null,null,null,null,null,null,null,null," ",null,1,1900]
[null,null,null,null,null,null,null,null," ",null,1,1900]
[null,null,null,null,null,null,null,null," ",null,1,1900]
[null,null,null,null,null,null,null,null," ",null,1,1900]
[null,null,null,null,null,null,null,null," ",null,1,1900]
[null,null,null,null,null,null,null,null," ",null,1,1900]
[null,null,null,null,null,null,null,null," ",null,1,1900]
[null,null,null,null,null,null,null,null," ",null,1,1900]
[null,null,null,null,null,null,null,null," ",null,1,1900]
[null,null,null,null,null,null,null,null," ",null,1,1900]
[null,null,null,null,null,null,null,null," ",null,1,1900]
[null,null,null,null,null,null,null,null," ",null,1,1900]
[null,null,null,null,null,null,null,null," ",null,1,1900]
[null,null,null,null,null,null,null,null," ",null,1,1900]
[null,null,null,null,null,null,null,null," ",null,1,1900]
[null,null,null,null,null,null,null,null," ",null,1,1900]
[null,null,null,null,null,null,null,null," ",null,1,1900]
[null,null,null,null,null,null,null,null," ",null,1,1900]
[null,null,null,null,null,null,null,null," ",null,1,1900]
[null,null,null,null,null,null,null,null," ",null,1,1900]
[null,null,null,null,null,null,null,null," ",null,1,1900]
[null,null,null,null,null,null,null,null," ",null,1,1900]
[null,null,null,null,null,null,null,null," ",null,1,1900]
[null,null,null,null,null,null,null,null," ",null,1,1900]
[null,null,null,null,null,null,null,null," ",null,1,1900]
[null,null,null,null,null,null,null,null," ",null,1,1900]
[null,null,null,null,null,null,null,null," ",null,1,1900]
[null,null,null,null,null,null,null,null," ",null,1,1900]
[null,null,null,null,null,null,null,null," ",null,1,1900]
[null,null,null,null,null,null,null,null," ",null,1,1900]
[null,null,null,null,null,null,null,null," ",null,1,1900]
[null,null,null,null,null,null,null,null," ",null,1,1900]
[null,null,null,null,null,null,null,null," ",null,1,1900]
[null,null,null,null,null,null,null,null," ",null,1,1900]
[null,null,null,null,null,null,null,null," ",null,1,1900]
[null,null,null,null,null,null,null,null," ",null,1,1900]
[null,null,null,null,null,null,null,null," ",null,1,1900]
[null,null,null,null,null,null,null,null," ",null,1,1900]
[null,null,null,null,null,null,null,null," ",null,1,1900]
[null,null,null,null,null,null,null,null,{"$f":"+IF(H1208=H1207,\" \",H1208)","v":" "},null,{"$f":"+MONTH(A1208)","v":1},{"$f":"+YEAR(A1208)","v":1900}]
[null,null,null,null,null,null,null,null," ",null,1,1900]
[null,null,null,null,null,null,null,null," ",null,1,1900]
[null,null,null,null,null,null,null,null," ",null,1,1900]
[null,null,null,null,null,null,null,null," ",null,1,1900]
[null,null,null,null,null,null,null,null," ",null,1,1900]
[null,null,null,null,null,null,null,null," ",null,1,1900]
[null,null,null,null,null,null,null,null," ",null,1,1900]
[null,null,null,null,null,null,null,null," ",null,1,1900]
[null,null,null,null,null,null,null,null," ",null,1,1900]
[null,null,null,null,null,null,null,null," ",null,1,1900]
[null,null,null,null,null,null,null,null," ",null,1,1900]
[null,null,null,null,null,null,null,null," ",null,1,1900]
[null,null,null,null,null,null,null,null," ",null,1,1900]
[null,null,null,null,null,null,null,null," ",null,1,1900]
[null,null,null,null,null,null,null,null," ",null,1,1900]
[null,null,null,null,null,null,null,null," ",null,1,1900]
[null,null,null,null,null,null,null,null," ",null,1,1900]
[null,null,null,null,null,null,null,null," ",null,1,1900]
[null,null,null,null,null,null,null,null," ",null,1,1900]
[null,null,null,null,null,null,null,null," ",null,1,1900]
[null,null,null,null,null,null,null,null," ",null,1,1900]
[null,null,null,null,null,null,null,null," ",null,1,1900]
[null,null,null,null,null,null,null,null," ",null,1,1900]
[null,null,null,null,null,null,null,null," ",null,1,1900]
[null,null,null,null,null,null,null,null," ",null,1,1900]
[null,null,null,null,null,null,null,null," ",null,1,1900]
[null,null,null,null,null,null,null,null," ",null,1,1900]
[null,null,null,null,null,null,null,null," ",null,1,1900]
[null,null,null,null,null,null,null,null," ",null,1,1900]
[null,null,null,null,null,null,null,null," ",null,1,1900]
[null,null,null,null,null,null,null,null," ",null,1,1900]
[null,null,null,null,null,null,null,null," ",null,1,1900]
[null,null,null,null,null,null,null,null," ",null,1,1900]
[null,null,null,null,null,null,null,null," ",null,1,1900]
[null,null,null,null,null,null,null,null," ",null,1,1900]
[null,null,null,null,null,null,null,null," ",null,1,1900]
[null,null,null,null,null,null,null,null," ",null,1,1900]
[null,null,null,null,null,null,null,null," ",null,1,1900]
[null,null,null,null,null,null,null,null," ",null,1,1900]
[null,null,null,null,null,null,null,null," ",null,1,1900]
[null,null,null,null,null,null,null,null," ",null,1,1900]
[null,null,null,null,null,null,null,null," ",null,1,1900]
[null,null,null,null,null,null,null,null," ",null,1,1900]
[null,null,null,null,null,null,null,null," ",null,1,1900]
[null,null,null,null,null,null,null,null," ",null,1,1900]
[null,null,null,null,null,null,null,null," ",null,1,1900]
[null,null,null,null,null,null,null,null," ",null,1,1900]
[null,null,null,null,null,null,null,null," ",null,1,1900]
[null,null,null,null,null,null,null,null," ",null,1,1900]
[null,null,null,null,null,null,null,null," ",null,1,1900]
[null,null,null,null,null,null,null,null," ",null,1,1900]
[null,null,null,null,null,null,null,null," ",null,1,1900]
[null,null,null,null,null,null,null,null," ",null,1,1900]
[null,null,null,null,null,null,null,null," ",null,1,1900]
[null,null,null,null,null,null,null,null," ",null,1,1900]
[null,null,null,null,null,null,null,null," ",null,1,1900]
[null,null,null,null,null,null,null,null," ",null,1,1900]
[null,null,null,null,null,null,null,null," ",null,1,1900]
[null,null,null,null,null,null,null,null," ",null,1,1900]
[null,null,null,null,null,null,null,null," ",null,1,1900]
[null,null,null,null,null,null,null,null," ",null,1,1900]
[null,null,null,null,null,null,null,null," ",null,1,1900]
[null,null,null,null,null,null,null,null," ",null,1,1900]
[null,null,null,null,null,null,null,null,{"$f":"+IF(H1272=H1271,\" \",H1272)","v":" "},null,{"$f":"+MONTH(A1272)","v":1},{"$f":"+YEAR(A1272)","v":1900}]
[null,null,null,null,null,null,null,null," ",null,1,1900]
[null,null,null,null,null,null,null,null," ",null,1,1900]
[null,null,null,null,null,null,null,null," ",null,1,1900]
[null,null,null,null,null,null,null,null," ",null,1,1900]
[null,null,null,null,null,null,null,null," ",null,1,1900]
[null,null,null,null,null,null,null,null," ",null,1,1900]
[null,null,null,null,null,null,null,null," ",null,1,1900]
[null,null,null,null,null,null,null,null," ",null,1,1900]
[null,null,null,null,null,null,null,null," ",null,1,1900]
[null,null,null,null,null,null,null,null," ",null,1,1900]
[null,null,null,null,null,null,null,null," ",null,1,1900]
[null,null,null,null,null,null,null,null," ",null,1,1900]
[null,null,null,null,null,null,null,null," ",null,1,1900]
[null,null,null,null,null,null,null,null," ",null,1,1900]
[null,null,null,null,null,null,null,null," ",null,1,1900]
[null,null,null,null,null,null,null,null," ",null,1,1900]
[null,null,null,null,null,null,null,null," ",null,1,1900]
[null,null,null,null,null,null,null,null," ",null,1,1900]
[null,null,null,null,null,null,null,null," ",null,1,1900]
[null,null,null,null,null,null,null,null," ",null,1,1900]
[null,null,null,null,null,null,null,null," ",null,1,1900]
[null,null,null,null,null,null,null,null," ",null,1,1900]
[null,null,null,null,null,null,null,null," ",null,1,1900]
[null,null,null,null,null,null,null,null," ",null,1,1900]
[null,null,null,null,null,null,null,null," ",null,1,1900]
[null,null,null,null,null,null,null,null," ",null,1,1900]
[null,null,null,null,null,null,null,null," ",null,1,1900]
[null,null,null,null,null,null,null,null," ",null,1,1900]
[null,null,null,null,null,null,null,null," ",null,1,1900]
[null,null,null,null,null,null,null,null," ",null,1,1900]
[null,null,null,null,null,null,null,null," ",null,1,1900]
[null,null,null,null,null,null,null,null," ",null,1,1900]
[null,null,null,null,null,null,null,null," ",null,1,1900]
[null,null,null,null,null,null,null,null," ",null,1,1900]
[null,null,null,null,null,null,null,null," ",null,1,1900]
[null,null,null,null,null,null,null,null," ",null,1,1900]
[null,null,null,null,null,null,null,null," ",null,1,1900]
[null,null,null,null,null,null,null,null," ",null,1,1900]
[null,null,null,null,null,null,null,null," ",null,1,1900]
[null,null,null,null,null,null,null,null," ",null,1,1900]
[null,null,null,null,null,null,null,null," ",null,1,1900]
[null,null,null,null,null,null,null,null," ",null,1,1900]
[null,null,null,null,null,null,null,null," ",null,1,1900]
[null,null,null,null,null,null,null,null," ",null,1,1900]
[null,null,null,null,null,null,null,null," ",null,1,1900]
[null,null,null,null,null,null,null,null," ",null,1,1900]
[null,null,null,null,null,null,null,null," ",null,1,1900]
[null,null,null,null,null,null,null,null," ",null,1,1900]
[null,null,null,null,null,null,null,null," ",null,1,1900]
[null,null,null,null,null,null,null,null," ",null,1,1900]
[null,null,null,null,null,null,null,null," ",null,1,1900]
[null,null,null,null,null,null,null,null," ",null,1,1900]
[null,null,null,null,null,null,null,null," ",null,1,1900]
[null,null,null,null,null,null,null,null," ",null,1,1900]
[null,null,null,null,null,null,null,null," ",null,1,1900]
[null,null,null,null,null,null,null,null," ",null,1,1900]
[null,null,null,null,null,null,null,null," ",null,1,1900]
[null,null,null,null,null,null,null,null," ",null,1,1900]
[null,null,null,null,null,null,null,null," ",null,1,1900]
[null,null,null,null,null,null,null,null," ",null,1,1900]
[null,null,null,null,null,null,null,null," ",null,1,1900]
[null,null,null,null,null,null,null,null," ",null,1,1900]
[null,null,null,null,null,null,null,null," ",null,1,1900]
[null,null,null,null,null,null,null,null,{"$f":"+IF(H1336=H1335,\" \",H1336)","v":" "},null,{"$f":"+MONTH(A1336)","v":1},{"$f":"+YEAR(A1336)","v":1900}]
[null,null,null,null,null,null,null,null," ",null,1,1900]
[null,null,null,null,null,null,null,null," ",null,1,1900]
[null,null,null,null,null,null,null,null," ",null,1,1900]
[null,null,null,null,null,null,null,null," ",null,1,1900]
[null,null,null,null,null,null,null,null," ",null,1,1900]
[null,null,null,null,null,null,null,null," ",null,1,1900]
[null,null,null,null,null,null,null,null," ",null,1,1900]
[null,null,null,null,null,null,null,null," ",null,1,1900]
[null,null,null,null,null,null,null,null," ",null,1,1900]
[null,null,null,null,null,null,null,null," ",null,1,1900]
[null,null,null,null,null,null,null,null," ",null,1,1900]
[null,null,null,null,null,null,null,null," ",null,1,1900]
[null,null,null,null,null,null,null,null," ",null,1,1900]
[null,null,null,null,null,null,null,null," ",null,1,1900]
[null,null,null,null,null,null,null,null," ",null,1,1900]
[null,null,null,null,null,null,null,null," ",null,1,1900]
[null,null,null,null,null,null,null,null," ",null,1,1900]
[null,null,null,null,null,null,null,null," ",null,1,1900]
[null,null,null,null,null,null,null,null," ",null,1,1900]
[null,null,null,null,null,null,null,null," ",null,1,1900]
[null,null,null,null,null,null,null,null," ",null,1,1900]
[null,null,null,null,null,null,null,null," ",null,1,1900]
[null,null,null,null,null,null,null,null," ",null,1,1900]
[null,null,null,null,null,null,null,null," ",null,1,1900]
[null,null,null,null,null,null,null,null," ",null,1,1900]
[null,null,null,null,null,null,null,null," ",null,1,1900]
[null,null,null,null,null,null,null,null," ",null,1,1900]
[null,null,null,null,null,null,null,null," ",null,1,1900]
[null,null,null,null,null,null,null,null," ",null,1,1900]
[null,null,null,null,null,null,null,null," ",null,1,1900]
[null,null,null,null,null,null,null,null," ",null,1,1900]
[null,null,null,null,null,null,null,null," ",null,1,1900]
[null,null,null,null,null,null,null,null," ",null,1,1900]
[null,null,null,null,null,null,null,null," ",null,1,1900]
[null,null,null,null,null,null,null,null," ",null,1,1900]
[null,null,null,null,null,null,null,null," ",null,1,1900]
[null,null,null,null,null,null,null,null," ",null,1,1900]
[null,null,null,null,null,null,null,null," ",null,1,1900]
[null,null,null,null,null,null,null,null," ",null,1,1900]
[null,null,null,null,null,null,null,null," ",null,1,1900]
[null,null,null,null,null,null,null,null," ",null,1,1900]
[null,null,null,null,null,null,null,null," ",null,1,1900]
[null,null,null,null,null,null,null,null," ",null,1,1900]
[null,null,null,null,null,null,null,null," ",null,1,1900]
[null,null,null,null,null,null,null,null," ",null,1,1900]
[null,null,null,null,null,null,null,null," ",null,1,1900]
[null,null,null,null,null,null,null,null," ",null,1,1900]
[null,null,null,null,null,null,null,null," ",null,1,1900]
[null,null,null,null,null,null,null,null," ",null,1,1900]
[null,null,null,null,null,null,null,null," ",null,1,1900]
[null,null,null,null,null,null,null,null," ",null,1,1900]
[null,null,null,null,null,null,null,null," ",null,1,1900]
[null,null,null,null,null,null,null,null," ",null,1,1900]
[null,null,null,null,null,null,null,null," ",null,1,1900]
[null,null,null,null,null,null,null,null," ",null,1,1900]
[null,null,null,null,null,null,null,null," ",null,1,1900]
[null,null,null,null,null,null,null,null," ",null,1,1900]
[null,null,null,null,null,null,null,null," ",null,1,1900]
[null,null,null,null,null,null,null,null," ",null,1,1900]
[null,null,null,null,null,null,null,null," ",null,1,1900]
[null,null,null,null,null,null,null,null," ",null,1,1900]
[null,null,null,null,null,null,null,null," ",null,1,1900]
[null,null,null,null,null,null,null,null," ",null,1,1900]
[null,null,null,null,null,null,null,null,{"$f":"+IF(H1400=H1399,\" \",H1400)","v":" "},null,{"$f":"+MONTH(A1400)","v":1},{"$f":"+YEAR(A1400)","v":1900}]
[null,null,null,null,null,null,null,null," ",null,1,1900]
[null,null,null,null,null,null,null,null," ",null,1,1900]
[null,null,null,null,null,null,null,null," ",null,1,1900]
[null,null,null,null,null,null,null,null," ",null,1,1900]
[null,null,null,null,null,null,null,null," ",null,1,1900]
[null,null,null,null,null,null,null,null," ",null,1,1900]
[null,null,null,null,null,null,null,null," ",null,1,1900]
[null,null,null,null,null,null,null,null," ",null,1,1900]
[null,null,null,null,null,null,null,null," ",null,1,1900]
[null,null,null,null,null,null,null,null," ",null,1,1900]
[null,null,null,null,null,null,null,null," ",null,1,1900]
[null,null,null,null,null,null,null,null," ",null,1,1900]
[null,null,null,null,null,null,null,null," ",null,1,1900]
[null,null,null,null,null,null,null,null," ",null,1,1900]
[null,null,null,null,null,null,null,null," ",null,1,1900]
[null,null,null,null,null,null,null,null," ",null,1,1900]
[null,null,null,null,null,null,null,null," ",null,1,1900]
[null,null,null,null,null,null,null,null," ",null,1,1900]
[null,null,null,null,null,null,null,null," ",null,1,1900]
[null,null,null,null,null,null,null,null," ",null,1,1900]
[null,null,null,null,null,null,null,null," ",null,1,1900]
[null,null,null,null,null,null,null,null," ",null,1,1900]
[null,null,null,null,null,null,null,null," ",null,1,1900]
[null,null,null,null,null,null,null,null," ",null,1,1900]
[null,null,null,null,null,null,null,null," ",null,1,1900]
[null,null,null,null,null,null,null,null," ",null,1,1900]
[null,null,null,null,null,null,null,null," ",null,1,1900]
[null,null,null,null,null,null,null,null," ",null,1,1900]
[null,null,null,null,null,null,null,null," ",null,1,1900]
[null,null,null,null,null,null,null,null," ",null,1,1900]
[null,null,null,null,null,null,null,null," ",null,1,1900]
[null,null,null,null,null,null,null,null," ",null,1,1900]
[null,null,null,null,null,null,null,null," ",null,1,1900]
[null,null,null,null,null,null,null,null," ",null,1,1900]
[null,null,null,null,null,null,null,null," ",null,1,1900]
[null,null,null,null,null,null,null,null," ",null,1,1900]
[null,null,null,null,null,null,null,null," ",null,1,1900]
[null,null,null,null,null,null,null,null," ",null,1,1900]
[null,null,null,null,null,null,null,null," ",null,1,1900]
[null,null,null,null,null,null,null,null," ",null,1,1900]
[null,null,null,null,null,null,null,null," ",null,1,1900]
[null,null,null,null,null,null,null,null," ",null,1,1900]
[null,null,null,null,null,null,null,null," ",null,1,1900]
[null,null,null,null,null,null,null,null," ",null,1,1900]
[null,null,null,null,null,null,null,null," ",null,1,1900]
[null,null,null,null,null,null,null,null," ",null,1,1900]
[null,null,null,null,null,null,null,null," ",null,1,1900]
[null,null,null,null,null,null,null,null," ",null,1,1900]
[null,null,null,null,null,null,null,null," ",null,1,1900]
[null,null,null,null,null,null,null,null," ",null,1,1900]
[null,null,null,null,null,null,null,null," ",null,1,1900]
[null,null,null,null,null,null,null,null," ",null,1,1900]
[null,null,null,null,null,null,null,null," ",null,1,1900]
[null,null,null,null,null,null,null,null," ",null,1,1900]
[null,null,null,null,null,null,null,null," ",null,1,1900]
[null,null,null,null,null,null,null,null," ",null,1,1900]
[null,null,null,null,null,null,null,null," ",null,1,1900]
[null,null,null,null,null,null,null,null," ",null,1,1900]
[null,null,null,null,null,null,null,null," ",null,1,1900]
[null,null,null,null,null,null,null,null," ",null,1,1900]
[null,null,null,null,null,null,null,null," ",null,1,1900]
[null,null,null,null,null,null,null,null," ",null,1,1900]
[null,null,null,null,null,null,null,null," ",null,1,1900]
[null,null,null,null,null,null,null,null,{"$f":"+IF(H1464=H1463,\" \",H1464)","v":" "},null,{"$f":"+MONTH(A1464)","v":1},{"$f":"+YEAR(A1464)","v":1900}]
[null,null,null,null,null,null,null,null," ",null,1,1900]
[null,null,null,null,null,null,null,null," ",null,1,1900]
[null,null,null,null,null,null,null,null," ",null,1,1900]
[null,null,null,null,null,null,null,null," ",null,1,1900]
[null,null,null,null,null,null,null,null," ",null,1,1900]
[null,null,null,null,null,null,null,null," ",null,1,1900]
[null,null,null,null,null,null,null,null," ",null,1,1900]
[null,null,null,null,null,null,null,null," ",null,1,1900]
[null,null,null,null,null,null,null,null," ",null,1,1900]
[null,null,null,null,null,null,null,null," ",null,1,1900]
[null,null,null,null,null,null,null,null," ",null,1,1900]
[null,null,null,null,null,null,null,null," ",null,1,1900]
[null,null,null,null,null,null,null,null," ",null,1,1900]
[null,null,null,null,null,null,null,null," ",null,1,1900]
[null,null,null,null,null,null,null,null," ",null,1,1900]
[null,null,null,null,null,null,null,null," ",null,1,1900]
[null,null,null,null,null,null,null,null," ",null,1,1900]
[null,null,null,null,null,null,null,null," ",null,1,1900]
[null,null,null,null,null,null,null,null," ",null,1,1900]
[null,null,null,null,null,null,null,null," ",null,1,1900]
[null,null,null,null,null,null,null,null," ",null,1,1900]
[null,null,null,null,null,null,null,null," ",null,1,1900]
[null,null,null,null,null,null,null,null," ",null,1,1900]
[null,null,null,null,null,null,null,null," ",null,1,1900]
[null,null,null,null,null,null,null,null," ",null,1,1900]
[null,null,null,null,null,null,null,null," ",null,1,1900]
[null,null,null,null,null,null,null,null," ",null,1,1900]
[null,null,null,null,null,null,null,null," ",null,1,1900]
[null,null,null,null,null,null,null,null," ",null,1,1900]
[null,null,null,null,null,null,null,null," ",null,1,1900]
[null,null,null,null,null,null,null,null," ",null,1,1900]
[null,null,null,null,null,null,null,null," ",null,1,1900]
[null,null,null,null,null,null,null,null," ",null,1,1900]
[null,null,null,null,null,null,null,null," ",null,1,1900]
[null,null,null,null,null,null,null,null," ",null,1,1900]
[null,null,null,null,null,null,null,null," ",null,1,1900]
[null,null,null,null,null,null,null,null," ",null,1,1900]
[null,null,null,null,null,null,null,null," ",null,1,1900]
[null,null,null,null,null,null,null,null," ",null,1,1900]
[null,null,null,null,null,null,null,null," ",null,1,1900]
[null,null,null,null,null,null,null,null," ",null,1,1900]
[null,null,null,null,null,null,null,null," ",null,1,1900]
[null,null,null,null,null,null,null,null," ",null,1,1900]
[null,null,null,null,null,null,null,null," ",null,1,1900]
[null,null,null,null,null,null,null,null," ",null,1,1900]
[null,null,null,null,null,null,null,null," ",null,1,1900]
[null,null,null,null,null,null,null,null," ",null,1,1900]
[null,null,null,null,null,null,null,null," ",null,1,1900]
[null,null,null,null,null,null,null,null," ",null,1,1900]
[null,null,null,null,null,null,null,null," ",null,1,1900]
[null,null,null,null,null,null,null,null," ",null,1,1900]
[null,null,null,null,null,null,null,null," ",null,1,1900]
[null,null,null,null,null,null,null,null," ",null,1,1900]
[null,null,null,null,null,null,null,null," ",null,1,1900]
[null,null,null,null,null,null,null,null," ",null,1,1900]
[null,null,null,null,null,null,null,null," ",null,1,1900]
[null,null,null,null,null,null,null,null," ",null,1,1900]
[null,null,null,null,null,null,null,null," ",null,1,1900]
[null,null,null,null,null,null,null,null," ",null,1,1900]
[null,null,null,null,null,null,null,null," ",null,1,1900]
[null,null,null,null,null,null,null,null," ",null,1,1900]
[null,null,null,null,null,null,null,null," ",null,1,1900]
[null,null,null,null,null,null,null,null," ",null,1,1900]
[null,null,null,null,null,null,null,null,{"$f":"+IF(H1528=H1527,\" \",H1528)","v":" "},null,{"$f":"+MONTH(A1528)","v":1},{"$f":"+YEAR(A1528)","v":1900}]
[null,null,null,null,null,null,null,null," ",null,1,1900]
[null,null,null,null,null,null,null,null," ",null,1,1900]
[null,null,null,null,null,null,null,null," ",null,1,1900]
[null,null,null,null,null,null,null,null," ",null,1,1900]
[null,null,null,null,null,null,null,null," ",null,1,1900]
[null,null,null,null,null,null,null,null," ",null,1,1900]
[null,null,null,null,null,null,null,null," ",null,1,1900]
[null,null,null,null,null,null,null,null," ",null,1,1900]
[null,null,null,null,null,null,null,null," ",null,1,1900]
[null,null,null,null,null,null,null,null," ",null,1,1900]
[null,null,null,null,null,null,null,null," ",null,1,1900]
[null,null,null,null,null,null,null,null," ",null,1,1900]
[null,null,null,null,null,null,null,null," ",null,1,1900]
[null,null,null,null,null,null,null,null," ",null,1,1900]
[null,null,null,null,null,null,null,null," ",null,1,1900]
[null,null,null,null,null,null,null,null," ",null,1,1900]
[null,null,null,null,null,null,null,null," ",null,1,1900]
[null,null,null,null,null,null,null,null," ",null,1,1900]
[null,null,null,null,null,null,null,null," ",null,1,1900]
[null,null,null,null,null,null,null,null," ",null,1,1900]
[null,null,null,null,null,null,null,null," ",null,1,1900]
[null,null,null,null,null,null,null,null," ",null,1,1900]
[null,null,null,null,null,null,null,null," ",null,1,1900]
[null,null,null,null,null,null,null,null," ",null,1,1900]
[null,null,null,null,null,null,null,null," ",null,1,1900]
[null,null,null,null,null,null,null,null," ",null,1,1900]
[null,null,null,null,null,null,null,null," ",null,1,1900]
[null,null,null,null,null,null,null,null," ",null,1,1900]
[null,null,null,null,null,null,null,null," ",null,1,1900]
[null,null,null,null,null,null,null,null," ",null,1,1900]
[null,null,null,null,null,null,null,null," ",null,1,1900]
[null,null,null,null,null,null,null,null," ",null,1,1900]
[null,null,null,null,null,null,null,null," ",null,1,1900]
[null,null,null,null,null,null,null,null," ",null,1,1900]
[null,null,null,null,null,null,null,null," ",null,1,1900]
[null,null,null,null,null,null,null,null," ",null,1,1900]
[null,null,null,null,null,null,null,null," ",null,1,1900]
[null,null,null,null,null,null,null,null," ",null,1,1900]
[null,null,null,null,null,null,null,null," ",null,1,1900]
[null,null,null,null,null,null,null,null," ",null,1,1900]
[null,null,null,null,null,null,null,null," ",null,1,1900]
[null,null,null,null,null,null,null,null," ",null,1,1900]
[null,null,null,null,null,null,null,null," ",null,1,1900]
[null,null,null,null,null,null,null,null," ",null,1,1900]
[null,null,null,null,null,null,null,null," ",null,1,1900]
[null,null,null,null,null,null,null,null," ",null,1,1900]
[null,null,null,null,null,null,null,null," ",null,1,1900]
[null,null,null,null,null,null,null,null," ",null,1,1900]
[null,null,null,null,null,null,null,null," ",null,1,1900]
[null,null,null,null,null,null,null,null," ",null,1,1900]
[null,null,null,null,null,null,null,null," ",null,1,1900]
[null,null,null,null,null,null,null,null," ",null,1,1900]
[null,null,null,null,null,null,null,null," ",null,1,1900]
[null,null,null,null,null,null,null,null," ",null,1,1900]
[null,null,null,null,null,null,null,null," ",null,1,1900]
[null,null,null,null,null,null,null,null," ",null,1,1900]
[null,null,null,null,null,null,null,null," ",null,1,1900]
[null,null,null,null,null,null,null,null," ",null,1,1900]
[null,null,null,null,null,null,null,null," ",null,1,1900]
[null,null,null,null,null,null,null,null," ",null,1,1900]
[null,null,null,null,null,null,null,null," ",null,1,1900]
[null,null,null,null,null,null,null,null," ",null,1,1900]
[null,null,null,null,null,null,null,null," ",null,1,1900]
[null,null,null,null,null,null,null,null,{"$f":"+IF(H1592=H1591,\" \",H1592)","v":" "},null,{"$f":"+MONTH(A1592)","v":1},{"$f":"+YEAR(A1592)","v":1900}]
[null,null,null,null,null,null,null,null," ",null,1,1900]
[null,null,null,null,null,null,null,null," ",null,1,1900]
[null,null,null,null,null,null,null,null," ",null,1,1900]
[null,null,null,null,null,null,null,null," ",null,1,1900]
[null,null,null,null,null,null,null,null," ",null,1,1900]
[null,null,null,null,null,null,null,null," ",null,1,1900]
[null,null,null,null,null,null,null,null," ",null,1,1900]
[null,null,null,null,null,null,null,null," ",null,1,1900]
[null,null,null,null,null,null,null,null," ",null,1,1900]
[null,null,null,null,null,null,null,null," ",null,1,1900]
[null,null,null,null,null,null,null,null," ",null,1,1900]
[null,null,null,null,null,null,null,null," ",null,1,1900]
[null,null,null,null,null,null,null,null," ",null,1,1900]
[null,null,null,null,null,null,null,null," ",null,1,1900]
[null,null,null,null,null,null,null,null," ",null,1,1900]
[null,null,null,null,null,null,null,null," ",null,1,1900]
[null,null,null,null,null,null,null,null," ",null,1,1900]
[null,null,null,null,null,null,null,null," ",null,1,1900]
[null,null,null,null,null,null,null,null," ",null,1,1900]
[null,null,null,null,null,null,null,null," ",null,1,1900]
[null,null,null,null,null,null,null,null," ",null,1,1900]
[null,null,null,null,null,null,null,null," ",null,1,1900]
[null,null,null,null,null,null,null,null," ",null,1,1900]
[null,null,null,null,null,null,null,null," ",null,1,1900]
[null,null,null,null,null,null,null,null," ",null,1,1900]
[null,null,null,null,null,null,null,null," ",null,1,1900]
[null,null,null,null,null,null,null,null," ",null,1,1900]
[null,null,null,null,null,null,null,null," ",null,1,1900]
[null,null,null,null,null,null,null,null," ",null,1,1900]
[null,null,null,null,null,null,null,null," ",null,1,1900]
[null,null,null,null,null,null,null,null," ",null,1,1900]
[null,null,null,null,null,null,null,null," ",null,1,1900]
[null,null,null,null,null,null,null,null," ",null,1,1900]
[null,null,null,null,null,null,null,null," ",null,1,1900]
[null,null,null,null,null,null,null,null," ",null,1,1900]
[null,null,null,null,null,null,null,null," ",null,1,1900]
[null,null,null,null,null,null,null,null," ",null,1,1900]
[null,null,null,null,null,null,null,null," ",null,1,1900]
[null,null,null,null,null,null,null,null," ",null,1,1900]
[null,null,null,null,null,null,null,null," ",null,1,1900]
[null,null,null,null,null,null,null,null," ",null,1,1900]
[null,null,null,null,null,null,null,null," ",null,1,1900]
[null,null,null,null,null,null,null,null," ",null,1,1900]
[null,null,null,null,null,null,null,null," ",null,1,1900]
[null,null,null,null,null,null,null,null," ",null,1,1900]
[null,null,null,null,null,null,null,null," ",null,1,1900]
[null,null,null,null,null,null,null,null," ",null,1,1900]
[null,null,null,null,null,null,null,null," ",null,1,1900]
[null,null,null,null,null,null,null,null," ",null,1,1900]
[null,null,null,null,null,null,null,null," ",null,1,1900]
[null,null,null,null,null,null,null,null," ",null,1,1900]
[null,null,null,null,null,null,null,null," ",null,1,1900]
[null,null,null,null,null,null,null,null," ",null,1,1900]
[null,null,null,null,null,null,null,null," ",null,1,1900]
[null,null,null,null,null,null,null,null," ",null,1,1900]
[null,null,null,null,null,null,null,null," ",null,1,1900]
[null,null,null,null,null,null,null,null," ",null,1,1900]
[null,null,null,null,null,null,null,null," ",null,1,1900]
[null,null,null,null,null,null,null,null," ",null,1,1900]
[null,null,null,null,null,null,null,null," ",null,1,1900]
[null,null,null,null,null,null,null,null," ",null,1,1900]
[null,null,null,null,null,null,null,null," ",null,1,1900]
[null,null,null,null,null,null,null,null," ",null,1,1900]
[null,null,null,null,null,null,null,null,{"$f":"+IF(H1656=H1655,\" \",H1656)","v":" "},null,{"$f":"+MONTH(A1656)","v":1},{"$f":"+YEAR(A1656)","v":1900}]
[null,null,null,null,null,null,null,null," ",null,1,1900]
[null,null,null,null,null,null,null,null," ",null,1,1900]
[null,null,null,null,null,null,null,null," ",null,1,1900]
[null,null,null,null,null,null,null,null," ",null,1,1900]
[null,null,null,null,null,null,null,null," ",null,1,1900]
[null,null,null,null,null,null,null,null," ",null,1,1900]
[null,null,null,null,null,null,null,null," ",null,1,1900]
[null,null,null,null,null,null,null,null," ",null,1,1900]
[null,null,null,null,null,null,null,null," ",null,1,1900]
[null,null,null,null,null,null,null,null," ",null,1,1900]
[null,null,null,null,null,null,null,null," ",null,1,1900]
[null,null,null,null,null,null,null,null," ",null,1,1900]
[null,null,null,null,null,null,null,null," ",null,1,1900]
[null,null,null,null,null,null,null,null," ",null,1,1900]
[null,null,null,null,null,null,null,null," ",null,1,1900]
[null,null,null,null,null,null,null,null," ",null,1,1900]
[null,null,null,null,null,null,null,null," ",null,1,1900]
[null,null,null,null,null,null,null,null," ",null,1,1900]
[null,null,null,null,null,null,null,null," ",null,1,1900]
[null,null,null,null,null,null,null,null," ",null,1,1900]
[null,null,null,null,null,null,null,null," ",null,1,1900]
[null,null,null,null,null,null,null,null," ",null,1,1900]
[null,null,null,null,null,null,null,null," ",null,1,1900]
[null,null,null,null,null,null,null,null," ",null,1,1900]
[null,null,null,null,null,null,null,null," ",null,1,1900]
[null,null,null,null,null,null,null,null," ",null,1,1900]
[null,null,null,null,null,null,null,null," ",null,1,1900]
[null,null,null,null,null,null,null,null," ",null,1,1900]
[null,null,null,null,null,null,null,null," ",null,1,1900]
[null,null,null,null,null,null,null,null," ",null,1,1900]
[null,null,null,null,null,null,null,null," ",null,1,1900]
[null,null,null,null,null,null,null,null," ",null,1,1900]
[null,null,null,null,null,null,null,null," ",null,1,1900]
[null,null,null,null,null,null,null,null," ",null,1,1900]
[null,null,null,null,null,null,null,null," ",null,1,1900]
[null,null,null,null,null,null,null,null," ",null,1,1900]
[null,null,null,null,null,null,null,null," ",null,1,1900]
[null,null,null,null,null,null,null,null," ",null,1,1900]
[null,null,null,null,null,null,null,null," ",null,1,1900]
[null,null,null,null,null,null,null,null," ",null,1,1900]
[null,null,null,null,null,null,null,null," ",null,1,1900]
[null,null,null,null,null,null,null,null," ",null,1,1900]
[null,null,null,null,null,null,null,null," ",null,1,1900]
[null,null,null,null,null,null,null,null," ",null,1,1900]
[null,null,null,null,null,null,null,null," ",null,1,1900]
[null,null,null,null,null,null,null,null," ",null,1,1900]
[null,null,null,null,null,null,null,null," ",null,1,1900]
[null,null,null,null,null,null,null,null," ",null,1,1900]
[null,null,null,null,null,null,null,null," ",null,1,1900]
[null,null,null,null,null,null,null,null," ",null,1,1900]
[null,null,null,null,null,null,null,null," ",null,1,1900]
[null,null,null,null,null,null,null,null," ",null,1,1900]
[null,null,null,null,null,null,null,null," ",null,1,1900]
[null,null,null,null,null,null,null,null," ",null,1,1900]
[null,null,null,null,null,null,null,null," ",null,1,1900]
[null,null,null,null,null,null,null,null," ",null,1,1900]
[null,null,null,null,null,null,null,null," ",null,1,1900]
[null,null,null,null,null,null,null,null," ",null,1,1900]
[null,null,null,null,null,null,null,null," ",null,1,1900]
[null,null,null,null,null,null,null,null," ",null,1,1900]
[null,null,null,null,null,null,null,null," ",null,1,1900]
[null,null,null,null,null,null,null,null," ",null,1,1900]
[null,null,null,null,null,null,null,null," ",null,1,1900]
[null,null,null,null,null,null,null,null,{"$f":"+IF(H1720=H1719,\" \",H1720)","v":" "},null,{"$f":"+MONTH(A1720)","v":1},{"$f":"+YEAR(A1720)","v":1900}]
[null,null,null,null,null,null,null,null," ",null,1,1900]
[null,null,null,null,null,null,null,null," ",null,1,1900]
[null,null,null,null,null,null,null,null," ",null,1,1900]
[null,null,null,null,null,null,null,null," ",null,1,1900]
[null,null,null,null,null,null,null,null," ",null,1,1900]
[null,null,null,null,null,null,null,null," ",null,1,1900]
[null,null,null,null,null,null,null,null," ",null,1,1900]
[null,null,null,null,null,null,null,null," ",null,1,1900]
[null,null,null,null,null,null,null,null," ",null,1,1900]
[null,null,null,null,null,null,null,null," ",null,1,1900]
[null,null,null,null,null,null,null,null," ",null,1,1900]
[null,null,null,null,null,null,null,null," ",null,1,1900]
[null,null,null,null,null,null,null,null," ",null,1,1900]
[null,null,null,null,null,null,null,null," ",null,1,1900]
[null,null,null,null,null,null,null,null," ",null,1,1900]
[null,null,null,null,null,null,null,null," ",null,1,1900]
[null,null,null,null,null,null,null,null," ",null,1,1900]
[null,null,null,null,null,null,null,null," ",null,1,1900]
[null,null,null,null,null,null,null,null," ",null,1,1900]
[null,null,null,null,null,null,null,null," ",null,1,1900]
[null,null,null,null,null,null,null,null," ",null,1,1900]
[null,null,null,null,null,null,null,null," ",null,1,1900]
[null,null,null,null,null,null,null,null," ",null,1,1900]
[null,null,null,null,null,null,null,null," ",null,1,1900]
[null,null,null,null,null,null,null,null," ",null,1,1900]
[null,null,null,null,null,null,null,null," ",null,1,1900]
[null,null,null,null,null,null,null,null," ",null,1,1900]
[null,null,null,null,null,null,null,null," ",null,1,1900]
[null,null,null,null,null,null,null,null," ",null,1,1900]
[null,null,null,null,null,null,null,null," ",null,1,1900]
[null,null,null,null,null,null,null,null," ",null,1,1900]
[null,null,null,null,null,null,null,null," ",null,1,1900]
[null,null,null,null,null,null,null,null," ",null,1,1900]
[null,null,null,null,null,null,null,null," ",null,1,1900]
[null,null,null,null,null,null,null,null," ",null,1,1900]
[null,null,null,null,null,null,null,null," ",null,1,1900]
[null,null,null,null,null,null,null,null," ",null,1,1900]
[null,null,null,null,null,null,null,null," ",null,1,1900]
[null,null,null,null,null,null,null,null," ",null,1,1900]
[null,null,null,null,null,null,null,null," ",null,1,1900]
[null,null,null,null,null,null,null,null," ",null,1,1900]
[null,null,null,null,null,null,null,null," ",null,1,1900]
[null,null,null,null,null,null,null,null," ",null,1,1900]
[null,null,null,null,null,null,null,null," ",null,1,1900]
[null,null,null,null,null,null,null,null," ",null,1,1900]
[null,null,null,null,null,null,null,null," ",null,1,1900]
[null,null,null,null,null,null,null,null," ",null,1,1900]
[null,null,null,null,null,null,null,null," ",null,1,1900]
[null,null,null,null,null,null,null,null," ",null,1,1900]
[null,null,null,null,null,null,null,null," ",null,1,1900]
[null,null,null,null,null,null,null,null," ",null,1,1900]
[null,null,null,null,null,null,null,null," ",null,1,1900]
[null,null,null,null,null,null,null,null," ",null,1,1900]
[null,null,null,null,null,null,null,null," ",null,1,1900]
[null,null,null,null,null,null,null,null," ",null,1,1900]
[null,null,null,null,null,null,null,null," ",null,1,1900]
[null,null,null,null,null,null,null,null," ",null,1,1900]
[null,null,null,null,null,null,null,null," ",null,1,1900]
[null,null,null,null,null,null,null,null," ",null,1,1900]
[null,null,null,null,null,null,null,null," ",null,1,1900]
[null,null,null,null,null,null,null,null," ",null,1,1900]
[null,null,null,null,null,null,null,null," ",null,1,1900]
[null,null,null,null,null,null,null,null," ",null,1,1900]
[null,null,null,null,null,null,null,null,{"$f":"+IF(H1784=H1783,\" \",H1784)","v":" "},null,{"$f":"+MONTH(A1784)","v":1},{"$f":"+YEAR(A1784)","v":1900}]
[null,null,null,null,null,null,null,null," ",null,1,1900]
[null,null,null,null,null,null,null,null," ",null,1,1900]
[null,null,null,null,null,null,null,null," ",null,1,1900]
[null,null,null,null,null,null,null,null," ",null,1,1900]
[null,null,null,null,null,null,null,null," ",null,1,1900]
[null,null,null,null,null,null,null,null," ",null,1,1900]
[null,null,null,null,null,null,null,null," ",null,1,1900]
[null,null,null,null,null,null,null,null," ",null,1,1900]
[null,null,null,null,null,null,null,null," ",null,1,1900]
[null,null,null,null,null,null,null,null," ",null,1,1900]
[null,null,null,null,null,null,null,null," ",null,1,1900]
[null,null,null,null,null,null,null,null," ",null,1,1900]
[null,null,null,null,null,null,null,null," ",null,1,1900]
[null,null,null,null,null,null,null,null," ",null,1,1900]
[null,null,null,null,null,null,null,null," ",null,1,1900]
[null,null,null,null,null,null,null,null," ",null,1,1900]
[null,null,null,null,null,null,null,null," ",null,1,1900]
[null,null,null,null,null,null,null,null," ",null,1,1900]
[null,null,null,null,null,null,null,null," ",null,1,1900]
[null,null,null,null,null,null,null,null," ",null,1,1900]
[null,null,null,null,null,null,null,null," ",null,1,1900]
[null,null,null,null,null,null,null,null," ",null,1,1900]
[null,null,null,null,null,null,null,null," ",null,1,1900]
[null,null,null,null,null,null,null,null," ",null,1,1900]
[null,null,null,null,null,null,null,null," ",null,1,1900]
[null,null,null,null,null,null,null,null," ",null,1,1900]
[null,null,null,null,null,null,null,null," ",null,1,1900]
[null,null,null,null,null,null,null,null," ",null,1,1900]
[null,null,null,null,null,null,null,null," ",null,1,1900]
[null,null,null,null,null,null,null,null," ",null,1,1900]
[null,null,null,null,null,null,null,null," ",null,1,1900]
[null,null,null,null,null,null,null,null," ",null,1,1900]
[null,null,null,null,null,null,null,null," ",null,1,1900]
[null,null,null,null,null,null,null,null," ",null,1,1900]
[null,null,null,null,null,null,null,null," ",null,1,1900]
[null,null,null,null,null,null,null,null," ",null,1,1900]
[null,null,null,null,null,null,null,null," ",null,1,1900]
[null,null,null,null,null,null,null,null," ",null,1,1900]
[null,null,null,null,null,null,null,null," ",null,1,1900]
[null,null,null,null,null,null,null,null," ",null,1,1900]
[null,null,null,null,null,null,null,null," ",null,1,1900]
[null,null,null,null,null,null,null,null," ",null,1,1900]
[null,null,null,null,null,null,null,null," ",null,1,1900]
[null,null,null,null,null,null,null,null," ",null,1,1900]
[null,null,null,null,null,null,null,null," ",null,1,1900]
[null,null,null,null,null,null,null,null," ",null,1,1900]
[null,null,null,null,null,null,null,null," ",null,1,1900]
[null,null,null,null,null,null,null,null," ",null,1,1900]
[null,null,null,null,null,null,null,null," ",null,1,1900]
[null,null,null,null,null,null,null,null," ",null,1,1900]
[null,null,null,null,null,null,null,null," ",null,1,1900]
[null,null,null,null,null,null,null,null," ",null,1,1900]
[null,null,null,null,null,null,null,null," ",null,1,1900]
[null,null,null,null,null,null,null,null," ",null,1,1900]
[null,null,null,null,null,null,null,null," ",null,1,1900]
[null,null,null,null,null,null,null,null," ",null,1,1900]
[null,null,null,null,null,null,null,null," ",null,1,1900]
[null,null,null,null,null,null,null,null," ",null,1,1900]
[null,null,null,null,null,null,null,null," ",null,1,1900]
[null,null,null,null,null,null,null,null," ",null,1,1900]
[null,null,null,null,null,null,null,null," ",null,1,1900]
[null,null,null,null,null,null,null,null," ",null,1,1900]
[null,null,null,null,null,null,null,null," ",null,1,1900]
[null,null,null,null,null,null,null,null,{"$f":"+IF(H1848=H1847,\" \",H1848)","v":" "},null,{"$f":"+MONTH(A1848)","v":1},{"$f":"+YEAR(A1848)","v":1900}]
[null,null,null,null,null,null,null,null," ",null,1,1900]
[null,null,null,null,null,null,null,null," ",null,1,1900]
[null,null,null,null,null,null,null,null," ",null,1,1900]
[null,null,null,null,null,null,null,null," ",null,1,1900]
[null,null,null,null,null,null,null,null," ",null,1,1900]
[null,null,null,null,null,null,null,null," ",null,1,1900]
[null,null,null,null,null,null,null,null," ",null,1,1900]
[null,null,null,null,null,null,null,null," ",null,1,1900]
[null,null,null,null,null,null,null,null," ",null,1,1900]
[null,null,null,null,null,null,null,null," ",null,1,1900]
[null,null,null,null,null,null,null,null," ",null,1,1900]
[null,null,null,null,null,null,null,null," ",null,1,1900]
[null,null,null,null,null,null,null,null," ",null,1,1900]
[null,null,null,null,null,null,null,null," ",null,1,1900]
[null,null,null,null,null,null,null,null," ",null,1,1900]
[null,null,null,null,null,null,null,null," ",null,1,1900]
[null,null,null,null,null,null,null,null," ",null,1,1900]
[null,null,null,null,null,null,null,null," ",null,1,1900]
[null,null,null,null,null,null,null,null," ",null,1,1900]
[null,null,null,null,null,null,null,null," ",null,1,1900]
[null,null,null,null,null,null,null,null," ",null,1,1900]
[null,null,null,null,null,null,null,null," ",null,1,1900]
[null,null,null,null,null,null,null,null," ",null,1,1900]
[null,null,null,null,null,null,null,null," ",null,1,1900]
[null,null,null,null,null,null,null,null," ",null,1,1900]
[null,null,null,null,null,null,null,null," ",null,1,1900]
[null,null,null,null,null,null,null,null," ",null,1,1900]
[null,null,null,null,null,null,null,null," ",null,1,1900]
[null,null,null,null,null,null,null,null," ",null,1,1900]
[null,null,null,null,null,null,null,null," ",null,1,1900]
[null,null,null,null,null,null,null,null," ",null,1,1900]
[null,null,null,null,null,null,null,null," ",null,1,1900]
[null,null,null,null,null,null,null,null," ",null,1,1900]
[null,null,null,null,null,null,null,null," ",null,1,1900]
[null,null,null,null,null,null,null,null," ",null,1,1900]
[null,null,null,null,null,null,null,null," ",null,1,1900]
[null,null,null,null,null,null,null,null," ",null,1,1900]
[null,null,null,null,null,null,null,null," ",null,1,1900]
[null,null,null,null,null,null,null,null," ",null,1,1900]
[null,null,null,null,null,null,null,null," ",null,1,1900]
[null,null,null,null,null,null,null,null," ",null,1,1900]
[null,null,null,null,null,null,null,null," ",null,1,1900]
[null,null,null,null,null,null,null,null," ",null,1,1900]
[null,null,null,null,null,null,null,null," ",null,1,1900]
[null,null,null,null,null,null,null,null," ",null,1,1900]
[null,null,null,null,null,null,null,null," ",null,1,1900]
[null,null,null,null,null,null,null,null," ",null,1,1900]
[null,null,null,null,null,null,null,null," ",null,1,1900]
[null,null,null,null,null,null,null,null," ",null,1,1900]
[null,null,null,null,null,null,null,null," ",null,1,1900]
[null,null,null,null,null,null,null,null," ",null,1,1900]
[null,null,null,null,null,null,null,null," ",null,1,1900]
[null,null,null,null,null,null,null,null," ",null,1,1900]
[null,null,null,null,null,null,null,null," ",null,1,1900]
[null,null,null,null,null,null,null,null," ",null,1,1900]
[null,null,null,null,null,null,null,null," ",null,1,1900]
[null,null,null,null,null,null,null,null," ",null,1,1900]
[null,null,null,null,null,null,null,null," ",null,1,1900]
[null,null,null,null,null,null,null,null," ",null,1,1900]
[null,null,null,null,null,null,null,null," ",null,1,1900]
[null,null,null,null,null,null,null,null," ",null,1,1900]
[null,null,null,null,null,null,null,null," ",null,1,1900]
[null,null,null,null,null,null,null,null," ",null,1,1900]
[null,null,null,null,null,null,null,null,{"$f":"+IF(H1912=H1911,\" \",H1912)","v":" "},null,{"$f":"+MONTH(A1912)","v":1},{"$f":"+YEAR(A1912)","v":1900}]
[null,null,null,null,null,null,null,null," ",null,1,1900]
[null,null,null,null,null,null,null,null," ",null,1,1900]
[null,null,null,null,null,null,null,null," ",null,1,1900]
[null,null,null,null,null,null,null,null," ",null,1,1900]
[null,null,null,null,null,null,null,null," ",null,1,1900]
[null,null,null,null,null,null,null,null," ",null,1,1900]
[null,null,null,null,null,null,null,null," ",null,1,1900]
[null,null,null,null,null,null,null,null," ",null,1,1900]
[null,null,null,null,null,null,null,null," ",null,1,1900]
[null,null,null,null,null,null,null,null," ",null,1,1900]
[null,null,null,null,null,null,null,null," ",null,1,1900]
[null,null,null,null,null,null,null,null," ",null,1,1900]
[null,null,null,null,null,null,null,null," ",null,1,1900]
[null,null,null,null,null,null,null,null," ",null,1,1900]
[null,null,null,null,null,null,null,null," ",null,1,1900]
[null,null,null,null,null,null,null,null," ",null,1,1900]
[null,null,null,null,null,null,null,null," ",null,1,1900]
[null,null,null,null,null,null,null,null," ",null,1,1900]
[null,null,null,null,null,null,null,null," ",null,1,1900]
[null,null,null,null,null,null,null,null," ",null,1,1900]
[null,null,null,null,null,null,null,null," ",null,1,1900]
[null,null,null,null,null,null,null,null," ",null,1,1900]
[null,null,null,null,null,null,null,null," ",null,1,1900]
[null,null,null,null,null,null,null,null," ",null,1,1900]
[null,null,null,null,null,null,null,null," ",null,1,1900]
[null,null,null,null,null,null,null,null," ",null,1,1900]
[null,null,null,null,null,null,null,null," ",null,1,1900]
[null,null,null,null,null,null,null,null," ",null,1,1900]
[null,null,null,null,null,null,null,null," ",null,1,1900]
[null,null,null,null,null,null,null,null," ",null,1,1900]
[null,null,null,null,null,null,null,null," ",null,1,1900]
[null,null,null,null,null,null,null,null," ",null,1,1900]
[null,null,null,null,null,null,null,null," ",null,1,1900]
[null,null,null,null,null,null,null,null," ",null,1,1900]
[null,null,null,null,null,null,null,null," ",null,1,1900]
[null,null,null,null,null,null,null,null," ",null,1,1900]
[null,null,null,null,null,null,null,null," ",null,1,1900]
[null,null,null,null,null,null,null,null," ",null,1,1900]
[null,null,null,null,null,null,null,null," ",null,1,1900]
[null,null,null,null,null,null,null,null," ",null,1,1900]
[null,null,null,null,null,null,null,null," ",null,1,1900]
[null,null,null,null,null,null,null,null," ",null,1,1900]
[null,null,null,null,null,null,null,null," ",null,1,1900]
[null,null,null,null,null,null,null,null," ",null,1,1900]
[null,null,null,null,null,null,null,null," ",null,1,1900]
[null,null,null,null,null,null,null,null," ",null,1,1900]
[null,null,null,null,null,null,null,null," ",null,1,1900]
[null,null,null,null,null,null,null,null," ",null,1,1900]
[null,null,null,null,null,null,null,null," ",null,1,1900]
[null,null,null,null,null,null,null,null," ",null,1,1900]
[null,null,null,null,null,null,null,null," ",null,1,1900]
[null,null,null,null,null,null,null,null," ",null,1,1900]
[null,null,null,null,null,null,null,null," ",null,1,1900]
[null,null,null,null,null,null,null,null," ",null,1,1900]
[null,null,null,null,null,null,null,null," ",null,1,1900]
[null,null,null,null,null,null,null,null," ",null,1,1900]
[null,null,null,null,null,null,null,null," ",null,1,1900]
[null,null,null,null,null,null,null,null," ",null,1,1900]
[null,null,null,null,null,null,null,null," ",null,1,1900]
[null,null,null,null,null,null,null,null," ",null,1,1900]
[null,null,null,null,null,null,null,null," ",null,1,1900]
[null,null,null,null,null,null,null,null," ",null,1,1900]
[null,null,null,null,null,null,null,null," ",null,1,1900]
[null,null,null,null,null,null,null,null,{"$f":"+IF(H1976=H1975,\" \",H1976)","v":" "},null,{"$f":"+MONTH(A1976)","v":1},{"$f":"+YEAR(A1976)","v":1900}]
[null,null,null,null,null,null,null,null," ",null,1,1900]
[null,null,null,null,null,null,null,null," ",null,1,1900]
[null,null,null,null,null,null,null,null," ",null,1,1900]
[null,null,null,null,null,null,null,null," ",null,1,1900]
[null,null,null,null,null,null,null,null," ",null,1,1900]
[null,null,null,null,null,null,null,null," ",null,1,1900]
[null,null,null,null,null,null,null,null," ",null,1,1900]
[null,null,null,null,null,null,null,null," ",null,1,1900]
[null,null,null,null,null,null,null,null," ",null,1,1900]
[null,null,null,null,null,null,null,null," ",null,1,1900]
[null,null,null,null,null,null,null,null," ",null,1,1900]
[null,null,null,null,null,null,null,null," ",null,1,1900]
[null,null,null,null,null,null,null,null," ",null,1,1900]
[null,null,null,null,null,null,null,null," ",null,1,1900]
[null,null,null,null,null,null,null,null," ",null,1,1900]
[null,null,null,null,null,null,null,null," ",null,1,1900]
[null,null,null,null,null,null,null,null," ",null,1,1900]
[null,null,null,null,null,null,null,null," ",null,1,1900]
[null,null,null,null,null,null,null,null," ",null,1,1900]
[null,null,null,null,null,null,null,null," ",null,1,1900]
[null,null,null,null,null,null,null,null," ",null,1,1900]
[null,null,null,null,null,null,null,null," ",null,1,1900]
[null,null,null,null,null,null,null,null," ",null,1,1900]
[null,null,null,null,null,null,null,null," ",null,1,1900]
[null,null,null,null,null,null,null,null," ",null,1,1900]
[null,null,null,null,null,null,null,null," ",null,1,1900]
[null,null,null,null,null,null,null,null," ",null,1,1900]
[null,null,null,null,null,null,null,null," ",null,1,1900]
[null,null,null,null,null,null,null,null," ",null,1,1900]
[null,null,null,null,null,null,null,null," ",null,1,1900]
[null,null,null,null,null,null,null,null," ",null,1,1900]
[null,null,null,null,null,null,null,null," ",null,1,1900]
[null,null,null,null,null,null,null,null," ",null,1,1900]
[null,null,null,null,null,null,null,null," ",null,1,1900]
[null,null,null,null,null,null,null,null," ",null,1,1900]
[null,null,null,null,null,null,null,null," ",null,1,1900]
[null,null,null,null,null,null,null,null," ",null,1,1900]
[null,null,null,null,null,null,null,null," ",null,1,1900]
[null,null,null,null,null,null,null,null," ",null,1,1900]
[null,null,null,null,null,null,null,null," ",null,1,1900]
[null,null,null,null,null,null,null,null," ",null,1,1900]
[null,null,null,null,null,null,null,null," ",null,1,1900]
[null,null,null,null,null,null,null,null," ",null,1,1900]
[null,null,null,null,null,null,null,null," ",null,1,1900]
[null,null,null,null,null,null,null,null," ",null,1,1900]
[null,null,null,null,null,null,null,null," ",null,1,1900]
[null,null,null,null,null,null,null,null," ",null,1,1900]
[null,null,null,null,null,null,null,null," ",null,1,1900]
[null,null,null,null,null,null,null,null," ",null,1,1900]
[null,null,null,null,null,null,null,null," ",null,1,1900]
[null,null,null,null,null,null,null,null," ",null,1,1900]
[null,null,null,null,null,null,null,null," ",null,1,1900]
[null,null,null,null,null,null,null,null," ",null,1,1900]
[null,null,null,null,null,null,null,null," ",null,1,1900]
[null,null,null,null,null,null,null,null," ",null,1,1900]
[null,null,null,null,null,null,null,null," ",null,1,1900]
[null,null,null,null,null,null,null,null," ",null,1,1900]
[null,null,null,null,null,null,null,null," ",null,1,1900]
[null,null,null,null,null,null,null,null," ",null,1,1900]
[null,null,null,null,null,null,null,null," ",null,1,1900]
[null,null,null,null,null,null,null,null," ",null,1,1900]
[null,null,null,null,null,null,null,null," ",null,1,1900]
[null,null,null,null,null,null,null,null," ",null,1,1900]
[null,null,null,null,null,null,null,null," ",null,1,1900]
[null,null,null,null,null,null,null,null," ",null,1,1900]
[null,null,null,null,null,null,null,null," ",null,1,1900]
[null,null,null,null,null,null,null,null," ",null,1,1900]
[null,null,null,null,null,null,null,null," ",null,1,1900]
[null,null,null,null,null,null,null,null," ",null,1,1900]
[null,null,null,null,null,null,null,null," ",null,1,1900]
[null,null,null,null,null,null,null,null," ",null,1,1900]
[null,null,null,null,null,null,null,null," ",null,1,1900]
[null,null,null,null,null,null,null,null," ",null,1,1900]
[null,null,null,null,null,null,null,null," ",null,1,1900]
[null,null,null,null,null,null,null,null," ",null,1,1900]
[null,null,null,null,null,null,null,null," ",null,1,1900]
[null,null,null,null,null,null,null,null," ",null,1,1900]
[null,null,null,null,null,null,null,null," ",null,1,1900]
[null,null,null,null,null,null,null,null," ",null,1,1900]
[null,null,null,null,null,null,null,null," ",null,1,1900]
[null,null,null,null,null,null,null,null," ",null,1,1900]
[null,null,null,null,null,null,null,null," ",null,1,1900]
[null,null,null,null,null,null,null,null," ",null,1,1900]
[null,null,null,null,null,null,null,null," ",null,1,1900]
[null,null,null,null,null,null,null,null," ",null,1,1900]
[null,null,null,null,null,null,null,null," ",null,1,1900]
[null,null,null,null,null,null,null,null," ",null,1,1900]
[null,null,null,null,null,null,null,null," ",null,1,1900]
[null,null,null,null,null,null,null,null," ",null,1,1900]
[null,null,null,null,null,null,null,null," ",null,1,1900]
[null,null,null,null,null,null,null,null," ",null,1,1900]
[null,null,null,null,null,null,null,null," ",null,1,1900]
[null,null,null,null,null,null,null,null," ",null,1,1900]
[null,null,null,null,null,null,null,null," ",null,1,1900]
[null,null,null,null,null,null,null,null," ",null,1,1900]
[null,null,null,null,null,null,null,null," ",null,1,1900]
[null,null,null,null,null,null,null,null," ",null,1,1900]
[null,null,null,null,null,null,null,null," ",null,1,1900]
[null,null,null,null,null,null,null,null," ",null,1,1900]
[null,null,null,null,null,null,null,null," ",null,1,1900]
[null,null,null,null,null,null,null,null," ",null,1,1900]
[null,null,null,null,null,null,null,null," ",null,1,1900]
[null,null,null,null,null,null,null,null," ",null,1,1900]
[null,null,null,null,null,null,null,null," ",null,1,1900]
[null,null,null,null,null,null,null,null," ",null,1,1900]
[null,null,null,null,null,null,null,null," ",null,1,1900]
[null,null,null,null,null,null,null,null," ",null,1,1900]
[null,null,null,null,null,null,null,null," ",null,1,1900]
[null,null,null,null,null,null,null,null," ",null,1,1900]
[null,null,null,null,null,null,null,null," ",null,1,1900]
[null,null,null,null,null,null,null,null," ",null,1,1900]
[null,null,null,null,null,null,null,null," ",null,1,1900]
[null,null,null,null,null,null,null,null," ",null,1,1900]
[null,null,null,null,null,null,null,null," ",null,1,1900]
[null,null,null,null,null,null,null,null,{"$f":"+IF(H4856=H4855,\" \",H4856)","v":" "},null,{"$f":"+MONTH(A4856)","v":1},{"$f":"+YEAR(A4856)","v":1900}]
[null,null,null,null,null,null,null,null," ",null,1,1900]
[null,null,null,null,null,null,null,null," ",null,1,1900]
[null,null,null,null,null,null,null,null," ",null,1,1900]
[null,null,null,null,null,null,null,null," ",null,1,1900]
[null,null,null,null,null,null,null,null," ",null,1,1900]
[null,null,null,null,null,null,null,null," ",null,1,1900]
[null,null,null,null,null,null,null,null," ",null,1,1900]
[null,null,null,null,null,null,null,null," ",null,1,1900]
[null,null,null,null,null,null,null,null," ",null,1,1900]
[null,null,null,null,null,null,null,null," ",null,1,1900]
[null,null,null,null,null,null,null,null," ",null,1,1900]
[null,null,null,null,null,null,null,null," ",null,1,1900]
[null,null,null,null,null,null,null,null," ",null,1,1900]
[null,null,null,null,null,null,null,null," ",null,1,1900]
[null,null,null,null,null,null,null,null," ",null,1,1900]
[null,null,null,null,null,null,null,null," ",null,1,1900]
[null,null,null,null,null,null,null,null," ",null,1,1900]
[null,null,null,null,null,null,null,null," ",null,1,1900]
[null,null,null,null,null,null,null,null," ",null,1,1900]
[null,null,null,null,null,null,null,null," ",null,1,1900]
[null,null,null,null,null,null,null,null," ",null,1,1900]
[null,null,null,null,null,null,null,null,{"$f":"+IF(H5560=H5559,\" \",H5560)","v":" "},null,{"$f":"+MONTH(A5560)","v":1},{"$f":"+YEAR(A5560)","v":1900}]
[null,null,null,null,null,null,null,null," ",null,1,1900]
[null,null,null,null,null,null,null,null," ",null,1,1900]
[null,null,null,null,null,null,null,null," ",null,1,1900]
[null,null,null,null,null,null,null,null," ",null,1,1900]
[null,null,null,null,null,null,null,null," ",null,1,1900]
[null,null,null,null,null,null,null,null," ",null,1,1900]
[null,null,null,null,null,null,null,null," ",null,1,1900]
[null,null,null,null,null,null,null,null," ",null,1,1900]
[null,null,null,null,null,null,null,null,{"$f":"+IF(H5816=H5815,\" \",H5816)","v":" "},null,{"$f":"+MONTH(A5816)","v":1},{"$f":"+YEAR(A5816)","v":1900}]
[null,null,null,null,null,null,null,null," ",null,1,1900]
[null,null,null,null,null,null,null,null," ",null,1,1900]
[null,null,null,null,null,null,null,null," ",null,1,1900]
[null,null,null,null,null,null,null,null," ",null,1,1900]
[null,null,null,null,null,null,null,null," ",null,1,1900]
[null,null,null,null,null,null,null,null," ",null,1,1900]
[null,null,null,null,null,null,null,null," ",null,1,1900]
[null,null,null,null,null,null,null,null," ",null,1,1900]
[null,null,null,null,null,null,null,null," ",null,1,1900]
[null,null,null,null,null,null,null,null," ",null,1,1900]
[null,null,null,null,null,null,null,null," ",null,1,1900]
[null,null,null,null,null,null,null,null," ",null,1,1900]
[null,null,null,null,null,null,null,null," ",null,1,1900]
[null,null,null,null,null,null,null,null," ",null,1,1900]
[null,null,null,null,null,null,null,null," ",null,1,1900]
[null,null,null,null,null,null,null,null," ",null,1,1900]
[null,null,null,null,null,null,null,null," ",null,1,1900]
[null,null,null,null,null,null,null,null," ",null,1,1900]
[null,null,null,null,null,null,null,null," ",null,1,1900]
[null,null,null,null,null,null,null,null," ",null,1,1900]
[null,null,null,null,null,null,null,null," ",null,1,1900]
[null,null,null,null,null,null,null,null," ",null,1,1900]
[null,null,null,null,null,null,null,null," ",null,1,1900]
[null,null,null,null,null,null,null,null,{"$f":"+IF(H6584=H6583,\" \",H6584)","v":" "},null,{"$f":"+MONTH(A6584)","v":1},{"$f":"+YEAR(A6584)","v":1900}]
[null,null,null,null,null,null,null,null," ",null,1,1900]
[null,null,null,null,null,null,null,null," ",null,1,1900]
[null,null,null,null,null,null,null,null," ",null,1,1900]
[null,null,null,null,null,null,null,null," ",null,1,1900]
[null,null,null,null,null,null,null,null," ",null,1,1900]
[null,null,null,null,null,null,null,null," ",null,1,1900]
[null,null,null,null,null,null,null,null," ",null,1,1900]
[null,null,null,null,null,null,null,null," ",null,1,1900]
[null,null,null,null,null,null,null,null," ",null,1,1900]
[null,null,null,null,null,null,null,null," ",null,1,1900]
[null,null,null,null,null,null,null,null," ",null,1,1900]
[null,null,null,null,null,null,null,null," ",null,1,1900]
[null,null,null,null,null,null,null,null," ",null,1,1900]
[null,null,null,null,null,null,null,null," ",null,1,1900]
[null,null,null,null,null,null,null,null," ",null,1,1900]
[null,null,null,null,null,null,null,null," ",null,1,1900]
[null,null,null,null,null,null,null,null," ",null,1,1900]
[null,null,null,null,null,null,null,null," ",null,1,1900]
[null,null,null,null,null,null,null,null," ",null,1,1900]
[null,null,null,null,null,null,null,null," ",null,1,1900]
[null,null,null,null,null,null,null,null," ",null,1,1900]
[null,null,null,null,null,null,null,null," ",null,1,1900]
[null,null,null,null,null,null,null,null," ",null,1,1900]
[null,null,null,null,null,null,null,null," ",null,1,1900]
[null,null,null,null,null,null,null,null," ",null,1,1900]
[null,null,null,null,null,null,null,null," ",null,1,1900]
[null,null,null,null,null,null,null,null," ",null,1,1900]
[null,null,null,null,null,null,null,null," ",null,1,1900]
[null,null,null,null,null,null,null,null," ",null,1,1900]
[null,null,null,null,null,null,null,null," ",null,1,1900]
[null,null,null,null,null,null,null,null," ",null,1,1900]
[null,null,null,null,null,null,null,null," ",null,1,1900]
[null,null,null,null,null,null,null,null," ",null,1,1900]
[null,null,null,null,null,null,null,null," ",null,1,1900]
[null,null,null,null,null,null,null,null," ",null,1,1900]
[null,null,null,null,null,null,null,null," ",null,1,1900]
[null,null,null,null,null,null,null,null," ",null,1,1900]
[null,null,null,null,null,null,null,null," ",null,1,1900]
[null,null,null,null,null,null,null,null," ",null,1,1900]
[null,null,null,null,null,null,null,null," ",null,1,1900]
[null,null,null,null,null,null,null,null," ",null,1,1900]
[null,null,null,null,null,null,null,null," ",null,1,1900]
[null,null,null,null,null,null,null,null," ",null,1,1900]
[null,null,null,null,null,null,null,null," ",null,1,1900]
[null,null,null,null,null,null,null,null," ",null,1,1900]
[null,null,null,null,null,null,null,null," ",null,1,1900]
[null,null,null,null,null,null,null,null," ",null,1,1900]
[null,null,null,null,null,null,null,null," ",null,1,1900]
[null,null,null,null,null,null,null,null," ",null,1,1900]
[null,null,null,null,null,null,null,null," ",null,1,1900]
[null,null,null,null,null,null,null,null," ",null,1,1900]
[null,null,null,null,null,null,null,null," ",null,1,1900]
[null,null,null,null,null,null,null,null," ",null,1,1900]
[null,null,null,null,null,null,null,null," ",null,1,1900]
[null,null,null,null,null,null,null,null," ",null,1,1900]
[null,null,null,null,null,null,null,null," ",null,1,1900]
[null,null,null,null,null,null,null,null," ",null,1,1900]
[null,null,null,null,null,null,null,null," ",null,1,1900]
[null,null,null,null,null,null,null,null," ",null,1,1900]
[null,null,null,null,null,null,null,null," ",null,1,1900]
[null,null,null,null,null,null,null,null," ",null,1,1900]
[null,null,null,null,null,null,null,null," ",null,1,1900]
[null,null,null,null,null,null,null,null," ",null,1,1900]
[null,null,null,null,null,null,null,null," ",null,1,1900]
[null,null,null,null,null,null,null,null," ",null,1,1900]
[null,null,null,null,null,null,null,null," ",null,1,1900]
[null,null,null,null,null,null,null,null," ",null,1,1900]
[null,null,null,null,null,null,null,null," ",null,1,1900]
[null,null,null,null,null,null,null,null,{"$f":"+IF(H8760=H8759,\" \",H8760)","v":" "},null,{"$f":"+MONTH(A8760)","v":1},{"$f":"+YEAR(A8760)","v":1900}]
[null,null,null,null,null,null,null,null," ",null,1,1900]
[null,null,null,null,null,null,null,null," ",null,1,1900]
[null,null,null,null,null,null,null,null," ",null,1,1900]
[null,null,null,null,null,null,null,null," ",null,1,1900]
[null,null,null,null,null,null,null,null," ",null,1,1900]
[null,null,null,null,null,null,null,null," ",null,1,1900]
[null,null,null,null,null,null,null,null," ",null,1,1900]
[null,null,null,null,null,null,null,null," ",null,1,1900]
[null,null,null,null,null,null,null,null," ",null,1,1900]
[null,null,null,null,null,null,null,null," ",null,1,1900]
[null,null,null,null,null,null,null,null," ",null,1,1900]
[null,null,null,null,null,null,null,null," ",null,1,1900]
[null,null,null,null,null,null,null,null," ",null,1,1900]
[null,null,null,null,null,null,null,null," ",null,1,1900]
[null,null,null,null,null,null,null,null," ",null,1,1900]
[null,null,null,null,null,null,null,null," ",null,1,1900]
[null,null,null,null,null,null,null,null," ",null,1,1900]
[null,null,null,null,null,null,null,null," ",null,1,1900]
[null,null,null,null,null,null,null,null," ",null,1,1900]
[null,null,null,null,null,null,null,null," ",null,1,1900]
[null,null,null,null,null,null,null,null," ",null,1,1900]
[null,null,null,null,null,null,null,null," ",null,1,1900]
[null,null,null,null,null,null,null,null," ",null,1,1900]
[null,null,null,null,null,null,null,null," ",null,1,1900]
[null,null,null,null,null,null,null,null," ",null,1,1900]
[null,null,null,null,null,null,null,null,{"$f":"+IF(H9592=H9591,\" \",H9592)","v":" "},null,{"$f":"+MONTH(A9592)","v":1},{"$f":"+YEAR(A9592)","v":1900}]
[null,null,null,null,null,null,null,null," ",null,1,1900]
[null,null,null,null,null,null,null,null," ",null,1,1900]
[null,null,null,null,null,null,null,null," ",null,1,1900]
[null,null,null,null,null,null,null,null," ",null,1,1900]
[null,null,null,null,null,null,null,null," ",null,1,1900]
[null,null,null,null,null,null,null,null," ",null,1,1900]
[null,null,null,null,null,null,null,null," ",null,1,1900]
[null,null,null,null,null,null,null,null," ",null,1,1900]
[null,null,null,null,null,null,null,null," ",null,1,1900]
[null,null,null,null,null,null,null,null," ",null,1,1900]
[null,null,null,null,null,null,null,null," ",null,1,1900]
[null,null,null,null,null,null,null,null," ",null,1,1900]
[null,null,null,null,null,null,null,null," ",null,1,1900]
[null,null,null,null,null,null,null,null," ",null,1,1900]
[null,null,null,null,null,null,null,null," ",null,1,1900]
[null,null,null,null,null,null,null,null," ",null,1,1900]
[null,null,null,null,null,null,null,null," ",null,1,1900]
[null,null,null,null,null,null,null,null," ",null,1,1900]
[null,null,null,null,null,null,null,null," ",null,1,1900]
[null,null,null,null,null,null,null,null," ",null,1,1900]
[null,null,null,null,null,null,null,null," ",null,1,1900]
[null,null,null,null,null,null,null,null," ",null,1,1900]
[null,null,null,null,null,null,null,null," ",null,1,1900]
[null,null,null,null,null,null,null,null," ",null,1,1900]
[null,null,null,null,null,null,null,null," ",null,1,1900]
[null,null,null,null,null,null,null,null," ",null,1,1900]
[null,null,null,null,null,null,null,null," ",null,1,1900]
[null,null,null,null,null,null,null,null," ",null,1,1900]
[null,null,null,null,null,null,null,null," ",null,1,1900]
[null,null,null,null,null,null,null,null," ",null,1,1900]
[null,null,null,null,null,null,null,null," ",null,1,1900]
[null,null,null,null,null,null,null,null," ",null,1,1900]
[null,null,null,null,null,null,null,null,{"$f":"+IF(H10616=H10615,\" \",H10616)","v":" "},null,{"$f":"+MONTH(A10616)","v":1},{"$f":"+YEAR(A10616)","v":1900}]
[null,null,null,null,null,null,null,null," ",null,1,1900]
[null,null,null,null,null,null,null,null," ",null,1,1900]
[null,null,null,null,null,null,null,null," ",null,1,1900]
[null,null,null,null,null,null,null,null," ",null,1,1900]
[null,null,null,null,null,null,null,null," ",null,1,1900]
[null,null,null,null,null,null,null,null," ",null,1,1900]
[null,null,null,null,null,null,null,null," ",null,1,1900]
[null,null,null,null,null,null,null,null," ",null,1,1900]
[null,null,null,null,null,null,null,null," ",null,1,1900]
[null,null,null,null,null,null,null,null," ",null,1,1900]
[null,null,null,null,null,null,null,null," ",null,1,1900]
[null,null,null,null,null,null,null,null," ",null,1,1900]
[null,null,null,null,null,null,null,null," ",null,1,1900]
[null,null,null,null,null,null,null,null," ",null,1,1900]
[null,null,null,null,null,null,null,null," ",null,1,1900]
[null,null,null,null,null,null,null,null," ",null,1,1900]
[null,null,null,null,null,null,null,null," ",null,1,1900]
[null,null,null,null,null,null,null,null," ",null,1,1900]
[null,null,null,null,null,null,null,null," ",null,1,1900]
[null,null,null,null,null,null,null,null," ",null,1,1900]
[null,null,null,null,null,null,null,null," ",null,1,1900]
[null,null,null,null,null,null,null,null," ",null,1,1900]
[null,null,null,null,null,null,null,null," ",null,1,1900]
[null,null,null,null,null,null,null,null," ",null,1,1900]
[null,null,null,null,null,null,null,null," ",null,1,1900]
[null,null,null,null,null,null,null,null," ",null,1,1900]
[null,null,null,null,null,null,null,null," ",null,1,1900]
[null,null,null,null,null,null,null,null," ",null,1,1900]
[null,null,null,null,null,null,null,null," ",null,1,1900]
[null,null,null,null,null,null,null,null," ",null,1,1900]
[null,null,null,null,null,null,null,null," ",null,1,1900]
[null,null,null,null,null,null,null,null," ",null,1,1900]
[null,null,null,null,null,null,null,null," ",null,1,1900]
[null,null,null,null,null,null,null,null," ",null,1,1900]
[null,null,null,null,null,null,null,null," ",null,1,1900]
[null,null,null,null,null,null,null,null," ",null,1,1900]
[null,null,null,null,null,null,null,null," ",null,1,1900]
[null,null,null,null,null,null,null,null," ",null,1,1900]
[null,null,null,null,null,null,null,null," ",null,1,1900]
[null,null,null,null,null,null,null,null," ",null,1,1900]
[null,null,null,null,null,null,null,null," ",null,1,1900]
[null,null,null,null,null,null,null,null," ",null,1,1900]
[null,null,null,null,null,null,null,null," ",null,1,1900]
[null,null,null,null,null,null,null,null," ",null,1,1900]
[null,null,null,null,null,null,null,null," ",null,1,1900]
[null,null,null,null,null,null,null,null," ",null,1,1900]
[null,null,null,null,null,null,null,null," ",null,1,1900]
[null,null,null,null,null,null,null,null," ",null,1,1900]
[null,null,null,null,null,null,null,null," ",null,1,1900]
[null,null,null,null,null,null,null,null," ",null,1,1900]
[null,null,null,null,null,null,null,null," ",null,1,1900]
[null,null,null,null,null,null,null,null," ",null,1,1900]
[null,null,null,null,null,null,null,null," ",null,1,1900]
[null,null,null,null,null,null,null,null," ",null,1,1900]
[null,null,null,null,null,null,null,null," ",null,1,1900]
[null,null,null,null,null,null,null,null," ",null,1,1900]
[null,null,null,null,null,null,null,null," ",null,1,1900]
[null,null,null,null,null,null,null,null," ",null,1,1900]
[null,null,null,null,null,null,null,null," ",null,1,1900]
[null,null,null,null,null,null,null,null," ",null,1,1900]
[null,null,null,null,null,null,null,null," ",null,1,1900]
[null,null,null,null,null,null,null,null," ",null,1,1900]
[null,null,null,null,null,null,null,null," ",null,1,1900]
[null,null,null,null,null,null,null,null," ",null,1,1900]
[null,null,null,null,null,null,null,null," ",null,1,1900]
[null,null,null,null,null,null,null,null," ",null,1,1900]
[null,null,null,null,null,null,null,null," ",null,1,1900]
[null,null,null,null,null,null,null,null," ",null,1,1900]
[null,null,null,null,null,null,null,null," ",null,1,1900]
[null,null,null,null,null,null,null,null," ",null,1,1900]
[null,null,null,null,null,null,null,null," ",null,1,1900]
[null,null,null,null,null,null,null,null," ",null,1,1900]
[null,null,null,null,null,null,null,null," ",null,1,1900]
[null,null,null,null,null,null,null,null," ",null,1,1900]
[null,null,null,null,null,null,null,null," ",null,1,1900]
[null,null,null,null,null,null,null,null," ",null,1,1900]
[null,null,null,null,null,null,null,null," ",null,1,1900]
[null,null,null,null,null,null,null,null," ",null,1,1900]
[null,null,null,null,null,null,null,null," ",null,1,1900]
[null,null,null,null,null,null,null,null," ",null,1,1900]
[null,null,null,null,null,null,null,null," ",null,1,1900]
[null,null,null,null,null,null,null,null," ",null,1,1900]
[null,null,null,null,null,null,null,null," ",null,1,1900]
[null,null,null,null,null,null,null,null," ",null,1,1900]
[null,null,null,null,null,null,null,null," ",null,1,1900]
[null,null,null,null,null,null,null,null," ",null,1,1900]
[null,null,null,null,null,null,null,null," ",null,1,1900]
[null,null,null,null,null,null,null,null," ",null,1,1900]
[null,null,null,null,null,null,null,null," ",null,1,1900]
[null,null,null,null,null,null,null,null," ",null,1,1900]
[null,null,null,null,null,null,null,null," ",null,1,1900]
[null,null,null,null,null,null,null,null," ",null,1,1900]
[null,null,null,null,null,null,null,null," ",null,1,1900]
[null,null,null,null,null,null,null,null," ",null,1,1900]
[null,null,null,null,null,null,null,null," ",null,1,1900]
[null,null,null,null,null,null,null,null," ",null,1,1900]
[null,null,null,null,null,null,null,null," ",null,1,1900]
[null,null,null,null,null,null,null,null," ",null,1,1900]
[null,null,null,null,null,null,null,null," ",null,1,1900]
[null,null,null,null,null,null,null,null," ",null,1,1900]
[null,null,null,null,null,null,null,null," ",null,1,1900]
[null,null,null,null,null,null,null,null," ",null,1,1900]
[null,null,null,null,null,null,null,null," ",null,1,1900]
[null,null,null,null,null,null,null,null," ",null,1,1900]
[null,null,null,null,null,null,null,null," ",null,1,1900]
[null,null,null,null,null,null,null,null," ",null,1,1900]
[null,null,null,null,null,null,null,null," ",null,1,1900]
[null,null,null,null,null,null,null,null," ",null,1,1900]
[null,null,null,null,null,null,null,null," ",null,1,1900]
[null,null,null,null,null,null,null,null," ",null,1,1900]
[null,null,null,null,null,null,null,null," ",null,1,1900]
[null,null,null,null,null,null,null,null," ",null,1,1900]
[null,null,null,null,null,null,null,null," ",null,1,1900]
[null,null,null,null,null,null,null,null," ",null,1,1900]
[null,null,null,null,null,null,null,null," ",null,1,1900]
[null,null,null,null,null,null,null,null," ",null,1,1900]
[null,null,null,null,null,null,null,null," ",null,1,1900]
[null,null,null,null,null,null,null,null," ",null,1,1900]
[null,null,null,null,null,null,null,null," ",null,1,1900]
[null,null,null,null,null,null,null,null," ",null,1,1900]
[null,null,null,null,null,null,null,null," ",null,1,1900]
[null,null,null,null,null,null,null,null," ",null,1,1900]
[null,null,null,null,null,null,null,null," ",null,1,1900]
[null,null,null,null,null,null,null,null," ",null,1,1900]
[null,null,null,null,null,null,null,null," ",null,1,1900]
[null,null,null,null,null,null,null,null," ",null,1,1900]
[null,null,null,null,null,null,null,null," ",null,1,1900]
[null,null,null,null,null,null,null,null," ",null,1,1900]
[null,null,null,null,null,null,null,null," ",null,1,1900]
[null,null,null,null,null,null,null,null," ",null,1,1900]
[null,null,null,null,null,null,null,null," ",null,1,1900]
[null,null,null,null,null,null,null,null," ",null,1,1900]
[null,null,null,null,null,null,null,null," ",null,1,1900]
[null,null,null,null,null,null,null,null," ",null,1,1900]
[null,null,null,null,null,null,null,null," ",null,1,1900]
[null,null,null,null,null,null,null,null," ",null,1,1900]
[null,null,null,null,null,null,null,null," ",null,1,1900]
[null,null,null,null,null,null,null,null," ",null,1,1900]
[null,null,null,null,null,null,null,null," ",null,1,1900]
[null,null,null,null,null,null,null,null," ",null,1,1900]
[null,null,null,null,null,null,null,null," ",null,1,1900]
[null,null,null,null,null,null,null,null," ",null,1,1900]
[null,null,null,null,null,null,null,null," ",null,1,1900]
[null,null,null,null,null,null,null,null,{"$f":"+IF(H15160=H15159,\" \",H15160)","v":" "},null,{"$f":"+MONTH(A15160)","v":1},{"$f":"+YEAR(A15160)","v":1900}]
[null,null,null,null,null,null,null,null," ",null,1,1900]
[null,null,null,null,null,null,null,null," ",null,1,1900]
[null,null,null,null,null,null,null,null," ",null,1,1900]
[null,null,null,null,null,null,null,null," ",null,1,1900]
[null,null,null,null,null,null,null,null," ",null,1,1900]
[null,null,null,null,null,null,null,null," ",null,1,1900]
[null,null,null,null,null,null,null,null," ",null,1,1900]
[null,null,null,null,null,null,null,null," ",null,1,1900]
[null,null,null,null,null,null,null,null," ",null,1,1900]
[null,null,null,null,null,null,null,null," ",null,1,1900]
[null,null,null,null,null,null,null,null," ",null,1,1900]
[null,null,null,null,null,null,null,null," ",null,1,1900]
[null,null,null,null,null,null,null,null," ",null,1,1900]
[null,null,null,null,null,null,null,null," ",null,1,1900]
[null,null,null,null,null,null,null,null," ",null,1,1900]
[null,null,null,null,null,null,null,null," ",null,1,1900]
[null,null,null,null,null,null,null,null," ",null,1,1900]
[null,null,null,null,null,null,null,null," ",null,1,1900]
[null,null,null,null,null,null,null,null," ",null,1,1900]
[null,null,null,null,null,null,null,null," ",null,1,1900]
[null,null,null,null,null,null,null,null," ",null,1,1900]
[null,null,null,null,null,null,null,null," ",null,1,1900]
[null,null,null,null,null,null,null,null," ",null,1,1900]
[null,null,null,null,null,null,null,null," ",null,1,1900]
[null,null,null,null,null,null,null,null," ",null,1,1900]
[null,null,null,null,null,null,null,null," ",null,1,1900]
[null,null,null,null,null,null,null,null," ",null,1,1900]
[null,null,null,null,null,null,null,null," ",null,1,1900]
[null,null,null,null,null,null,null,null," ",null,1,1900]
[null,null,null,null,null,null,null,null," ",null,1,1900]
[null,null,null,null,null,null,null,null," ",null,1,1900]
[null,null,null,null,null,null,null,null," ",null,1,1900]
[null,null,null,null,null,null,null,null," ",null,1,1900]
[null,null,null,null,null,null,null,null," ",null,1,1900]
[null,null,null,null,null,null,null,null," ",null,1,1900]
[null,null,null,null,null,null,null,null," ",null,1,1900]
[null,null,null,null,null,null,null,null," ",null,1,1900]
[null,null,null,null,null,null,null,null," ",null,1,1900]
[null,null,null,null,null,null,null,null," ",null,1,1900]
[null,null,null,null,null,null,null,null," ",null,1,1900]
[null,null,null,null,null,null,null,null," ",null,1,1900]
[null,null,null,null,null,null,null,null," ",null,1,1900]
[null,null,null,null,null,null,null,null," ",null,1,1900]
[null,null,null,null,null,null,null,null," ",null,1,1900]
[null,null,null,null,null,null,null,null," ",null,1,1900]
[null,null,null,null,null,null,null,null," ",null,1,1900]
[null,null,null,null,null,null,null,null," ",null,1,1900]
[null,null,null,null,null,null,null,null," ",null,1,1900]
[null,null,null,null,null,null,null,null," ",null,1,1900]
[null,null,null,null,null,null,null,null," ",null,1,1900]
[null,null,null,null,null,null,null,null," ",null,1,1900]
[null,null,null,null,null,null,null,null," ",null,1,1900]
[null,null,null,null,null,null,null,null," ",null,1,1900]
[null,null,null,null,null,null,null,null," ",null,1,1900]
[null,null,null,null,null,null,null,null," ",null,1,1900]
[null,null,null,null,null,null,null,null," ",null,1,1900]
[null,null,null,null,null,null,null,null," ",null,1,1900]
[null,null,null,null,null,null,null,null," ",null,1,1900]
[null,null,null,null,null,null,null,null," ",null,1,1900]
[null,null,null,null,null,null,null,null," ",null,1,1900]
[null,null,null,null,null,null,null,null," ",null,1,1900]
[null,null,null,null,null,null,null,null," ",null,1,1900]
[null,null,null,null,null,null,null,null," ",null,1,1900]
[null,null,null,null,null,null,null,null," ",null,1,1900]
[null,null,null,null,null,null,null,null," ",null,1,1900]
[null,null,null,null,null,null,null,null," ",null,1,1900]
[null,null,null,null,null,null,null,null," ",null,1,1900]
[null,null,null,null,null,null,null,null," ",null,1,1900]
[null,null,null,null,null,null,null,null," ",null,1,1900]
[null,null,null,null,null,null,null,null," ",null,1,1900]
[null,null,null,null,null,null,null,null," ",null,1,1900]
[null,null,null,null,null,null,null,null," ",null,1,1900]
[null,null,null,null,null,null,null,null," ",null,1,1900]
[null,null,null,null,null,null,null,null," ",null,1,1900]
[null,null,null,null,null,null,null,null," ",null,1,1900]
[null,null,null,null,null,null,null,null," ",null,1,1900]
[null,null,null,null,null,null,null,null," ",null,1,1900]
[null,null,null,null,null,null,null,null," ",null,1,1900]
[null,null,null,null,null,null,null,null," ",null,1,1900]
[null,null,null,null,null,null,null,null," ",null,1,1900]
[null,null,null,null,null,null,null,null," ",null,1,1900]
[null,null,null,null,null,null,null,null," ",null,1,1900]
[null,null,null,null,null,null,null,null," ",null,1,1900]
[null,null,null,null,null,null,null,null," ",null,1,1900]
[null,null,null,null,null,null,null,null," ",null,1,1900]
[null,null,null,null,null,null,null,null," ",null,1,1900]
[null,null,null,null,null,null,null,null," ",null,1,1900]
[null,null,null,null,null,null,null,null," ",null,1,1900]
[null,null,null,null,null,null,null,null," ",null,1,1900]
[null,null,null,null,null,null,null,null," ",null,1,1900]
[null,null,null,null,null,null,null,null," ",null,1,1900]
[null,null,null,null,null,null,null,null," ",null,1,1900]
[null,null,null,null,null,null,null,null," ",null,1,1900]
[null,null,null,null,null,null,null,null," ",null,1,1900]
[null,null,null,null,null,null,null,null,{"$f":"+IF(H18168=H18167,\" \",H18168)","v":" "},null,{"$f":"+MONTH(A18168)","v":1},{"$f":"+YEAR(A18168)","v":1900}]
[null,null,null,null,null,null,null,null," ",null,1,1900]
[null,null,null,null,null,null,null,null," ",null,1,1900]
[null,null,null,null,null,null,null,null," ",null,1,1900]
[null,null,null,null,null,null,null,null," ",null,1,1900]
[null,null,null,null,null,null,null,null," ",null,1,1900]
[null,null,null,null,null,null,null,null," ",null,1,1900]
[null,null,null,null,null,null,null,null," ",null,1,1900]
[null,null,null,null,null,null,null,null," ",null,1,1900]
[null,null,null,null,null,null,null,null," ",null,1,1900]
[null,null,null,null,null,null,null,null," ",null,1,1900]
[null,null,null,null,null,null,null,null," ",null,1,1900]
[null,null,null,null,null,null,null,null," ",null,1,1900]
[null,null,null,null,null,null,null,null," ",null,1,1900]
[null,null,null,null,null,null,null,null," ",null,1,1900]
[null,null,null,null,null,null,null,null," ",null,1,1900]
[null,null,null,null,null,null,null,null," ",null,1,1900]
[null,null,null,null,null,null,null,null," ",null,1,1900]
[null,null,null,null,null,null,null,null," ",null,1,1900]
[null,null,null,null,null,null,null,null," ",null,1,1900]
[null,null,null,null,null,null,null,null," ",null,1,1900]
[null,null,null,null,null,null,null,null," ",null,1,1900]
[null,null,null,null,null,null,null,null," ",null,1,1900]
[null,null,null,null,null,null,null,null," ",null,1,1900]
[null,null,null,null,null,null,null,null," ",null,1,1900]
[null,null,null,null,null,null,null,null," ",null,1,1900]
[null,null,null,null,null,null,null,null," ",null,1,1900]
[null,null,null,null,null,null,null,null," ",null,1,1900]
[null,null,null,null,null,null,null,null," ",null,1,1900]
[null,null,null,null,null,null,null,null," ",null,1,1900]
[null,null,null,null,null,null,null,null," ",null,1,1900]
[null,null,null,null,null,null,null,null," ",null,1,1900]
[null,null,null,null,null,null,null,null," ",null,1,1900]
[null,null,null,null,null,null,null,null,{"$f":"+IF(H19192=H19191,\" \",H19192)","v":" "},null,{"$f":"+MONTH(A19192)","v":1},{"$f":"+YEAR(A19192)","v":1900}]
[null,null,null,null,null,null,null,null," ",null,1,1900]
[null,null,null,null,null,null,null,null," ",null,1,1900]
[null,null,null,null,null,null,null,null," ",null,1,1900]
[null,null,null,null,null,null,null,null," ",null,1,1900]
[null,null,null,null,null,null,null,null," ",null,1,1900]
[null,null,null,null,null,null,null,null," ",null,1,1900]
[null,null,null,null,null,null,null,null," ",null,1,1900]
[null,null,null,null,null,null,null,null," ",null,1,1900]
[null,null,null,null,null,null,null,null," ",null,1,1900]
[null,null,null,null,null,null,null,null," ",null,1,1900]
[null,null,null,null,null,null,null,null," ",null,1,1900]
[null,null,null,null,null,null,null,null," ",null,1,1900]
[null,null,null,null,null,null,null,null," ",null,1,1900]
[null,null,null,null,null,null,null,null," ",null,1,1900]
[null,null,null,null,null,null,null,null," ",null,1,1900]
[null,null,null,null,null,null,null,null," ",null,1,1900]
[null,null,null,null,null,null,null,null," ",null,1,1900]
[null,null,null,null,null,null,null,null," ",null,1,1900]
[null,null,null,null,null,null,null,null," ",null,1,1900]
[null,null,null,null,null,null,null,null," ",null,1,1900]
[null,null,null,null,null,null,null,null," ",null,1,1900]
[null,null,null,null,null,null,null,null," ",null,1,1900]
[null,null,null,null,null,null,null,null," ",null,1,1900]
[null,null,null,null,null,null,null,null," ",null,1,1900]
[null,null,null,null,null,null,null,null," ",null,1,1900]
[null,null,null,null,null,null,null,null," ",null,1,1900]
[null,null,null,null,null,null,null,null," ",null,1,1900]
[null,null,null,null,null,null,null,null," ",null,1,1900]
[null,null,null,null,null,null,null,null," ",null,1,1900]
[null,null,null,null,null,null,null,null," ",null,1,1900]
[null,null,null,null,null,null,null,null," ",null,1,1900]
[null,null,null,null,null,null,null,null," ",null,1,1900]
[null,null,null,null,null,null,null,null," ",null,1,1900]
[null,null,null,null,null,null,null,null," ",null,1,1900]
[null,null,null,null,null,null,null,null," ",null,1,1900]
[null,null,null,null,null,null,null,null," ",null,1,1900]
[null,null,null,null,null,null,null,null," ",null,1,1900]
[null,null,null,null,null,null,null,null," ",null,1,1900]
[null,null,null,null,null,null,null,null,{"$f":"+IF(H20408=H20407,\" \",H20408)","v":" "},null,{"$f":"+MONTH(A20408)","v":1},{"$f":"+YEAR(A20408)","v":1900}]
[null,null,null,null,null,null,null,null," ",null,1,1900]
[null,null,null,null,null,null,null,null," ",null,1,1900]
[null,null,null,null,null,null,null,null," ",null,1,1900]
[null,null,null,null,null,null,null,null," ",null,1,1900]
[null,null,null,null,null,null,null,null," ",null,1,1900]
[null,null,null,null,null,null,null,null," ",null,1,1900]
[null,null,null,null,null,null,null,null," ",null,1,1900]
[null,null,null,null,null,null,null,null," ",null,1,1900]
[null,null,null,null,null,null,null,null," ",null,1,1900]
[null,null,null,null,null,null,null,null," ",null,1,1900]
[null,null,null,null,null,null,null,null," ",null,1,1900]
[null,null,null,null,null,null,null,null," ",null,1,1900]
[null,null,null,null,null,null,null,null," ",null,1,1900]
[null,null,null,null,null,null,null,null," ",null,1,1900]
[null,null,null,null,null,null,null,null," ",null,1,1900]
[null,null,null,null,null,null,null,null," ",null,1,1900]
[null,null,null,null,null,null,null,null," ",null,1,1900]
[null,null,null,null,null,null,null,null," ",null,1,1900]
[null,null,null,null,null,null,null,null," ",null,1,1900]
[null,null,null,null,null,null,null,null," ",null,1,1900]
[null,null,null,null,null,null,null,null," ",null,1,1900]
[null,null,null,null,null,null,null,null," ",null,1,1900]
[null,null,null,null,null,null,null,null," ",null,1,1900]
[null,null,null,null,null,null,null,null," ",null,1,1900]
[null,null,null,null,null,null,null,null," ",null,1,1900]
[null,null,null,null,null,null,null,null," ",null,1,1900]
[null,null,null,null,null,null,null,null," ",null,1,1900]
[null,null,null,null,null,null,null,null," ",null,1,1900]
[null,null,null,null,null,null,null,null," ",null,1,1900]
[null,null,null,null,null,null,null,null," ",null,1,1900]
[null,null,null,null,null,null,null,null," ",null,1,1900]
[null,null,null,null,null,null,null,null," ",null,1,1900]
[null,null,null,null,null,null,null,null," ",null,1,1900]
[null,null,null,null,null,null,null,null," ",null,1,1900]
[null,null,null,null,null,null,null,null," ",null,1,1900]
[null,null,null,null,null,null,null,null," ",null,1,1900]
[null,null,null,null,null,null,null,null," ",null,1,1900]
[null,null,null,null,null,null,null,null," ",null,1,1900]
[null,null,null,null,null,null,null,null," ",null,1,1900]
[null,null,null,null,null,null,null,null," ",null,1,1900]
[null,null,null,null,null,null,null,null," ",null,1,1900]
[null,null,null,null,null,null,null,null," ",null,1,1900]
[null,null,null,null,null,null,null,null," ",null,1,1900]
[null,null,null,null,null,null,null,null," ",null,1,1900]
[null,null,null,null,null,null,null,null," ",null,1,1900]
[null,null,null,null,null,null,null,null," ",null,1,1900]
[null,null,null,null,null,null,null,null," ",null,1,1900]
[null,null,null,null,null,null,null,null," ",null,1,1900]
[null,null,null,null,null,null,null,null," ",null,1,1900]
[null,null,null,null,null,null,null,null," ",null,1,1900]
[null,null,null,null,null,null,null,null," ",null,1,1900]
[null,null,null,null,null,null,null,null," ",null,1,1900]
[null,null,null,null,null,null,null,null," ",null,1,1900]
[null,null,null,null,null,null,null,null," ",null,1,1900]
[null,null,null,null,null,null,null,null," ",null,1,1900]
[null,null,null,null,null,null,null,null," ",null,1,1900]
[null,null,null,null,null,null,null,null," ",null,1,1900]
[null,null,null,null,null,null,null,null," ",null,1,1900]
[null,null,null,null,null,null,null,null," ",null,1,1900]
[null,null,null,null,null,null,null,null," ",null,1,1900]
[null,null,null,null,null,null,null,null," ",null,1,1900]
[null,null,null,null,null,null,null,null,{"$f":"+IF(H22392=H22391,\" \",H22392)","v":" "},null,{"$f":"+MONTH(A22392)","v":1},{"$f":"+YEAR(A22392)","v":1900}]
[null,null,null,null,null,null,null,null," ",null,1,1900]
[null,null,null,null,null,null,null,null," ",null,1,1900]
[null,null,null,null,null,null,null,null," ",null,1,1900]
[null,null,null,null,null,null,null,null," ",null,1,1900]
[null,null,null,null,null,null,null,null," ",null,1,1900]
[null,null,null,null,null,null,null,null," ",null,1,1900]
[null,null,null,null,null,null,null,null," ",null,1,1900]
[null,null,null,null,null,null,null,null," ",null,1,1900]
[null,null,null,null,null,null,null,null," ",null,1,1900]
[null,null,null,null,null,null,null,null," ",null,1,1900]
[null,null,null,null,null,null,null,null," ",null,1,1900]
[null,null,null,null,null,null,null,null," ",null,1,1900]
[null,null,null,null,null,null,null,null," ",null,1,1900]
[null,null,null,null,null,null,null,null," ",null,1,1900]
[null,null,null,null,null,null,null,null," ",null,1,1900]
[null,null,null,null,null,null,null,null," ",null,1,1900]
[null,null,null,null,null,null,null,null," ",null,1,1900]
[null,null,null,null,null,null,null,null," ",null,1,1900]
[null,null,null,null,null,null,null,null," ",null,1,1900]
[null,null,null,null,null,null,null,null," ",null,1,1900]
[null,null,null,null,null,null,null,null," ",null,1,1900]
[null,null,null,null,null,null,null,null," ",null,1,1900]
[null,null,null,null,null,null,null,null," ",null,1,1900]
[null,null,null,null,null,null,null,null," ",null,1,1900]
[null,null,null,null,null,null,null,null," ",null,1,1900]
[null,null,null,null,null,null,null,null," ",null,1,1900]
[null,null,null,null,null,null,null,null," ",null,1,1900]
[null,null,null,null,null,null,null,null," ",null,1,1900]
[null,null,null,null,null,null,null,null," ",null,1,1900]
[null,null,null,null,null,null,null,null," ",null,1,1900]
[null,null,null,null,null,null,null,null,{"$f":"+IF(H23352=H23351,\" \",H23352)","v":" "},null,{"$f":"+MONTH(A23352)","v":1},{"$f":"+YEAR(A23352)","v":1900}]
[null,null,null,null,null,null,null,null," ",null,1,1900]
[null,null,null,null,null,null,null,null," ",null,1,1900]
[null,null,null,null,null,null,null,null," ",null,1,1900]
[null,null,null,null,null,null,null,null," ",null,1,1900]
[null,null,null,null,null,null,null,null," ",null,1,1900]
[null,null,null,null,null,null,null,null," ",null,1,1900]
[null,null,null,null,null,null,null,null," ",null,1,1900]
[null,null,null,null,null,null,null,null," ",null,1,1900]
[null,null,null,null,null,null,null,null," ",null,1,1900]
[null,null,null,null,null,null,null,null," ",null,1,1900]
[null,null,null,null,null,null,null,null," ",null,1,1900]
[null,null,null,null,null,null,null,null," ",null,1,1900]
[null,null,null,null,null,null,null,null," ",null,1,1900]
[null,null,null,null,null,null,null,null," ",null,1,1900]
[null,null,null,null,null,null,null,null," ",null,1,1900]
[null,null,null,null,null,null,null,null," ",null,1,1900]
[null,null,null,null,null,null,null,null," ",null,1,1900]
[null,null,null,null,null,null,null,null," ",null,1,1900]
[null,null,null,null,null,null,null,null," ",null,1,1900]
[null,null,null,null,null,null,null,null," ",null,1,1900]
[null,null,null,null,null,null,null,null," ",null,1,1900]
[null,null,null,null,null,null,null,null," ",null,1,1900]
[null,null,null,null,null,null,null,null," ",null,1,1900]
[null,null,null,null,null,null,null,null," ",null,1,1900]
[null,null,null,null,null,null,null,null," ",null,1,1900]
[null,null,null,null,null,null,null,null," ",null,1,1900]
[null,null,null,null,null,null,null,null," ",null,1,1900]
[null,null,null,null,null,null,null,null," ",null,1,1900]
[null,null,null,null,null,null,null,null," ",null,1,1900]
[null,null,null,null,null,null,null,null," ",null,1,1900]
[null,null,null,null,null,null,null,null," ",null,1,1900]
[null,null,null,null,null,null,null,null," ",null,1,1900]
[null,null,null,null,null,null,null,null," ",null,1,1900]
[null,null,null,null,null,null,null,null," ",null,1,1900]
[null,null,null,null,null,null,null,null," ",null,1,1900]
[null,null,null,null,null,null,null,null," ",null,1,1900]
[null,null,null,null,null,null,null,null," ",null,1,1900]
[null,null,null,null,null,null,null,null," ",null,1,1900]
[null,null,null,null,null,null,null,null," ",null,1,1900]
[null,null,null,null,null,null,null,null," ",null,1,1900]
[null,null,null,null,null,null,null,null," ",null,1,1900]
[null,null,null,null,null,null,null,null," ",null,1,1900]
[null,null,null,null,null,null,null,null," ",null,1,1900]
[null,null,null,null,null,null,null,null," ",null,1,1900]
[null,null,null,null,null,null,null,null," ",null,1,1900]
[null,null,null,null,null,null,null,null," ",null,1,1900]
[null,null,null,null,null,null,null,null," ",null,1,1900]
[null,null,null,null,null,null,null,null," ",null,1,1900]
[null,null,null,null,null,null,null,null," ",null,1,1900]
[null,null,null,null,null,null,null,null," ",null,1,1900]
[null,null,null,null,null,null,null,null," ",null,1,1900]
[null,null,null,null,null,null,null,null," ",null,1,1900]
[null,null,null,null,null,null,null,null," ",null,1,1900]
[null,null,null,null,null,null,null,null," ",null,1,1900]
[null,null,null,null,null,null,null,null," ",null,1,1900]
[null,null,null,null,null,null,null,null," ",null,1,1900]
[null,null,null,null,null,null,null,null," ",null,1,1900]
[null,null,null,null,null,null,null,null," ",null,1,1900]
[null,null,null,null,null,null,null,null," ",null,1,1900]
[null,null,null,null,null,null,null,null," ",null,1,1900]
[null,null,null,null,null,null,null,null," ",null,1,1900]
[null,null,null,null,null,null,null,null," ",null,1,1900]
[null,null,null,null,null,null,null,null," ",null,1,1900]
[null,null,null,null,null,null,null,null," ",null,1,1900]
[null,null,null,null,null,null,null,null," ",null,1,1900]
[null,null,null,null,null,null,null,null," ",null,1,1900]
[null,null,null,null,null,null,null,null," ",null,1,1900]
[null,null,null,null,null,null,null,null," ",null,1,1900]
[null,null,null,null,null,null,null,null," ",null,1,1900]
[null,null,null,null,null,null,null,null," ",null,1,1900]
[null,null,null,null,null,null,null,null," ",null,1,1900]
[null,null,null,null,null,null,null,null," ",null,1,1900]
[null,null,null,null,null,null,null,null," ",null,1,1900]
[null,null,null,null,null,null,null,null," ",null,1,1900]
[null,null,null,null,null,null,null,null," ",null,1,1900]
[null,null,null,null,null,null,null,null," ",null,1,1900]
[null,null,null,null,null,null,null,null," ",null,1,1900]
[null,null,null,null,null,null,null,null," ",null,1,1900]
[null,null,null,null,null,null,null,null," ",null,1,1900]
[null,null,null,null,null,null,null,null," ",null,1,1900]
[null,null,null,null,null,null,null,null," ",null,1,1900]
[null,null,null,null,null,null,null,null," ",null,1,1900]
[null,null,null,null,null,null,null,null," ",null,1,1900]
[null,null,null,null,null,null,null,null," ",null,1,1900]
[null,null,null,null,null,null,null,null," ",null,1,1900]
[null,null,null,null,null,null,null,null," ",null,1,1900]
[null,null,null,null,null,null,null,null," ",null,1,1900]
[null,null,null,null,null,null,null,null," ",null,1,1900]
[null,null,null,null,null,null,null,null," ",null,1,1900]
[null,null,null,null,null,null,null,null," ",null,1,1900]
[null,null,null,null,null,null,null,null," ",null,1,1900]
[null,null,null,null,null,null,null,null," ",null,1,1900]
[null,null,null,null,null,null,null,null,{"$f":"+IF(H26296=H26295,\" \",H26296)","v":" "},null,{"$f":"+MONTH(A26296)","v":1},{"$f":"+YEAR(A26296)","v":1900}]
[null,null,null,null,null,null,null,null," ",null,1,1900]
[null,null,null,null,null,null,null,null," ",null,1,1900]
[null,null,null,null,null,null,null,null," ",null,1,1900]
[null,null,null,null,null,null,null,null," ",null,1,1900]
[null,null,null,null,null,null,null,null," ",null,1,1900]
[null,null,null,null,null,null,null,null," ",null,1,1900]
[null,null,null,null,null,null,null,null," ",null,1,1900]
[null,null,null,null,null,null,null,null," ",null,1,1900]
[null,null,null,null,null,null,null,null," ",null,1,1900]
[null,null,null,null,null,null,null,null," ",null,1,1900]
[null,null,null,null,null,null,null,null," ",null,1,1900]
[null,null,null,null,null,null,null,null," ",null,1,1900]
[null,null,null,null,null,null,null,null," ",null,1,1900]
[null,null,null,null,null,null,null,null," ",null,1,1900]
[null,null,null,null,null,null,null,null," ",null,1,1900]
[null,null,null,null,null,null,null,null," ",null,1,1900]
[null,null,null,null,null,null,null,null," ",null,1,1900]
[null,null,null,null,null,null,null,null," ",null,1,1900]
[null,null,null,null,null,null,null,null," ",null,1,1900]
[null,null,null,null,null,null,null,null," ",null,1,1900]
[null,null,null,null,null,null,null,null," ",null,1,1900]
[null,null,null,null,null,null,null,null," ",null,1,1900]
[null,null,null,null,null,null,null,null," ",null,1,1900]
[null,null,null,null,null,null,null,null," ",null,1,1900]
[null,null,null,null,null,null,null,null," ",null,1,1900]
[null,null,null,null,null,null,null,null," ",null,1,1900]
[null,null,null,null,null,null,null,null," ",null,1,1900]
[null,null,null,null,null,null,null,null," ",null,1,1900]
[null,null,null,null,null,null,null,null," ",null,1,1900]
[null,null,null,null,null,null,null,null," ",null,1,1900]
[null,null,null,null,null,null,null,null,{"$f":"+IF(H27256=H27255,\" \",H27256)","v":" "},null,{"$f":"+MONTH(A27256)","v":1},{"$f":"+YEAR(A27256)","v":1900}]
[null,null,null,null,null,null,null,null," ",null,1,1900]
[null,null,null,null,null,null,null,null," ",null,1,1900]
[null,null,null,null,null,null,null,null," ",null,1,1900]
[null,null,null,null,null,null,null,null," ",null,1,1900]
[null,null,null,null,null,null,null,null," ",null,1,1900]
[null,null,null,null,null,null,null,null," ",null,1,1900]
[null,null,null,null,null,null,null,null," ",null,1,1900]
[null,null,null,null,null,null,null,null," ",null,1,1900]
[null,null,null,null,null,null,null,null," ",null,1,1900]
[null,null,null,null,null,null,null,null," ",null,1,1900]
[null,null,null,null,null,null,null,null," ",null,1,1900]
[null,null,null,null,null,null,null,null," ",null,1,1900]
[null,null,null,null,null,null,null,null," ",null,1,1900]
[null,null,null,null,null,null,null,null," ",null,1,1900]
[null,null,null,null,null,null,null,null," ",null,1,1900]
[null,null,null,null,null,null,null,null,{"$f":"+IF(H27768=H27767,\" \",H27768)","v":" "},null,{"$f":"+MONTH(A27768)","v":1},{"$f":"+YEAR(A27768)","v":1900}]
[null,null,null,null,null,null,null,null," ",null,1,1900]
[null,null,null,null,null,null,null,null," ",null,1,1900]
[null,null,null,null,null,null,null,null," ",null,1,1900]
[null,null,null,null,null,null,null,null," ",null,1,1900]
[null,null,null,null,null,null,null,null," ",null,1,1900]
[null,null,null,null,null,null,null,null," ",null,1,1900]
[null,null,null,null,null,null,null,null," ",null,1,1900]
[null,null,null,null,null,null,null,null," ",null,1,1900]
[null,null,null,null,null,null,null,null," ",null,1,1900]
[null,null,null,null,null,null,null,null," ",null,1,1900]
[null,null,null,null,null,null,null,null," ",null,1,1900]
[null,null,null,null,null,null,null,null," ",null,1,1900]
[null,null,null,null,null,null,null,null," ",null,1,1900]
[null,null,null,null,null,null,null,null," ",null,1,1900]
[null,null,null,null,null,null,null,null," ",null,1,1900]
[null,null,null,null,null,null,null,null," ",null,1,1900]
[null,null,null,null,null,null,null,null," ",null,1,1900]
[null,null,null,null,null,null,null,null," ",null,1,1900]
[null,null,null,null,null,null,null,null," ",null,1,1900]
[null,null,null,null,null,null,null,null," ",null,1,1900]
[null,null,null,null,null,null,null,null," ",null,1,1900]
[null,null,null,null,null,null,null,null," ",null,1,1900]
[null,null,null,null,null,null,null,null," ",null,1,1900]
[null,null,null,null,null,null,null,null," ",null,1,1900]
[null,null,null,null,null,null,null,null," ",null,1,1900]
[null,null,null,null,null,null,null,null," ",null,1,1900]
[null,null,null,null,null,null,null,null," ",null,1,1900]
[null,null,null,null,null,null,null,null," ",null,1,1900]
[null,null,null,null,null,null,null,null," ",null,1,1900]
[null,null,null,null,null,null,null,null," ",null,1,1900]
[null,null,null,null,null,null,null,null," ",null,1,1900]
[null,null,null,null,null,null,null,null," ",null,1,1900]
[null,null,null,null,null,null,null,null," ",null,1,1900]
[null,null,null,null,null,null,null,null," ",null,1,1900]
[null,null,null,null,null,null,null,null," ",null,1,1900]
[null,null,null,null,null,null,null,null," ",null,1,1900]
[null,null,null,null,null,null,null,null," ",null,1,1900]
[null,null,null,null,null,null,null,null," ",null,1,1900]
[null,null,null,null,null,null,null,null," ",null,1,1900]
[null,null,null,null,null,null,null,null," ",null,1,1900]
[null,null,null,null,null,null,null,null," ",null,1,1900]
[null,null,null,null,null,null,null,null," ",null,1,1900]
[null,null,null,null,null,null,null,null," ",null,1,1900]
[null,null,null,null,null,null,null,null," ",null,1,1900]
[null,null,null,null,null,null,null,null," ",null,1,1900]
[null,null,null,null,null,null,null,null," ",null,1,1900]
[null,null,null,null,null,null,null,null," ",null,1,1900]
[null,null,null,null,null,null,null,null," ",null,1,1900]
[null,null,null,null,null,null,null,null," ",null,1,1900]
[null,null,null,null,null,null,null,null," ",null,1,1900]
[null,null,null,null,null,null,null,null," ",null,1,1900]
[null,null,null,null,null,null,null,null," ",null,1,1900]
[null,null,null,null,null,null,null,null," ",null,1,1900]
[null,null,null,null,null,null,null,null," ",null,1,1900]
[null,null,null,null,null,null,null,null," ",null,1,1900]
[null,null,null,null,null,null,null,null," ",null,1,1900]
[null,null,null,null,null,null,null,null," ",null,1,1900]
[null,null,null,null,null,null,null,null," ",null,1,1900]
[null,null,null,null,null,null,null,null," ",null,1,1900]
[null,null,null,null,null,null,null,null," ",null,1,1900]
[null,null,null,null,null,null,null,null," ",null,1,1900]
[null,null,null,null,null,null,null,null," ",null,1,1900]
[null,null,null,null,null,null,null,null," ",null,1,1900]
[null,null,null,null,null,null,null,null," ",null,1,1900]
[null,null,null,null,null,null,null,null," ",null,1,1900]
[null,null,null,null,null,null,null,null," ",null,1,1900]
[null,null,null,null,null,null,null,null," ",null,1,1900]
[null,null,null,null,null,null,null,null," ",null,1,1900]
[null,null,null,null,null,null,null,null," ",null,1,1900]
[null,null,null,null,null,null,null,null," ",null,1,1900]
[null,null,null,null,null,null,null,null," ",null,1,1900]
[null,null,null,null,null,null,null,null," ",null,1,1900]
[null,null,null,null,null,null,null,null," ",null,1,1900]
[null,null,null,null,null,null,null,null," ",null,1,1900]
[null,null,null,null,null,null,null,null," ",null,1,1900]
[null,null,null,null,null,null,null,null," ",null,1,1900]
[null,null,null,null,null,null,null,null," ",null,1,1900]
[null,null,null,null,null,null,null,null," ",null,1,1900]
[null,null,null,null,null,null,null,null," ",null,1,1900]
[null,null,null,null,null,null,null,null," ",null,1,1900]
[null,null,null,null,null,null,null,null," ",null,1,1900]
[null,null,null,null,null,null,null,null," ",null,1,1900]
[null,null,null,null,null,null,null,null," ",null,1,1900]
[null,null,null,null,null,null,null,null," ",null,1,1900]
[null,null,null,null,null,null,null,null," ",null,1,1900]
[null,null,null,null,null,null,null,null," ",null,1,1900]
[null,null,null,null,null,null,null,null," ",null,1,1900]
[null,null,null,null,null,null,null,null," ",null,1,1900]
[null,null,null,null,null,null,null,null," ",null,1,1900]
[null,null,null,null,null,null,null,null," ",null,1,1900]
[null,null,null,null,null,null,null,null," ",null,1,1900]
[null,null,null,null,null,null,null,null," ",null,1,1900]
[null,null,null,null,null,null,null,null," ",null,1,1900]
[null,null,null,null,null,null,null,null," ",null,1,1900]
[null,null,null,null,null,null,null,null," ",null,1,1900]
[null,null,null,null,null,null,null,null," ",null,1,1900]
[null,null,null,null,null,null,null,null," ",null,1,1900]
[null,null,null,null,null,null,null,null," ",null,1,1900]
[null,null,null,null,null,null,null,null," ",null,1,1900]
[null,null,null,null,null,null,null,null," ",null,1,1900]
[null,null,null,null,null,null,null,null," ",null,1,1900]
[null,null,null,null,null,null,null,null," ",null,1,1900]
[null,null,null,null,null,null,null,null," ",null,1,1900]
[null,null,null,null,null,null,null,null," ",null,1,1900]
[null,null,null,null,null,null,null,null," ",null,1,1900]
[null,null,null,null,null,null,null,null," ",null,1,1900]
[null,null,null,null,null,null,null,null," ",null,1,1900]
[null,null,null,null,null,null,null,null," ",null,1,1900]
[null,null,null,null,null,null,null,null," ",null,1,1900]
[null,null,null,null,null,null,null,null," ",null,1,1900]
[null,null,null,null,null,null,null,null," ",null,1,1900]
[null,null,null,null,null,null,null,null," ",null,1,1900]
[null,null,null,null,null,null,null,null," ",null,1,1900]
[null,null,null,null,null,null,null,null," ",null,1,1900]
[null,null,null,null,null,null,null,null," ",null,1,1900]
[null,null,null,null,null,null,null,null," ",null,1,1900]
[null,null,null,null,null,null,null,null," ",null,1,1900]
[null,null,null,null,null,null,null,null," ",null,1,1900]
[null,null,null,null,null,null,null,null," ",null,1,1900]
[null,null,null,null,null,null,null,null," ",null,1,1900]
[null,null,null,null,null,null,null,null," ",null,1,1900]
[null,null,null,null,null,null,null,null," ",null,1,1900]
[null,null,null,null,null,null,null,null," ",null,1,1900]
[null,null,null,null,null,null,null,null," ",null,1,1900]
[null,null,null,null,null,null,null,null," ",null,1,1900]
[null,null,null,null,null,null,null,null," ",null,1,1900]
[null,null,null,null,null,null,null,null," ",null,1,1900]
[null,null,null,null,null,null,null,null," ",null,1,1900]
[null,null,null,null,null,null,null,null," ",null,1,1900]
[null,null,null,null,null,null,null,null," ",null,1,1900]
[null,null,null,null,null,null,null,null," ",null,1,1900]
[null,null,null,null,null,null,null,null," ",null,1,1900]
[null,null,null,null,null,null,null,null," ",null,1,1900]
[null,null,null,null,null,null,null,null," ",null,1,1900]
[null,null,null,null,null,null,null,null," ",null,1,1900]
[null,null,null,null,null,null,null,null," ",null,1,1900]
[null,null,null,null,null,null,null,null," ",null,1,1900]
[null,null,null,null,null,null,null,null," ",null,1,1900]
[null,null,null,null,null,null,null,null," ",null,1,1900]
[null,null,null,null,null,null,null,null," ",null,1,1900]
[null,null,null,null,null,null,null,null," ",null,1,1900]
[null,null,null,null,null,null,null,null," ",null,1,1900]
[null,null,null,null,null,null,null,null," ",null,1,1900]
[null,null,null,null,null,null,null,null," ",null,1,1900]
[null,null,null,null,null,null,null,null," ",null,1,1900]
[null,null,null,null,null,null,null,null," ",null,1,1900]
[null,null,null,null,null,null,null,null," ",null,1,1900]
[null,null,null,null,null,null,null,null," ",null,1,1900]
[null,null,null,null,null,null,null,null," ",null,1,1900]
[null,null,null,null,null,null,null,null," ",null,1,1900]
[null,null,null,null,null,null,null,null," ",null,1,1900]
[null,null,null,null,null,null,null,null," ",null,1,1900]
[null,null,null,null,null,null,null,null," ",null,1,1900]
[null,null,null,null,null,null,null,null," ",null,1,1900]
[null,null,null,null,null,null,null,null," ",null,1,1900]
[null,null,null,null,null,null,null,null," ",null,1,1900]
[null,null,null,null,null,null,null,null," ",null,1,1900]
[null,null,null,null,null,null,null,null," ",null,1,1900]
[null,null,null,null,null,null,null,null," ",null,1,1900]
[null,null,null,null,null,null,null,null," ",null,1,1900]
[null,null,null,null,null,null,null,null," ",null,1,1900]
[null,null,null,null,null,null,null,null," ",null,1,1900]
[null,null,null,null,null,null,null,null," ",null,1,1900]
[null,null,null,null,null,null,null,null," ",null,1,1900]
[null,null,null,null,null,null,null,null," ",null,1,1900]
[null,null,null,null,null,null,null,null," ",null,1,1900]
[null,null,null,null,null,null,null,null," ",null,1,1900]
[null,null,null,null,null,null,null,null," ",null,1,1900]
[null,null,null,null,null,null,null,null," ",null,1,1900]
[null,null,null,null,null,null,null,null," ",null,1,1900]
[null,null,null,null,null,null,null,null," ",null,1,1900]
[null,null,null,null,null,null,null,null," ",null,1,1900]
[null,null,null,null,null,null,null,null," ",null,1,1900]
[null,null,null,null,null,null,null,null," ",null,1,1900]
[null,null,null,null,null,null,null,null," ",null,1,1900]
[null,null,null,null,null,null,null,null," ",null,1,1900]
[null,null,null,null,null,null,null,null," ",null,1,1900]
[null,null,null,null,null,null,null,null," ",null,1,1900]
[null,null,null,null,null,null,null,null," ",null,1,1900]
[null,null,null,null,null,null,null,null," ",null,1,1900]
[null,null,null,null,null,null,null,null," ",null,1,1900]
[null,null,null,null,null,null,null,null," ",null,1,1900]
[null,null,null,null,null,null,null,null," ",null,1,1900]
[null,null,null,null,null,null,null,null," ",null,1,1900]
[null,null,null,null,null,null,null,null," ",null,1,1900]
[null,null,null,null,null,null,null,null," ",null,1,1900]
[null,null,null,null,null,null,null,null," ",null,1,1900]
[null,null,null,null,null,null,null,null," ",null,1,1900]
[null,null,null,null,null,null,null,null," ",null,1,1900]
[null,null,null,null,null,null,null,null," ",null,1,1900]
[null,null,null,null,null,null,null,null," ",null,1,1900]
[null,null,null,null,null,null,null,null," ",null,1,1900]
[null,null,null,null,null,null,null,null," ",null,1,1900]
[null,null,null,null,null,null,null,null," ",null,1,1900]
[null,null,null,null,null,null,null,null," ",null,1,1900]
[null,null,null,null,null,null,null,null," ",null,1,1900]
[null,null,null,null,null,null,null,null," ",null,1,1900]
[null,null,null,null,null,null,null,null," ",null,1,1900]
[null,null,null,null,null,null,null,null," ",null,1,1900]
[null,null,null,null,null,null,null,null," ",null,1,1900]
[null,null,null,null,null,null,null,null," ",null,1,1900]
[null,null,null,null,null,null,null,null," ",null,1,1900]
[null,null,null,null,null,null,null,null," ",null,1,1900]
[null,null,null,null,null,null,null,null," ",null,1,1900]
[null,null,null,null,null,null,null,null," ",null,1,1900]
[null,null,null,null,null,null,null,null," ",null,1,1900]
[null,null,null,null,null,null,null,null," ",null,1,1900]
[null,null,null,null,null,null,null,null," ",null,1,1900]
[null,null,null,null,null,null,null,null," ",null,1,1900]
[null,null,null,null,null,null,null,null," ",null,1,1900]
[null,null,null,null,null,null,null,null," ",null,1,1900]
[null,null,null,null,null,null,null,null," ",null,1,1900]
[null,null,null,null,null,null,null,null," ",null,1,1900]
[null,null,null,null,null,null,null,null," ",null,1,1900]
[null,null,null,null,null,null,null,null," ",null,1,1900]
[null,null,null,null,null,null,null,null," ",null,1,1900]
[null,null,null,null,null,null,null,null," ",null,1,1900]
[null,null,null,null,null,null,null,null," ",null,1,1900]
[null,null,null,null,null,null,null,null," ",null,1,1900]
[null,null,null,null,null,null,null,null," ",null,1,1900]
[null,null,null,null,null,null,null,null," ",null,1,1900]
[null,null,null,null,null,null,null,null," ",null,1,1900]
[null,null,null,null,null,null,null,null," ",null,1,1900]
[null,null,null,null,null,null,null,null," ",null,1,1900]
[null,null,null,null,null,null,null,null," ",null,1,1900]
[null,null,null,null,null,null,null,null," ",null,1,1900]
[null,null,null,null,null,null,null,null," ",null,1,1900]
[null,null,null,null,null,null,null,null," ",null,1,1900]
[null,null,null,null,null,null,null,null," ",null,1,1900]
[null,null,null,null,null,null,null,null," ",null,1,1900]
[null,null,null,null,null,null,null,null," ",null,1,1900]
[null,null,null,null,null,null,null,null," ",null,1,1900]
[null,null,null,null,null,null,null,null," ",null,1,1900]
[null,null,null,null,null,null,null,null," ",null,1,1900]
[null,null,null,null,null,null,null,null," ",null,1,1900]
[null,null,null,null,null,null,null,null," ",null,1,1900]
[null,null,null,null,null,null,null,null," ",null,1,1900]
[null,null,null,null,null,null,null,null," ",null,1,1900]
[null,null,null,null,null,null,null,null," ",null,1,1900]
[null,null,null,null,null,null,null,null," ",null,1,1900]
[null,null,null,null,null,null,null,null," ",null,1,1900]
[null,null,null,null,null,null,null,null," ",null,1,1900]
[null,null,null,null,null,null,null,null," ",null,1,1900]
[null,null,null,null,null,null,null,null," ",null,1,1900]
[null,null,null,null,null,null,null,null," ",null,1,1900]
[null,null,null,null,null,null,null,null," ",null,1,1900]
[null,null,null,null,null,null,null,null," ",null,1,1900]
[null,null,null,null,null,null,null,null," ",null,1,1900]
[null,null,null,null,null,null,null,null," ",null,1,1900]
[null,null,null,null,null,null,null,null," ",null,1,1900]
[null,null,null,null,null,null,null,null," ",null,1,1900]
[null,null,null,null,null,null,null,null," ",null,1,1900]
[null,null,null,null,null,null,null,null," ",null,1,1900]
[null,null,null,null,null,null,null,null," ",null,1,1900]
[null,null,null,null,null,null,null,null," ",null,1,1900]
[null,null,null,null,null,null,null,null," ",null,1,1900]
[null,null,null,null,null,null,null,null," ",null,1,1900]
[null,null,null,null,null,null,null,null," ",null,1,1900]
[null,null,null,null,null,null,null,null," ",null,1,1900]
[null,null,null,null,null,null,null,null," ",null,1,1900]
[null,null,null,null,null,null,null,null," ",null,1,1900]
[null,null,null,null,null,null,null,null," ",null,1,1900]
[null,null,null,null,null,null,null,null," ",null,1,1900]
[null,null,null,null,null,null,null,null," ",null,1,1900]
[null,null,null,null,null,null,null,null," ",null,1,1900]
[null,null,null,null,null,null,null,null," ",null,1,1900]
[null,null,null,null,null,null,null,null," ",null,1,1900]
[null,null,null,null,null,null,null,null," ",null,1,1900]
[null,null,null,null,null,null,null,null," ",null,1,1900]
[null,null,null,null,null,null,null,null," ",null,1,1900]
[null,null,null,null,null,null,null,null," ",null,1,1900]
[null,null,null,null,null,null,null,null," ",null,1,1900]
[null,null,null,null,null,null,null,null," ",null,1,1900]
[null,null,null,null,null,null,null,null," ",null,1,1900]
[null,null,null,null,null,null,null,null," ",null,1,1900]
[null,null,null,null,null,null,null,null," ",null,1,1900]
[null,null,null,null,null,null,null,null," ",null,1,1900]
[null,null,null,null,null,null,null,null," ",null,1,1900]
[null,null,null,null,null,null,null,null," ",null,1,1900]
[null,null,null,null,null,null,null,null," ",null,1,1900]
[null,null,null,null,null,null,null,null," ",null,1,1900]
[null,null,null,null,null,null,null,null," ",null,1,1900]
[null,null,null,null,null,null,null,null," ",null,1,1900]
[null,null,null,null,null,null,null,null," ",null,1,1900]
[null,null,null,null,null,null,null,null," ",null,1,1900]
[null,null,null,null,null,null,null,null," ",null,1,1900]
[null,null,null,null,null,null,null,null," ",null,1,1900]
[null,null,null,null,null,null,null,null," ",null,1,1900]
[null,null,null,null,null,null,null,null," ",null,1,1900]
[null,null,null,null,null,null,null,null," ",null,1,1900]
[null,null,null,null,null,null,null,null," ",null,1,1900]
[null,null,null,null,null,null,null,null," ",null,1,1900]
[null,null,null,null,null,null,null,null," ",null,1,1900]
[null,null,null,null,null,null,null,null," ",null,1,1900]
[null,null,null,null,null,null,null,null," ",null,1,1900]
[null,null,null,null,null,null,null,null," ",null,1,1900]
[null,null,null,null,null,null,null,null," ",null,1,1900]
[null,null,null,null,null,null,null,null," ",null,1,1900]
[null,null,null,null,null,null,null,null," ",null,1,1900]
[null,null,null,null,null,null,null,null," ",null,1,1900]
[null,null,null,null,null,null,null,null," ",null,1,1900]
[null,null,null,null,null,null,null,null," ",null,1,1900]
[null,null,null,null,null,null,null,null," ",null,1,1900]
[null,null,null,null,null,null,null,null," ",null,1,1900]
[null,null,null,null,null,null,null,null," ",null,1,1900]
[null,null,null,null,null,null,null,null," ",null,1,1900]
[null,null,null,null,null,null,null,null," ",null,1,1900]
[null,null,null,null,null,null,null,null," ",null,1,1900]
[null,null,null,null,null,null,null,null," ",null,1,1900]
[null,null,null,null,null,null,null,null," ",null,1,1900]
[null,null,null,null,null,null,null,null," ",null,1,1900]
[null,null,null,null,null,null,null,null," ",null,1,1900]
[null,null,null,null,null,null,null,null," ",null,1,1900]
[null,null,null,null,null,null,null,null," ",null,1,1900]
[null,null,null,null,null,null,null,null," ",null,1,1900]
[null,null,null,null,null,null,null,null," ",null,1,1900]
[null,null,null,null,null,null,null,null," ",null,1,1900]
[null,null,null,null,null,null,null,null," ",null,1,1900]
[null,null,null,null,null,null,null,null," ",null,1,1900]
[null,null,null,null,null,null,null,null," ",null,1,1900]
[null,null,null,null,null,null,null,null," ",null,1,1900]
[null,null,null,null,null,null,null,null," ",null,1,1900]
[null,null,null,null,null,null,null,null,{"$f":"+IF(H37944=H37943,\" \",H37944)","v":" "},null,{"$f":"+MONTH(A37944)","v":1},{"$f":"+YEAR(A37944)","v":1900}]
[null,null,null,null,null,null,null,null," ",null,1,1900]
[null,null,null,null,null,null,null,null," ",null,1,1900]
[null,null,null,null,null,null,null,null," ",null,1,1900]
[null,null,null,null,null,null,null,null," ",null,1,1900]
[null,null,null,null,null,null,null,null," ",null,1,1900]
[null,null,null,null,null,null,null,null," ",null,1,1900]
[null,null,null,null,null,null,null,null," ",null,1,1900]
[null,null,null,null,null,null,null,null," ",null,1,1900]
[null,null,null,null,null,null,null,null," ",null,1,1900]
[null,null,null,null,null,null,null,null," ",null,1,1900]
[null,null,null,null,null,null,null,null," ",null,1,1900]
[null,null,null,null,null,null,null,null," ",null,1,1900]
[null,null,null,null,null,null,null,null," ",null,1,1900]
[null,null,null,null,null,null,null,null," ",null,1,1900]
[null,null,null,null,null,null,null,null," ",null,1,1900]
[null,null,null,null,null,null,null,null," ",null,1,1900]
[null,null,null,null,null,null,null,null," ",null,1,1900]
[null,null,null,null,null,null,null,null," ",null,1,1900]
[null,null,null,null,null,null,null,null," ",null,1,1900]
[null,null,null,null,null,null,null,null," ",null,1,1900]
[null,null,null,null,null,null,null,null," ",null,1,1900]
[null,null,null,null,null,null,null,null," ",null,1,1900]
[null,null,null,null,null,null,null,null," ",null,1,1900]
[null,null,null,null,null,null,null,null," ",null,1,1900]
[null,null,null,null,null,null,null,null," ",null,1,1900]
[null,null,null,null,null,null,null,null," ",null,1,1900]
[null,null,null,null,null,null,null,null," ",null,1,1900]
[null,null,null,null,null,null,null,null," ",null,1,1900]
[null,null,null,null,null,null,null,null," ",null,1,1900]
[null,null,null,null,null,null,null,null," ",null,1,1900]
[null,null,null,null,null,null,null,null," ",null,1,1900]
[null,null,null,null,null,null,null,null," ",null,1,1900]
[null,null,null,null,null,null,null,null," ",null,1,1900]
[null,null,null,null,null,null,null,null," ",null,1,1900]
[null,null,null,null,null,null,null,null," ",null,1,1900]
[null,null,null,null,null,null,null,null," ",null,1,1900]
[null,null,null,null,null,null,null,null," ",null,1,1900]
[null,null,null,null,null,null,null,null," ",null,1,1900]
[null,null,null,null,null,null,null,null," ",null,1,1900]
[null,null,null,null,null,null,null,null," ",null,1,1900]
[null,null,null,null,null,null,null,null," ",null,1,1900]
[null,null,null,null,null,null,null,null," ",null,1,1900]
[null,null,null,null,null,null,null,null," ",null,1,1900]
[null,null,null,null,null,null,null,null," ",null,1,1900]
[null,null,null,null,null,null,null,null," ",null,1,1900]
[null,null,null,null,null,null,null,null," ",null,1,1900]
[null,null,null,null,null,null,null,null," ",null,1,1900]
[null,null,null,null,null,null,null,null," ",null,1,1900]
[null,null,null,null,null,null,null,null," ",null,1,1900]
[null,null,null,null,null,null,null,null," ",null,1,1900]
[null,null,null,null,null,null,null,null," ",null,1,1900]
[null,null,null,null,null,null,null,null," ",null,1,1900]
[null,null,null,null,null,null,null,null," ",null,1,1900]
[null,null,null,null,null,null,null,null," ",null,1,1900]
[null,null,null,null,null,null,null,null," ",null,1,1900]
[null,null,null,null,null,null,null,null," ",null,1,1900]
[null,null,null,null,null,null,null,null," ",null,1,1900]
[null,null,null,null,null,null,null,null," ",null,1,1900]
[null,null,null,null,null,null,null,null,{"$f":"+IF(H39800=H39799,\" \",H39800)","v":" "},null,{"$f":"+MONTH(A39800)","v":1},{"$f":"+YEAR(A39800)","v":1900}]
[null,null,null,null,null,null,null,null," ",null,1,1900]
[null,null,null,null,null,null,null,null," ",null,1,1900]
[null,null,null,null,null,null,null,null," ",null,1,1900]
[null,null,null,null,null,null,null,null," ",null,1,1900]
[null,null,null,null,null,null,null,null," ",null,1,1900]
[null,null,null,null,null,null,null,null," ",null,1,1900]
[null,null,null,null,null,null,null,null," ",null,1,1900]
[null,null,null,null,null,null,null,null," ",null,1,1900]
[null,null,null,null,null,null,null,null," ",null,1,1900]
[null,null,null,null,null,null,null,null," ",null,1,1900]
[null,null,null,null,null,null,null,null," ",null,1,1900]
[null,null,null,null,null,null,null,null," ",null,1,1900]
[null,null,null,null,null,null,null,null," ",null,1,1900]
[null,null,null,null,null,null,null,null," ",null,1,1900]
[null,null,null,null,null,null,null,null," ",null,1,1900]
[null,null,null,null,null,null,null,null," ",null,1,1900]
[null,null,null,null,null,null,null,null," ",null,1,1900]
[null,null,null,null,null,null,null,null," ",null,1,1900]
[null,null,null,null,null,null,null,null," ",null,1,1900]
[null,null,null,null,null,null,null,null," ",null,1,1900]
[null,null,null,null,null,null,null,null," ",null,1,1900]
[null,null,null,null,null,null,null,null," ",null,1,1900]
[null,null,null,null,null,null,null,null," ",null,1,1900]
[null,null,null,null,null,null,null,null," ",null,1,1900]
[null,null,null,null,null,null,null,null," ",null,1,1900]
[null,null,null,null,null,null,null,null," ",null,1,1900]
[null,null,null,null,null,null,null,null," ",null,1,1900]
[null,null,null,null,null,null,null,null," ",null,1,1900]
[null,null,null,null,null,null,null,null," ",null,1,1900]
[null,null,null,null,null,null,null,null," ",null,1,1900]
[null,null,null,null,null,null,null,null," ",null,1,1900]
[null,null,null,null,null,null,null,null," ",null,1,1900]
[null,null,null,null,null,null,null,null," ",null,1,1900]
[null,null,null,null,null,null,null,null,{"$f":"+IF(H40888=H40887,\" \",H40888)","v":" "},null,{"$f":"+MONTH(A40888)","v":1},{"$f":"+YEAR(A40888)","v":1900}]
[null,null,null,null,null,null,null,null," ",null,1,1900]
[null,null,null,null,null,null,null,null," ",null,1,1900]
[null,null,null,null,null,null,null,null," ",null,1,1900]
[null,null,null,null,null,null,null,null," ",null,1,1900]
[null,null,null,null,null,null,null,null," ",null,1,1900]
[null,null,null,null,null,null,null,null," ",null,1,1900]
[null,null,null,null,null,null,null,null," ",null,1,1900]
[null,null,null,null,null,null,null,null," ",null,1,1900]
[null,null,null,null,null,null,null,null," ",null,1,1900]
[null,null,null,null,null,null,null,null," ",null,1,1900]
[null,null,null,null,null,null,null,null," ",null,1,1900]
[null,null,null,null,null,null,null,null," ",null,1,1900]
[null,null,null,null,null,null,null,null," ",null,1,1900]
[null,null,null,null,null,null,null,null," ",null,1,1900]
[null,null,null,null,null,null,null,null," ",null,1,1900]
[null,null,null,null,null,null,null,null," ",null,1,1900]
[null,null,null,null,null,null,null,null," ",null,1,1900]
[null,null,null,null,null,null,null,null," ",null,1,1900]
[null,null,null,null,null,null,null,null," ",null,1,1900]
[null,null,null,null,null,null,null,null," ",null,1,1900]
[null,null,null,null,null,null,null,null," ",null,1,1900]
[null,null,null,null,null,null,null,null," ",null,1,1900]
[null,null,null,null,null,null,null,null," ",null,1,1900]
[null,null,null,null,null,null,null,null," ",null,1,1900]
[null,null,null,null,null,null,null,null," ",null,1,1900]
[null,null,null,null,null,null,null,null," ",null,1,1900]
[null,null,null,null,null,null,null,null," ",null,1,1900]
[null,null,null,null,null,null,null,null," ",null,1,1900]
[null,null,null,null,null,null,null,null," ",null,1,1900]
[null,null,null,null,null,null,null,null," ",null,1,1900]
[null,null,null,null,null,null,null,null,{"$f":"+IF(H41848=H41847,\" \",H41848)","v":" "},null,{"$f":"+MONTH(A41848)","v":1},{"$f":"+YEAR(A41848)","v":1900}]
[null,null,null,null,null,null,null,null," ",null,1,1900]
[null,null,null,null,null,null,null,null," ",null,1,1900]
[null,null,null,null,null,null,null,null," ",null,1,1900]
[null,null,null,null,null,null,null,null," ",null,1,1900]
[null,null,null,null,null,null,null,null," ",null,1,1900]
[null,null,null,null,null,null,null,null," ",null,1,1900]
[null,null,null,null,null,null,null,null," ",null,1,1900]
[null,null,null,null,null,null,null,null," ",null,1,1900]
[null,null,null,null,null,null,null,null," ",null,1,1900]
[null,null,null,null,null,null,null,null," ",null,1,1900]
[null,null,null,null,null,null,null,null," ",null,1,1900]
[null,null,null,null,null,null,null,null," ",null,1,1900]
[null,null,null,null,null,null,null,null," ",null,1,1900]
[null,null,null,null,null,null,null,null," ",null,1,1900]
[null,null,null,null,null,null,null,null," ",null,1,1900]
[null,null,null,null,null,null,null,null," ",null,1,1900]
[null,null,null,null,null,null,null,null," ",null,1,1900]
[null,null,null,null,null,null,null,null," ",null,1,1900]
[null,null,null,null,null,null,null,null," ",null,1,1900]
[null,null,null,null,null,null,null,null," ",null,1,1900]
[null,null,null,null,null,null,null,null," ",null,1,1900]
[null,null,null,null,null,null,null,null," ",null,1,1900]
[null,null,null,null,null,null,null,null," ",null,1,1900]
[null,null,null,null,null,null,null,null," ",null,1,1900]
[null,null,null,null,null,null,null,null," ",null,1,1900]
[null,null,null,null,null,null,null,null," ",null,1,1900]
[null,null,null,null,null,null,null,null," ",null,1,1900]
[null,null,null,null,null,null,null,null," ",null,1,1900]
[null,null,null,null,null,null,null,null," ",null,1,1900]
[null,null,null,null,null,null,null,null," ",null,1,1900]
[null,null,null,null,null,null,null,null," ",null,1,1900]
[null,null,null,null,null,null,null,null," ",null,1,1900]
[null,null,null,null,null,null,null,null," ",null,1,1900]
[null,null,null,null,null,null,null,null," ",null,1,1900]
[null,null,null,null,null,null,null,null," ",null,1,1900]
[null,null,null,null,null,null,null,null," ",null,1,1900]
[null,null,null,null,null,null,null,null," ",null,1,1900]
[null,null,null,null,null,null,null,null," ",null,1,1900]
[null,null,null,null,null,null,null,null," ",null,1,1900]
[null,null,null,null,null,null,null,null," ",null,1,1900]
[null,null,null,null,null,null,null,null," ",null,1,1900]
[null,null,null,null,null,null,null,null," ",null,1,1900]
[null,null,null,null,null,null,null,null," ",null,1,1900]
[null,null,null,null,null,null,null,null," ",null,1,1900]
[null,null,null,null,null,null,null,null," ",null,1,1900]
[null,null,null,null,null,null,null,null," ",null,1,1900]
[null,null,null,null,null,null,null,null," ",null,1,1900]
[null,null,null,null,null,null,null,null," ",null,1,1900]
[null,null,null,null,null,null,null,null," ",null,1,1900]
[null,null,null,null,null,null,null,null," ",null,1,1900]
[null,null,null,null,null,null,null,null," ",null,1,1900]
[null,null,null,null,null,null,null,null," ",null,1,1900]
[null,null,null,null,null,null,null,null," ",null,1,1900]
[null,null,null,null,null,null,null,null," ",null,1,1900]
[null,null,null,null,null,null,null,null," ",null,1,1900]
[null,null,null,null,null,null,null,null," ",null,1,1900]
[null,null,null,null,null,null,null,null," ",null,1,1900]
[null,null,null,null,null,null,null,null," ",null,1,1900]
[null,null,null,null,null,null,null,null," ",null,1,1900]
[null,null,null,null,null,null,null,null," ",null,1,1900]
[null,null,null,null,null,null,null,null," ",null,1,1900]
[null,null,null,null,null,null,null,null," ",null,1,1900]
[null,null,null,null,null,null,null,null,{"$f":"+IF(H43832=H43831,\" \",H43832)","v":" "},null,{"$f":"+MONTH(A43832)","v":1},{"$f":"+YEAR(A43832)","v":1900}]
[null,null,null,null,null,null,null,null," ",null,1,1900]
[null,null,null,null,null,null,null,null," ",null,1,1900]
[null,null,null,null,null,null,null,null," ",null,1,1900]
[null,null,null,null,null,null,null,null," ",null,1,1900]
[null,null,null,null,null,null,null,null," ",null,1,1900]
[null,null,null,null,null,null,null,null," ",null,1,1900]
[null,null,null,null,null,null,null,null," ",null,1,1900]
[null,null,null,null,null,null,null,null," ",null,1,1900]
[null,null,null,null,null,null,null,null," ",null,1,1900]
[null,null,null,null,null,null,null,null," ",null,1,1900]
[null,null,null,null,null,null,null,null," ",null,1,1900]
[null,null,null,null,null,null,null,null," ",null,1,1900]
[null,null,null,null,null,null,null,null," ",null,1,1900]
[null,null,null,null,null,null,null,null," ",null,1,1900]
[null,null,null,null,null,null,null,null," ",null,1,1900]
[null,null,null,null,null,null,null,null," ",null,1,1900]
[null,null,null,null,null,null,null,null," ",null,1,1900]
[null,null,null,null,null,null,null,null," ",null,1,1900]
[null,null,null,null,null,null,null,null," ",null,1,1900]
[null,null,null,null,null,null,null,null," ",null,1,1900]
[null,null,null,null,null,null,null,null," ",null,1,1900]
[null,null,null,null,null,null,null,null," ",null,1,1900]
[null,null,null,null,null,null,null,null," ",null,1,1900]
[null,null,null,null,null,null,null,null," ",null,1,1900]
[null,null,null,null,null,null,null,null," ",null,1,1900]
[null,null,null,null,null,null,null,null," ",null,1,1900]
[null,null,null,null,null,null,null,null," ",null,1,1900]
[null,null,null,null,null,null,null,null," ",null,1,1900]
[null,null,null,null,null,null,null,null," ",null,1,1900]
[null,null,null,null,null,null,null,null,{"$f":"+IF(H44792=H44791,\" \",H44792)","v":" "},null,{"$f":"+MONTH(A44792)","v":1},{"$f":"+YEAR(A44792)","v":1900}]
[null,null,null,null,null,null,null,null," ",null,1,1900]
[null,null,null,null,null,null,null,null," ",null,1,1900]
[null,null,null,null,null,null,null,null," ",null,1,1900]
[null,null,null,null,null,null,null,null," ",null,1,1900]
[null,null,null,null,null,null,null,null," ",null,1,1900]
[null,null,null,null,null,null,null,null," ",null,1,1900]
[null,null,null,null,null,null,null,null," ",null,1,1900]
[null,null,null,null,null,null,null,null," ",null,1,1900]
[null,null,null,null,null,null,null,null," ",null,1,1900]
[null,null,null,null,null,null,null,null," ",null,1,1900]
[null,null,null,null,null,null,null,null," ",null,1,1900]
[null,null,null,null,null,null,null,null," ",null,1,1900]
[null,null,null,null,null,null,null,null," ",null,1,1900]
[null,null,null,null,null,null,null,null," ",null,1,1900]
[null,null,null,null,null,null,null,null," ",null,1,1900]
[null,null,null,null,null,null,null,null," ",null,1,1900]
[null,null,null,null,null,null,null,null," ",null,1,1900]
[null,null,null,null,null,null,null,null," ",null,1,1900]
[null,null,null,null,null,null,null,null," ",null,1,1900]
[null,null,null,null,null,null,null,null," ",null,1,1900]
[null,null,null,null,null,null,null,null," ",null,1,1900]
[null,null,null,null,null,null,null,null," ",null,1,1900]
[null,null,null,null,null,null,null,null," ",null,1,1900]
[null,null,null,null,null,null,null,null," ",null,1,1900]
[null,null,null,null,null,null,null,null," ",null,1,1900]
[null,null,null,null,null,null,null,null," ",null,1,1900]
[null,null,null,null,null,null,null,null," ",null,1,1900]
[null,null,null,null,null,null,null,null," ",null,1,1900]
[null,null,null,null,null,null,null,null," ",null,1,1900]
[null,null,null,null,null,null,null,null," ",null,1,1900]
[null,null,null,null,null,null,null,null,{"$f":"+IF(H45752=H45751,\" \",H45752)","v":" "},null,{"$f":"+MONTH(A45752)","v":1},{"$f":"+YEAR(A45752)","v":1900}]
[null,null,null,null,null,null,null,null," ",null,1,1900]
[null,null,null,null,null,null,null,null," ",null,1,1900]
[null,null,null,null,null,null,null,null," ",null,1,1900]
[null,null,null,null,null,null,null,null," ",null,1,1900]
[null,null,null,null,null,null,null,null," ",null,1,1900]
[null,null,null,null,null,null,null,null," ",null,1,1900]
[null,null,null,null,null,null,null,null," ",null,1,1900]
[null,null,null,null,null,null,null,null," ",null,1,1900]
[null,null,null,null,null,null,null,null," ",null,1,1900]
[null,null,null,null,null,null,null,null," ",null,1,1900]
[null,null,null,null,null,null,null,null," ",null,1,1900]
[null,null,null,null,null,null,null,null," ",null,1,1900]
[null,null,null,null,null,null,null,null," ",null,1,1900]
[null,null,null,null,null,null,null,null," ",null,1,1900]
[null,null,null,null,null,null,null,null," ",null,1,1900]
[null,null,null,null,null,null,null,null," ",null,1,1900]
[null,null,null,null,null,null,null,null," ",null,1,1900]
[null,null,null,null,null,null,null,null," ",null,1,1900]
[null,null,null,null,null,null,null,null," ",null,1,1900]
[null,null,null,null,null,null,null,null," ",null,1,1900]
[null,null,null,null,null,null,null,null," ",null,1,1900]
[null,null,null,null,null,null,null,null," ",null,1,1900]
[null,null,null,null,null,null,null,null," ",null,1,1900]
[null,null,null,null,null,null,null,null," ",null,1,1900]
[null,null,null,null,null,null,null,null," ",null,1,1900]
[null,null,null,null,null,null,null,null," ",null,1,1900]
[null,null,null,null,null,null,null,null," ",null,1,1900]
[null,null,null,null,null,null,null,null," ",null,1,1900]
[null,null,null,null,null,null,null,null," ",null,1,1900]
[null,null,null,null,null,null,null,null," ",null,1,1900]
[null,null,null,null,null,null,null,null," ",null,1,1900]
[null,null,null,null,null,null,null,null," ",null,1,1900]
[null,null,null,null,null,null,null,null," ",null,1,1900]
[null,null,null,null,null,null,null,null," ",null,1,1900]
[null,null,null,null,null,null,null,null," ",null,1,1900]
[null,null,null,null,null,null,null,null," ",null,1,1900]
[null,null,null,null,null,null,null,null," ",null,1,1900]
[null,null,null,null,null,null,null,null," ",null,1,1900]
[null,null,null,null,null,null,null,null," ",null,1,1900]
[null,null,null,null,null,null,null,null," ",null,1,1900]
[null,null,null,null,null,null,null,null," ",null,1,1900]
[null,null,null,null,null,null,null,null," ",null,1,1900]
[null,null,null,null,null,null,null,null," ",null,1,1900]
[null,null,null,null,null,null,null,null," ",null,1,1900]
[null,null,null,null,null,null,null,null," ",null,1,1900]
[null,null,null,null,null,null,null,null," ",null,1,1900]
[null,null,null,null,null,null,null,null," ",null,1,1900]
[null,null,null,null,null,null,null,null," ",null,1,1900]
[null,null,null,null,null,null,null,null," ",null,1,1900]
[null,null,null,null,null,null,null,null," ",null,1,1900]
[null,null,null,null,null,null,null,null," ",null,1,1900]
[null,null,null,null,null,null,null,null," ",null,1,1900]
[null,null,null,null,null,null,null,null," ",null,1,1900]
[null,null,null,null,null,null,null,null," ",null,1,1900]
[null,null,null,null,null,null,null,null," ",null,1,1900]
[null,null,null,null,null,null,null,null," ",null,1,1900]
[null,null,null,null,null,null,null,null," ",null,1,1900]
[null,null,null,null,null,null,null,null," ",null,1,1900]
[null,null,null,null,null,null,null,null," ",null,1,1900]
[null,null,null,null,null,null,null,null," ",null,1,1900]
[null,null,null,null,null,null,null,null," ",null,1,1900]
[null,null,null,null,null,null,null,null," ",null,1,1900]
[null,null,null,null,null,null,null,null," ",null,1,1900]
[null,null,null,null,null,null,null,null," ",null,1,1900]
[null,null,null,null,null,null,null,null," ",null,1,1900]
[null,null,null,null,null,null,null,null," ",null,1,1900]
[null,null,null,null,null,null,null,null," ",null,1,1900]
[null,null,null,null,null,null,null,null," ",null,1,1900]
[null,null,null,null,null,null,null,null," ",null,1,1900]
[null,null,null,null,null,null,null,null," ",null,1,1900]
[null,null,null,null,null,null,null,null," ",null,1,1900]
[null,null,null,null,null,null,null,null," ",null,1,1900]
[null,null,null,null,null,null,null,null," ",null,1,1900]
[null,null,null,null,null,null,null,null," ",null,1,1900]
[null,null,null,null,null,null,null,null," ",null,1,1900]
[null,null,null,null,null,null,null,null," ",null,1,1900]
[null,null,null,null,null,null,null,null," ",null,1,1900]
[null,null,null,null,null,null,null,null," ",null,1,1900]
[null,null,null,null,null,null,null,null," ",null,1,1900]
[null,null,null,null,null,null,null,null," ",null,1,1900]
[null,null,null,null,null,null,null,null," ",null,1,1900]
[null,null,null,null,null,null,null,null," ",null,1,1900]
[null,null,null,null,null,null,null,null," ",null,1,1900]
[null,null,null,null,null,null,null,null," ",null,1,1900]
[null,null,null,null,null,null,null,null," ",null,1,1900]
[null,null,null,null,null,null,null,null," ",null,1,1900]
[null,null,null,null,null,null,null,null," ",null,1,1900]
[null,null,null,null,null,null,null,null," ",null,1,1900]
[null,null,null,null,null,null,null,null," ",null,1,1900]
[null,null,null,null,null,null,null,null," ",null,1,1900]
[null,null,null,null,null,null,null,null," ",null,1,1900]
[null,null,null,null,null,null,null,null," ",null,1,1900]
[null,null,null,null,null,null,null,null," ",null,1,1900]
[null,null,null,null,null,null,null,null," ",null,1,1900]
[null,null,null,null,null,null,null,null," ",null,1,1900]
[null,null,null,null,null,null,null,null," ",null,1,1900]
[null,null,null,null,null,null,null,null," ",null,1,1900]
[null,null,null,null,null,null,null,null," ",null,1,1900]
[null,null,null,null,null,null,null,null," ",null,1,1900]
[null,null,null,null,null,null,null,null," ",null,1,1900]
[null,null,null,null,null,null,null,null," ",null,1,1900]
[null,null,null,null,null,null,null,null," ",null,1,1900]
[null,null,null,null,null,null,null,null," ",null,1,1900]
[null,null,null,null,null,null,null,null," ",null,1,1900]
[null,null,null,null,null,null,null,null," ",null,1,1900]
[null,null,null,null,null,null,null,null," ",null,1,1900]
[null,null,null,null,null,null,null,null," ",null,1,1900]
[null,null,null,null,null,null,null,null," ",null,1,1900]
[null,null,null,null,null,null,null,null," ",null,1,1900]
[null,null,null,null,null,null,null,null," ",null,1,1900]
[null,null,null,null,null,null,null,null," ",null,1,1900]
[null,null,null,null,null,null,null,null," ",null,1,1900]
[null,null,null,null,null,null,null,null," ",null,1,1900]
[null,null,null,null,null,null,null,null," ",null,1,1900]
[null,null,null,null,null,null,null,null," ",null,1,1900]
[null,null,null,null,null,null,null,null," ",null,1,1900]
[null,null,null,null,null,null,null,null," ",null,1,1900]
[null,null,null,null,null,null,null,null," ",null,1,1900]
[null,null,null,null,null,null,null,null," ",null,1,1900]
[null,null,null,null,null,null,null,null," ",null,1,1900]
[null,null,null,null,null,null,null,null," ",null,1,1900]
[null,null,null,null,null,null,null,null," ",null,1,1900]
[null,null,null,null,null,null,null,null," ",null,1,1900]
[null,null,null,null,null,null,null,null," ",null,1,1900]
[null,null,null,null,null,null,null,null," ",null,1,1900]
[null,null,null,null,null,null,null,null," ",null,1,1900]
[null,null,null,null,null,null,null,null," ",null,1,1900]
[null,null,null,null,null,null,null,null," ",null,1,1900]
[null,null,null,null,null,null,null,null," ",null,1,1900]
[null,null,null,null,null,null,null,null," ",null,1,1900]
[null,null,null,null,null,null,null,null," ",null,1,1900]
[null,null,null,null,null,null,null,null," ",null,1,1900]
[null,null,null,null,null,null,null,null," ",null,1,1900]
[null,null,null,null,null,null,null,null," ",null,1,1900]
[null,null,null,null,null,null,null,null," ",null,1,1900]
[null,null,null,null,null,null,null,null," ",null,1,1900]
[null,null,null,null,null,null,null,null," ",null,1,1900]
[null,null,null,null,null,null,null,null," ",null,1,1900]
[null,null,null,null,null,null,null,null," ",null,1,1900]
[null,null,null,null,null,null,null,null," ",null,1,1900]
[null,null,null,null,null,null,null,null," ",null,1,1900]
[null,null,null,null,null,null,null,null," ",null,1,1900]
[null,null,null,null,null,null,null,null," ",null,1,1900]
[null,null,null,null,null,null,null,null," ",null,1,1900]
[null,null,null,null,null,null,null,null," ",null,1,1900]
[null,null,null,null,null,null,null,null," ",null,1,1900]
[null,null,null,null,null,null,null,null," ",null,1,1900]
[null,null,null,null,null,null,null,null," ",null,1,1900]
[null,null,null,null,null,null,null,null," ",null,1,1900]
[null,null,null,null,null,null,null,null," ",null,1,1900]
[null,null,null,null,null,null,null,null," ",null,1,1900]
[null,null,null,null,null,null,null,null," ",null,1,1900]
[null,null,null,null,null,null,null,null," ",null,1,1900]
[null,null,null,null,null,null,null,null," ",null,1,1900]
[null,null,null,null,null,null,null,null," ",null,1,1900]
[null,null,null,null,null,null,null,null," ",null,1,1900]
[null,null,null,null,null,null,null,null," ",null,1,1900]
[null,null,null,null,null,null,null,null," ",null,1,1900]
[null,null,null,null,null,null,null,null," ",null,1,1900]
[null,null,null,null,null,null,null,null," ",null,1,1900]
[null,null,null,null,null,null,null,null," ",null,1,1900]
[null,null,null,null,null,null,null,null," ",null,1,1900]
[null,null,null,null,null,null,null,null," ",null,1,1900]
[null,null,null,null,null,null,null,null," ",null,1,1900]
[null,null,null,null,null,null,null,null," ",null,1,1900]
[null,null,null,null,null,null,null,null," ",null,1,1900]
[null,null,null,null,null,null,null,null," ",null,1,1900]
[null,null,null,null,null,null,null,null," ",null,1,1900]
[null,null,null,null,null,null,null,null," ",null,1,1900]
[null,null,null,null,null,null,null,null," ",null,1,1900]
[null,null,null,null,null,null,null,null," ",null,1,1900]
[null,null,null,null,null,null,null,null," ",null,1,1900]
[null,null,null,null,null,null,null,null," ",null,1,1900]
[null,null,null,null,null,null,null,null," ",null,1,1900]
[null,null,null,null,null,null,null,null," ",null,1,1900]
[null,null,null,null,null,null,null,null," ",null,1,1900]
[null,null,null,null,null,null,null,null," ",null,1,1900]
[null,null,null,null,null,null,null,null," ",null,1,1900]
[null,null,null,null,null,null,null,null," ",null,1,1900]
[null,null,null,null,null,null,null,null," ",null,1,1900]
[null,null,null,null,null,null,null,null," ",null,1,1900]
[null,null,null,null,null,null,null,null," ",null,1,1900]
[null,null,null,null,null,null,null,null," ",null,1,1900]
[null,null,null,null,null,null,null,null," ",null,1,1900]
[null,null,null,null,null,null,null,null," ",null,1,1900]
[null,null,null,null,null,null,null,null," ",null,1,1900]
[null,null,null,null,null,null,null,null," ",null,1,1900]
[null,null,null,null,null,null,null,null," ",null,1,1900]
[null,null,null,null,null,null,null,null," ",null,1,1900]
[null,null,null,null,null,null,null,null," ",null,1,1900]
[null,null,null,null,null,null,null,null," ",null,1,1900]
[null,null,null,null,null,null,null,null," ",null,1,1900]
[null,null,null,null,null,null,null,null," ",null,1,1900]
[null,null,null,null,null,null,null,null," ",null,1,1900]
[null,null,null,null,null,null,null,null," ",null,1,1900]
[null,null,null,null,null,null,null,null," ",null,1,1900]
[null,null,null,null,null,null,null,null," ",null,1,1900]
[null,null,null,null,null,null,null,null," ",null,1,1900]
[null,null,null,null,null,null,null,null," ",null,1,1900]
[null,null,null,null,null,null,null,null," ",null,1,1900]
[null,null,null,null,null,null,null,null," ",null,1,1900]
[null,null,null,null,null,null,null,null," ",null,1,1900]
[null,null,null,null,null,null,null,null," ",null,1,1900]
[null,null,null,null,null,null,null,null," ",null,1,1900]
[null,null,null,null,null,null,null,null," ",null,1,1900]
[null,null,null,null,null,null,null,null," ",null,1,1900]
[null,null,null,null,null,null,null,null," ",null,1,1900]
[null,null,null,null,null,null,null,null," ",null,1,1900]
[null,null,null,null,null,null,null,null," ",null,1,1900]
[null,null,null,null,null,null,null,null," ",null,1,1900]
[null,null,null,null,null,null,null,null,{"$f":"+IF(H52408=H52407,\" \",H52408)","v":" "},null,{"$f":"+MONTH(A52408)","v":1},{"$f":"+YEAR(A52408)","v":1900}]
[null,null,null,null,null,null,null,null," ",null,1,1900]
[null,null,null,null,null,null,null,null," ",null,1,1900]
[null,null,null,null,null,null,null,null," ",null,1,1900]
[null,null,null,null,null,null,null,null," ",null,1,1900]
[null,null,null,null,null,null,null,null," ",null,1,1900]
[null,null,null,null,null,null,null,null," ",null,1,1900]
[null,null,null,null,null,null,null,null," ",null,1,1900]
[null,null,null,null,null,null,null,null," ",null,1,1900]
[null,null,null,null,null,null,null,null," ",null,1,1900]
[null,null,null,null,null,null,null,null," ",null,1,1900]
[null,null,null,null,null,null,null,null," ",null,1,1900]
[null,null,null,null,null,null,null,null," ",null,1,1900]
[null,null,null,null,null,null,null,null," ",null,1,1900]
[null,null,null,null,null,null,null,null," ",null,1,1900]
[null,null,null,null,null,null,null,null," ",null,1,1900]
[null,null,null,null,null,null,null,null," ",null,1,1900]
[null,null,null,null,null,null,null,null," ",null,1,1900]
[null,null,null,null,null,null,null,null," ",null,1,1900]
[null,null,null,null,null,null,null,null," ",null,1,1900]
[null,null,null,null,null,null,null,null," ",null,1,1900]
[null,null,null,null,null,null,null,null," ",null,1,1900]
[null,null,null,null,null,null,null,null," ",null,1,1900]
[null,null,null,null,null,null,null,null," ",null,1,1900]
[null,null,null,null,null,null,null,null," ",null,1,1900]
[null,null,null,null,null,null,null,null," ",null,1,1900]
[null,null,null,null,null,null,null,null," ",null,1,1900]
[null,null,null,null,null,null,null,null," ",null,1,1900]
[null,null,null,null,null,null,null,null," ",null,1,1900]
[null,null,null,null,null,null,null,null," ",null,1,1900]
[null,null,null,null,null,null,null,null," ",null,1,1900]
[null,null,null,null,null,null,null,null," ",null,1,1900]
[null,null,null,null,null,null,null,null," ",null,1,1900]
[null,null,null,null,null,null,null,null," ",null,1,1900]
[null,null,null,null,null,null,null,null," ",null,1,1900]
[null,null,null,null,null,null,null,null," ",null,1,1900]
[null,null,null,null,null,null,null,null," ",null,1,1900]
[null,null,null,null,null,null,null,null," ",null,1,1900]
[null,null,null,null,null,null,null,null," ",null,1,1900]
[null,null,null,null,null,null,null,null," ",null,1,1900]
[null,null,null,null,null,null,null,null," ",null,1,1900]
[null,null,null,null,null,null,null,null," ",null,1,1900]
[null,null,null,null,null,null,null,null," ",null,1,1900]
[null,null,null,null,null,null,null,null," ",null,1,1900]
[null,null,null,null,null,null,null,null," ",null,1,1900]
[null,null,null,null,null,null,null,null," ",null,1,1900]
[null,null,null,null,null,null,null,null," ",null,1,1900]
[null,null,null,null,null,null,null,null," ",null,1,1900]
[null,null,null,null,null,null,null,null," ",null,1,1900]
[null,null,null,null,null,null,null,null," ",null,1,1900]
[null,null,null,null,null,null,null,null," ",null,1,1900]
[null,null,null,null,null,null,null,null," ",null,1,1900]
[null,null,null,null,null,null,null,null," ",null,1,1900]
[null,null,null,null,null,null,null,null," ",null,1,1900]
[null,null,null,null,null,null,null,null," ",null,1,1900]
[null,null,null,null,null,null,null,null," ",null,1,1900]
[null,null,null,null,null,null,null,null," ",null,1,1900]
[null,null,null,null,null,null,null,null," ",null,1,1900]
[null,null,null,null,null,null,null,null," ",null,1,1900]
[null,null,null,null,null,null,null,null," ",null,1,1900]
[null,null,null,null,null,null,null,null," ",null,1,1900]
[null,null,null,null,null,null,null,null," ",null,1,1900]
[null,null,null,null,null,null,null,null," ",null,1,1900]
[null,null,null,null,null,null,null,null," ",null,1,1900]
[null,null,null,null,null,null,null,null," ",null,1,1900]
[null,null,null,null,null,null,null,null," ",null,1,1900]
[null,null,null,null,null,null,null,null," ",null,1,1900]
[null,null,null,null,null,null,null,null," ",null,1,1900]
[null,null,null,null,null,null,null,null," ",null,1,1900]
[null,null,null,null,null,null,null,null," ",null,1,1900]
[null,null,null,null,null,null,null,null," ",null,1,1900]
[null,null,null,null,null,null,null,null," ",null,1,1900]
[null,null,null,null,null,null,null,null," ",null,1,1900]
[null,null,null,null,null,null,null,null," ",null,1,1900]
[null,null,null,null,null,null,null,null," ",null,1,1900]
[null,null,null,null,null,null,null,null," ",null,1,1900]
[null,null,null,null,null,null,null,null," ",null,1,1900]
[null,null,null,null,null,null,null,null," ",null,1,1900]
[null,null,null,null,null,null,null,null," ",null,1,1900]
[null,null,null,null,null,null,null,null," ",null,1,1900]
[null,null,null,null,null,null,null,null," ",null,1,1900]
[null,null,null,null,null,null,null,null," ",null,1,1900]
[null,null,null,null,null,null,null,null," ",null,1,1900]
[null,null,null,null,null,null,null,null," ",null,1,1900]
[null,null,null,null,null,null,null,null," ",null,1,1900]
[null,null,null,null,null,null,null,null," ",null,1,1900]
[null,null,null,null,null,null,null,null," ",null,1,1900]
[null,null,null,null,null,null,null,null," ",null,1,1900]
[null,null,null,null,null,null,null,null," ",null,1,1900]
[null,null,null,null,null,null,null,null," ",null,1,1900]
[null,null,null,null,null,null,null,null," ",null,1,1900]
[null,null,null,null,null,null,null,null," ",null,1,1900]
[null,null,null,null,null,null,null,null," ",null,1,1900]
[null,null,null,null,null,null,null,null," ",null,1,1900]
[null,null,null,null,null,null,null,null," ",null,1,1900]
[null,null,null,null,null,null,null,null," ",null,1,1900]
[null,null,null,null,null,null,null,null," ",null,1,1900]
[null,null,null,null,null,null,null,null,{"$f":"+IF(H55480=H55479,\" \",H55480)","v":" "},null,{"$f":"+MONTH(A55480)","v":1},{"$f":"+YEAR(A55480)","v":1900}]
[null,null,null,null,null,null,null,null," ",null,1,1900]
[null,null,null,null,null,null,null,null," ",null,1,1900]
[null,null,null,null,null,null,null,null," ",null,1,1900]
[null,null,null,null,null,null,null,null," ",null,1,1900]
[null,null,null,null,null,null,null,null," ",null,1,1900]
[null,null,null,null,null,null,null,null," ",null,1,1900]
[null,null,null,null,null,null,null,null," ",null,1,1900]
[null,null,null,null,null,null,null,null," ",null,1,1900]
[null,null,null,null,null,null,null,null," ",null,1,1900]
[null,null,null,null,null,null,null,null," ",null,1,1900]
[null,null,null,null,null,null,null,null," ",null,1,1900]
[null,null,null,null,null,null,null,null," ",null,1,1900]
[null,null,null,null,null,null,null,null," ",null,1,1900]
[null,null,null,null,null,null,null,null," ",null,1,1900]
[null,null,null,null,null,null,null,null," ",null,1,1900]
[null,null,null,null,null,null,null,null," ",null,1,1900]
[null,null,null,null,null,null,null,null," ",null,1,1900]
[null,null,null,null,null,null,null,null," ",null,1,1900]
[null,null,null,null,null,null,null,null," ",null,1,1900]
[null,null,null,null,null,null,null,null," ",null,1,1900]
[null,null,null,null,null,null,null,null," ",null,1,1900]
[null,null,null,null,null,null,null,null," ",null,1,1900]
[null,null,null,null,null,null,null,null," ",null,1,1900]
[null,null,null,null,null,null,null,null," ",null,1,1900]
[null,null,null,null,null,null,null,null," ",null,1,1900]
[null,null,null,null,null,null,null,null," ",null,1,1900]
[null,null,null,null,null,null,null,null," ",null,1,1900]
[null,null,null,null,null,null,null,null," ",null,1,1900]
[null,null,null,null,null,null,null,null," ",null,1,1900]
[null,null,null,null,null,null,null,null," ",null,1,1900]
[null,null,null,null,null,null,null,null,{"$f":"+IF(H56440=H56439,\" \",H56440)","v":" "},null,{"$f":"+MONTH(A56440)","v":1},{"$f":"+YEAR(A56440)","v":1900}]
[null,null,null,null,null,null,null,null," ",null,1,1900]
[null,null,null,null,null,null,null,null," ",null,1,1900]
[null,null,null,null,null,null,null,null," ",null,1,1900]
[null,null,null,null,null,null,null,null," ",null,1,1900]
[null,null,null,null,null,null,null,null," ",null,1,1900]
[null,null,null,null,null,null,null,null," ",null,1,1900]
[null,null,null,null,null,null,null,null," ",null,1,1900]
[null,null,null,null,null,null,null,null," ",null,1,1900]
[null,null,null,null,null,null,null,null," ",null,1,1900]
[null,null,null,null,null,null,null,null," ",null,1,1900]
[null,null,null,null,null,null,null,null," ",null,1,1900]
[null,null,null,null,null,null,null,null," ",null,1,1900]
[null,null,null,null,null,null,null,null," ",null,1,1900]
[null,null,null,null,null,null,null,null," ",null,1,1900]
[null,null,null,null,null,null,null,null," ",null,1,1900]
[null,null,null,null,null,null,null,null," ",null,1,1900]
[null,null,null,null,null,null,null,null," ",null,1,1900]
[null,null,null,null,null,null,null,null," ",null,1,1900]
[null,null,null,null,null,null,null,null," ",null,1,1900]
[null,null,null,null,null,null,null,null," ",null,1,1900]
[null,null,null,null,null,null,null,null," ",null,1,1900]
[null,null,null,null,null,null,null,null," ",null,1,1900]
[null,null,null,null,null,null,null,null," ",null,1,1900]
[null,null,null,null,null,null,null,null," ",null,1,1900]
[null,null,null,null,null,null,null,null," ",null,1,1900]
[null,null,null,null,null,null,null,null," ",null,1,1900]
[null,null,null,null,null,null,null,null," ",null,1,1900]
[null,null,null,null,null,null,null,null," ",null,1,1900]
[null,null,null,null,null,null,null,null," ",null,1,1900]
[null,null,null,null,null,null,null,null," ",null,1,1900]
[null,null,null,null,null,null,null,null," ",null,1,1900]
[null,null,null,null,null,null,null,null," ",null,1,1900]
[null,null,null,null,null,null,null,null," ",null,1,1900]
[null,null,null,null,null,null,null,null," ",null,1,1900]
[null,null,null,null,null,null,null,null," ",null,1,1900]
[null,null,null,null,null,null,null,null," ",null,1,1900]
[null,null,null,null,null,null,null,null," ",null,1,1900]
[null,null,null,null,null,null,null,null," ",null,1,1900]
[null,null,null,null,null,null,null,null," ",null,1,1900]
[null,null,null,null,null,null,null,null," ",null,1,1900]
[null,null,null,null,null,null,null,null," ",null,1,1900]
[null,null,null,null,null,null,null,null," ",null,1,1900]
[null,null,null,null,null,null,null,null," ",null,1,1900]
[null,null,null,null,null,null,null,null," ",null,1,1900]
[null,null,null,null,null,null,null,null," ",null,1,1900]
[null,null,null,null,null,null,null,null," ",null,1,1900]
[null,null,null,null,null,null,null,null," ",null,1,1900]
[null,null,null,null,null,null,null,null," ",null,1,1900]
[null,null,null,null,null,null,null,null," ",null,1,1900]
[null,null,null,null,null,null,null,null," ",null,1,1900]
[null,null,null,null,null,null,null,null," ",null,1,1900]
[null,null,null,null,null,null,null,null," ",null,1,1900]
[null,null,null,null,null,null,null,null," ",null,1,1900]
[null,null,null,null,null,null,null,null," ",null,1,1900]
[null,null,null,null,null,null,null,null," ",null,1,1900]
[null,null,null,null,null,null,null,null," ",null,1,1900]
[null,null,null,null,null,null,null,null," ",null,1,1900]
[null,null,null,null,null,null,null,null," ",null,1,1900]
[null,null,null,null,null,null,null,null," ",null,1,1900]
[null,null,null,null,null,null,null,null," ",null,1,1900]
[null,null,null,null,null,null,null,null," ",null,1,1900]
[null,null,null,null,null,null,null,null," ",null,1,1900]
[null,null,null,null,null,null,null,null," ",null,1,1900]
[null,null,null,null,null,null,null,null," ",null,1,1900]
[null,null,null,null,null,null,null,null," ",null,1,1900]
[null,null,null,null,null,null,null,null," ",null,1,1900]
[null,null,null,null,null,null,null,null," ",null,1,1900]
[null,null,null,null,null,null,null,null," ",null,1,1900]
[null,null,null,null,null,null,null,null," ",null,1,1900]
[null,null,null,null,null,null,null,null," ",null,1,1900]
[null,null,null,null,null,null,null,null," ",null,1,1900]
[null,null,null,null,null,null,null,null," ",null,1,1900]
[null,null,null,null,null,null,null,null," ",null,1,1900]
[null,null,null,null,null,null,null,null," ",null,1,1900]
[null,null,null,null,null,null,null,null," ",null,1,1900]
[null,null,null,null,null,null,null,null," ",null,1,1900]
[null,null,null,null,null,null,null,null," ",null,1,1900]
[null,null,null,null,null,null,null,null," ",null,1,1900]
[null,null,null,null,null,null,null,null," ",null,1,1900]
[null,null,null,null,null,null,null,null," ",null,1,1900]
[null,null,null,null,null,null,null,null," ",null,1,1900]
[null,null,null,null,null,null,null,null," ",null,1,1900]
[null,null,null,null,null,null,null,null," ",null,1,1900]
[null,null,null,null,null,null,null,null," ",null,1,1900]
[null,null,null,null,null,null,null,null," ",null,1,1900]
[null,null,null,null,null,null,null,null," ",null,1,1900]
[null,null,null,null,null,null,null,null," ",null,1,1900]
[null,null,null,null,null,null,null,null," ",null,1,1900]
[null,null,null,null,null,null,null,null," ",null,1,1900]
[null,null,null,null,null,null,null,null," ",null,1,1900]
[null,null,null,null,null,null,null,null," ",null,1,1900]
[null,null,null,null,null,null,null,null," ",null,1,1900]
[null,null,null,null,null,null,null,null,{"$f":"+IF(H59384=H59383,\" \",H59384)","v":" "},null,{"$f":"+MONTH(A59384)","v":1},{"$f":"+YEAR(A59384)","v":1900}]
[null,null,null,null,null,null,null,null," ",null,1,1900]
[null,null,null,null,null,null,null,null," ",null,1,1900]
[null,null,null,null,null,null,null,null," ",null,1,1900]
[null,null,null,null,null,null,null,null," ",null,1,1900]
[null,null,null,null,null,null,null,null," ",null,1,1900]
[null,null,null,null,null,null,null,null," ",null,1,1900]
[null,null,null,null,null,null,null,null," ",null,1,1900]
[null,null,null,null,null,null,null,null," ",null,1,1900]
[null,null,null,null,null,null,null,null," ",null,1,1900]
[null,null,null,null,null,null,null,null," ",null,1,1900]
[null,null,null,null,null,null,null,null," ",null,1,1900]
[null,null,null,null,null,null,null,null," ",null,1,1900]
[null,null,null,null,null,null,null,null," ",null,1,1900]
[null,null,null,null,null,null,null,null," ",null,1,1900]
[null,null,null,null,null,null,null,null," ",null,1,1900]
[null,null,null,null,null,null,null,null," ",null,1,1900]
[null,null,null,null,null,null,null,null," ",null,1,1900]
[null,null,null,null,null,null,null,null," ",null,1,1900]
[null,null,null,null,null,null,null,null," ",null,1,1900]
[null,null,null,null,null,null,null,null," ",null,1,1900]
[null,null,null,null,null,null,null,null," ",null,1,1900]
[null,null,null,null,null,null,null,null," ",null,1,1900]
[null,null,null,null,null,null,null,null," ",null,1,1900]
[null,null,null,null,null,null,null,null," ",null,1,1900]
[null,null,null,null,null,null,null,null," ",null,1,1900]
[null,null,null,null,null,null,null,null," ",null,1,1900]
[null,null,null,null,null,null,null,null," ",null,1,1900]
[null,null,null,null,null,null,null,null," ",null,1,1900]
[null,null,null,null,null,null,null,null," ",null,1,1900]
[null,null,null,null,null,null,null,null," ",null,1,1900]
[null,null,null,null,null,null,null,null,{"$f":"+IF(H60344=H60343,\" \",H60344)","v":" "},null,{"$f":"+MONTH(A60344)","v":1},{"$f":"+YEAR(A60344)","v":1900}]
[null,null,null,null,null,null,null,null," ",null,1,1900]
[null,null,null,null,null,null,null,null," ",null,1,1900]
[null,null,null,null,null,null,null,null," ",null,1,1900]
[null,null,null,null,null,null,null,null," ",null,1,1900]
[null,null,null,null,null,null,null,null," ",null,1,1900]
[null,null,null,null,null,null,null,null," ",null,1,1900]
[null,null,null,null,null,null,null,null," ",null,1,1900]
[null,null,null,null,null,null,null,null," ",null,1,1900]
[null,null,null,null,null,null,null,null," ",null,1,1900]
[null,null,null,null,null,null,null,null," ",null,1,1900]
[null,null,null,null,null,null,null,null," ",null,1,1900]
[null,null,null,null,null,null,null,null," ",null,1,1900]
[null,null,null,null,null,null,null,null," ",null,1,1900]
[null,null,null,null,null,null,null,null," ",null,1,1900]
[null,null,null,null,null,null,null,null," ",null,1,1900]
[null,null,null,null,null,null,null,null," ",null,1,1900]
[null,null,null,null,null,null,null,null," ",null,1,1900]
[null,null,null,null,null,null,null,null," ",null,1,1900]
[null,null,null,null,null,null,null,null," ",null,1,1900]
[null,null,null,null,null,null,null,null,{"$f":"+IF(H60984=H60983,\" \",H60984)","v":" "},null,{"$f":"+MONTH(A60984)","v":1},{"$f":"+YEAR(A60984)","v":1900}]
[null,null,null,null,null,null,null,null," ",null,1,1900]
[null,null,null,null,null,null,null,null," ",null,1,1900]
[null,null,null,null,null,null,null,null," ",null,1,1900]
[null,null,null,null,null,null,null,null," ",null,1,1900]
[null,null,null,null,null,null,null,null," ",null,1,1900]
[null,null,null,null,null,null,null,null," ",null,1,1900]
[null,null,null,null,null,null,null,null," ",null,1,1900]
[null,null,null,null,null,null,null,null," ",null,1,1900]
[null,null,null,null,null,null,null,null," ",null,1,1900]
[null,null,null,null,null,null,null,null," ",null,1,1900]
[null,null,null,null,null,null,null,null," ",null,1,1900]
[null,null,null,null,null,null,null,null," ",null,1,1900]
[null,null,null,null,null,null,null,null," ",null,1,1900]
[null,null,null,null,null,null,null,null," ",null,1,1900]
[null,null,null,null,null,null,null,null," ",null,1,1900]
[null,null,null,null,null,null,null,null," ",null,1,1900]
[null,null,null,null,null,null,null,null," ",null,1,1900]
[null,null,null,null,null,null,null,null," ",null,1,1900]
[null,null,null,null,null,null,null,null," ",null,1,1900]
[null,null,null,null,null,null,null,null," ",null,1,1900]
[null,null,null,null,null,null,null,null," ",null,1,1900]
[null,null,null,null,null,null,null,null," ",null,1,1900]
[null,null,null,null,null,null,null,null," ",null,1,1900]
[null,null,null,null,null,null,null,null," ",null,1,1900]
[null,null,null,null,null,null,null,null," ",null,1,1900]
[null,null,null,null,null,null,null,null," ",null,1,1900]
[null,null,null,null,null,null,null,null," ",null,1,1900]
[null,null,null,null,null,null,null,null," ",null,1,1900]
[null,null,null,null,null,null,null,null," ",null,1,1900]
[null,null,null,null,null,null,null,null," ",null,1,1900]
[null,null,null,null,null,null,null,null," ",null,1,1900]
[null,null,null,null,null,null,null,null," ",null,1,1900]
[null,null,null,null,null,null,null,null," ",null,1,1900]
[null,null,null,null,null,null,null,null," ",null,1,1900]
[null,null,null,null,null,null,null,null," ",null,1,1900]
[null,null,null,null,null,null,null,null," ",null,1,1900]
[null,null,null,null,null,null,null,null," ",null,1,1900]
[null,null,null,null,null,null,null,null," ",null,1,1900]
[null,null,null,null,null,null,null,null," ",null,1,1900]
[null,null,null,null,null,null,null,null," ",null,1,1900]
[null,null,null,null,null,null,null,null," ",null,1,1900]
[null,null,null,null,null,null,null,null," ",null,1,1900]
[null,null,null,null,null,null,null,null," ",null,1,1900]
[null,null,null,null,null,null,null,null," ",null,1,1900]
[null,null,null,null,null,null,null,null," ",null,1,1900]
[null,null,null,null,null,null,null,null," ",null,1,1900]
[null,null,null,null,null,null,null,null," ",null,1,1900]
[null,null,null,null,null,null,null,null," ",null,1,1900]
[null,null,null,null,null,null,null,null," ",null,1,1900]
[null,null,null,null,null,null,null,null," ",null,1,1900]
[null,null,null,null,null,null,null,null," ",null,1,1900]
[null,null,null,null,null,null,null,null," ",null,1,1900]
[null,null,null,null,null,null,null,null," ",null,1,1900]
[null,null,null,null,null,null,null,null," ",null,1,1900]
[null,null,null,null,null,null,null,null," ",null,1,1900]
[null,null,null,null,null,null,null,null," ",null,1,1900]
[null,null,null,null,null,null,null,null," ",null,1,1900]
[null,null,null,null,null,null,null,null," ",null,1,1900]
[null,null,null,null,null,null,null,null," ",null,1,1900]
[null,null,null,null,null,null,null,null," ",null,1,1900]
[null,null,null,null,null,null,null,null," ",null,1,1900]
[null,null,null,null,null,null,null,null," ",null,1,1900]
[null,null,null,null,null,null,null,null," ",null,1,1900]
[null,null,null,null,null,null,null,null," ",null,1,1900]
[null,null,null,null,null,null,null,null," ",null,1,1900]
[null,null,null,null,null,null,null,null," ",null,1,1900]
[null,null,null,null,null,null,null,null," ",null,1,1900]
[null,null,null,null,null,null,null,null," ",null,1,1900]
[null,null,null,null,null,null,null,null," ",null,1,1900]
[null,null,null,null,null,null,null,null," ",null,1,1900]
[null,null,null,null,null,null,null,null," ",null,1,1900]
[null,null,null,null,null,null,null,null," ",null,1,1900]
[null,null,null,null,null,null,null,null,{"$f":"+IF(H63288=H63287,\" \",H63288)","v":" "},null,{"$f":"+MONTH(A63288)","v":1},{"$f":"+YEAR(A63288)","v":1900}]
[null,null,null,null,null,null,null,null," ",null,1,1900]
[null,null,null,null,null,null,null,null," ",null,1,1900]
[null,null,null,null,null,null,null,null," ",null,1,1900]
[null,null,null,null,null,null,null,null," ",null,1,1900]
[null,null,null,null,null,null,null,null," ",null,1,1900]
[null,null,null,null,null,null,null,null," ",null,1,1900]
[null,null,null,null,null,null,null,null," ",null,1,1900]
[null,null,null,null,null,null,null,null," ",null,1,1900]
[null,null,null,null,null,null,null,null," ",null,1,1900]
[null,null,null,null,null,null,null,null," ",null,1,1900]
[null,null,null,null,null,null,null,null," ",null,1,1900]
[null,null,null,null,null,null,null,null," ",null,1,1900]
[null,null,null,null,null,null,null,null," ",null,1,1900]
[null,null,null,null,null,null,null,null," ",null,1,1900]
[null,null,null,null,null,null,null,null," ",null,1,1900]
[null,null,null,null,null,null,null,null," ",null,1,1900]
[null,null,null,null,null,null,null,null," ",null,1,1900]
[null,null,null,null,null,null,null,null," ",null,1,1900]
[null,null,null,null,null,null,null,null," ",null,1,1900]
[null,null,null,null,null,null,null,null," ",null,1,1900]
[null,null,null,null,null,null,null,null," ",null,1,1900]
[null,null,null,null,null,null,null,null,{"$f":"+IF(H63992=H63991,\" \",H63992)","v":" "},null,{"$f":"+MONTH(A63992)","v":1},{"$f":"+YEAR(A63992)","v":1900}]
[null,null,null,null,null,null,null,null," ",null,1,1900]
[null,null,null,null,null,null,null,null," ",null,1,1900]
[null,null,null,null,null,null,null,null," ",null,1,1900]
[null,null,null,null,null,null,null,null," ",null,1,1900]
[null,null,null,null,null,null,null,null," ",null,1,1900]
[null,null,null,null,null,null,null,null," ",null,1,1900]
[null,null,null,null,null,null,null,null," ",null,1,1900]
[null,null,null,null,null,null,null,null," ",null,1,1900]
[null,null,null,null,null,null,null,null," ",null,1,1900]
[null,null,null,null,null,null,null,null," ",null,1,1900]
[null,null,null,null,null,null,null,null," ",null,1,1900]
[null,null,null,null,null,null,null,null," ",null,1,1900]
[null,null,null,null,null,null,null,null," ",null,1,1900]
[null,null,null,null,null,null,null,null," ",null,1,1900]
[null,null,null,null,null,null,null,null," ",null,1,1900]
[null,null,null,null,null,null,null,null," ",null,1,1900]
[null,null,null,null,null,null,null,null," ",null,1,1900]
[null,null,null,null,null,null,null,null," ",null,1,1900]
[null,null,null,null,null,null,null,null," ",null,1,1900]
[null,null,null,null,null,null,null,null," ",null,1,1900]
[null,null,null,null,null,null,null,null," ",null,1,1900]
[null,null,null,null,null,null,null,null," ",null,1,1900]
[null,null,null,null,null,null,null,null," ",null,1,1900]
[null,null,null,null,null,null,null,null," ",null,1,1900]
[null,null,null,null,null,null,null,null," ",null,1,1900]
[null,null,null,null,null,null,null,null," ",null,1,1900]
[null,null,null,null,null,null,null,null," ",null,1,1900]
[null,null,null,null,null,null,null,null," ",null,1,1900]
[null,null,null,null,null,null,null,null," ",null,1,1900]
[null,null,null,null,null,null,null,null," ",null,1,1900]
[null,null,null,null,null,null,null,null," ",null,1,1900]
[null,null,null,null,null,null,null,null," ",null,1,1900]
[null,null,null,null,null,null,null,null," ",null,1,1900]
[null,null,null,null,null,null,null,null," ",null,1,1900]
[null,null,null,null,null,null,null,null," ",null,1,1900]
[null,null,null,null,null,null,null,null," ",null,1,1900]
[null,null,null,null,null,null,null,null," ",null,1,1900]
[null,null,null,null,null,null,null,null," ",null,1,1900]
[null,null,null,null,null,null,null,null," ",null,1,1900]
[null,null,null,null,null,null,null,null," ",null,1,1900]
[null,null,null,null,null,null,null,null," ",null,1,1900]
[null,null,null,null,null,null,null,null," ",null,1,1900]
[null,null,null,null,null,null,null,null," ",null,1,1900]
[null,null,null,null,null,null,null,null," ",null,1,1900]
[null,null,null,null,null,null,null,null," ",null,1,1900]
[null,null,null,null,null,null,null,null," ",null,1,1900]
[null,null,null,null,null,null,null,null," ",null,1,1900]
[null,null,null,null,null,null,null,null," ",null,1,1900]
[null,null,null,null,null,null,null,null," ",null,1,1900]
[null,null,null,null,null,null,null,null," ",null,1,1900]
[null,null,null,null,null,null,null,null," ",null,1,1900]
[null,null,null,null,null,null,null,null," ",null,1,1900]
[null,null,null,null,null,null,null,null," ",null,1,1900]
[null,null,null,null,null,null,null,null," ",null,1,1900]
[null,null,null,null,null,null,null,null," ",null,1,1900]
[null,null,null,null,null,null,null,null," ",null,1,1900]
[null,null,null,null,null,null,null,null," ",null,1,1900]
[null,null,null,null,null,null,null,null," ",null,1,1900]
[null,null,null,null,null,null,null,null," ",null,1,1900]
[null,null,null,null,null,null,null,null," ",null,1,1900]
[null,null,null,null,null,null,null,null," ",null,1,1900]
[null,null,null,null,null,null,null,null," ",null,1,1900]
[null,null,null,null,null,null,null,null," ",null,1,1900]
[null,null,null,null,null,null,null,null," ",null,1,1900]
[null,null,null,null,null,null,null,null," ",null,1,1900]
[null,null,null,null,null,null,null,null," ",null,1,1900]
[null,null,null,null,null,null,null,null," ",null,1,1900]
[null,null,null,null,null,null,null,null," ",null,1,1900]
[null,null,null,null,null,null,null,null," ",null,1,1900]
[null,null,null,null,null,null,null,null," ",null,1,1900]
[null,null,null,null,null,null,null,null," ",null,1,1900]
[null,null,null,null,null,null,null,null," ",null,1,1900]
[null,null,null,null,null,null,null,null," ",null,1,1900]
[null,null,null,null,null,null,null,null," ",null,1,1900]
[null,null,null,null,null,null,null,null," ",null,1,1900]
[null,null,null,null,null,null,null,null," ",null,1,1900]
[null,null,null,null,null,null,null,null,{"$f":"+IF(H65080=H65079,\" \",H65080)","v":" "},null,{"$f":"+MONTH(A65080)","v":1},{"$f":"+YEAR(A65080)","v":1900}]
[null,null,null,null,null,null,null,null," ",null,1,1900]
[null,null,null,null,null,null,null,null," ",null,1,1900]
[null,null,null,null,null,null,null,null," ",null,1,1900]
[null,null,null,null,null,null,null,null," ",null,1,1900]
[null,null,null,null,null,null,null,null," ",null,1,1900]
[null,null,null,null,null,null,null,null," ",null,1,1900]
[null,null,null,null,null,null,null,null," ",null,1,1900]
[null,null,null,null,null,null,null,null," ",null,1,1900]
[null,null,null,null,null,null,null,null," ",null,1,1900]
[null,null,null,null,null,null,null,null," ",null,1,1900]
[null,null,null,null,null,null,null,null," ",null,1,1900]
[null,null,null,null,null,null,null,null," ",null,1,1900]
[null,null,null,null,null,null,null,null," ",null,1,1900]
[null,null,null,null,null,null,null,null," ",null,1,1900]
[null,null,null,null,null,null,null,null," ",null,1,1900]
[null,null,null,null,null,null,null,null," ",null,1,1900]
[null,null,null,null,null,null,null,null," ",null,1,1900]
[null,null,null,null,null,null,null,null," ",null,1,1900]
[null,null,null,null,null,null,null,null," ",null,1,1900]
[null,null,null,null,null,null,null,null," ",null,1,1900]
[null,null,null,null,null,null,null,null," ",null,1,1900]
[null,null,null,null,null,null,null,null," ",null,1,1900]
[null,null,null,null,null,null,null,null," ",null,1,1900]
[null,null,null,null,null,null,null,null," ",null,1,1900]
[null,null,null,null,null,null,null,null," ",null,1,1900]
[null,null,null,null,null,null,null,null," ",null,1,1900]
[null,null,null,null,null,null,null,null," ",null,1,1900]
[null,null,null,null,null,null,null,null," ",null,1,1900]
[null,null,null,null,null,null,null,null," ",null,1,1900]
[null,null,null,null,null,null,null,null," ",null,1,1900]
[null,null,null,null,null,null,null,null," ",null,1,1900]
[null,null,null,null,null,null,null,null," ",null,1,1900]
[null,null,null,null,null,null,null,null," ",null,1,1900]
[null,null,null,null,null,null,null,null," ",null,1,1900]
[null,null,null,null,null,null,null,null," ",null,1,1900]
[null,null,null,null,null,null,null,null," ",null,1,1900]
[null,null,null,null,null,null,null,null," ",null,1,1900]
[null,null,null,null,null,null,null,null," ",null,1,1900]
[null,null,null,null,null,null,null,null," ",null,1,1900]
[null,null,null,null,null,null,null,null," ",null,1,1900]
[null,null,null,null,null,null,null,null," ",null,1,1900]
[null,null,null,null,null,null,null,null," ",null,1,1900]
[null,null,null,null,null,null,null,null," ",null,1,1900]
[null,null,null,null,null,null,null,null," ",null,1,1900]
[null,null,null,null,null,null,null,null," ",null,1,1900]
[null,null,null,null,null,null,null,null," ",null,1,1900]
[null,null,null,null,null,null,null,null," ",null,1,1900]
[null,null,null,null,null,null,null,null," ",null,1,1900]
[null,null,null,null,null,null,null,null," ",null,1,1900]
[null,null,null,null,null,null,null,null," ",null,1,1900]
[null,null,null,null,null,null,null,null," ",null,1,1900]
[null,null,null,null,null,null,null,null," ",null,1,1900]
[null,null,null,null,null,null,null,null," ",null,1,1900]
[null,null,null,null,null,null,null,null," ",null,1,1900]
[null,null,null,null,null,null,null,null," ",null,1,1900]
[null,null,null,null,null,null,null,null," ",null,1,1900]
[null,null,null,null,null,null,null,null," ",null,1,1900]
[null,null,null,null,null,null,null,null," ",null,1,1900]
[null,null,null,null,null,null,null,null," ",null,1,1900]
[null,null,null,null,null,null,null,null," ",null,1,1900]
[null,null,null,null,null,null,null,null," ",null,1,1900]
[null,null,null,null,null,null,null,null," ",null,1,1900]
[null,null,null,null,null,null,null,null," ",null,1,1900]
[null,null,null,null,null,null,null,null,{"$f":"+IF(H65144=H65143,\" \",H65144)","v":" "},null,{"$f":"+MONTH(A65144)","v":1},{"$f":"+YEAR(A65144)","v":1900}]
[null,null,null,null,null,null,null,null," ",null,1,1900]
[null,null,null,null,null,null,null,null," ",null,1,1900]
[null,null,null,null,null,null,null,null," ",null,1,1900]
[null,null,null,null,null,null,null,null," ",null,1,1900]
[null,null,null,null,null,null,null,null," ",null,1,1900]
[null,null,null,null,null,null,null,null," ",null,1,1900]
[null,null,null,null,null,null,null,null," ",null,1,1900]
[null,null,null,null,null,null,null,null," ",null,1,1900]
[null,null,null,null,null,null,null,null," ",null,1,1900]
[null,null,null,null,null,null,null,null," ",null,1,1900]
[null,null,null,null,null,null,null,null," ",null,1,1900]
[null,null,null,null,null,null,null,null," ",null,1,1900]
[null,null,null,null,null,null,null,null," ",null,1,1900]
[null,null,null,null,null,null,null,null," ",null,1,1900]
[null,null,null,null,null,null,null,null," ",null,1,1900]
[null,null,null,null,null,null,null,null," ",null,1,1900]
[null,null,null,null,null,null,null,null," ",null,1,1900]
[null,null,null,null,null,null,null,null," ",null,1,1900]
[null,null,null,null,null,null,null,null," ",null,1,1900]
[null,null,null,null,null,null,null,null," ",null,1,1900]
[null,null,null,null,null,null,null,null," ",null,1,1900]
[null,null,null,null,null,null,null,null," ",null,1,1900]
[null,null,null,null,null,null,null,null," ",null,1,1900]
[null,null,null,null,null,null,null,null," ",null,1,1900]
[null,null,null,null,null,null,null,null," ",null,1,1900]
[null,null,null,null,null,null,null,null," ",null,1,1900]
[null,null,null,null,null,null,null,null," ",null,1,1900]
[null,null,null,null,null,null,null,null," ",null,1,1900]
[null,null,null,null,null,null,null,null," ",null,1,1900]
[null,null,null,null,null,null,null,null," ",null,1,1900]
[null,null,null,null,null,null,null,null," ",null,1,1900]
[null,null,null,null,null,null,null,null," ",null,1,1900]
[null,null,null,null,null,null,null,null," ",null,1,1900]
[null,null,null,null,null,null,null,null," ",null,1,1900]
[null,null,null,null,null,null,null,null," ",null,1,1900]
[null,null,null,null,null,null,null,null," ",null,1,1900]
[null,null,null,null,null,null,null,null," ",null,1,1900]
[null,null,null,null,null,null,null,null," ",null,1,1900]
[null,null,null,null,null,null,null,null," ",null,1,1900]
[null,null,null,null,null,null,null,null," ",null,1,1900]
[null,null,null,null,null,null,null,null," ",null,1,1900]
[null,null,null,null,null,null,null,null," ",null,1,1900]
[null,null,null,null,null,null,null,null," ",null,1,1900]
[null,null,null,null,null,null,null,null," ",null,1,1900]
[null,null,null,null,null,null,null,null," ",null,1,1900]
[null,null,null,null,null,null,null,null," ",null,1,1900]
[null,null,null,null,null,null,null,null," ",null,1,1900]
[null,null,null,null,null,null,null,null," ",null,1,1900]
[null,null,null,null,null,null,null,null," ",null,1,1900]
[null,null,null,null,null,null,null,null," ",null,1,1900]
[null,null,null,null,null,null,null,null," ",null,1,1900]
[null,null,null,null,null,null,null,null," ",null,1,1900]
[null,null,null,null,null,null,null,null," ",null,1,1900]
[null,null,null,null,null,null,null,null," ",null,1,1900]
[null,null,null,null,null,null,null,null," ",null,1,1900]
[null,null,null,null,null,null,null,null," ",null,1,1900]
[null,null,null,null,null,null,null,null," ",null,1,1900]
[null,null,null,null,null,null,null,null," ",null,1,1900]
[null,null,null,null,null,null,null,null," ",null,1,1900]
[null,null,null,null,null,null,null,null," ",null,1,1900]
[null,null,null,null,null,null,null,null," ",null,1,1900]
[null,null,null,null,null,null,null,null," ",null,1,1900]
[null,null,null,null,null,null,null,null," ",null,1,1900]
[null,null,null,null,null,null,null,null,{"$f":"+IF(H65208=H65207,\" \",H65208)","v":" "},null,{"$f":"+MONTH(A65208)","v":1},{"$f":"+YEAR(A65208)","v":1900}]
[null,null,null,null,null,null,null,null," ",null,1,1900]
[null,null,null,null,null,null,null,null," ",null,1,1900]
[null,null,null,null,null,null,null,null," ",null,1,1900]
[null,null,null,null,null,null,null,null," ",null,1,1900]
[null,null,null,null,null,null,null,null," ",null,1,1900]
[null,null,null,null,null,null,null,null," ",null,1,1900]
[null,null,null,null,null,null,null,null," ",null,1,1900]
[null,null,null,null,null,null,null,null," ",null,1,1900]
[null,null,null,null,null,null,null,null," ",null,1,1900]
[null,null,null,null,null,null,null,null," ",null,1,1900]
[null,null,null,null,null,null,null,null," ",null,1,1900]
[null,null,null,null,null,null,null,null," ",null,1,1900]
[null,null,null,null,null,null,null,null," ",null,1,1900]
[null,null,null,null,null,null,null,null," ",null,1,1900]
[null,null,null,null,null,null,null,null," ",null,1,1900]
[null,null,null,null,null,null,null,null," ",null,1,1900]
[null,null,null,null,null,null,null,null," ",null,1,1900]
[null,null,null,null,null,null,null,null," ",null,1,1900]
[null,null,null,null,null,null,null,null," ",null,1,1900]
[null,null,null,null,null,null,null,null," ",null,1,1900]
[null,null,null,null,null,null,null,null," ",null,1,1900]
[null,null,null,null,null,null,null,null," ",null,1,1900]
[null,null,null,null,null,null,null,null," ",null,1,1900]
[null,null,null,null,null,null,null,null," ",null,1,1900]
[null,null,null,null,null,null,null,null," ",null,1,1900]
[null,null,null,null,null,null,null,null," ",null,1,1900]
[null,null,null,null,null,null,null,null," ",null,1,1900]
[null,null,null,null,null,null,null,null," ",null,1,1900]
[null,null,null,null,null,null,null,null," ",null,1,1900]
[null,null,null,null,null,null,null,null," ",null,1,1900]
[null,null,null,null,null,null,null,null," ",null,1,1900]
[null,null,null,null,null,null,null,null," ",null,1,1900]
[null,null,null,null,null,null,null,null," ",null,1,1900]
[null,null,null,null,null,null,null,null," ",null,1,1900]
[null,null,null,null,null,null,null,null," ",null,1,1900]
[null,null,null,null,null,null,null,null," ",null,1,1900]
[null,null,null,null,null,null,null,null," ",null,1,1900]
[null,null,null,null,null,null,null,null," ",null,1,1900]
[null,null,null,null,null,null,null,null," ",null,1,1900]
[null,null,null,null,null,null,null,null," ",null,1,1900]
[null,null,null,null,null,null,null,null," ",null,1,1900]
[null,null,null,null,null,null,null,null," ",null,1,1900]
[null,null,null,null,null,null,null,null," ",null,1,1900]
[null,null,null,null,null,null,null,null," ",null,1,1900]
[null,null,null,null,null,null,null,null," ",null,1,1900]
[null,null,null,null,null,null,null,null," ",null,1,1900]
[null,null,null,null,null,null,null,null," ",null,1,1900]
[null,null,null,null,null,null,null,null," ",null,1,1900]
[null,null,null,null,null,null,null,null," ",null,1,1900]
[null,null,null,null,null,null,null,null," ",null,1,1900]
[null,null,null,null,null,null,null,null," ",null,1,1900]
[null,null,null,null,null,null,null,null," ",null,1,1900]
[null,null,null,null,null,null,null,null," ",null,1,1900]
[null,null,null,null,null,null,null,null," ",null,1,1900]
[null,null,null,null,null,null,null,null," ",null,1,1900]
[null,null,null,null,null,null,null,null," ",null,1,1900]
[null,null,null,null,null,null,null,null," ",null,1,1900]
[null,null,null,null,null,null,null,null," ",null,1,1900]
[null,null,null,null,null,null,null,null," ",null,1,1900]
[null,null,null,null,null,null,null,null," ",null,1,1900]
[null,null,null,null,null,null,null,null," ",null,1,1900]
[null,null,null,null,null,null,null,null," ",null,1,1900]
[null,null,null,null,null,null,null,null," ",null,1,1900]
[null,null,null,null,null,null,null,null,{"$f":"+IF(H65272=H65271,\" \",H65272)","v":" "},null,{"$f":"+MONTH(A65272)","v":1},{"$f":"+YEAR(A65272)","v":1900}]
[null,null,null,null,null,null,null,null," ",null,1,1900]
[null,null,null,null,null,null,null,null," ",null,1,1900]
[null,null,null,null,null,null,null,null," ",null,1,1900]
[null,null,null,null,null,null,null,null," ",null,1,1900]
[null,null,null,null,null,null,null,null," ",null,1,1900]
[null,null,null,null,null,null,null,null," ",null,1,1900]
[null,null,null,null,null,null,null,null," ",null,1,1900]
[null,null,null,null,null,null,null,null," ",null,1,1900]
[null,null,null,null,null,null,null,null," ",null,1,1900]
[null,null,null,null,null,null,null,null," ",null,1,1900]
[null,null,null,null,null,null,null,null," ",null,1,1900]
[null,null,null,null,null,null,null,null," ",null,1,1900]
[null,null,null,null,null,null,null,null," ",null,1,1900]
[null,null,null,null,null,null,null,null," ",null,1,1900]
[null,null,null,null,null,null,null,null," ",null,1,1900]
[null,null,null,null,null,null,null,null," ",null,1,1900]
[null,null,null,null,null,null,null,null," ",null,1,1900]
[null,null,null,null,null,null,null,null," ",null,1,1900]
[null,null,null,null,null,null,null,null," ",null,1,1900]
[null,null,null,null,null,null,null,null," ",null,1,1900]
[null,null,null,null,null,null,null,null," ",null,1,1900]
[null,null,null,null,null,null,null,null," ",null,1,1900]
[null,null,null,null,null,null,null,null," ",null,1,1900]
[null,null,null,null,null,null,null,null," ",null,1,1900]
[null,null,null,null,null,null,null,null," ",null,1,1900]
[null,null,null,null,null,null,null,null," ",null,1,1900]
[null,null,null,null,null,null,null,null," ",null,1,1900]
[null,null,null,null,null,null,null,null," ",null,1,1900]
[null,null,null,null,null,null,null,null," ",null,1,1900]
[null,null,null,null,null,null,null,null," ",null,1,1900]
[null,null,null,null,null,null,null,null," ",null,1,1900]
[null,null,null,null,null,null,null,null," ",null,1,1900]
[null,null,null,null,null,null,null,null," ",null,1,1900]
[null,null,null,null,null,null,null,null," ",null,1,1900]
[null,null,null,null,null,null,null,null," ",null,1,1900]
[null,null,null,null,null,null,null,null," ",null,1,1900]
[null,null,null,null,null,null,null,null," ",null,1,1900]
[null,null,null,null,null,null,null,null," ",null,1,1900]
[null,null,null,null,null,null,null,null," ",null,1,1900]
[null,null,null,null,null,null,null,null," ",null,1,1900]
[null,null,null,null,null,null,null,null," ",null,1,1900]
[null,null,null,null,null,null,null,null," ",null,1,1900]
[null,null,null,null,null,null,null,null," ",null,1,1900]
[null,null,null,null,null,null,null,null," ",null,1,1900]
[null,null,null,null,null,null,null,null," ",null,1,1900]
[null,null,null,null,null,null,null,null," ",null,1,1900]
[null,null,null,null,null,null,null,null," ",null,1,1900]
[null,null,null,null,null,null,null,null," ",null,1,1900]
[null,null,null,null,null,null,null,null," ",null,1,1900]
[null,null,null,null,null,null,null,null," ",null,1,1900]
[null,null,null,null,null,null,null,null," ",null,1,1900]
[null,null,null,null,null,null,null,null," ",null,1,1900]
[null,null,null,null,null,null,null,null," ",null,1,1900]
[null,null,null,null,null,null,null,null," ",null,1,1900]
[null,null,null,null,null,null,null,null," ",null,1,1900]
[null,null,null,null,null,null,null,null," ",null,1,1900]
[null,null,null,null,null,null,null,null," ",null,1,1900]
[null,null,null,null,null,null,null,null," ",null,1,1900]
[null,null,null,null,null,null,null,null," ",null,1,1900]
[null,null,null,null,null,null,null,null," ",null,1,1900]
[null,null,null,null,null,null,null,null," ",null,1,1900]
[null,null,null,null,null,null,null,null," ",null,1,1900]
[null,null,null,null,null,null,null,null," ",null,1,1900]
[null,null,null,null,null,null,null,null,{"$f":"+IF(H65336=H65335,\" \",H65336)","v":" "},null,{"$f":"+MONTH(A65336)","v":1},{"$f":"+YEAR(A65336)","v":1900}]
[null,null,null,null,null,null,null,null," ",null,1,1900]
[null,null,null,null,null,null,null,null," ",null,1,1900]
[null,null,null,null,null,null,null,null," ",null,1,1900]
[null,null,null,null,null,null,null,null," ",null,1,1900]
[null,null,null,null,null,null,null,null," ",null,1,1900]
[null,null,null,null,null,null,null,null," ",null,1,1900]
[null,null,null,null,null,null,null,null," ",null,1,1900]
[null,null,null,null,null,null,null,null," ",null,1,1900]
[null,null,null,null,null,null,null,null," ",null,1,1900]
[null,null,null,null,null,null,null,null," ",null,1,1900]
[null,null,null,null,null,null,null,null," ",null,1,1900]
[null,null,null,null,null,null,null,null," ",null,1,1900]
[null,null,null,null,null,null,null,null," ",null,1,1900]
[null,null,null,null,null,null,null,null," ",null,1,1900]
[null,null,null,null,null,null,null,null," ",null,1,1900]
[null,null,null,null,null,null,null,null," ",null,1,1900]
[null,null,null,null,null,null,null,null," ",null,1,1900]
[null,null,null,null,null,null,null,null," ",null,1,1900]
[null,null,null,null,null,null,null,null," ",null,1,1900]
[null,null,null,null,null,null,null,null," ",null,1,1900]
[null,null,null,null,null,null,null,null," ",null,1,1900]
[null,null,null,null,null,null,null,null," ",null,1,1900]
[null,null,null,null,null,null,null,null," ",null,1,1900]
[null,null,null,null,null,null,null,null," ",null,1,1900]
[null,null,null,null,null,null,null,null," ",null,1,1900]
[null,null,null,null,null,null,null,null," ",null,1,1900]
[null,null,null,null,null,null,null,null," ",null,1,1900]
[null,null,null,null,null,null,null,null," ",null,1,1900]
[null,null,null,null,null,null,null,null," ",null,1,1900]
[null,null,null,null,null,null,null,null," ",null,1,1900]
[null,null,null,null,null,null,null,null," ",null,1,1900]
[null,null,null,null,null,null,null,null," ",null,1,1900]
[null,null,null,null,null,null,null,null," ",null,1,1900]
[null,null,null,null,null,null,null,null," ",null,1,1900]
[null,null,null,null,null,null,null,null," ",null,1,1900]
[null,null,null,null,null,null,null,null," ",null,1,1900]
[null,null,null,null,null,null,null,null," ",null,1,1900]
[null,null,null,null,null,null,null,null," ",null,1,1900]
[null,null,null,null,null,null,null,null," ",null,1,1900]
[null,null,null,null,null,null,null,null," ",null,1,1900]
[null,null,null,null,null,null,null,null," ",null,1,1900]
[null,null,null,null,null,null,null,null," ",null,1,1900]
[null,null,null,null,null,null,null,null," ",null,1,1900]
[null,null,null,null,null,null,null,null," ",null,1,1900]
[null,null,null,null,null,null,null,null," ",null,1,1900]
[null,null,null,null,null,null,null,null," ",null,1,1900]
[null,null,null,null,null,null,null,null," ",null,1,1900]
[null,null,null,null,null,null,null,null," ",null,1,1900]
[null,null,null,null,null,null,null,null," ",null,1,1900]
[null,null,null,null,null,null,null,null," ",null,1,1900]
[null,null,null,null,null,null,null,null," ",null,1,1900]
[null,null,null,null,null,null,null,null," ",null,1,1900]
[null,null,null,null,null,null,null,null," ",null,1,1900]
[null,null,null,null,null,null,null,null," ",null,1,1900]
[null,null,null,null,null,null,null,null," ",null,1,1900]
[null,null,null,null,null,null,null,null," ",null,1,1900]
[null,null,null,null,null,null,null,null," ",null,1,1900]
[null,null,null,null,null,null,null,null," ",null,1,1900]
[null,null,null,null,null,null,null,null," ",null,1,1900]
[null,null,null,null,null,null,null,null," ",null,1,1900]
[null,null,null,null,null,null,null,null," ",null,1,1900]
[null,null,null,null,null,null,null,null," ",null,1,1900]
[null,null,null,null,null,null,null,null," ",null,1,1900]
[null,null,null,null,null,null,null,null,{"$f":"+IF(H65400=H65399,\" \",H65400)","v":" "},null,{"$f":"+MONTH(A65400)","v":1},{"$f":"+YEAR(A65400)","v":1900}]
[null,null,null,null,null,null,null,null," ",null,1,1900]
[null,null,null,null,null,null,null,null," ",null,1,1900]
[null,null,null,null,null,null,null,null," ",null,1,1900]
[null,null,null,null,null,null,null,null," ",null,1,1900]
[null,null,null,null,null,null,null,null," ",null,1,1900]
[null,null,null,null,null,null,null,null," ",null,1,1900]
[null,null,null,null,null,null,null,null," ",null,1,1900]
[null,null,null,null,null,null,null,null," ",null,1,1900]
[null,null,null,null,null,null,null,null," ",null,1,1900]
[null,null,null,null,null,null,null,null," ",null,1,1900]
[null,null,null,null,null,null,null,null," ",null,1,1900]
[null,null,null,null,null,null,null,null," ",null,1,1900]
[null,null,null,null,null,null,null,null," ",null,1,1900]
[null,null,null,null,null,null,null,null," ",null,1,1900]
[null,null,null,null,null,null,null,null," ",null,1,1900]
[null,null,null,null,null,null,null,null," ",null,1,1900]
[null,null,null,null,null,null,null,null," ",null,1,1900]
[null,null,null,null,null,null,null,null," ",null,1,1900]
[null,null,null,null,null,null,null,null," ",null,1,1900]
[null,null,null,null,null,null,null,null," ",null,1,1900]
[null,null,null,null,null,null,null,null," ",null,1,1900]
[null,null,null,null,null,null,null,null," ",null,1,1900]
[null,null,null,null,null,null,null,null," ",null,1,1900]
[null,null,null,null,null,null,null,null," ",null,1,1900]
[null,null,null,null,null,null,null,null," ",null,1,1900]
[null,null,null,null,null,null,null,null," ",null,1,1900]
[null,null,null,null,null,null,null,null," ",null,1,1900]
[null,null,null,null,null,null,null,null," ",null,1,1900]
[null,null,null,null,null,null,null,null," ",null,1,1900]
[null,null,null,null,null,null,null,null," ",null,1,1900]
[null,null,null,null,null,null,null,null," ",null,1,1900]
[null,null,null,null,null,null,null,null," ",null,1,1900]
[null,null,null,null,null,null,null,null," ",null,1,1900]
[null,null,null,null,null,null,null,null," ",null,1,1900]
[null,null,null,null,null,null,null,null," ",null,1,1900]
[null,null,null,null,null,null,null,null," ",null,1,1900]
[null,null,null,null,null,null,null,null," ",null,1,1900]
[null,null,null,null,null,null,null,null," ",null,1,1900]
[null,null,null,null,null,null,null,null," ",null,1,1900]
[null,null,null,null,null,null,null,null," ",null,1,1900]
[null,null,null,null,null,null,null,null," ",null,1,1900]
[null,null,null,null,null,null,null,null," ",null,1,1900]
[null,null,null,null,null,null,null,null," ",null,1,1900]
[null,null,null,null,null,null,null,null," ",null,1,1900]
[null,null,null,null,null,null,null,null," ",null,1,1900]
[null,null,null,null,null,null,null,null," ",null,1,1900]
[null,null,null,null,null,null,null,null," ",null,1,1900]
[null,null,null,null,null,null,null,null," ",null,1,1900]
[null,null,null,null,null,null,null,null," ",null,1,1900]
[null,null,null,null,null,null,null,null," ",null,1,1900]
[null,null,null,null,null,null,null,null," ",null,1,1900]
[null,null,null,null,null,null,null,null," ",null,1,1900]
[null,null,null,null,null,null,null,null," ",null,1,1900]
[null,null,null,null,null,null,null,null," ",null,1,1900]
[null,null,null,null,null,null,null,null," ",null,1,1900]
[null,null,null,null,null,null,null,null," ",null,1,1900]
[null,null,null,null,null,null,null,null," ",null,1,1900]
[null,null,null,null,null,null,null,null," ",null,1,1900]
[null,null,null,null,null,null,null,null," ",null,1,1900]
[null,null,null,null,null,null,null,null," ",null,1,1900]
[null,null,null,null,null,null,null,null," ",null,1,1900]
[null,null,null,null,null,null,null,null," ",null,1,1900]
[null,null,null,null,null,null,null,null," ",null,1,1900]
[null,null,null,null,null,null,null,null,{"$f":"+IF(H65464=H65463,\" \",H65464)","v":" "},null,{"$f":"+MONTH(A65464)","v":1},{"$f":"+YEAR(A65464)","v":1900}]
[null,null,null,null,null,null,null,null," ",null,1,1900]
[null,null,null,null,null,null,null,null," ",null,1,1900]
[null,null,null,null,null,null,null,null," ",null,1,1900]
[null,null,null,null,null,null,null,null," ",null,1,1900]
[null,null,null,null,null,null,null,null," ",null,1,1900]
[null,null,null,null,null,null,null,null," ",null,1,1900]
[null,null,null,null,null,null,null,null," ",null,1,1900]
[null,null,null,null,null,null,null,null," ",null,1,1900]
[null,null,null,null,null,null,null,null," ",null,1,1900]
[null,null,null,null,null,null,null,null," ",null,1,1900]
[null,null,null,null,null,null,null,null," ",null,1,1900]
[null,null,null,null,null,null,null,null," ",null,1,1900]
[null,null,null,null,null,null,null,null," ",null,1,1900]
[null,null,null,null,null,null,null,null," ",null,1,1900]
[null,null,null,null,null,null,null,null," ",null,1,1900]
[null,null,null,null,null,null,null,null," ",null,1,1900]
[null,null,null,null,null,null,null,null," ",null,1,1900]
[null,null,null,null,null,null,null,null," ",null,1,1900]
[null,null,null,null,null,null,null,null," ",null,1,1900]
[null,null,null,null,null,null,null,null," ",null,1,1900]
[null,null,null,null,null,null,null,null," ",null,1,1900]
[null,null,null,null,null,null,null,null," ",null,1,1900]
[null,null,null,null,null,null,null,null," ",null,1,1900]
[null,null,null,null,null,null,null,null," ",null,1,1900]
[null,null,null,null,null,null,null,null," ",null,1,1900]
[null,null,null,null,null,null,null,null," ",null,1,1900]
[null,null,null,null,null,null,null,null," ",null,1,1900]
[null,null,null,null,null,null,null,null," ",null,1,1900]
[null,null,null,null,null,null,null,null," ",null,1,1900]
[null,null,null,null,null,null,null,null," ",null,1,1900]
[null,null,null,null,null,null,null,null," ",null,1,1900]
[null,null,null,null,null,null,null,null," ",null,1,1900]
[null,null,null,null,null,null,null,null," ",null,1,1900]
[null,null,null,null,null,null,null,null," ",null,1,1900]
[null,null,null,null,null,null,null,null," ",null,1,1900]
[null,null,null,null,null,null,null,null," ",null,1,1900]
[null,null,null,null,null,null,null,null," ",null,1,1900]
[null,null,null,null,null,null,null,null," ",null,1,1900]
[null,null,null,null,null,null,null,null," ",null,1,1900]
[null,null,null,null,null,null,null,null," ",null,1,1900]
[null,null,null,null,null,null,null,null," ",null,1,1900]
[null,null,null,null,null,null,null,null," ",null,1,1900]
[null,null,null,null,null,null,null,null," ",null,1,1900]
[null,null,null,null,null,null,null,null," ",null,1,1900]
[null,null,null,null,null,null,null,null," ",null,1,1900]
[null,null,null,null,null,null,null,null," ",null,1,1900]
[null,null,null,null,null,null,null,null," ",null,1,1900]
[null,null,null,null,null,null,null,null," ",null,1,1900]
[null,null,null,null,null,null,null,null," ",null,1,1900]
[null,null,null,null,null,null,null,null," ",null,1,1900]
[null,null,null,null,null,null,null,null," ",null,1,1900]
[null,null,null,null,null,null,null,null," ",null,1,1900]
[null,null,null,null,null,null,null,null," ",null,1,1900]
[null,null,null,null,null,null,null,null," ",null,1,1900]
[null,null,null,null,null,null,null,null," ",null,1,1900]
[null,null,null,null,null,null,null,null," ",null,1,1900]
[null,null,null,null,null,null,null,null," ",null,1,1900]
[null,null,null,null,null,null,null,null," ",null,1,1900]
[null,null,null,null,null,null,null,null," ",null,1,1900]
[null,null,null,null,null,null,null,null," ",null,1,1900]
[null,null,null,null,null,null,null,null," ",null,1,1900]
[null,null,null,null,null,null,null,null," ",null,1,1900]
[null,null,null,null,null,null,null,null," ",null,1,1900]
[null,null,null,null,null,null,null,null,{"$f":"+IF(H65528=H65527,\" \",H65528)","v":" "},null,{"$f":"+MONTH(A65528)","v":1},{"$f":"+YEAR(A65528)","v":1900}]
[null,null,null,null,null,null,null,null," ",null,1,1900]
[null,null,null,null,null,null,null,null," ",null,1,1900]
[null,null,null,null,null,null,null,null," ",null,1,1900]
[null,null,null,null,null,null,null,null," ",null,1,1900]
[null,null,null,null,null,null,null,null," ",null,1,1900]
[null,null,null,null,null,null,null,null," ",null,1,1900]
[null,null,null,null,null,null,null,null," ",null,1,1900]
[null,null,null,null,null,null,null,null," ",null,1,1900]

{"sheet":"Tabla de Amortizacion","index":4,"n_rows":184,"n_cols":17,"rows_kept":184,"cut":false,"hidden":true,"merged":[]}
["FECHA","Tabla de Amortización Valoración",null,null,"Tabla de Amortización Valoración","Tabla de Amortización Valoración","Tabla de Amortización Valoración","Tabla de Amortización Valoración","Tabla de Amortización Valoración","Tabla de Amortización Valoración","Tabla de Amortización Valoración","Tabla de Amortización Valoración","Tabla de Amortización Valoración","Tabla de Amortización Valoración","Tabla de Amortización Valoración","Tabla de Amortización Valoración","Tabla de Amortización Valoración"]
[null,{"$f":"+CALCULADORA!C9","v":"TIPS N19 A 2034"},null,null,{"$f":"+Características!$B$1","v":"TIPS N13 A"},{"$f":"+Características!$C$1","v":"TIPS N14 A"},{"$f":"+Características!$D$1","v":"TIPS N15 A"},{"$f":"+Características!$E$1","v":"TIPS N16 A"},{"$f":"+Características!$F$1","v":"TIPS N17 A "},{"$f":"+Características!$G$1","v":"TIPS N18 A 2034"},{"$f":"+Características!$H$1","v":"TIPS N19 A 2034"},{"$f":"+Características!$I$1","v":"TIPS N20 A 2034"},{"$f":"+Características!$J$1","v":"TIPS N21 A"},{"$f":"+Características!$K$1","v":"TIPS N22 A"},{"$f":"+Características!$L$1","v":"TIPS N23 A"},{"$f":"+Características!$M$1","v":"TIPS N24 A1 2029"},{"$f":"+Características!$N$1","v":"TIPS N24 A2 2039"}]
[{"$f":"+Flujos!A3","v":"2021-08-23"},{"$f":"+VLOOKUP(A3,$D$2:$O$182,MATCH($B$2,$D$2:$O$2,0),FALSE)","v":1.8470449999999999E-2},null,{"$f":"+A3","v":"2021-08-23"},2.044998E-2,1.368171E-2,2.659682E-2,2.356776E-2,3.5719420000000002E-2,6.0585700000000001E-3,1.8470449999999999E-2,1.5852499999999999E-2,1.952549E-2,1.6192459999999999E-2,2.7082479999999999E-2,8.9523660000000005E-2,1.7563760000000001E-2]
[{"$f":"+Flujos!A4","v":"2021-09-23"},{"$f":"+VLOOKUP(A4,$D$2:$O$182,MATCH($B$2,$D$2:$O$2,0),FALSE)","v":2.3920009999999998E-2},null,{"$f":"+A4","v":"2021-09-23"},1.389231E-2,1.183556E-2,2.2949870000000001E-2,2.1333459999999999E-2,2.457022E-2,2.3651200000000001E-2,2.3920009999999998E-2,2.892144E-2,2.8349989999999999E-2,2.3941299999999999E-2,2.8401409999999998E-2,8.6433819999999995E-2,3.0987669999999998E-2]
[{"$f":"+Flujos!A5","v":"2021-10-23"},2.116353E-2,null,"2021-10-23",1.675198E-2,1.424274E-2,2.6563219999999998E-2,2.8972950000000001E-2,1.9941199999999999E-2,2.1211420000000002E-2,2.116353E-2,2.2593709999999999E-2,2.6544970000000001E-2,3.1747900000000003E-2,3.5727059999999998E-2,8.3713510000000005E-2,3.004741E-2]
[{"$f":"+Flujos!A6","v":"2021-11-23"},1.8441679999999998E-2,null,"2021-11-23",1.2046009999999999E-2,1.511885E-2,2.616427E-2,2.2232120000000001E-2,1.9175480000000002E-2,2.364436E-2,1.8441679999999998E-2,2.618229E-2,2.6772089999999998E-2,2.6725740000000001E-2,2.5253129999999999E-2,8.1073870000000006E-2,2.9132479999999999E-2]
[{"$f":"+Flujos!A7","v":"2021-12-23"},2.0026140000000001E-2,null,"2021-12-23",1.1631290000000001E-2,1.6405940000000001E-2,2.127747E-2,2.0472480000000001E-2,1.949236E-2,2.091759E-2,2.0026140000000001E-2,2.214692E-2,2.1764450000000001E-2,4.1147740000000002E-2,2.4632230000000001E-2,7.851118E-2,2.823587E-2]
[{"$f":"+Flujos!A8","v":"2022-01-23"},1.9208960000000001E-2,null,"2022-01-23",1.4076129999999999E-2,1.8205949999999999E-2,2.7426369999999999E-2,2.0605370000000001E-2,2.337156E-2,2.529812E-2,1.9208960000000001E-2,1.9387060000000001E-2,1.8318210000000001E-2,4.541162E-2,2.4031210000000001E-2,7.6024820000000007E-2,2.735769E-2]
[{"$f":"+Flujos!A9","v":"2022-02-23"},1.5680800000000002E-2,null,"2022-02-23",1.7421610000000001E-2,2.362088E-2,2.1199260000000001E-2,2.115641E-2,1.787675E-2,1.8347929999999998E-2,1.5680800000000002E-2,1.8843970000000002E-2,1.7947040000000001E-2,6.4206719999999995E-2,2.3432499999999998E-2,7.3618530000000001E-2,2.6508029999999998E-2]
[{"$f":"+Flujos!A10","v":"2022-03-23"},2.0310040000000001E-2,null,"2022-03-23",1.1869869999999999E-2,2.330254E-2,1.6641719999999999E-2,1.8384040000000001E-2,2.2570940000000001E-2,1.9172640000000001E-2,2.0310040000000001E-2,2.1297779999999999E-2,1.6100360000000001E-2,2.516028E-2,2.2847449999999998E-2,7.1285299999999996E-2,2.5685280000000001E-2]
[{"$f":"+Flujos!A11","v":"2022-04-23"},1.6536180000000001E-2,null,"2022-04-23",2.1252409999999999E-2,2.4576779999999999E-2,1.4282690000000001E-2,2.119569E-2,1.7767649999999999E-2,1.7974150000000001E-2,1.6536180000000001E-2,1.3285740000000001E-2,1.46862E-2,2.4348560000000002E-2,2.2271550000000001E-2,6.9030649999999999E-2,2.4886149999999999E-2]
[{"$f":"+Flujos!A12","v":"2022-05-23"},1.068205E-2,null,"2022-05-23",1.9961240000000002E-2,2.2522159999999999E-2,1.9790169999999999E-2,2.337674E-2,1.5618150000000001E-2,1.9270700000000002E-2,1.068205E-2,1.759811E-2,1.427731E-2,2.357658E-2,2.1699019999999999E-2,6.6857269999999996E-2,2.4111219999999999E-2]
[{"$f":"+Flujos!A13","v":"2022-06-23"},{"$f":"+VLOOKUP(A13,$D$2:$O$182,MATCH($B$2,$D$2:$O$2,0),FALSE)","v":1.6515800000000001E-2},null,"2022-06-23",1.495962E-2,2.172866E-2,1.4869479999999999E-2,1.3761489999999999E-2,1.8432879999999999E-2,1.051969E-2,1.6515800000000001E-2,1.624602E-2,1.730595E-2,2.2821439999999998E-2,2.1138750000000001E-2,6.4754199999999998E-2,2.3363640000000001E-2]
[{"$f":"+Flujos!A14","v":"2022-07-23"},1.4296379999999999E-2,null,"2022-07-23",1.775622E-2,1.924675E-2,1.443206E-2,1.6983749999999999E-2,1.6710599999999999E-2,2.197584E-2,1.4296379999999999E-2,1.6708049999999999E-2,1.3769160000000001E-2,2.2086930000000001E-2,2.0593259999999999E-2,6.2131069999999997E-2,2.263826E-2]
[{"$f":"+Flujos!A15","v":"2022-08-23"},9.2338899999999998E-3,null,"2022-08-23",1.8611860000000001E-2,1.9525130000000002E-2,1.976905E-2,2.2644000000000001E-2,2.2426769999999999E-2,1.6990290000000002E-2,9.2338899999999998E-3,1.450048E-2,1.483369E-2,2.1377170000000001E-2,2.0050579999999998E-2,6.2850820000000002E-2,2.1932980000000001E-2]
[{"$f":"+Flujos!A16","v":"2022-09-23"},1.499669E-2,null,"2022-09-23",1.496187E-2,2.0719410000000001E-2,1.8365590000000001E-2,1.870053E-2,2.25063E-2,1.325195E-2,1.499669E-2,1.5946399999999999E-2,1.2893119999999999E-2,2.0671410000000001E-2,1.9536350000000001E-2,3.4191300000000001E-2,2.12508E-2]
[{"$f":"+Flujos!A17","v":"2022-10-23"},1.3574630000000001E-2,null,"2022-10-23",1.7624560000000001E-2,2.070901E-2,1.8077619999999999E-2,2.4248749999999999E-2,1.9816029999999998E-2,1.007138E-2,1.3574630000000001E-2,1.5689140000000001E-2,1.178352E-2,1.9988590000000001E-2,1.9025650000000002E-2,0,2.058627E-2]
[{"$f":"+Flujos!A18","v":"2022-11-23"},1.483513E-2,null,"2022-11-23",1.28802E-2,1.8533919999999999E-2,2.0476009999999999E-2,1.7172840000000002E-2,1.604535E-2,2.0831140000000001E-2,1.483513E-2,1.0757579999999999E-2,1.0406540000000001E-2,1.932882E-2,1.8526319999999999E-2,0,1.9938190000000001E-2]
[{"$f":"+Flujos!A19","v":"2022-12-23"},8.0742499999999998E-3,null,"2022-12-23",1.380986E-2,1.6179430000000002E-2,1.5180269999999999E-2,1.614614E-2,1.9134999999999999E-2,1.3145280000000001E-2,8.0742499999999998E-3,1.3540730000000001E-2,1.3268179999999999E-2,1.869005E-2,1.802633E-2,0,1.930658E-2]
[{"$f":"+Flujos!A20","v":"2023-01-23"},1.361384E-2,null,"2023-01-23",1.3265330000000001E-2,1.960572E-2,2.1286550000000001E-2,1.8706239999999999E-2,1.850661E-2,1.4647490000000001E-2,1.361384E-2,1.276501E-2,1.4011529999999999E-2,1.8072290000000001E-2,1.7561E-2,0,1.8698619999999999E-2]
[{"$f":"+Flujos!A21","v":"2023-02-23"},1.0196190000000001E-2,null,"2023-02-23",1.1979409999999999E-2,1.7750999999999999E-2,1.5963069999999999E-2,2.8286200000000001E-2,1.4477179999999999E-2,1.006517E-2,1.0196190000000001E-2,1.161447E-2,1.3735590000000001E-2,1.7475310000000001E-2,1.7095849999999999E-2,0,1.8107760000000001E-2]
[{"$f":"+Flujos!A22","v":"2023-03-23"},1.032425E-2,null,"2023-03-23",1.272617E-2,2.01187E-2,1.9996369999999999E-2,1.3298590000000001E-2,1.654485E-2,1.054455E-2,1.032425E-2,1.331859E-2,1.4403030000000001E-2,1.6899770000000001E-2,1.665295E-2,0,1.7535039999999998E-2]
[{"$f":"+Flujos!A23","v":"2023-04-23"},1.2419660000000001E-2,null,"2023-04-23",1.5305620000000001E-2,1.8283549999999999E-2,1.4695039999999999E-2,1.814356E-2,1.6617989999999999E-2,9.9220100000000002E-3,1.2419660000000001E-2,9.4992199999999992E-3,1.2226229999999999E-2,1.634331E-2,1.6213200000000001E-2,0,1.6978199999999999E-2]
[{"$f":"+Flujos!A24","v":"2023-05-23"},8.7410700000000001E-3,null,"2023-05-23",1.3349410000000001E-2,1.320268E-2,1.966265E-2,1.595792E-2,1.9382199999999999E-2,9.9906600000000002E-3,8.7410700000000001E-3,1.038323E-2,1.260328E-2,1.5808659999999999E-2,1.5775230000000001E-2,0,1.644019E-2]
[{"$f":"+Flujos!A25","v":"2023-06-23"},8.3459099999999998E-3,null,"2023-06-23",1.343126E-2,1.7294859999999999E-2,1.6517480000000001E-2,1.6811010000000001E-2,2.416772E-2,9.3998799999999993E-3,8.3459099999999998E-3,1.4400960000000001E-2,1.0628820000000001E-2,1.5289169999999999E-2,1.5354090000000001E-2,0,1.5918089999999999E-2]
[{"$f":"+Flujos!A26","v":"2023-07-23"},1.046561E-2,null,"2023-07-23",1.6131409999999999E-2,1.540016E-2,1.611479E-2,1.544912E-2,2.1909720000000001E-2,6.5729100000000004E-3,1.046561E-2,1.11731E-2,9.7083499999999993E-3,1.4785100000000001E-2,1.492421E-2,0,1.5410999999999999E-2]
[{"$f":"+Flujos!A27","v":"2023-08-23"},6.2120500000000002E-3,null,"2023-08-23",1.431813E-2,1.8903949999999999E-2,1.270605E-2,1.3864430000000001E-2,9.3874700000000002E-3,1.2743300000000001E-2,6.2120500000000002E-3,1.3009450000000001E-2,9.1862799999999998E-3,1.4293419999999999E-2,1.4524769999999999E-2,0,1.492632E-2]
[{"$f":"+Flujos!A28","v":"2023-09-23"},7.7529299999999999E-3,null,"2023-09-23",1.6288529999999999E-2,1.5003829999999999E-2,1.494734E-2,1.572838E-2,2.2424200000000002E-3,8.4770599999999998E-3,7.7529299999999999E-3,1.152998E-2,1.3526109999999999E-2,1.38143E-2,1.413414E-2,0,1.444899E-2]
[{"$f":"+Flujos!A29","v":"2023-10-23"},7.1742000000000004E-3,null,"2023-10-23",1.435779E-2,2.084695E-2,1.6627289999999999E-2,2.0864540000000001E-2,6.6378399999999999E-3,9.6246300000000003E-3,7.1742000000000004E-3,8.5414299999999992E-3,1.1434740000000001E-2,1.334956E-2,1.3744259999999999E-2,0,1.3994960000000001E-2]
[{"$f":"+Flujos!A30","v":"2023-11-23"},7.12022E-3,null,"2023-11-23",1.6617739999999999E-2,1.219917E-2,1.6739819999999999E-2,1.103635E-2,1.070316E-2,8.6789199999999997E-3,7.12022E-3,9.2205599999999992E-3,8.3203400000000007E-3,1.290002E-2,1.3367749999999999E-2,0,1.35593E-2]
[{"$f":"+Flujos!A31","v":"2023-12-23"},9.8689699999999995E-3,null,"2023-12-23",1.476718E-2,1.60444E-2,1.522799E-2,3.2874200000000001E-3,1.1450429999999999E-2,6.06589E-3,9.8689699999999995E-3,1.0682779999999999E-2,1.294797E-2,1.2464680000000001E-2,1.29987E-2,0,1.3142630000000001E-2]
[{"$f":"+Flujos!A32","v":"2024-01-23"},8.4436500000000005E-3,null,"2024-01-23",1.467772E-2,1.26768E-2,1.7998770000000001E-2,3.3590400000000002E-3,9.3219199999999992E-3,5.6226999999999996E-3,8.4436500000000005E-3,8.4004300000000004E-3,9.2125000000000002E-3,1.204274E-2,1.2633200000000001E-2,0,1.273935E-2]
[{"$f":"+Flujos!A33","v":"2024-02-23"},1.285656E-2,null,"2024-02-23",1.21292E-2,1.3593030000000001E-2,1.6709310000000002E-2,4.7029000000000003E-3,1.425703E-2,7.3936499999999999E-3,1.285656E-2,9.4271300000000006E-3,1.153683E-2,1.163324E-2,1.2271819999999999E-2,0,1.2323270000000001E-2]
[{"$f":"+Flujos!A34","v":"2024-03-23"},9.2865299999999994E-3,null,"2024-03-23",1.172219E-2,1.628187E-2,1.9025090000000001E-2,5.9293599999999998E-3,1.3007060000000001E-2,1.001431E-2,9.2865299999999994E-3,8.2664000000000001E-3,1.0280620000000001E-2,1.123305E-2,1.193727E-2,0,1.1946160000000001E-2]
[{"$f":"+Flujos!A35","v":"2024-04-23"},1.3177680000000001E-2,null,"2024-04-23",1.5305539999999999E-2,1.2210510000000001E-2,1.549794E-2,9.3488800000000004E-3,1.105333E-2,8.7118000000000004E-3,1.3177680000000001E-2,1.171722E-2,8.8502000000000008E-3,1.084537E-2,1.160839E-2,0,1.157658E-2]
[{"$f":"+Flujos!A36","v":"2024-05-23"},8.6879000000000001E-3,null,"2024-05-23",1.318137E-2,1.54152E-2,1.2017499999999999E-3,9.4674000000000008E-3,1.6448089999999999E-2,7.5342899999999999E-3,8.6879000000000001E-3,9.9307500000000003E-3,1.1129760000000001E-2,1.0457579999999999E-2,1.128233E-2,0,1.122096E-2]
[{"$f":"+Flujos!A37","v":"2024-06-23"},6.6977E-3,null,"2024-06-23",1.449017E-2,1.4099E-2,1.1728699999999999E-3,1.6454219999999999E-2,1.2666159999999999E-2,1.076061E-2,6.6977E-3,1.2684870000000001E-2,1.0432719999999999E-2,1.008711E-2,1.095933E-2,0,1.087454E-2]
[{"$f":"+Flujos!A38","v":"2024-07-23"},1.013146E-2,null,"2024-07-23",1.049837E-2,1.6403890000000001E-2,6.3114299999999998E-3,1.3605030000000001E-2,1.359347E-2,1.157145E-2,1.013146E-2,1.235936E-2,1.092245E-2,9.7364500000000007E-3,1.063267E-2,0,1.053669E-2]
[{"$f":"+Flujos!A39","v":"2024-08-23"},9.4565099999999996E-3,null,"2024-08-23",1.4708580000000001E-2,9.8877800000000005E-3,7.1086500000000002E-3,1.5038960000000001E-2,1.185657E-2,4.9771599999999996E-3,9.4565099999999996E-3,1.144497E-2,1.2859580000000001E-2,9.3988500000000003E-3,1.0334960000000001E-2,0,1.020979E-2]
[{"$f":"+Flujos!A40","v":"2024-09-23"},9.6219099999999991E-3,null,"2024-09-23",1.4447440000000001E-2,8.7918000000000002E-4,6.9776100000000004E-3,1.3669769999999999E-2,1.3470889999999999E-2,4.1266699999999998E-3,9.6219099999999991E-3,1.134134E-2,9.4935699999999998E-3,9.0866499999999999E-3,1.0039899999999999E-2,0,9.8930100000000007E-3]
[{"$f":"+Flujos!A41","v":"2024-10-23"},9.5536300000000005E-3,null,"2024-10-23",1.2917909999999999E-2,3.4854899999999999E-3,1.336185E-2,1.395939E-2,1.437008E-2,6.0600599999999999E-3,9.5536300000000005E-3,1.091842E-2,1.123087E-2,8.7836200000000007E-3,9.76022E-3,0,9.5820300000000001E-3]
[{"$f":"+Flujos!A42","v":"2024-11-23"},8.4620200000000007E-3,null,"2024-11-23",1.272832E-2,4.7461700000000001E-3,9.7824599999999998E-3,1.2006330000000001E-2,1.209825E-2,7.2122000000000002E-3,8.4620200000000007E-3,1.047117E-2,9.4596999999999997E-3,8.4920399999999993E-3,9.4735700000000006E-3,0,9.2841599999999996E-3]
[{"$f":"+Flujos!A43","v":"2024-12-23"},8.3559099999999994E-3,null,"2024-12-23",1.0085E-4,9.0369400000000003E-3,1.328964E-2,1.2704119999999999E-2,1.289714E-2,7.2066400000000003E-3,8.3559099999999994E-3,9.3314999999999995E-3,9.3373499999999995E-3,8.2107299999999994E-3,9.1892999999999992E-3,0,8.9929099999999998E-3]
[{"$f":"+Flujos!A44","v":"2025-01-23"},8.2596500000000003E-3,null,"2025-01-23",2.5976800000000002E-3,5.2115E-3,1.251384E-2,1.132464E-2,1.2194679999999999E-2,1.0304880000000001E-2,8.2596500000000003E-3,9.6175400000000008E-3,9.2241000000000007E-3,7.9390599999999995E-3,8.9200600000000005E-3,0,8.7116899999999994E-3]
[{"$f":"+Flujos!A45","v":"2025-02-23"},8.1701499999999993E-3,null,"2025-02-23",2.5744600000000002E-3,9.8400699999999994E-3,1.0115290000000001E-2,9.6926900000000003E-3,1.176555E-2,6.8840799999999999E-3,8.1701499999999993E-3,9.7291400000000007E-3,9.1510800000000007E-3,7.6752399999999998E-3,8.6643899999999992E-3,0,8.4371299999999993E-3]
[{"$f":"+Flujos!A46","v":"2025-03-23"},8.0761700000000006E-3,null,"2025-03-23",6.00046E-3,9.5831100000000006E-3,1.229326E-2,1.363761E-2,1.0696260000000001E-2,7.2174300000000004E-3,8.0761700000000006E-3,9.7172999999999999E-3,9.0624499999999997E-3,7.4220600000000003E-3,8.4190099999999993E-3,0,8.1697899999999997E-3]
[{"$f":"+Flujos!A47","v":"2025-04-23"},7.9758799999999994E-3,null,"2025-04-23",7.2197299999999997E-3,1.028221E-2,1.129489E-2,1.1352930000000001E-2,1.330106E-2,7.1214399999999997E-3,7.9758799999999994E-3,9.6160800000000008E-3,8.9365199999999999E-3,7.1730800000000001E-3,8.1667200000000006E-3,0,7.9142699999999993E-3]
[{"$f":"+Flujos!A48","v":"2025-05-23"},7.8757900000000006E-3,null,"2025-05-23",7.6748099999999998E-3,8.2440399999999994E-3,9.5199900000000007E-3,1.0136050000000001E-2,1.0105370000000001E-2,7.0523299999999999E-3,7.8757900000000006E-3,9.5560300000000001E-3,8.8601400000000007E-3,6.9335000000000004E-3,7.9307500000000003E-3,0,7.6662400000000004E-3]
[{"$f":"+Flujos!A49","v":"2025-06-23"},7.7871700000000004E-3,null,"2025-06-23",1.1827000000000001E-2,9.7039799999999992E-3,1.382827E-2,1.0234780000000001E-2,9.5317300000000004E-3,6.9804999999999997E-3,7.7871700000000004E-3,9.3972900000000009E-3,8.7579200000000006E-3,6.6993199999999999E-3,7.7062099999999998E-3,0,7.4249900000000002E-3]
[{"$f":"+Flujos!A50","v":"2025-07-23"},7.6969100000000004E-3,null,"2025-07-23",1.1245399999999999E-2,8.7720000000000003E-3,9.0572499999999993E-3,8.2422999999999993E-3,8.9367800000000001E-3,6.9147599999999998E-3,7.6969100000000004E-3,9.3400199999999992E-3,8.4811699999999997E-3,6.4758300000000001E-3,7.4800300000000004E-3,0,7.1906599999999998E-3]
[{"$f":"+Flujos!A51","v":"2025-08-23"},7.5987299999999997E-3,null,"2025-08-23",1.22264E-2,1.334663E-2,1.0292870000000001E-2,1.079955E-2,9.6168599999999996E-3,6.8362800000000001E-3,7.5987299999999997E-3,9.2560699999999999E-3,8.5930699999999995E-3,6.26115E-3,7.2743800000000004E-3,0,6.9645100000000001E-3]
[{"$f":"+Flujos!A52","v":"2025-09-23"},7.5053200000000002E-3,null,"2025-09-23",9.6824400000000005E-3,9.2060600000000003E-3,1.148269E-2,1.1875439999999999E-2,7.7920699999999999E-3,6.7701799999999998E-3,7.5053200000000002E-3,9.1793799999999991E-3,8.5332600000000008E-3,6.05157E-3,7.06268E-3,0,6.7456599999999997E-3]
[{"$f":"+Flujos!A53","v":"2025-10-23"},7.4122499999999996E-3,null,"2025-10-23",1.374424E-2,1.075445E-2,9.4817700000000005E-3,1.0192339999999999E-2,1.006071E-2,6.7091199999999998E-3,7.4122499999999996E-3,9.0969099999999997E-3,8.4463699999999999E-3,5.8486800000000002E-3,6.8527600000000003E-3,0,6.5313200000000002E-3]
[{"$f":"+Flujos!A54","v":"2025-11-23"},7.3213799999999997E-3,null,"2025-11-23",9.0352399999999999E-3,7.2466300000000004E-3,8.0448900000000007E-3,1.0594370000000001E-2,1.081909E-2,6.6363799999999999E-3,7.3213799999999997E-3,8.9739099999999999E-3,8.35055E-3,5.6525400000000002E-3,6.63767E-3,0,6.3265700000000001E-3]
[{"$f":"+Flujos!A55","v":"2025-12-23"},7.2294999999999998E-3,null,"2025-12-23",1.0065009999999999E-2,9.4870800000000002E-3,1.1571069999999999E-2,1.1152499999999999E-2,7.63213E-3,6.5683800000000004E-3,7.2294999999999998E-3,8.8922399999999992E-3,8.2840499999999994E-3,6.0456399999999997E-3,6.4522399999999997E-3,0,6.1257400000000002E-3]
[{"$f":"+Flujos!A56","v":"2026-01-23"},7.7163300000000004E-3,null,"2026-01-23",6.9401699999999998E-3,8.4971999999999999E-3,9.1879000000000006E-3,9.6326199999999997E-3,9.1350700000000003E-3,6.50024E-3,7.7163300000000004E-3,8.4891099999999994E-3,8.2096200000000008E-3,6.6394499999999999E-3,6.2685199999999996E-3,0,5.9314900000000002E-3]
[{"$f":"+Flujos!A57","v":"2026-02-23"},9.2823999999999997E-3,null,"2026-02-23",1.032482E-2,8.9105999999999994E-3,1.0611840000000001E-2,6.11365E-3,8.2416899999999994E-3,6.4269699999999997E-3,9.2823999999999997E-3,8.7048899999999999E-3,8.1296900000000002E-3,6.4349999999999997E-3,6.0827800000000003E-3,0,5.74501E-3]
[{"$f":"+Flujos!A58","v":"2026-03-23"},9.1909399999999999E-3,null,"2026-03-23",1.014255E-2,7.8081899999999996E-3,9.6316400000000003E-3,8.10022E-3,5.9571199999999998E-3,6.3620700000000001E-3,9.1909399999999999E-3,8.6047599999999995E-3,8.03449E-3,6.2394199999999999E-3,5.9134599999999997E-3,0,5.56465E-3]
[{"$f":"+Flujos!A59","v":"2026-04-23"},9.0940799999999992E-3,null,"2026-04-23",1.0282690000000001E-2,9.6177199999999997E-3,8.2639600000000007E-3,6.3959400000000001E-3,7.9977499999999997E-3,8.3806699999999998E-3,9.0940799999999992E-3,8.5068899999999996E-3,7.9925599999999992E-3,6.0492599999999999E-3,5.74473E-3,0,5.3880899999999999E-3]
[{"$f":"+Flujos!A60","v":"2026-05-23"},8.5305099999999998E-3,null,"2026-05-23",1.2177250000000001E-2,7.9529400000000004E-3,7.5412200000000004E-3,9.9168999999999993E-3,6.3036899999999998E-3,8.4035099999999995E-3,8.5305099999999998E-3,8.4118200000000004E-3,7.9180599999999993E-3,5.8656300000000001E-3,5.5800299999999997E-3,0,5.2174600000000002E-3]
[{"$f":"+Flujos!A61","v":"2026-06-23"},8.8858199999999991E-3,null,"2026-06-23",9.1026700000000002E-3,6.8976899999999997E-3,7.5995000000000004E-3,9.3426800000000008E-3,6.7696500000000003E-3,8.3734399999999994E-3,8.8858199999999991E-3,8.3348999999999993E-3,7.8255000000000009E-3,5.6866E-3,5.4188800000000001E-3,0,5.0528300000000003E-3]
[{"$f":"+Flujos!A62","v":"2026-07-23"},8.7829999999999991E-3,null,"2026-07-23",8.4811699999999997E-3,7.6905599999999999E-3,5.8627000000000002E-3,5.5878999999999998E-3,6.8796400000000002E-3,8.3116000000000006E-3,8.7829999999999991E-3,8.2334499999999998E-3,7.5461199999999999E-3,5.28817E-3,5.2623499999999998E-3,0,4.8935599999999999E-3]
[{"$f":"+Flujos!A63","v":"2026-08-23"},8.6522200000000004E-3,null,"2026-08-23",7.9373199999999994E-3,8.7303699999999995E-3,6.5144199999999999E-3,7.3659900000000002E-3,7.0965200000000003E-3,8.2005800000000007E-3,8.6522200000000004E-3,8.1296700000000003E-3,7.6837800000000003E-3,5.3430800000000001E-3,5.1091399999999999E-3,0,4.7370499999999996E-3]
[{"$f":"+Flujos!A64","v":"2026-09-23"},8.5339700000000001E-3,null,"2026-09-23",8.1307700000000007E-3,6.3537400000000001E-3,7.6803799999999997E-3,6.2080199999999999E-3,4.9962599999999998E-3,7.66353E-3,8.5339700000000001E-3,8.0490400000000004E-3,7.6231600000000004E-3,5.1801199999999999E-3,4.9645499999999999E-3,0,4.5857700000000003E-3]
[{"$f":"+Flujos!A65","v":"2026-10-23"},8.4357600000000005E-3,null,"2026-10-23",1.16814E-2,7.02952E-3,5.6115899999999996E-3,6.0392900000000001E-3,6.0435100000000002E-3,8.0450699999999997E-3,8.4357600000000005E-3,7.9252999999999997E-3,7.5236699999999997E-3,5.0228499999999997E-3,4.8228000000000004E-3,0,4.4396699999999997E-3]
[{"$f":"+Flujos!A66","v":"2026-11-23"},8.3330399999999999E-3,null,"2026-11-23",7.8462900000000006E-3,6.8588199999999998E-3,3.80373E-3,5.5845199999999999E-3,5.9320400000000004E-3,7.9593700000000003E-3,8.3330399999999999E-3,7.8015799999999998E-3,7.4527100000000004E-3,4.8699499999999996E-3,4.67432E-3,0,4.2977299999999996E-3]
[{"$f":"+Flujos!A67","v":"2026-12-23"},8.19954E-3,null,"2026-12-23",7.5041500000000002E-3,7.5272899999999998E-3,5.3497299999999996E-3,5.7291099999999999E-3,5.1106099999999998E-3,7.84726E-3,8.19954E-3,7.6736299999999999E-3,7.3863399999999999E-3,4.71814E-3,4.5319899999999996E-3,0,4.1602699999999998E-3]
[{"$f":"+Flujos!A68","v":"2027-01-23"},{"$f":"+VLOOKUP(A68,$D$2:$O$182,MATCH($B$2,$D$2:$O$2,0),FALSE)","v":8.07043E-3},null,{"$f":"+A68","v":"2027-01-23"},8.8636300000000008E-3,7.8274199999999999E-3,4.7784000000000004E-3,5.8542999999999998E-3,7.05012E-3,7.7632100000000004E-3,8.07043E-3,7.2462400000000001E-3,7.30118E-3,4.5739300000000004E-3,4.4030299999999996E-3,0,4.0276499999999998E-3]
[{"$f":"+Flujos!A69","v":"2027-02-23"},7.9525399999999993E-3,null,"2027-02-23",7.8687500000000007E-3,5.7107E-3,6.2981299999999999E-3,5.8231999999999997E-3,7.1426099999999998E-3,7.6695899999999996E-3,7.9525399999999993E-3,7.4471700000000004E-3,7.22947E-3,4.43189E-3,4.2782499999999999E-3,0,3.9000200000000001E-3]
[{"$f":"+Flujos!A70","v":"2027-03-23"},7.8388899999999994E-3,null,"2027-03-23",7.1700100000000001E-3,4.9743000000000001E-3,4.4441899999999998E-3,6.3028800000000003E-3,6.3024400000000003E-3,7.5480800000000004E-3,7.8388899999999994E-3,7.3419899999999996E-3,7.15819E-3,4.2959900000000004E-3,4.1567599999999998E-3,0,3.7756999999999999E-3]
[{"$f":"+Flujos!A71","v":"2027-04-23"},7.6850699999999996E-3,null,"2027-04-23",7.53296E-3,4.6752199999999999E-3,5.2383200000000003E-3,4.6673599999999997E-3,5.9266199999999996E-3,7.4546999999999999E-3,7.6850699999999996E-3,7.2285099999999996E-3,7.0895999999999997E-3,4.1630699999999996E-3,4.0399700000000004E-3,0,3.6551299999999999E-3]
[{"$f":"+Flujos!A72","v":"2027-05-23"},7.1230599999999996E-3,null,"2027-05-23",7.9755899999999994E-3,6.0828100000000001E-3,4.8250699999999999E-3,5.4446900000000003E-3,5.1114400000000001E-3,7.3454100000000001E-3,7.1230599999999996E-3,7.1003000000000004E-3,7.0127200000000001E-3,4.03375E-3,3.9240799999999999E-3,0,3.53871E-3]
[{"$f":"+Flujos!A73","v":"2027-06-23"},7.4818799999999998E-3,null,"2027-06-23",5.0773499999999996E-3,6.0583499999999997E-3,5.3897399999999996E-3,5.5381099999999997E-3,5.4192900000000002E-3,7.2675500000000002E-3,7.4818799999999998E-3,6.9971800000000004E-3,6.9460299999999997E-3,3.9079099999999997E-3,4.41888E-3,0,3.42465E-3]
[{"$f":"+Flujos!A74","v":"2027-07-23"},7.3915700000000001E-3,null,"2027-07-23",7.9320399999999996E-3,4.6722999999999999E-3,4.7634799999999996E-3,5.7296200000000004E-3,5.3860399999999999E-3,7.1689600000000003E-3,7.3915700000000001E-3,6.8754799999999998E-3,6.6234199999999997E-3,3.5505699999999999E-3,4.2852000000000003E-3,0,3.3147300000000001E-3]
[{"$f":"+Flujos!A75","v":"2027-08-23"},7.3054000000000001E-3,null,"2027-08-23",6.54332E-3,5.1236299999999997E-3,5.5271599999999997E-3,4.62437E-3,6.2449100000000002E-3,7.0898000000000003E-3,7.3054000000000001E-3,6.7851400000000003E-3,6.7819899999999999E-3,3.6653200000000001E-3,4.4879300000000002E-3,0,3.20557E-3]
[{"$f":"+Flujos!A76","v":"2027-09-23"},7.1998599999999998E-3,null,"2027-09-23",5.3837700000000004E-3,4.9961900000000002E-3,5.1364399999999999E-3,5.5207800000000003E-3,4.92567E-3,6.4977200000000002E-3,7.1998599999999998E-3,6.6883799999999998E-3,6.7121200000000002E-3,3.5534799999999999E-3,4.3575000000000003E-3,0,3.1022200000000002E-3]
[{"$f":"+Flujos!A77","v":"2027-10-23"},7.1145699999999997E-3,null,"2027-10-23",6.0567499999999996E-3,6.2335200000000002E-3,4.6696799999999998E-3,5.3894900000000003E-3,6.0316600000000003E-3,6.881E-3,7.1145699999999997E-3,6.5862899999999999E-3,6.6382000000000004E-3,3.4445600000000002E-3,4.2284000000000002E-3,0,3.0023699999999999E-3]
[{"$f":"+Flujos!A78","v":"2027-11-23"},7.0047900000000003E-3,null,"2027-11-23",6.7459099999999999E-3,4.9785999999999997E-3,4.7066299999999998E-3,4.4792699999999996E-3,4.7425999999999996E-3,6.7791300000000004E-3,7.0047900000000003E-3,6.4784999999999999E-3,6.5685700000000001E-3,3.3399699999999998E-3,4.1116199999999999E-3,0,2.90588E-3]
[{"$f":"+Flujos!A79","v":"2027-12-23"},6.8914700000000002E-3,null,"2027-12-23",5.7883199999999996E-3,3.7257200000000001E-3,3.5146299999999999E-3,5.4339799999999997E-3,5.2616700000000004E-3,6.6885499999999997E-3,6.8914700000000002E-3,6.3704800000000004E-3,6.5058700000000004E-3,3.2388500000000001E-3,3.9999299999999996E-3,0,2.8117099999999998E-3]
[{"$f":"+Flujos!A80","v":"2028-01-23"},6.7864099999999997E-3,null,"2028-01-23",5.7316700000000003E-3,4.69667E-3,4.03741E-3,4.7519399999999996E-3,6.1127000000000004E-3,6.6017899999999997E-3,6.7864099999999997E-3,5.9254099999999999E-3,6.4357900000000003E-3,3.1409900000000002E-3,3.8874000000000001E-3,0,2.7192700000000002E-3]
[{"$f":"+Flujos!A81","v":"2028-02-23"},6.6882199999999999E-3,null,"2028-02-23",4.9866299999999997E-3,4.3015600000000003E-3,3.8396900000000002E-3,4.3758199999999999E-3,4.7743300000000002E-3,6.5081399999999999E-3,6.6882199999999999E-3,6.1746600000000002E-3,6.3681099999999997E-3,3.0463199999999999E-3,3.7799800000000001E-3,0,2.62736E-3]
[{"$f":"+Flujos!A82","v":"2028-03-23"},6.6006800000000003E-3,null,"2028-03-23",4.2769499999999998E-3,4.9913199999999996E-3,4.5098200000000003E-3,3.9686699999999997E-3,4.5162800000000001E-3,6.4388400000000004E-3,6.6006800000000003E-3,6.08298E-3,6.2933800000000003E-3,2.9536599999999999E-3,3.6808499999999998E-3,0,2.5423500000000001E-3]
[{"$f":"+Flujos!A83","v":"2028-04-23"},6.4923899999999998E-3,null,"2028-04-23",4.9432399999999998E-3,4.3739599999999997E-3,4.5685300000000003E-3,4.7126900000000003E-3,4.5073200000000004E-3,6.3412399999999997E-3,6.4923899999999998E-3,5.9911799999999996E-3,6.2278100000000003E-3,2.8640100000000002E-3,3.58085E-3,0,2.45955E-3]
[{"$f":"+Flujos!A84","v":"2028-05-23"},5.9068599999999999E-3,null,"2028-05-23",5.1545999999999996E-3,4.40034E-3,4.7350400000000003E-3,4.5496199999999999E-3,4.4170499999999996E-3,6.2611200000000002E-3,5.9068599999999999E-3,5.8726899999999999E-3,6.1524300000000004E-3,2.7775399999999998E-3,3.4799100000000001E-3,0,3.03185E-3]
[{"$f":"+Flujos!A85","v":"2028-06-23"},6.27883E-3,null,"2028-06-23",4.73523E-3,4.7348900000000003E-3,2.9436599999999999E-3,4.0818299999999998E-3,4.4039500000000002E-3,6.2009999999999999E-3,6.27883E-3,5.7648200000000004E-3,6.0844100000000002E-3,2.6932100000000001E-3,3.38763E-3,0,2.9380700000000001E-3]
[{"$f":"+Flujos!A86","v":"2028-07-23"},6.1950299999999998E-3,null,"2028-07-23",5.4271199999999997E-3,4.1604199999999997E-3,3.5063500000000001E-3,3.77575E-3,4.0079E-3,6.10736E-3,6.1950299999999998E-3,5.6569000000000003E-3,5.7716299999999998E-3,2.3734099999999998E-3,2.9500500000000001E-3,0,2.84542E-3]
[{"$f":"+Flujos!A87","v":"2028-08-23"},6.0906800000000002E-3,null,"2028-08-23",4.8140600000000002E-3,3.8457299999999999E-3,4.2150699999999996E-3,4.0121599999999999E-3,4.2303799999999997E-3,6.0278600000000003E-3,6.0906800000000002E-3,5.5506499999999999E-3,5.9301500000000004E-3,2.53367E-3,3.19864E-3,0,2.7546300000000001E-3]
[{"$f":"+Flujos!A88","v":"2028-09-23"},5.9823100000000002E-3,null,"2028-09-23",3.9697400000000002E-3,4.7871199999999997E-3,3.97343E-3,3.96072E-3,4.2383200000000003E-3,5.4481E-3,5.9823100000000002E-3,5.4534800000000001E-3,5.8535999999999996E-3,2.45956E-3,3.1105999999999998E-3,0,2.6665299999999999E-3]
[{"$f":"+Flujos!A89","v":"2028-10-23"},5.8935599999999999E-3,null,"2028-10-23",6.0365200000000001E-3,4.3255100000000003E-3,4.0010799999999997E-3,3.8946599999999999E-3,4.1635700000000001E-3,5.8633799999999996E-3,5.8935599999999999E-3,5.3393499999999997E-3,5.7613500000000002E-3,2.3880199999999998E-3,3.0244299999999998E-3,0,2.5812299999999999E-3]
[{"$f":"+Flujos!A90","v":"2028-11-23"},5.8074600000000004E-3,null,"2028-11-23",5.3255999999999998E-3,3.9134900000000004E-3,3.51272E-3,3.8351000000000001E-3,3.92305E-3,5.7782600000000003E-3,5.8074600000000004E-3,5.2470299999999997E-3,5.692E-3,2.3189600000000001E-3,2.9416999999999998E-3,0,2.5015800000000002E-3]
[{"$f":"+Flujos!A91","v":"2028-12-23"},5.6900800000000001E-3,null,"2028-12-23",4.3832000000000003E-3,4.4680299999999996E-3,3.4711099999999999E-3,1.3872699999999999E-3,0,5.6807000000000003E-3,5.6900800000000001E-3,5.1507300000000001E-3,5.6188399999999999E-3,2.2523399999999998E-3,2.86184E-3,0,2.4194899999999998E-3]
[{"$f":"+Flujos!A92","v":"2029-01-23"},5.6065899999999998E-3,null,"2029-01-23",5.8491599999999999E-3,3.78612E-3,3.2557799999999998E-3,0,0,5.6120500000000004E-3,5.6065899999999998E-3,4.7147600000000001E-3,5.5485200000000004E-3,2.1878800000000001E-3,2.77517E-3,0,2.3438899999999999E-3]
[{"$f":"+Flujos!A93","v":"2029-02-23"},5.5309399999999998E-3,null,"2029-02-23",4.2041099999999996E-3,3.7813600000000001E-3,0,0,0,5.5263200000000004E-3,5.5309399999999998E-3,4.9929400000000004E-3,5.4790200000000002E-3,2.12576E-3,2.6986599999999999E-3,0,2.2702400000000002E-3]
[{"$f":"+Flujos!A94","v":"2029-03-23"},5.4635400000000002E-3,null,"2029-03-23",4.5144599999999997E-3,3.7223400000000002E-3,0,0,0,5.4502999999999999E-3,5.4635400000000002E-3,4.9110400000000002E-3,5.40574E-3,1.2437100000000001E-3,2.6270899999999999E-3,0,2.1994499999999999E-3]
[{"$f":"+Flujos!A95","v":"2029-04-23"},5.3929399999999997E-3,null,"2029-04-23",5.23661E-3,3.7314100000000001E-3,0,0,0,5.3923699999999996E-3,5.3929399999999997E-3,4.8177300000000001E-3,5.3360600000000001E-3,0,2.55894E-3,0,1.6568500000000001E-3]
[{"$f":"+Flujos!A96","v":"2029-05-23"},4.7906800000000003E-3,null,"2029-05-23",4.3035399999999998E-3,3.6915099999999998E-3,0,0,0,5.3349399999999998E-3,4.7906800000000003E-3,4.7384799999999998E-3,5.2603399999999996E-3,0,2.48927E-3,0,2.05937E-3]
[{"$f":"+Flujos!A97","v":"2029-06-23"},5.2230799999999997E-3,null,"2029-06-23",4.2464800000000004E-3,3.6977400000000001E-3,0,0,0,5.2802700000000001E-3,5.2230799999999997E-3,4.6531799999999998E-3,5.1866200000000003E-3,0,2.42399E-3,0,1.9948000000000001E-3]
[{"$f":"+Flujos!A98","v":"2029-07-23"},5.1383000000000002E-3,null,"2029-07-23",3.9634199999999996E-3,4.5307000000000002E-4,0,0,0,5.2246599999999999E-3,5.1383000000000002E-3,4.5550699999999996E-3,4.8603800000000001E-3,0,2.0082500000000001E-3,0,1.9296700000000001E-3]
[{"$f":"+Flujos!A99","v":"2029-08-23"},5.0607100000000004E-3,null,"2029-08-23",4.1939100000000003E-3,0,0,0,0,5.1767499999999999E-3,5.0607100000000004E-3,4.4558999999999996E-3,5.0208700000000002E-3,0,2.2926800000000001E-3,0,3.2699079999999998E-2]
[{"$f":"+Flujos!A100","v":"2029-09-23"},4.9916300000000004E-3,null,"2029-09-23",4.17498E-3,0,0,0,0,4.60437E-3,4.9916300000000004E-3,4.3705300000000001E-3,4.9204399999999999E-3,0,2.2340900000000002E-3,0,0]
[{"$f":"+Flujos!A101","v":"2029-10-23"},4.91692E-3,null,"2029-10-23",4.0949699999999999E-3,0,0,0,0,5.06866E-3,4.91692E-3,4.3012700000000003E-3,4.7982199999999997E-3,0,2.17695E-3,0,0]
[{"$f":"+Flujos!A102","v":"2029-11-23"},4.8546500000000003E-3,null,"2029-11-23",4.0757700000000003E-3,0,0,0,0,5.0262199999999996E-3,4.8546500000000003E-3,4.2109499999999998E-3,0,0,2.1180399999999999E-3,0,0]
[{"$f":"+Flujos!A103","v":"2029-12-23"},4.7985800000000002E-3,null,"2029-12-23",4.0403799999999997E-3,0,0,0,0,4.9855400000000001E-3,4.7985800000000002E-3,4.10824E-3,0,0,2.06047E-3,0,0]
[{"$f":"+Flujos!A104","v":"2030-01-23"},4.7445500000000002E-3,null,"2030-01-23",5.3246999999999995E-4,0,0,0,0,4.9307600000000002E-3,4.7445500000000002E-3,3.62503E-3,0,0,2.0022899999999999E-3,0,0]
[{"$f":"+Flujos!A105","v":"2030-02-23"},4.6937699999999999E-3,null,"2030-02-23",0,0,0,0,0,4.8871299999999999E-3,4.6937699999999999E-3,3.9085099999999996E-3,0,0,1.94769E-3,0,0]
[{"$f":"+Flujos!A106","v":"2030-03-23"},4.6429399999999999E-3,null,"2030-03-23",0,0,0,0,0,4.8426500000000004E-3,4.6429399999999999E-3,3.1136200000000001E-3,0,0,1.8879700000000001E-3,0,0]
[{"$f":"+Flujos!A107","v":"2030-04-23"},4.5949700000000003E-3,null,"2030-04-23",0,0,0,0,0,4.80255E-3,4.5949700000000003E-3,0,0,0,1.83892E-3,0,0]
[{"$f":"+Flujos!A108","v":"2030-05-23"},3.9931999999999997E-3,null,"2030-05-23",0,0,0,0,0,4.7523399999999999E-3,3.9931999999999997E-3,0,0,0,1.78801E-3,0,0]
[{"$f":"+Flujos!A109","v":"2030-06-23"},4.4871499999999996E-3,null,"2030-06-23",0,0,0,0,0,4.70339E-3,4.4871499999999996E-3,0,0,0,1.7423199999999999E-3,0,0]
[{"$f":"+Flujos!A110","v":"2030-07-23"},4.43495E-3,null,"2030-07-23",0,0,0,0,0,4.6572999999999996E-3,4.43495E-3,0,0,0,1.3338E-3,0,0]
[{"$f":"+Flujos!A111","v":"2030-08-23"},4.3798300000000004E-3,null,"2030-08-23",0,0,0,0,0,4.6141100000000003E-3,4.3798300000000004E-3,0,0,0,1.6477099999999999E-3,0,0]
[{"$f":"+Flujos!A112","v":"2030-09-23"},4.3262700000000001E-3,null,"2030-09-23",0,0,0,0,0,4.01812E-3,4.3262700000000001E-3,0,0,0,1.60278E-3,0,0]
[{"$f":"+Flujos!A113","v":"2030-10-23"},4.2701500000000003E-3,null,"2030-10-23",0,0,0,0,0,4.5302700000000003E-3,4.2701500000000003E-3,0,0,0,1.56087E-3,0,0]
[{"$f":"+Flujos!A114","v":"2030-11-23"},4.21486E-3,null,"2030-11-23",0,0,0,0,0,4.4859100000000001E-3,4.21486E-3,0,0,0,1.5199899999999999E-3,0,0]
[{"$f":"+Flujos!A115","v":"2030-12-23"},4.1626900000000001E-3,null,"2030-12-23",0,0,0,0,0,4.43772E-3,4.1626900000000001E-3,0,0,0,1.4037800000000001E-3,0,0]
[{"$f":"+Flujos!A116","v":"2031-01-23"},4.0998199999999997E-3,null,"2031-01-23",0,0,0,0,0,4.3966400000000003E-3,4.0998199999999997E-3,0,0,0,0,0,0]
[{"$f":"+Flujos!A117","v":"2031-02-23"},4.0431900000000003E-3,null,"2031-02-23",0,0,0,0,0,4.3516600000000003E-3,4.0431900000000003E-3,0,0,0,0,0,0]
[{"$f":"+Flujos!A118","v":"2031-03-23"},3.99023E-3,null,"2031-03-23",0,0,0,0,0,4.3063399999999996E-3,3.99023E-3,0,3.4930999999999999E-3,0,0,0,0]
[{"$f":"+Flujos!A119","v":"2031-04-23"},3.9217000000000002E-3,null,"2031-04-23",0,0,0,0,0,4.2649100000000002E-3,3.9217000000000002E-3,0,3.4756399999999999E-3,0,0,0,0]
[{"$f":"+Flujos!A120","v":"2031-05-23"},3.2861000000000001E-3,null,"2031-05-23",0,0,0,0,0,4.21909E-3,3.2861000000000001E-3,0,3.4360200000000001E-3,0,0,0,0]
[{"$f":"+Flujos!A121","v":"2031-06-23"},2.9935500000000002E-3,null,"2031-06-23",0,0,0,0,0,4.1684499999999998E-3,2.9935500000000002E-3,0,3.39938E-3,0,0,0,0]
[{"$f":"+Flujos!A122","v":"2031-07-23"},0,null,"2031-07-23",0,0,0,0,0,4.1265599999999996E-3,0,0,3.07355E-3,0,0,0,0]
[{"$f":"+Flujos!A123","v":"2031-08-23"},0,null,"2031-08-23",0,0,0,0,0,3.6838299999999999E-3,0,0,3.3198300000000002E-3,0,0,0,0]
[{"$f":"+Flujos!A124","v":"2031-09-23"},0,null,"2031-09-23",0,0,0,0,0,0,0,0,3.2847800000000002E-3,0,0,0,0]
[{"$f":"+Flujos!A125","v":"2031-10-23"},0,null,"2031-10-23",0,0,0,0,0,0,0,0,3.24896E-3,0,0,0,0]
[{"$f":"+Flujos!A126","v":"2031-11-23"},0,null,"2031-11-23",0,0,0,0,0,0,0,0,2.6646E-3,0,0,0,0]
[{"$f":"+Flujos!A127","v":"2031-12-23"},0,null,"2031-12-23",0,0,0,0,0,0,0,0,0,0,0,0,0]
[{"$f":"+Flujos!A128","v":"2032-01-23"},0,null,"2032-01-23",0,0,0,0,0,0,0,0,0,0,0,0,0]
[{"$f":"+Flujos!A129","v":"2032-02-23"},0,null,"2032-02-23",0,0,0,0,0,0,0,0,0,0,0,0,0]
[{"$f":"+Flujos!A130","v":"2032-03-23"},0,null,"2032-03-23",0,0,0,0,0,0,0,0,0,0,0,0,0]
[{"$f":"+Flujos!A131","v":"2032-04-23"},0,null,"2032-04-23",0,0,0,0,0,0,0,0,0,0,0,0,0]
[{"$f":"+Flujos!A132","v":"2032-05-23"},{"$f":"+VLOOKUP(A132,$D$2:$O$182,MATCH($B$2,$D$2:$O$2,0),FALSE)","v":0},null,{"$f":"+A132","v":"2032-05-23"},0,0,0,0,0,0,0,0,0,0,0,0,0]
[{"$f":"+Flujos!A133","v":"2032-06-23"},0,null,"2032-06-23",0,0,0,0,0,0,0,0,0,0,0,0,0]
[{"$f":"+Flujos!A134","v":"2032-07-23"},0,null,"2032-07-23",0,0,0,0,0,0,0,0,0,0,0,0,0]
[{"$f":"+Flujos!A135","v":"2032-08-23"},0,null,"2032-08-23",0,0,0,0,0,0,0,0,0,0,0,0,0]
[{"$f":"+Flujos!A136","v":"2032-09-23"},0,null,"2032-09-23",0,0,0,0,0,0,0,0,0,0,0,0,0]
[{"$f":"+Flujos!A137","v":"2032-10-23"},0,null,"2032-10-23",0,0,0,0,0,0,0,0,0,0,0,0,0]
[{"$f":"+Flujos!A138","v":"2032-11-23"},0,null,"2032-11-23",0,0,0,0,0,0,0,0,0,0,0,0,0]
[{"$f":"+Flujos!A139","v":"2032-12-23"},0,null,"2032-12-23",0,0,0,0,0,0,0,0,0,0,0,0,0]
[{"$f":"+Flujos!A140","v":"2033-01-23"},0,null,"2033-01-23",0,0,0,0,0,0,0,0,0,0,0,0,0]
[{"$f":"+Flujos!A141","v":"2033-02-23"},0,null,"2033-02-23",0,0,0,0,0,0,0,0,0,0,0,0,0]
[{"$f":"+Flujos!A142","v":"2033-03-23"},0,null,"2033-03-23",0,0,0,0,0,0,0,0,0,0,0,0,0]
[{"$f":"+Flujos!A143","v":"2033-04-23"},0,null,"2033-04-23",0,0,0,0,0,0,0,0,0,0,0,0,0]
[{"$f":"+Flujos!A144","v":"2033-05-23"},0,null,"2033-05-23",0,0,0,0,0,0,0,0,0,0,0,0,0]
[{"$f":"+Flujos!A145","v":"2033-06-23"},0,null,"2033-06-23",0,0,0,0,0,0,0,0,0,0,0,0,0]
[{"$f":"+Flujos!A146","v":"2033-07-23"},0,null,"2033-07-23",0,0,0,0,0,0,0,0,0,0,0,0,0]
[{"$f":"+Flujos!A147","v":"2033-08-23"},0,null,"2033-08-23",0,0,0,0,0,0,0,0,0,0,0,0,0]
[{"$f":"+Flujos!A148","v":"2033-09-23"},0,null,"2033-09-23",0,0,0,0,0,0,0,0,0,0,0,0,0]
[{"$f":"+Flujos!A149","v":"2033-10-23"},0,null,"2033-10-23",0,0,0,0,0,0,0,0,0,0,0,0,0]
[{"$f":"+Flujos!A150","v":"2033-11-23"},0,null,"2033-11-23",0,0,0,0,0,0,0,0,0,0,0,0,0]
[{"$f":"+Flujos!A151","v":"2033-12-23"},0,null,"2033-12-23",0,0,0,0,0,0,0,0,0,0,0,0,0]
[{"$f":"+Flujos!A152","v":"2034-01-23"},0,null,"2034-01-23",0,0,0,0,0,0,0,0,0,0,0,0,0]
[{"$f":"+Flujos!A153","v":"2034-02-23"},0,null,"2034-02-23",0,0,0,0,0,0,0,0,0,0,0,0,0]
[{"$f":"+Flujos!A154","v":"2034-03-23"},0,null,"2034-03-23",0,0,0,0,0,0,0,0,0,0,0,0,0]
[{"$f":"+Flujos!A155","v":"2034-04-23"},0,null,"2034-04-23",0,0,0,0,0,0,0,0,0,0,0,0,0]
[{"$f":"+Flujos!A156","v":"2034-05-23"},0,null,"2034-05-23",0,0,0,0,0,0,0,0,0,0,0,0,0]
[{"$f":"+Flujos!A157","v":"2034-06-23"},0,null,"2034-06-23",0,0,0,0,0,0,0,0,0,0,0,0,0]
[{"$f":"+Flujos!A158","v":"2034-07-23"},0,null,"2034-07-23",0,0,0,0,0,0,0,0,0,0,0,0,0]
[{"$f":"+Flujos!A159","v":"2034-08-23"},0,null,"2034-08-23",0,0,0,0,0,0,0,0,0,0,0,0,0]
[{"$f":"+Flujos!A160","v":"2034-09-23"},0,null,"2034-09-23",0,0,0,0,0,0,0,0,0,0,0,0,0]
[{"$f":"+Flujos!A161","v":"2034-10-23"},0,null,"2034-10-23",0,0,0,0,0,0,0,0,0,0,0,0,0]
[{"$f":"+Flujos!A162","v":"2034-11-23"},0,null,"2034-11-23",0,0,0,0,0,0,0,0,0,0,0,0,0]
[{"$f":"+Flujos!A163","v":"2034-12-23"},0,null,"2034-12-23",0,0,0,0,0,0,0,0,0,0,0,0,0]
[{"$f":"+Flujos!A164","v":"2035-01-23"},0,null,"2035-01-23",0,0,0,0,0,0,0,0,0,0,0,0,0]
[{"$f":"+Flujos!A165","v":"2035-02-23"},0,null,"2035-02-23",0,0,0,0,0,0,0,0,0,0,0,0,0]
[{"$f":"+Flujos!A166","v":"2035-03-23"},0,null,"2035-03-23",0,0,0,0,0,0,0,0,0,0,0,0,0]
[{"$f":"+Flujos!A167","v":"2035-04-23"},0,null,"2035-04-23",0,0,0,0,0,0,0,0,0,0,0,0,0]
[{"$f":"+Flujos!A168","v":"2035-05-23"},0,null,"2035-05-23",0,0,0,0,0,0,0,0,0,0,0,0,0]
[{"$f":"+Flujos!A169","v":"2035-06-23"},0,null,"2035-06-23",0,0,0,0,0,0,0,0,0,0,0,0,0]
[{"$f":"+Flujos!A170","v":"2035-07-23"},0,null,"2035-07-23",0,0,0,0,0,0,0,0,0,0,0,0,0]
[{"$f":"+Flujos!A171","v":"2035-08-23"},0,null,"2035-08-23",0,0,0,0,0,0,0,0,0,0,0,0,0]
[{"$f":"+Flujos!A172","v":"2035-09-23"},0,null,"2035-09-23",0,0,0,0,0,0,0,0,0,0,0,0,0]
[{"$f":"+Flujos!A173","v":"2035-10-23"},0,null,"2035-10-23",0,0,0,0,0,0,0,0,0,0,0,0,0]
[{"$f":"+Flujos!A174","v":"2035-11-23"},0,null,"2035-11-23",0,0,0,0,0,0,0,0,0,0,0,0,0]
[{"$f":"+Flujos!A175","v":"2035-12-23"},0,null,"2035-12-23",0,0,0,0,0,0,0,0,0,0,0,0,0]
[{"$f":"+Flujos!A176","v":"2036-01-23"},0,null,"2036-01-23",0,0,0,0,0,0,0,0,0,0,0,0,0]
[{"$f":"+Flujos!A177","v":"2036-02-23"},0,null,"2036-02-23",0,0,0,0,0,0,0,0,0,0,0,0,0]
[{"$f":"+Flujos!A178","v":"2036-03-23"},0,null,"2036-03-23",0,0,0,0,0,0,0,0,0,0,0,0,0]
[{"$f":"+Flujos!A179","v":"2036-04-23"},0,null,"2036-04-23",0,0,0,0,0,0,0,0,0,0,0,0,0]
[{"$f":"+Flujos!A180","v":"2036-05-23"},0,null,"2036-05-23",0,0,0,0,0,0,0,0,0,0,0,0,0]
[{"$f":"+Flujos!A181","v":"2036-06-23"},0,null,"2036-06-23",0,0,0,0,0,0,0,0,0,0,0,0,0]
[{"$f":"+Flujos!A182","v":"2036-07-23"},0,null,"2036-07-23",0,0,0,0,0,0,0,0,0,0,0,0,0]
[null,{"$error":"#N/A"},null,null,{"$f":"SUM(E3:E182)","v":1},0.99999999999999989,1.0000000000000004,1,1,0.99999999999999944,1.0000000000000002,0.99999999999999989,{"$f":"SUM(M3:M182)","v":0.99999999999999989},{"$f":"SUM(N3:N182)","v":1},0.99999999999999989]
[null,{"$error":"#N/A"},null,null,{"$f":"1-E183","v":0},0,0,0,0,0,0,0,{"$f":"1-M183","v":0},{"$f":"1-N183","v":0},0]

{"sheet":"Tablas","index":5,"n_rows":181,"n_cols":5,"rows_kept":181,"cut":false,"hidden":true,"merged":[]}
["FECHA",{"$f":"+CALCULADORA!C9","v":"TIPS N19 A 2034"},"Valoración"]
[{"$f":"+'Tabla de Amortizacion'!A3","v":"2021-08-23"},{"$f":"+ROUND(C2,8)","v":1.8470449999999999E-2},{"$f":"+VLOOKUP(A2,'Tabla de Amortizacion'!$D$2:$Q$182,MATCH(Tablas!$B$1,'Tabla de Amortizacion'!$D$2:$Q$2,0))","v":1.8470449999999999E-2},null,{"$f":"IF([1]CALCULADORA!$F$10=\"Contractual\",ROUND('[1]Tabla de Amortizacion'!C3,8),IF([1]CALCULADORA!$F$10=\"6% (Medio)\",ROUND('[1]Tabla de Amortizacion'!F3,8),IF([1]CALCULADORA!$F$10=\"10% (Medio Alto)\",ROUND('[1]Tabla de Amortizacion'!H3,8),IF([1]CALCULADORA!$F$10=\"14% (Alto)\",ROUND('[1]Tabla de Amortizacion'!#REF!,8),IF([1]CALCULADORA!$F$10=20%,ROUND('[1]Tabla de Amortizacion'!#REF!,8),ROUND('[1]Tabla de Amortizacion'!K3,8))))))","v":0}]
[{"$f":"EDATE(A2,1)","v":"2021-09-23"},{"$f":"+ROUND(C3,8)","v":2.3920009999999998E-2},{"$f":"+VLOOKUP(A3,'Tabla de Amortizacion'!$D$2:$Q$182,MATCH(Tablas!$B$1,'Tabla de Amortizacion'!$D$2:$Q$2,0))","v":2.3920009999999998E-2},null,{"$f":"IF([1]CALCULADORA!$F$10=\"Contractual\",ROUND('[1]Tabla de Amortizacion'!C4,8),IF([1]CALCULADORA!$F$10=\"6% (Medio)\",ROUND('[1]Tabla de Amortizacion'!F4,8),IF([1]CALCULADORA!$F$10=\"10% (Medio Alto)\",ROUND('[1]Tabla de Amortizacion'!H4,8),IF([1]CALCULADORA!$F$10=\"14% (Alto)\",ROUND('[1]Tabla de Amortizacion'!#REF!,8),IF([1]CALCULADORA!$F$10=20%,ROUND('[1]Tabla de Amortizacion'!#REF!,8),ROUND('[1]Tabla de Amortizacion'!K4,8))))))","v":0}]
["2021-10-23",2.116353E-2,{"$f":"+VLOOKUP(A4,'Tabla de Amortizacion'!$D$2:$Q$182,MATCH(Tablas!$B$1,'Tabla de Amortizacion'!$D$2:$Q$2,0))","v":2.116353E-2},null,{"$f":"IF([1]CALCULADORA!$F$10=\"Contractual\",ROUND('[1]Tabla de Amortizacion'!C5,8),IF([1]CALCULADORA!$F$10=\"6% (Medio)\",ROUND('[1]Tabla de Amortizacion'!F5,8),IF([1]CALCULADORA!$F$10=\"10% (Medio Alto)\",ROUND('[1]Tabla de Amortizacion'!H5,8),IF([1]CALCULADORA!$F$10=\"14% (Alto)\",ROUND('[1]Tabla de Amortizacion'!#REF!,8),IF([1]CALCULADORA!$F$10=20%,ROUND('[1]Tabla de Amortizacion'!#REF!,8),ROUND('[1]Tabla de Amortizacion'!K5,8))))))","v":0}]
["2021-11-23",1.8441679999999998E-2,{"$f":"+VLOOKUP(A5,'Tabla de Amortizacion'!$D$2:$Q$182,MATCH(Tablas!$B$1,'Tabla de Amortizacion'!$D$2:$Q$2,0))","v":1.8441679999999998E-2},null,{"$f":"IF([1]CALCULADORA!$F$10=\"Contractual\",ROUND('[1]Tabla de Amortizacion'!C6,8),IF([1]CALCULADORA!$F$10=\"6% (Medio)\",ROUND('[1]Tabla de Amortizacion'!F6,8),IF([1]CALCULADORA!$F$10=\"10% (Medio Alto)\",ROUND('[1]Tabla de Amortizacion'!H6,8),IF([1]CALCULADORA!$F$10=\"14% (Alto)\",ROUND('[1]Tabla de Amortizacion'!#REF!,8),IF([1]CALCULADORA!$F$10=20%,ROUND('[1]Tabla de Amortizacion'!#REF!,8),ROUND('[1]Tabla de Amortizacion'!K6,8))))))","v":0}]
["2021-12-23",2.0026140000000001E-2,{"$f":"+VLOOKUP(A6,'Tabla de Amortizacion'!$D$2:$Q$182,MATCH(Tablas!$B$1,'Tabla de Amortizacion'!$D$2:$Q$2,0))","v":2.0026140000000001E-2},null,{"$f":"IF([1]CALCULADORA!$F$10=\"Contractual\",ROUND('[1]Tabla de Amortizacion'!C7,8),IF([1]CALCULADORA!$F$10=\"6% (Medio)\",ROUND('[1]Tabla de Amortizacion'!F7,8),IF([1]CALCULADORA!$F$10=\"10% (Medio Alto)\",ROUND('[1]Tabla de Amortizacion'!H7,8),IF([1]CALCULADORA!$F$10=\"14% (Alto)\",ROUND('[1]Tabla de Amortizacion'!#REF!,8),IF([1]CALCULADORA!$F$10=20%,ROUND('[1]Tabla de Amortizacion'!#REF!,8),ROUND('[1]Tabla de Amortizacion'!K7,8))))))","v":0}]
["2022-01-23",1.9208960000000001E-2,{"$f":"+VLOOKUP(A7,'Tabla de Amortizacion'!$D$2:$Q$182,MATCH(Tablas!$B$1,'Tabla de Amortizacion'!$D$2:$Q$2,0))","v":1.9208960000000001E-2},null,{"$f":"IF([1]CALCULADORA!$F$10=\"Contractual\",ROUND('[1]Tabla de Amortizacion'!C8,8),IF([1]CALCULADORA!$F$10=\"6% (Medio)\",ROUND('[1]Tabla de Amortizacion'!F8,8),IF([1]CALCULADORA!$F$10=\"10% (Medio Alto)\",ROUND('[1]Tabla de Amortizacion'!H8,8),IF([1]CALCULADORA!$F$10=\"14% (Alto)\",ROUND('[1]Tabla de Amortizacion'!#REF!,8),IF([1]CALCULADORA!$F$10=20%,ROUND('[1]Tabla de Amortizacion'!#REF!,8),ROUND('[1]Tabla de Amortizacion'!K8,8))))))","v":0}]
["2022-02-23",1.5680800000000002E-2,{"$f":"+VLOOKUP(A8,'Tabla de Amortizacion'!$D$2:$Q$182,MATCH(Tablas!$B$1,'Tabla de Amortizacion'!$D$2:$Q$2,0))","v":1.5680800000000002E-2},null,{"$f":"IF([1]CALCULADORA!$F$10=\"Contractual\",ROUND('[1]Tabla de Amortizacion'!C9,8),IF([1]CALCULADORA!$F$10=\"6% (Medio)\",ROUND('[1]Tabla de Amortizacion'!F9,8),IF([1]CALCULADORA!$F$10=\"10% (Medio Alto)\",ROUND('[1]Tabla de Amortizacion'!H9,8),IF([1]CALCULADORA!$F$10=\"14% (Alto)\",ROUND('[1]Tabla de Amortizacion'!#REF!,8),IF([1]CALCULADORA!$F$10=20%,ROUND('[1]Tabla de Amortizacion'!#REF!,8),ROUND('[1]Tabla de Amortizacion'!K9,8))))))","v":0}]
["2022-03-23",2.0310040000000001E-2,{"$f":"+VLOOKUP(A9,'Tabla de Amortizacion'!$D$2:$Q$182,MATCH(Tablas!$B$1,'Tabla de Amortizacion'!$D$2:$Q$2,0))","v":2.0310040000000001E-2},null,{"$f":"IF([1]CALCULADORA!$F$10=\"Contractual\",ROUND('[1]Tabla de Amortizacion'!C10,8),IF([1]CALCULADORA!$F$10=\"6% (Medio)\",ROUND('[1]Tabla de Amortizacion'!F10,8),IF([1]CALCULADORA!$F$10=\"10% (Medio Alto)\",ROUND('[1]Tabla de Amortizacion'!H10,8),IF([1]CALCULADORA!$F$10=\"14% (Alto)\",ROUND('[1]Tabla de Amortizacion'!#REF!,8),IF([1]CALCULADORA!$F$10=20%,ROUND('[1]Tabla de Amortizacion'!#REF!,8),ROUND('[1]Tabla de Amortizacion'!K10,8))))))","v":0}]
["2022-04-23",1.6536180000000001E-2,{"$f":"+VLOOKUP(A10,'Tabla de Amortizacion'!$D$2:$Q$182,MATCH(Tablas!$B$1,'Tabla de Amortizacion'!$D$2:$Q$2,0))","v":1.6536180000000001E-2},null,{"$f":"IF([1]CALCULADORA!$F$10=\"Contractual\",ROUND('[1]Tabla de Amortizacion'!C11,8),IF([1]CALCULADORA!$F$10=\"6% (Medio)\",ROUND('[1]Tabla de Amortizacion'!F11,8),IF([1]CALCULADORA!$F$10=\"10% (Medio Alto)\",ROUND('[1]Tabla de Amortizacion'!H11,8),IF([1]CALCULADORA!$F$10=\"14% (Alto)\",ROUND('[1]Tabla de Amortizacion'!#REF!,8),IF([1]CALCULADORA!$F$10=20%,ROUND('[1]Tabla de Amortizacion'!#REF!,8),ROUND('[1]Tabla de Amortizacion'!K11,8))))))","v":0}]
["2022-05-23",1.068205E-2,{"$f":"+VLOOKUP(A11,'Tabla de Amortizacion'!$D$2:$Q$182,MATCH(Tablas!$B$1,'Tabla de Amortizacion'!$D$2:$Q$2,0))","v":1.068205E-2},null,{"$f":"IF([1]CALCULADORA!$F$10=\"Contractual\",ROUND('[1]Tabla de Amortizacion'!C12,8),IF([1]CALCULADORA!$F$10=\"6% (Medio)\",ROUND('[1]Tabla de Amortizacion'!F12,8),IF([1]CALCULADORA!$F$10=\"10% (Medio Alto)\",ROUND('[1]Tabla de Amortizacion'!H12,8),IF([1]CALCULADORA!$F$10=\"14% (Alto)\",ROUND('[1]Tabla de Amortizacion'!#REF!,8),IF([1]CALCULADORA!$F$10=20%,ROUND('[1]Tabla de Amortizacion'!#REF!,8),ROUND('[1]Tabla de Amortizacion'!K12,8))))))","v":0}]
["2022-06-23",1.6515800000000001E-2,{"$f":"+VLOOKUP(A12,'Tabla de Amortizacion'!$D$2:$Q$182,MATCH(Tablas!$B$1,'Tabla de Amortizacion'!$D$2:$Q$2,0))","v":1.6515800000000001E-2},null,{"$f":"IF([1]CALCULADORA!$F$10=\"Contractual\",ROUND('[1]Tabla de Amortizacion'!C13,8),IF([1]CALCULADORA!$F$10=\"6% (Medio)\",ROUND('[1]Tabla de Amortizacion'!F13,8),IF([1]CALCULADORA!$F$10=\"10% (Medio Alto)\",ROUND('[1]Tabla de Amortizacion'!H13,8),IF([1]CALCULADORA!$F$10=\"14% (Alto)\",ROUND('[1]Tabla de Amortizacion'!#REF!,8),IF([1]CALCULADORA!$F$10=20%,ROUND('[1]Tabla de Amortizacion'!#REF!,8),ROUND('[1]Tabla de Amortizacion'!K13,8))))))","v":0}]
["2022-07-23",1.4296379999999999E-2,{"$f":"+VLOOKUP(A13,'Tabla de Amortizacion'!$D$2:$Q$182,MATCH(Tablas!$B$1,'Tabla de Amortizacion'!$D$2:$Q$2,0))","v":1.4296379999999999E-2},null,{"$f":"IF([1]CALCULADORA!$F$10=\"Contractual\",ROUND('[1]Tabla de Amortizacion'!C14,8),IF([1]CALCULADORA!$F$10=\"6% (Medio)\",ROUND('[1]Tabla de Amortizacion'!F14,8),IF([1]CALCULADORA!$F$10=\"10% (Medio Alto)\",ROUND('[1]Tabla de Amortizacion'!H14,8),IF([1]CALCULADORA!$F$10=\"14% (Alto)\",ROUND('[1]Tabla de Amortizacion'!#REF!,8),IF([1]CALCULADORA!$F$10=20%,ROUND('[1]Tabla de Amortizacion'!#REF!,8),ROUND('[1]Tabla de Amortizacion'!K14,8))))))","v":0}]
["2022-08-23",9.2338899999999998E-3,{"$f":"+VLOOKUP(A14,'Tabla de Amortizacion'!$D$2:$Q$182,MATCH(Tablas!$B$1,'Tabla de Amortizacion'!$D$2:$Q$2,0))","v":9.2338899999999998E-3},null,{"$f":"IF([1]CALCULADORA!$F$10=\"Contractual\",ROUND('[1]Tabla de Amortizacion'!C15,8),IF([1]CALCULADORA!$F$10=\"6% (Medio)\",ROUND('[1]Tabla de Amortizacion'!F15,8),IF([1]CALCULADORA!$F$10=\"10% (Medio Alto)\",ROUND('[1]Tabla de Amortizacion'!H15,8),IF([1]CALCULADORA!$F$10=\"14% (Alto)\",ROUND('[1]Tabla de Amortizacion'!#REF!,8),IF([1]CALCULADORA!$F$10=20%,ROUND('[1]Tabla de Amortizacion'!#REF!,8),ROUND('[1]Tabla de Amortizacion'!K15,8))))))","v":0}]
["2022-09-23",1.499669E-2,{"$f":"+VLOOKUP(A15,'Tabla de Amortizacion'!$D$2:$Q$182,MATCH(Tablas!$B$1,'Tabla de Amortizacion'!$D$2:$Q$2,0))","v":1.499669E-2},null,{"$f":"IF([1]CALCULADORA!$F$10=\"Contractual\",ROUND('[1]Tabla de Amortizacion'!C16,8),IF([1]CALCULADORA!$F$10=\"6% (Medio)\",ROUND('[1]Tabla de Amortizacion'!F16,8),IF([1]CALCULADORA!$F$10=\"10% (Medio Alto)\",ROUND('[1]Tabla de Amortizacion'!H16,8),IF([1]CALCULADORA!$F$10=\"14% (Alto)\",ROUND('[1]Tabla de Amortizacion'!#REF!,8),IF([1]CALCULADORA!$F$10=20%,ROUND('[1]Tabla de Amortizacion'!#REF!,8),ROUND('[1]Tabla de Amortizacion'!K16,8))))))","v":0}]
["2022-10-23",1.3574630000000001E-2,{"$f":"+VLOOKUP(A16,'Tabla de Amortizacion'!$D$2:$Q$182,MATCH(Tablas!$B$1,'Tabla de Amortizacion'!$D$2:$Q$2,0))","v":1.3574630000000001E-2},null,{"$f":"IF([1]CALCULADORA!$F$10=\"Contractual\",ROUND('[1]Tabla de Amortizacion'!C17,8),IF([1]CALCULADORA!$F$10=\"6% (Medio)\",ROUND('[1]Tabla de Amortizacion'!F17,8),IF([1]CALCULADORA!$F$10=\"10% (Medio Alto)\",ROUND('[1]Tabla de Amortizacion'!H17,8),IF([1]CALCULADORA!$F$10=\"14% (Alto)\",ROUND('[1]Tabla de Amortizacion'!#REF!,8),IF([1]CALCULADORA!$F$10=20%,ROUND('[1]Tabla de Amortizacion'!#REF!,8),ROUND('[1]Tabla de Amortizacion'!K17,8))))))","v":0}]
["2022-11-23",1.483513E-2,{"$f":"+VLOOKUP(A17,'Tabla de Amortizacion'!$D$2:$Q$182,MATCH(Tablas!$B$1,'Tabla de Amortizacion'!$D$2:$Q$2,0))","v":1.483513E-2},null,{"$f":"IF([1]CALCULADORA!$F$10=\"Contractual\",ROUND('[1]Tabla de Amortizacion'!C18,8),IF([1]CALCULADORA!$F$10=\"6% (Medio)\",ROUND('[1]Tabla de Amortizacion'!F18,8),IF([1]CALCULADORA!$F$10=\"10% (Medio Alto)\",ROUND('[1]Tabla de Amortizacion'!H18,8),IF([1]CALCULADORA!$F$10=\"14% (Alto)\",ROUND('[1]Tabla de Amortizacion'!#REF!,8),IF([1]CALCULADORA!$F$10=20%,ROUND('[1]Tabla de Amortizacion'!#REF!,8),ROUND('[1]Tabla de Amortizacion'!K18,8))))))","v":0}]
["2022-12-23",8.0742499999999998E-3,{"$f":"+VLOOKUP(A18,'Tabla de Amortizacion'!$D$2:$Q$182,MATCH(Tablas!$B$1,'Tabla de Amortizacion'!$D$2:$Q$2,0))","v":8.0742499999999998E-3},null,{"$f":"IF([1]CALCULADORA!$F$10=\"Contractual\",ROUND('[1]Tabla de Amortizacion'!C19,8),IF([1]CALCULADORA!$F$10=\"6% (Medio)\",ROUND('[1]Tabla de Amortizacion'!F19,8),IF([1]CALCULADORA!$F$10=\"10% (Medio Alto)\",ROUND('[1]Tabla de Amortizacion'!H19,8),IF([1]CALCULADORA!$F$10=\"14% (Alto)\",ROUND('[1]Tabla de Amortizacion'!#REF!,8),IF([1]CALCULADORA!$F$10=20%,ROUND('[1]Tabla de Amortizacion'!#REF!,8),ROUND('[1]Tabla de Amortizacion'!K19,8))))))","v":0}]
["2023-01-23",1.361384E-2,{"$f":"+VLOOKUP(A19,'Tabla de Amortizacion'!$D$2:$Q$182,MATCH(Tablas!$B$1,'Tabla de Amortizacion'!$D$2:$Q$2,0))","v":1.361384E-2},null,{"$f":"IF([1]CALCULADORA!$F$10=\"Contractual\",ROUND('[1]Tabla de Amortizacion'!C20,8),IF([1]CALCULADORA!$F$10=\"6% (Medio)\",ROUND('[1]Tabla de Amortizacion'!F20,8),IF([1]CALCULADORA!$F$10=\"10% (Medio Alto)\",ROUND('[1]Tabla de Amortizacion'!H20,8),IF([1]CALCULADORA!$F$10=\"14% (Alto)\",ROUND('[1]Tabla de Amortizacion'!#REF!,8),IF([1]CALCULADORA!$F$10=20%,ROUND('[1]Tabla de Amortizacion'!#REF!,8),ROUND('[1]Tabla de Amortizacion'!K20,8))))))","v":0}]
["2023-02-23",1.0196190000000001E-2,{"$f":"+VLOOKUP(A20,'Tabla de Amortizacion'!$D$2:$Q$182,MATCH(Tablas!$B$1,'Tabla de Amortizacion'!$D$2:$Q$2,0))","v":1.0196190000000001E-2},null,{"$f":"IF([1]CALCULADORA!$F$10=\"Contractual\",ROUND('[1]Tabla de Amortizacion'!C21,8),IF([1]CALCULADORA!$F$10=\"6% (Medio)\",ROUND('[1]Tabla de Amortizacion'!F21,8),IF([1]CALCULADORA!$F$10=\"10% (Medio Alto)\",ROUND('[1]Tabla de Amortizacion'!H21,8),IF([1]CALCULADORA!$F$10=\"14% (Alto)\",ROUND('[1]Tabla de Amortizacion'!#REF!,8),IF([1]CALCULADORA!$F$10=20%,ROUND('[1]Tabla de Amortizacion'!#REF!,8),ROUND('[1]Tabla de Amortizacion'!K21,8))))))","v":0}]
["2023-03-23",1.032425E-2,{"$f":"+VLOOKUP(A21,'Tabla de Amortizacion'!$D$2:$Q$182,MATCH(Tablas!$B$1,'Tabla de Amortizacion'!$D$2:$Q$2,0))","v":1.032425E-2},null,{"$f":"IF([1]CALCULADORA!$F$10=\"Contractual\",ROUND('[1]Tabla de Amortizacion'!C22,8),IF([1]CALCULADORA!$F$10=\"6% (Medio)\",ROUND('[1]Tabla de Amortizacion'!F22,8),IF([1]CALCULADORA!$F$10=\"10% (Medio Alto)\",ROUND('[1]Tabla de Amortizacion'!H22,8),IF([1]CALCULADORA!$F$10=\"14% (Alto)\",ROUND('[1]Tabla de Amortizacion'!#REF!,8),IF([1]CALCULADORA!$F$10=20%,ROUND('[1]Tabla de Amortizacion'!#REF!,8),ROUND('[1]Tabla de Amortizacion'!K22,8))))))","v":0}]
["2023-04-23",1.2419660000000001E-2,{"$f":"+VLOOKUP(A22,'Tabla de Amortizacion'!$D$2:$Q$182,MATCH(Tablas!$B$1,'Tabla de Amortizacion'!$D$2:$Q$2,0))","v":1.2419660000000001E-2},null,{"$f":"IF([1]CALCULADORA!$F$10=\"Contractual\",ROUND('[1]Tabla de Amortizacion'!C23,8),IF([1]CALCULADORA!$F$10=\"6% (Medio)\",ROUND('[1]Tabla de Amortizacion'!F23,8),IF([1]CALCULADORA!$F$10=\"10% (Medio Alto)\",ROUND('[1]Tabla de Amortizacion'!H23,8),IF([1]CALCULADORA!$F$10=\"14% (Alto)\",ROUND('[1]Tabla de Amortizacion'!#REF!,8),IF([1]CALCULADORA!$F$10=20%,ROUND('[1]Tabla de Amortizacion'!#REF!,8),ROUND('[1]Tabla de Amortizacion'!K23,8))))))","v":0}]
["2023-05-23",8.7410700000000001E-3,{"$f":"+VLOOKUP(A23,'Tabla de Amortizacion'!$D$2:$Q$182,MATCH(Tablas!$B$1,'Tabla de Amortizacion'!$D$2:$Q$2,0))","v":8.7410700000000001E-3},null,{"$f":"IF([1]CALCULADORA!$F$10=\"Contractual\",ROUND('[1]Tabla de Amortizacion'!C24,8),IF([1]CALCULADORA!$F$10=\"6% (Medio)\",ROUND('[1]Tabla de Amortizacion'!F24,8),IF([1]CALCULADORA!$F$10=\"10% (Medio Alto)\",ROUND('[1]Tabla de Amortizacion'!H24,8),IF([1]CALCULADORA!$F$10=\"14% (Alto)\",ROUND('[1]Tabla de Amortizacion'!#REF!,8),IF([1]CALCULADORA!$F$10=20%,ROUND('[1]Tabla de Amortizacion'!#REF!,8),ROUND('[1]Tabla de Amortizacion'!K24,8))))))","v":0}]
["2023-06-23",8.3459099999999998E-3,{"$f":"+VLOOKUP(A24,'Tabla de Amortizacion'!$D$2:$Q$182,MATCH(Tablas!$B$1,'Tabla de Amortizacion'!$D$2:$Q$2,0))","v":8.3459099999999998E-3},null,{"$f":"IF([1]CALCULADORA!$F$10=\"Contractual\",ROUND('[1]Tabla de Amortizacion'!C25,8),IF([1]CALCULADORA!$F$10=\"6% (Medio)\",ROUND('[1]Tabla de Amortizacion'!F25,8),IF([1]CALCULADORA!$F$10=\"10% (Medio Alto)\",ROUND('[1]Tabla de Amortizacion'!H25,8),IF([1]CALCULADORA!$F$10=\"14% (Alto)\",ROUND('[1]Tabla de Amortizacion'!#REF!,8),IF([1]CALCULADORA!$F$10=20%,ROUND('[1]Tabla de Amortizacion'!#REF!,8),ROUND('[1]Tabla de Amortizacion'!K25,8))))))","v":0}]
["2023-07-23",1.046561E-2,{"$f":"+VLOOKUP(A25,'Tabla de Amortizacion'!$D$2:$Q$182,MATCH(Tablas!$B$1,'Tabla de Amortizacion'!$D$2:$Q$2,0))","v":1.046561E-2},null,{"$f":"IF([1]CALCULADORA!$F$10=\"Contractual\",ROUND('[1]Tabla de Amortizacion'!C26,8),IF([1]CALCULADORA!$F$10=\"6% (Medio)\",ROUND('[1]Tabla de Amortizacion'!F26,8),IF([1]CALCULADORA!$F$10=\"10% (Medio Alto)\",ROUND('[1]Tabla de Amortizacion'!H26,8),IF([1]CALCULADORA!$F$10=\"14% (Alto)\",ROUND('[1]Tabla de Amortizacion'!#REF!,8),IF([1]CALCULADORA!$F$10=20%,ROUND('[1]Tabla de Amortizacion'!#REF!,8),ROUND('[1]Tabla de Amortizacion'!K26,8))))))","v":0}]
["2023-08-23",6.2120500000000002E-3,{"$f":"+VLOOKUP(A26,'Tabla de Amortizacion'!$D$2:$Q$182,MATCH(Tablas!$B$1,'Tabla de Amortizacion'!$D$2:$Q$2,0))","v":6.2120500000000002E-3},null,{"$f":"IF([1]CALCULADORA!$F$10=\"Contractual\",ROUND('[1]Tabla de Amortizacion'!C27,8),IF([1]CALCULADORA!$F$10=\"6% (Medio)\",ROUND('[1]Tabla de Amortizacion'!F27,8),IF([1]CALCULADORA!$F$10=\"10% (Medio Alto)\",ROUND('[1]Tabla de Amortizacion'!H27,8),IF([1]CALCULADORA!$F$10=\"14% (Alto)\",ROUND('[1]Tabla de Amortizacion'!#REF!,8),IF([1]CALCULADORA!$F$10=20%,ROUND('[1]Tabla de Amortizacion'!#REF!,8),ROUND('[1]Tabla de Amortizacion'!K27,8))))))","v":0}]
["2023-09-23",7.7529299999999999E-3,{"$f":"+VLOOKUP(A27,'Tabla de Amortizacion'!$D$2:$Q$182,MATCH(Tablas!$B$1,'Tabla de Amortizacion'!$D$2:$Q$2,0))","v":7.7529299999999999E-3},null,{"$f":"IF([1]CALCULADORA!$F$10=\"Contractual\",ROUND('[1]Tabla de Amortizacion'!C28,8),IF([1]CALCULADORA!$F$10=\"6% (Medio)\",ROUND('[1]Tabla de Amortizacion'!F28,8),IF([1]CALCULADORA!$F$10=\"10% (Medio Alto)\",ROUND('[1]Tabla de Amortizacion'!H28,8),IF([1]CALCULADORA!$F$10=\"14% (Alto)\",ROUND('[1]Tabla de Amortizacion'!#REF!,8),IF([1]CALCULADORA!$F$10=20%,ROUND('[1]Tabla de Amortizacion'!#REF!,8),ROUND('[1]Tabla de Amortizacion'!K28,8))))))","v":0}]
["2023-10-23",7.1742000000000004E-3,{"$f":"+VLOOKUP(A28,'Tabla de Amortizacion'!$D$2:$Q$182,MATCH(Tablas!$B$1,'Tabla de Amortizacion'!$D$2:$Q$2,0))","v":7.1742000000000004E-3},null,{"$f":"IF([1]CALCULADORA!$F$10=\"Contractual\",ROUND('[1]Tabla de Amortizacion'!C29,8),IF([1]CALCULADORA!$F$10=\"6% (Medio)\",ROUND('[1]Tabla de Amortizacion'!F29,8),IF([1]CALCULADORA!$F$10=\"10% (Medio Alto)\",ROUND('[1]Tabla de Amortizacion'!H29,8),IF([1]CALCULADORA!$F$10=\"14% (Alto)\",ROUND('[1]Tabla de Amortizacion'!#REF!,8),IF([1]CALCULADORA!$F$10=20%,ROUND('[1]Tabla de Amortizacion'!#REF!,8),ROUND('[1]Tabla de Amortizacion'!K29,8))))))","v":0}]
["2023-11-23",7.12022E-3,{"$f":"+VLOOKUP(A29,'Tabla de Amortizacion'!$D$2:$Q$182,MATCH(Tablas!$B$1,'Tabla de Amortizacion'!$D$2:$Q$2,0))","v":7.12022E-3},null,{"$f":"IF([1]CALCULADORA!$F$10=\"Contractual\",ROUND('[1]Tabla de Amortizacion'!C30,8),IF([1]CALCULADORA!$F$10=\"6% (Medio)\",ROUND('[1]Tabla de Amortizacion'!F30,8),IF([1]CALCULADORA!$F$10=\"10% (Medio Alto)\",ROUND('[1]Tabla de Amortizacion'!H30,8),IF([1]CALCULADORA!$F$10=\"14% (Alto)\",ROUND('[1]Tabla de Amortizacion'!#REF!,8),IF([1]CALCULADORA!$F$10=20%,ROUND('[1]Tabla de Amortizacion'!#REF!,8),ROUND('[1]Tabla de Amortizacion'!K30,8))))))","v":0}]
["2023-12-23",9.8689699999999995E-3,{"$f":"+VLOOKUP(A30,'Tabla de Amortizacion'!$D$2:$Q$182,MATCH(Tablas!$B$1,'Tabla de Amortizacion'!$D$2:$Q$2,0))","v":9.8689699999999995E-3},null,{"$f":"IF([1]CALCULADORA!$F$10=\"Contractual\",ROUND('[1]Tabla de Amortizacion'!C31,8),IF([1]CALCULADORA!$F$10=\"6% (Medio)\",ROUND('[1]Tabla de Amortizacion'!F31,8),IF([1]CALCULADORA!$F$10=\"10% (Medio Alto)\",ROUND('[1]Tabla de Amortizacion'!H31,8),IF([1]CALCULADORA!$F$10=\"14% (Alto)\",ROUND('[1]Tabla de Amortizacion'!#REF!,8),IF([1]CALCULADORA!$F$10=20%,ROUND('[1]Tabla de Amortizacion'!#REF!,8),ROUND('[1]Tabla de Amortizacion'!K31,8))))))","v":0}]
["2024-01-23",8.4436500000000005E-3,{"$f":"+VLOOKUP(A31,'Tabla de Amortizacion'!$D$2:$Q$182,MATCH(Tablas!$B$1,'Tabla de Amortizacion'!$D$2:$Q$2,0))","v":8.4436500000000005E-3},null,{"$f":"IF([1]CALCULADORA!$F$10=\"Contractual\",ROUND('[1]Tabla de Amortizacion'!C32,8),IF([1]CALCULADORA!$F$10=\"6% (Medio)\",ROUND('[1]Tabla de Amortizacion'!F32,8),IF([1]CALCULADORA!$F$10=\"10% (Medio Alto)\",ROUND('[1]Tabla de Amortizacion'!H32,8),IF([1]CALCULADORA!$F$10=\"14% (Alto)\",ROUND('[1]Tabla de Amortizacion'!#REF!,8),IF([1]CALCULADORA!$F$10=20%,ROUND('[1]Tabla de Amortizacion'!#REF!,8),ROUND('[1]Tabla de Amortizacion'!K32,8))))))","v":0}]
["2024-02-23",1.285656E-2,{"$f":"+VLOOKUP(A32,'Tabla de Amortizacion'!$D$2:$Q$182,MATCH(Tablas!$B$1,'Tabla de Amortizacion'!$D$2:$Q$2,0))","v":1.285656E-2},null,{"$f":"IF([1]CALCULADORA!$F$10=\"Contractual\",ROUND('[1]Tabla de Amortizacion'!C33,8),IF([1]CALCULADORA!$F$10=\"6% (Medio)\",ROUND('[1]Tabla de Amortizacion'!F33,8),IF([1]CALCULADORA!$F$10=\"10% (Medio Alto)\",ROUND('[1]Tabla de Amortizacion'!H33,8),IF([1]CALCULADORA!$F$10=\"14% (Alto)\",ROUND('[1]Tabla de Amortizacion'!#REF!,8),IF([1]CALCULADORA!$F$10=20%,ROUND('[1]Tabla de Amortizacion'!#REF!,8),ROUND('[1]Tabla de Amortizacion'!K33,8))))))","v":0}]
["2024-03-23",9.2865299999999994E-3,{"$f":"+VLOOKUP(A33,'Tabla de Amortizacion'!$D$2:$Q$182,MATCH(Tablas!$B$1,'Tabla de Amortizacion'!$D$2:$Q$2,0))","v":9.2865299999999994E-3},null,{"$f":"IF([1]CALCULADORA!$F$10=\"Contractual\",ROUND('[1]Tabla de Amortizacion'!C34,8),IF([1]CALCULADORA!$F$10=\"6% (Medio)\",ROUND('[1]Tabla de Amortizacion'!F34,8),IF([1]CALCULADORA!$F$10=\"10% (Medio Alto)\",ROUND('[1]Tabla de Amortizacion'!H34,8),IF([1]CALCULADORA!$F$10=\"14% (Alto)\",ROUND('[1]Tabla de Amortizacion'!#REF!,8),IF([1]CALCULADORA!$F$10=20%,ROUND('[1]Tabla de Amortizacion'!#REF!,8),ROUND('[1]Tabla de Amortizacion'!K34,8))))))","v":0}]
["2024-04-23",1.3177680000000001E-2,{"$f":"+VLOOKUP(A34,'Tabla de Amortizacion'!$D$2:$Q$182,MATCH(Tablas!$B$1,'Tabla de Amortizacion'!$D$2:$Q$2,0))","v":1.3177680000000001E-2},null,{"$f":"IF([1]CALCULADORA!$F$10=\"Contractual\",ROUND('[1]Tabla de Amortizacion'!C35,8),IF([1]CALCULADORA!$F$10=\"6% (Medio)\",ROUND('[1]Tabla de Amortizacion'!F35,8),IF([1]CALCULADORA!$F$10=\"10% (Medio Alto)\",ROUND('[1]Tabla de Amortizacion'!H35,8),IF([1]CALCULADORA!$F$10=\"14% (Alto)\",ROUND('[1]Tabla de Amortizacion'!#REF!,8),IF([1]CALCULADORA!$F$10=20%,ROUND('[1]Tabla de Amortizacion'!#REF!,8),ROUND('[1]Tabla de Amortizacion'!K35,8))))))","v":0}]
["2024-05-23",8.6879000000000001E-3,{"$f":"+VLOOKUP(A35,'Tabla de Amortizacion'!$D$2:$Q$182,MATCH(Tablas!$B$1,'Tabla de Amortizacion'!$D$2:$Q$2,0))","v":8.6879000000000001E-3},null,{"$f":"IF([1]CALCULADORA!$F$10=\"Contractual\",ROUND('[1]Tabla de Amortizacion'!C36,8),IF([1]CALCULADORA!$F$10=\"6% (Medio)\",ROUND('[1]Tabla de Amortizacion'!F36,8),IF([1]CALCULADORA!$F$10=\"10% (Medio Alto)\",ROUND('[1]Tabla de Amortizacion'!H36,8),IF([1]CALCULADORA!$F$10=\"14% (Alto)\",ROUND('[1]Tabla de Amortizacion'!#REF!,8),IF([1]CALCULADORA!$F$10=20%,ROUND('[1]Tabla de Amortizacion'!#REF!,8),ROUND('[1]Tabla de Amortizacion'!K36,8))))))","v":0}]
["2024-06-23",6.6977E-3,{"$f":"+VLOOKUP(A36,'Tabla de Amortizacion'!$D$2:$Q$182,MATCH(Tablas!$B$1,'Tabla de Amortizacion'!$D$2:$Q$2,0))","v":6.6977E-3},null,{"$f":"IF([1]CALCULADORA!$F$10=\"Contractual\",ROUND('[1]Tabla de Amortizacion'!C37,8),IF([1]CALCULADORA!$F$10=\"6% (Medio)\",ROUND('[1]Tabla de Amortizacion'!F37,8),IF([1]CALCULADORA!$F$10=\"10% (Medio Alto)\",ROUND('[1]Tabla de Amortizacion'!H37,8),IF([1]CALCULADORA!$F$10=\"14% (Alto)\",ROUND('[1]Tabla de Amortizacion'!#REF!,8),IF([1]CALCULADORA!$F$10=20%,ROUND('[1]Tabla de Amortizacion'!#REF!,8),ROUND('[1]Tabla de Amortizacion'!K37,8))))))","v":0}]
["2024-07-23",1.013146E-2,{"$f":"+VLOOKUP(A37,'Tabla de Amortizacion'!$D$2:$Q$182,MATCH(Tablas!$B$1,'Tabla de Amortizacion'!$D$2:$Q$2,0))","v":1.013146E-2},null,{"$f":"IF([1]CALCULADORA!$F$10=\"Contractual\",ROUND('[1]Tabla de Amortizacion'!C38,8),IF([1]CALCULADORA!$F$10=\"6% (Medio)\",ROUND('[1]Tabla de Amortizacion'!F38,8),IF([1]CALCULADORA!$F$10=\"10% (Medio Alto)\",ROUND('[1]Tabla de Amortizacion'!H38,8),IF([1]CALCULADORA!$F$10=\"14% (Alto)\",ROUND('[1]Tabla de Amortizacion'!#REF!,8),IF([1]CALCULADORA!$F$10=20%,ROUND('[1]Tabla de Amortizacion'!#REF!,8),ROUND('[1]Tabla de Amortizacion'!K38,8))))))","v":0}]
["2024-08-23",9.4565099999999996E-3,{"$f":"+VLOOKUP(A38,'Tabla de Amortizacion'!$D$2:$Q$182,MATCH(Tablas!$B$1,'Tabla de Amortizacion'!$D$2:$Q$2,0))","v":9.4565099999999996E-3},null,{"$f":"IF([1]CALCULADORA!$F$10=\"Contractual\",ROUND('[1]Tabla de Amortizacion'!C39,8),IF([1]CALCULADORA!$F$10=\"6% (Medio)\",ROUND('[1]Tabla de Amortizacion'!F39,8),IF([1]CALCULADORA!$F$10=\"10% (Medio Alto)\",ROUND('[1]Tabla de Amortizacion'!H39,8),IF([1]CALCULADORA!$F$10=\"14% (Alto)\",ROUND('[1]Tabla de Amortizacion'!#REF!,8),IF([1]CALCULADORA!$F$10=20%,ROUND('[1]Tabla de Amortizacion'!#REF!,8),ROUND('[1]Tabla de Amortizacion'!K39,8))))))","v":0}]
["2024-09-23",9.6219099999999991E-3,{"$f":"+VLOOKUP(A39,'Tabla de Amortizacion'!$D$2:$Q$182,MATCH(Tablas!$B$1,'Tabla de Amortizacion'!$D$2:$Q$2,0))","v":9.6219099999999991E-3},null,{"$f":"IF([1]CALCULADORA!$F$10=\"Contractual\",ROUND('[1]Tabla de Amortizacion'!C40,8),IF([1]CALCULADORA!$F$10=\"6% (Medio)\",ROUND('[1]Tabla de Amortizacion'!F40,8),IF([1]CALCULADORA!$F$10=\"10% (Medio Alto)\",ROUND('[1]Tabla de Amortizacion'!H40,8),IF([1]CALCULADORA!$F$10=\"14% (Alto)\",ROUND('[1]Tabla de Amortizacion'!#REF!,8),IF([1]CALCULADORA!$F$10=20%,ROUND('[1]Tabla de Amortizacion'!#REF!,8),ROUND('[1]Tabla de Amortizacion'!K40,8))))))","v":0}]
["2024-10-23",9.5536300000000005E-3,{"$f":"+VLOOKUP(A40,'Tabla de Amortizacion'!$D$2:$Q$182,MATCH(Tablas!$B$1,'Tabla de Amortizacion'!$D$2:$Q$2,0))","v":9.5536300000000005E-3},null,{"$f":"IF([1]CALCULADORA!$F$10=\"Contractual\",ROUND('[1]Tabla de Amortizacion'!C41,8),IF([1]CALCULADORA!$F$10=\"6% (Medio)\",ROUND('[1]Tabla de Amortizacion'!F41,8),IF([1]CALCULADORA!$F$10=\"10% (Medio Alto)\",ROUND('[1]Tabla de Amortizacion'!H41,8),IF([1]CALCULADORA!$F$10=\"14% (Alto)\",ROUND('[1]Tabla de Amortizacion'!#REF!,8),IF([1]CALCULADORA!$F$10=20%,ROUND('[1]Tabla de Amortizacion'!#REF!,8),ROUND('[1]Tabla de Amortizacion'!K41,8))))))","v":0}]
["2024-11-23",8.4620200000000007E-3,{"$f":"+VLOOKUP(A41,'Tabla de Amortizacion'!$D$2:$Q$182,MATCH(Tablas!$B$1,'Tabla de Amortizacion'!$D$2:$Q$2,0))","v":8.4620200000000007E-3},null,{"$f":"IF([1]CALCULADORA!$F$10=\"Contractual\",ROUND('[1]Tabla de Amortizacion'!C42,8),IF([1]CALCULADORA!$F$10=\"6% (Medio)\",ROUND('[1]Tabla de Amortizacion'!F42,8),IF([1]CALCULADORA!$F$10=\"10% (Medio Alto)\",ROUND('[1]Tabla de Amortizacion'!H42,8),IF([1]CALCULADORA!$F$10=\"14% (Alto)\",ROUND('[1]Tabla de Amortizacion'!#REF!,8),IF([1]CALCULADORA!$F$10=20%,ROUND('[1]Tabla de Amortizacion'!#REF!,8),ROUND('[1]Tabla de Amortizacion'!K42,8))))))","v":0}]
["2024-12-23",8.3559099999999994E-3,{"$f":"+VLOOKUP(A42,'Tabla de Amortizacion'!$D$2:$Q$182,MATCH(Tablas!$B$1,'Tabla de Amortizacion'!$D$2:$Q$2,0))","v":8.3559099999999994E-3},null,{"$f":"IF([1]CALCULADORA!$F$10=\"Contractual\",ROUND('[1]Tabla de Amortizacion'!C43,8),IF([1]CALCULADORA!$F$10=\"6% (Medio)\",ROUND('[1]Tabla de Amortizacion'!F43,8),IF([1]CALCULADORA!$F$10=\"10% (Medio Alto)\",ROUND('[1]Tabla de Amortizacion'!H43,8),IF([1]CALCULADORA!$F$10=\"14% (Alto)\",ROUND('[1]Tabla de Amortizacion'!#REF!,8),IF([1]CALCULADORA!$F$10=20%,ROUND('[1]Tabla de Amortizacion'!#REF!,8),ROUND('[1]Tabla de Amortizacion'!K43,8))))))","v":0}]
["2025-01-23",8.2596500000000003E-3,{"$f":"+VLOOKUP(A43,'Tabla de Amortizacion'!$D$2:$Q$182,MATCH(Tablas!$B$1,'Tabla de Amortizacion'!$D$2:$Q$2,0))","v":8.2596500000000003E-3},null,{"$f":"IF([1]CALCULADORA!$F$10=\"Contractual\",ROUND('[1]Tabla de Amortizacion'!C44,8),IF([1]CALCULADORA!$F$10=\"6% (Medio)\",ROUND('[1]Tabla de Amortizacion'!F44,8),IF([1]CALCULADORA!$F$10=\"10% (Medio Alto)\",ROUND('[1]Tabla de Amortizacion'!H44,8),IF([1]CALCULADORA!$F$10=\"14% (Alto)\",ROUND('[1]Tabla de Amortizacion'!#REF!,8),IF([1]CALCULADORA!$F$10=20%,ROUND('[1]Tabla de Amortizacion'!#REF!,8),ROUND('[1]Tabla de Amortizacion'!K44,8))))))","v":0}]
["2025-02-23",8.1701499999999993E-3,{"$f":"+VLOOKUP(A44,'Tabla de Amortizacion'!$D$2:$Q$182,MATCH(Tablas!$B$1,'Tabla de Amortizacion'!$D$2:$Q$2,0))","v":8.1701499999999993E-3},null,{"$f":"IF([1]CALCULADORA!$F$10=\"Contractual\",ROUND('[1]Tabla de Amortizacion'!C45,8),IF([1]CALCULADORA!$F$10=\"6% (Medio)\",ROUND('[1]Tabla de Amortizacion'!F45,8),IF([1]CALCULADORA!$F$10=\"10% (Medio Alto)\",ROUND('[1]Tabla de Amortizacion'!H45,8),IF([1]CALCULADORA!$F$10=\"14% (Alto)\",ROUND('[1]Tabla de Amortizacion'!#REF!,8),IF([1]CALCULADORA!$F$10=20%,ROUND('[1]Tabla de Amortizacion'!#REF!,8),ROUND('[1]Tabla de Amortizacion'!K45,8))))))","v":0}]
["2025-03-23",8.0761700000000006E-3,{"$f":"+VLOOKUP(A45,'Tabla de Amortizacion'!$D$2:$Q$182,MATCH(Tablas!$B$1,'Tabla de Amortizacion'!$D$2:$Q$2,0))","v":8.0761700000000006E-3},null,{"$f":"IF([1]CALCULADORA!$F$10=\"Contractual\",ROUND('[1]Tabla de Amortizacion'!C46,8),IF([1]CALCULADORA!$F$10=\"6% (Medio)\",ROUND('[1]Tabla de Amortizacion'!F46,8),IF([1]CALCULADORA!$F$10=\"10% (Medio Alto)\",ROUND('[1]Tabla de Amortizacion'!H46,8),IF([1]CALCULADORA!$F$10=\"14% (Alto)\",ROUND('[1]Tabla de Amortizacion'!#REF!,8),IF([1]CALCULADORA!$F$10=20%,ROUND('[1]Tabla de Amortizacion'!#REF!,8),ROUND('[1]Tabla de Amortizacion'!K46,8))))))","v":0}]
["2025-04-23",7.9758799999999994E-3,{"$f":"+VLOOKUP(A46,'Tabla de Amortizacion'!$D$2:$Q$182,MATCH(Tablas!$B$1,'Tabla de Amortizacion'!$D$2:$Q$2,0))","v":7.9758799999999994E-3},null,{"$f":"IF([1]CALCULADORA!$F$10=\"Contractual\",ROUND('[1]Tabla de Amortizacion'!C47,8),IF([1]CALCULADORA!$F$10=\"6% (Medio)\",ROUND('[1]Tabla de Amortizacion'!F47,8),IF([1]CALCULADORA!$F$10=\"10% (Medio Alto)\",ROUND('[1]Tabla de Amortizacion'!H47,8),IF([1]CALCULADORA!$F$10=\"14% (Alto)\",ROUND('[1]Tabla de Amortizacion'!#REF!,8),IF([1]CALCULADORA!$F$10=20%,ROUND('[1]Tabla de Amortizacion'!#REF!,8),ROUND('[1]Tabla de Amortizacion'!K47,8))))))","v":0}]
["2025-05-23",7.8757900000000006E-3,{"$f":"+VLOOKUP(A47,'Tabla de Amortizacion'!$D$2:$Q$182,MATCH(Tablas!$B$1,'Tabla de Amortizacion'!$D$2:$Q$2,0))","v":7.8757900000000006E-3},null,{"$f":"IF([1]CALCULADORA!$F$10=\"Contractual\",ROUND('[1]Tabla de Amortizacion'!C48,8),IF([1]CALCULADORA!$F$10=\"6% (Medio)\",ROUND('[1]Tabla de Amortizacion'!F48,8),IF([1]CALCULADORA!$F$10=\"10% (Medio Alto)\",ROUND('[1]Tabla de Amortizacion'!H48,8),IF([1]CALCULADORA!$F$10=\"14% (Alto)\",ROUND('[1]Tabla de Amortizacion'!#REF!,8),IF([1]CALCULADORA!$F$10=20%,ROUND('[1]Tabla de Amortizacion'!#REF!,8),ROUND('[1]Tabla de Amortizacion'!K48,8))))))","v":0}]
["2025-06-23",7.7871700000000004E-3,{"$f":"+VLOOKUP(A48,'Tabla de Amortizacion'!$D$2:$Q$182,MATCH(Tablas!$B$1,'Tabla de Amortizacion'!$D$2:$Q$2,0))","v":7.7871700000000004E-3},null,{"$f":"IF([1]CALCULADORA!$F$10=\"Contractual\",ROUND('[1]Tabla de Amortizacion'!C49,8),IF([1]CALCULADORA!$F$10=\"6% (Medio)\",ROUND('[1]Tabla de Amortizacion'!F49,8),IF([1]CALCULADORA!$F$10=\"10% (Medio Alto)\",ROUND('[1]Tabla de Amortizacion'!H49,8),IF([1]CALCULADORA!$F$10=\"14% (Alto)\",ROUND('[1]Tabla de Amortizacion'!#REF!,8),IF([1]CALCULADORA!$F$10=20%,ROUND('[1]Tabla de Amortizacion'!#REF!,8),ROUND('[1]Tabla de Amortizacion'!K49,8))))))","v":0}]
["2025-07-23",7.6969100000000004E-3,{"$f":"+VLOOKUP(A49,'Tabla de Amortizacion'!$D$2:$Q$182,MATCH(Tablas!$B$1,'Tabla de Amortizacion'!$D$2:$Q$2,0))","v":7.6969100000000004E-3},null,{"$f":"IF([1]CALCULADORA!$F$10=\"Contractual\",ROUND('[1]Tabla de Amortizacion'!C50,8),IF([1]CALCULADORA!$F$10=\"6% (Medio)\",ROUND('[1]Tabla de Amortizacion'!F50,8),IF([1]CALCULADORA!$F$10=\"10% (Medio Alto)\",ROUND('[1]Tabla de Amortizacion'!H50,8),IF([1]CALCULADORA!$F$10=\"14% (Alto)\",ROUND('[1]Tabla de Amortizacion'!#REF!,8),IF([1]CALCULADORA!$F$10=20%,ROUND('[1]Tabla de Amortizacion'!#REF!,8),ROUND('[1]Tabla de Amortizacion'!K50,8))))))","v":0}]
["2025-08-23",7.5987299999999997E-3,{"$f":"+VLOOKUP(A50,'Tabla de Amortizacion'!$D$2:$Q$182,MATCH(Tablas!$B$1,'Tabla de Amortizacion'!$D$2:$Q$2,0))","v":7.5987299999999997E-3},null,{"$f":"IF([1]CALCULADORA!$F$10=\"Contractual\",ROUND('[1]Tabla de Amortizacion'!C51,8),IF([1]CALCULADORA!$F$10=\"6% (Medio)\",ROUND('[1]Tabla de Amortizacion'!F51,8),IF([1]CALCULADORA!$F$10=\"10% (Medio Alto)\",ROUND('[1]Tabla de Amortizacion'!H51,8),IF([1]CALCULADORA!$F$10=\"14% (Alto)\",ROUND('[1]Tabla de Amortizacion'!#REF!,8),IF([1]CALCULADORA!$F$10=20%,ROUND('[1]Tabla de Amortizacion'!#REF!,8),ROUND('[1]Tabla de Amortizacion'!K51,8))))))","v":0}]
["2025-09-23",7.5053200000000002E-3,{"$f":"+VLOOKUP(A51,'Tabla de Amortizacion'!$D$2:$Q$182,MATCH(Tablas!$B$1,'Tabla de Amortizacion'!$D$2:$Q$2,0))","v":7.5053200000000002E-3},null,{"$f":"IF([1]CALCULADORA!$F$10=\"Contractual\",ROUND('[1]Tabla de Amortizacion'!C52,8),IF([1]CALCULADORA!$F$10=\"6% (Medio)\",ROUND('[1]Tabla de Amortizacion'!F52,8),IF([1]CALCULADORA!$F$10=\"10% (Medio Alto)\",ROUND('[1]Tabla de Amortizacion'!H52,8),IF([1]CALCULADORA!$F$10=\"14% (Alto)\",ROUND('[1]Tabla de Amortizacion'!#REF!,8),IF([1]CALCULADORA!$F$10=20%,ROUND('[1]Tabla de Amortizacion'!#REF!,8),ROUND('[1]Tabla de Amortizacion'!K52,8))))))","v":0}]
["2025-10-23",7.4122499999999996E-3,{"$f":"+VLOOKUP(A52,'Tabla de Amortizacion'!$D$2:$Q$182,MATCH(Tablas!$B$1,'Tabla de Amortizacion'!$D$2:$Q$2,0))","v":7.4122499999999996E-3},null,{"$f":"IF([1]CALCULADORA!$F$10=\"Contractual\",ROUND('[1]Tabla de Amortizacion'!C53,8),IF([1]CALCULADORA!$F$10=\"6% (Medio)\",ROUND('[1]Tabla de Amortizacion'!F53,8),IF([1]CALCULADORA!$F$10=\"10% (Medio Alto)\",ROUND('[1]Tabla de Amortizacion'!H53,8),IF([1]CALCULADORA!$F$10=\"14% (Alto)\",ROUND('[1]Tabla de Amortizacion'!#REF!,8),IF([1]CALCULADORA!$F$10=20%,ROUND('[1]Tabla de Amortizacion'!#REF!,8),ROUND('[1]Tabla de Amortizacion'!K53,8))))))","v":0}]
["2025-11-23",7.3213799999999997E-3,{"$f":"+VLOOKUP(A53,'Tabla de Amortizacion'!$D$2:$Q$182,MATCH(Tablas!$B$1,'Tabla de Amortizacion'!$D$2:$Q$2,0))","v":7.3213799999999997E-3},null,{"$f":"IF([1]CALCULADORA!$F$10=\"Contractual\",ROUND('[1]Tabla de Amortizacion'!C54,8),IF([1]CALCULADORA!$F$10=\"6% (Medio)\",ROUND('[1]Tabla de Amortizacion'!F54,8),IF([1]CALCULADORA!$F$10=\"10% (Medio Alto)\",ROUND('[1]Tabla de Amortizacion'!H54,8),IF([1]CALCULADORA!$F$10=\"14% (Alto)\",ROUND('[1]Tabla de Amortizacion'!#REF!,8),IF([1]CALCULADORA!$F$10=20%,ROUND('[1]Tabla de Amortizacion'!#REF!,8),ROUND('[1]Tabla de Amortizacion'!K54,8))))))","v":0}]
["2025-12-23",7.2294999999999998E-3,{"$f":"+VLOOKUP(A54,'Tabla de Amortizacion'!$D$2:$Q$182,MATCH(Tablas!$B$1,'Tabla de Amortizacion'!$D$2:$Q$2,0))","v":7.2294999999999998E-3},null,{"$f":"IF([1]CALCULADORA!$F$10=\"Contractual\",ROUND('[1]Tabla de Amortizacion'!C55,8),IF([1]CALCULADORA!$F$10=\"6% (Medio)\",ROUND('[1]Tabla de Amortizacion'!F55,8),IF([1]CALCULADORA!$F$10=\"10% (Medio Alto)\",ROUND('[1]Tabla de Amortizacion'!H55,8),IF([1]CALCULADORA!$F$10=\"14% (Alto)\",ROUND('[1]Tabla de Amortizacion'!#REF!,8),IF([1]CALCULADORA!$F$10=20%,ROUND('[1]Tabla de Amortizacion'!#REF!,8),ROUND('[1]Tabla de Amortizacion'!K55,8))))))","v":0}]
["2026-01-23",7.7163300000000004E-3,{"$f":"+VLOOKUP(A55,'Tabla de Amortizacion'!$D$2:$Q$182,MATCH(Tablas!$B$1,'Tabla de Amortizacion'!$D$2:$Q$2,0))","v":7.7163300000000004E-3},null,{"$f":"IF([1]CALCULADORA!$F$10=\"Contractual\",ROUND('[1]Tabla de Amortizacion'!C56,8),IF([1]CALCULADORA!$F$10=\"6% (Medio)\",ROUND('[1]Tabla de Amortizacion'!F56,8),IF([1]CALCULADORA!$F$10=\"10% (Medio Alto)\",ROUND('[1]Tabla de Amortizacion'!H56,8),IF([1]CALCULADORA!$F$10=\"14% (Alto)\",ROUND('[1]Tabla de Amortizacion'!#REF!,8),IF([1]CALCULADORA!$F$10=20%,ROUND('[1]Tabla de Amortizacion'!#REF!,8),ROUND('[1]Tabla de Amortizacion'!K56,8))))))","v":0}]
["2026-02-23",9.2823999999999997E-3,{"$f":"+VLOOKUP(A56,'Tabla de Amortizacion'!$D$2:$Q$182,MATCH(Tablas!$B$1,'Tabla de Amortizacion'!$D$2:$Q$2,0))","v":9.2823999999999997E-3},null,{"$f":"IF([1]CALCULADORA!$F$10=\"Contractual\",ROUND('[1]Tabla de Amortizacion'!C57,8),IF([1]CALCULADORA!$F$10=\"6% (Medio)\",ROUND('[1]Tabla de Amortizacion'!F57,8),IF([1]CALCULADORA!$F$10=\"10% (Medio Alto)\",ROUND('[1]Tabla de Amortizacion'!H57,8),IF([1]CALCULADORA!$F$10=\"14% (Alto)\",ROUND('[1]Tabla de Amortizacion'!#REF!,8),IF([1]CALCULADORA!$F$10=20%,ROUND('[1]Tabla de Amortizacion'!#REF!,8),ROUND('[1]Tabla de Amortizacion'!K57,8))))))","v":0}]
["2026-03-23",9.1909399999999999E-3,{"$f":"+VLOOKUP(A57,'Tabla de Amortizacion'!$D$2:$Q$182,MATCH(Tablas!$B$1,'Tabla de Amortizacion'!$D$2:$Q$2,0))","v":9.1909399999999999E-3},null,{"$f":"IF([1]CALCULADORA!$F$10=\"Contractual\",ROUND('[1]Tabla de Amortizacion'!C58,8),IF([1]CALCULADORA!$F$10=\"6% (Medio)\",ROUND('[1]Tabla de Amortizacion'!F58,8),IF([1]CALCULADORA!$F$10=\"10% (Medio Alto)\",ROUND('[1]Tabla de Amortizacion'!H58,8),IF([1]CALCULADORA!$F$10=\"14% (Alto)\",ROUND('[1]Tabla de Amortizacion'!#REF!,8),IF([1]CALCULADORA!$F$10=20%,ROUND('[1]Tabla de Amortizacion'!#REF!,8),ROUND('[1]Tabla de Amortizacion'!K58,8))))))","v":0}]
["2026-04-23",9.0940799999999992E-3,{"$f":"+VLOOKUP(A58,'Tabla de Amortizacion'!$D$2:$Q$182,MATCH(Tablas!$B$1,'Tabla de Amortizacion'!$D$2:$Q$2,0))","v":9.0940799999999992E-3},null,{"$f":"IF([1]CALCULADORA!$F$10=\"Contractual\",ROUND('[1]Tabla de Amortizacion'!C59,8),IF([1]CALCULADORA!$F$10=\"6% (Medio)\",ROUND('[1]Tabla de Amortizacion'!F59,8),IF([1]CALCULADORA!$F$10=\"10% (Medio Alto)\",ROUND('[1]Tabla de Amortizacion'!H59,8),IF([1]CALCULADORA!$F$10=\"14% (Alto)\",ROUND('[1]Tabla de Amortizacion'!#REF!,8),IF([1]CALCULADORA!$F$10=20%,ROUND('[1]Tabla de Amortizacion'!#REF!,8),ROUND('[1]Tabla de Amortizacion'!K59,8))))))","v":0}]
["2026-05-23",8.5305099999999998E-3,{"$f":"+VLOOKUP(A59,'Tabla de Amortizacion'!$D$2:$Q$182,MATCH(Tablas!$B$1,'Tabla de Amortizacion'!$D$2:$Q$2,0))","v":8.5305099999999998E-3},null,{"$f":"IF([1]CALCULADORA!$F$10=\"Contractual\",ROUND('[1]Tabla de Amortizacion'!C60,8),IF([1]CALCULADORA!$F$10=\"6% (Medio)\",ROUND('[1]Tabla de Amortizacion'!F60,8),IF([1]CALCULADORA!$F$10=\"10% (Medio Alto)\",ROUND('[1]Tabla de Amortizacion'!H60,8),IF([1]CALCULADORA!$F$10=\"14% (Alto)\",ROUND('[1]Tabla de Amortizacion'!#REF!,8),IF([1]CALCULADORA!$F$10=20%,ROUND('[1]Tabla de Amortizacion'!#REF!,8),ROUND('[1]Tabla de Amortizacion'!K60,8))))))","v":0}]
["2026-06-23",8.8858199999999991E-3,{"$f":"+VLOOKUP(A60,'Tabla de Amortizacion'!$D$2:$Q$182,MATCH(Tablas!$B$1,'Tabla de Amortizacion'!$D$2:$Q$2,0))","v":8.8858199999999991E-3},null,{"$f":"IF([1]CALCULADORA!$F$10=\"Contractual\",ROUND('[1]Tabla de Amortizacion'!C61,8),IF([1]CALCULADORA!$F$10=\"6% (Medio)\",ROUND('[1]Tabla de Amortizacion'!F61,8),IF([1]CALCULADORA!$F$10=\"10% (Medio Alto)\",ROUND('[1]Tabla de Amortizacion'!H61,8),IF([1]CALCULADORA!$F$10=\"14% (Alto)\",ROUND('[1]Tabla de Amortizacion'!#REF!,8),IF([1]CALCULADORA!$F$10=20%,ROUND('[1]Tabla de Amortizacion'!#REF!,8),ROUND('[1]Tabla de Amortizacion'!K61,8))))))","v":0}]
["2026-07-23",8.7829999999999991E-3,{"$f":"+VLOOKUP(A61,'Tabla de Amortizacion'!$D$2:$Q$182,MATCH(Tablas!$B$1,'Tabla de Amortizacion'!$D$2:$Q$2,0))","v":8.7829999999999991E-3},null,{"$f":"IF([1]CALCULADORA!$F$10=\"Contractual\",ROUND('[1]Tabla de Amortizacion'!C62,8),IF([1]CALCULADORA!$F$10=\"6% (Medio)\",ROUND('[1]Tabla de Amortizacion'!F62,8),IF([1]CALCULADORA!$F$10=\"10% (Medio Alto)\",ROUND('[1]Tabla de Amortizacion'!H62,8),IF([1]CALCULADORA!$F$10=\"14% (Alto)\",ROUND('[1]Tabla de Amortizacion'!#REF!,8),IF([1]CALCULADORA!$F$10=20%,ROUND('[1]Tabla de Amortizacion'!#REF!,8),ROUND('[1]Tabla de Amortizacion'!K62,8))))))","v":0}]
["2026-08-23",8.6522200000000004E-3,{"$f":"+VLOOKUP(A62,'Tabla de Amortizacion'!$D$2:$Q$182,MATCH(Tablas!$B$1,'Tabla de Amortizacion'!$D$2:$Q$2,0))","v":8.6522200000000004E-3},null,{"$f":"IF([1]CALCULADORA!$F$10=\"Contractual\",ROUND('[1]Tabla de Amortizacion'!C63,8),IF([1]CALCULADORA!$F$10=\"6% (Medio)\",ROUND('[1]Tabla de Amortizacion'!F63,8),IF([1]CALCULADORA!$F$10=\"10% (Medio Alto)\",ROUND('[1]Tabla de Amortizacion'!H63,8),IF([1]CALCULADORA!$F$10=\"14% (Alto)\",ROUND('[1]Tabla de Amortizacion'!#REF!,8),IF([1]CALCULADORA!$F$10=20%,ROUND('[1]Tabla de Amortizacion'!#REF!,8),ROUND('[1]Tabla de Amortizacion'!K63,8))))))","v":0}]
["2026-09-23",8.5339700000000001E-3,{"$f":"+VLOOKUP(A63,'Tabla de Amortizacion'!$D$2:$Q$182,MATCH(Tablas!$B$1,'Tabla de Amortizacion'!$D$2:$Q$2,0))","v":8.5339700000000001E-3},null,{"$f":"IF([1]CALCULADORA!$F$10=\"Contractual\",ROUND('[1]Tabla de Amortizacion'!C64,8),IF([1]CALCULADORA!$F$10=\"6% (Medio)\",ROUND('[1]Tabla de Amortizacion'!F64,8),IF([1]CALCULADORA!$F$10=\"10% (Medio Alto)\",ROUND('[1]Tabla de Amortizacion'!H64,8),IF([1]CALCULADORA!$F$10=\"14% (Alto)\",ROUND('[1]Tabla de Amortizacion'!#REF!,8),IF([1]CALCULADORA!$F$10=20%,ROUND('[1]Tabla de Amortizacion'!#REF!,8),ROUND('[1]Tabla de Amortizacion'!K64,8))))))","v":0}]
["2026-10-23",8.4357600000000005E-3,{"$f":"+VLOOKUP(A64,'Tabla de Amortizacion'!$D$2:$Q$182,MATCH(Tablas!$B$1,'Tabla de Amortizacion'!$D$2:$Q$2,0))","v":8.4357600000000005E-3},null,{"$f":"IF([1]CALCULADORA!$F$10=\"Contractual\",ROUND('[1]Tabla de Amortizacion'!C65,8),IF([1]CALCULADORA!$F$10=\"6% (Medio)\",ROUND('[1]Tabla de Amortizacion'!F65,8),IF([1]CALCULADORA!$F$10=\"10% (Medio Alto)\",ROUND('[1]Tabla de Amortizacion'!H65,8),IF([1]CALCULADORA!$F$10=\"14% (Alto)\",ROUND('[1]Tabla de Amortizacion'!#REF!,8),IF([1]CALCULADORA!$F$10=20%,ROUND('[1]Tabla de Amortizacion'!#REF!,8),ROUND('[1]Tabla de Amortizacion'!K65,8))))))","v":0}]
["2026-11-23",8.3330399999999999E-3,{"$f":"+VLOOKUP(A65,'Tabla de Amortizacion'!$D$2:$Q$182,MATCH(Tablas!$B$1,'Tabla de Amortizacion'!$D$2:$Q$2,0))","v":8.3330399999999999E-3},null,{"$f":"IF([1]CALCULADORA!$F$10=\"Contractual\",ROUND('[1]Tabla de Amortizacion'!C66,8),IF([1]CALCULADORA!$F$10=\"6% (Medio)\",ROUND('[1]Tabla de Amortizacion'!F66,8),IF([1]CALCULADORA!$F$10=\"10% (Medio Alto)\",ROUND('[1]Tabla de Amortizacion'!H66,8),IF([1]CALCULADORA!$F$10=\"14% (Alto)\",ROUND('[1]Tabla de Amortizacion'!#REF!,8),IF([1]CALCULADORA!$F$10=20%,ROUND('[1]Tabla de Amortizacion'!#REF!,8),ROUND('[1]Tabla de Amortizacion'!K66,8))))))","v":0}]
["2026-12-23",8.19954E-3,{"$f":"+VLOOKUP(A66,'Tabla de Amortizacion'!$D$2:$Q$182,MATCH(Tablas!$B$1,'Tabla de Amortizacion'!$D$2:$Q$2,0))","v":8.19954E-3},null,{"$f":"IF([1]CALCULADORA!$F$10=\"Contractual\",ROUND('[1]Tabla de Amortizacion'!C67,8),IF([1]CALCULADORA!$F$10=\"6% (Medio)\",ROUND('[1]Tabla de Amortizacion'!F67,8),IF([1]CALCULADORA!$F$10=\"10% (Medio Alto)\",ROUND('[1]Tabla de Amortizacion'!H67,8),IF([1]CALCULADORA!$F$10=\"14% (Alto)\",ROUND('[1]Tabla de Amortizacion'!#REF!,8),IF([1]CALCULADORA!$F$10=20%,ROUND('[1]Tabla de Amortizacion'!#REF!,8),ROUND('[1]Tabla de Amortizacion'!K67,8))))))","v":0}]
[{"$f":"EDATE(A66,1)","v":"2027-01-23"},{"$f":"+ROUND(C67,8)","v":8.07043E-3},{"$f":"+VLOOKUP(A67,'Tabla de Amortizacion'!$D$2:$Q$182,MATCH(Tablas!$B$1,'Tabla de Amortizacion'!$D$2:$Q$2,0))","v":8.07043E-3},null,{"$f":"IF([1]CALCULADORA!$F$10=\"Contractual\",ROUND('[1]Tabla de Amortizacion'!C68,8),IF([1]CALCULADORA!$F$10=\"6% (Medio)\",ROUND('[1]Tabla de Amortizacion'!F68,8),IF([1]CALCULADORA!$F$10=\"10% (Medio Alto)\",ROUND('[1]Tabla de Amortizacion'!H68,8),IF([1]CALCULADORA!$F$10=\"14% (Alto)\",ROUND('[1]Tabla de Amortizacion'!#REF!,8),IF([1]CALCULADORA!$F$10=20%,ROUND('[1]Tabla de Amortizacion'!#REF!,8),ROUND('[1]Tabla de Amortizacion'!K68,8))))))","v":0}]
["2027-02-23",7.9525399999999993E-3,{"$f":"+VLOOKUP(A68,'Tabla de Amortizacion'!$D$2:$Q$182,MATCH(Tablas!$B$1,'Tabla de Amortizacion'!$D$2:$Q$2,0))","v":7.9525399999999993E-3},null,{"$f":"IF([1]CALCULADORA!$F$10=\"Contractual\",ROUND('[1]Tabla de Amortizacion'!C69,8),IF([1]CALCULADORA!$F$10=\"6% (Medio)\",ROUND('[1]Tabla de Amortizacion'!F69,8),IF([1]CALCULADORA!$F$10=\"10% (Medio Alto)\",ROUND('[1]Tabla de Amortizacion'!H69,8),IF([1]CALCULADORA!$F$10=\"14% (Alto)\",ROUND('[1]Tabla de Amortizacion'!#REF!,8),IF([1]CALCULADORA!$F$10=20%,ROUND('[1]Tabla de Amortizacion'!#REF!,8),ROUND('[1]Tabla de Amortizacion'!K69,8))))))","v":0}]
["2027-03-23",7.8388899999999994E-3,{"$f":"+VLOOKUP(A69,'Tabla de Amortizacion'!$D$2:$Q$182,MATCH(Tablas!$B$1,'Tabla de Amortizacion'!$D$2:$Q$2,0))","v":7.8388899999999994E-3},null,{"$f":"IF([1]CALCULADORA!$F$10=\"Contractual\",ROUND('[1]Tabla de Amortizacion'!C70,8),IF([1]CALCULADORA!$F$10=\"6% (Medio)\",ROUND('[1]Tabla de Amortizacion'!F70,8),IF([1]CALCULADORA!$F$10=\"10% (Medio Alto)\",ROUND('[1]Tabla de Amortizacion'!H70,8),IF([1]CALCULADORA!$F$10=\"14% (Alto)\",ROUND('[1]Tabla de Amortizacion'!#REF!,8),IF([1]CALCULADORA!$F$10=20%,ROUND('[1]Tabla de Amortizacion'!#REF!,8),ROUND('[1]Tabla de Amortizacion'!K70,8))))))","v":0}]
["2027-04-23",7.6850699999999996E-3,{"$f":"+VLOOKUP(A70,'Tabla de Amortizacion'!$D$2:$Q$182,MATCH(Tablas!$B$1,'Tabla de Amortizacion'!$D$2:$Q$2,0))","v":7.6850699999999996E-3},null,{"$f":"IF([1]CALCULADORA!$F$10=\"Contractual\",ROUND('[1]Tabla de Amortizacion'!C71,8),IF([1]CALCULADORA!$F$10=\"6% (Medio)\",ROUND('[1]Tabla de Amortizacion'!F71,8),IF([1]CALCULADORA!$F$10=\"10% (Medio Alto)\",ROUND('[1]Tabla de Amortizacion'!H71,8),IF([1]CALCULADORA!$F$10=\"14% (Alto)\",ROUND('[1]Tabla de Amortizacion'!#REF!,8),IF([1]CALCULADORA!$F$10=20%,ROUND('[1]Tabla de Amortizacion'!#REF!,8),ROUND('[1]Tabla de Amortizacion'!K71,8))))))","v":0}]
["2027-05-23",7.1230599999999996E-3,{"$f":"+VLOOKUP(A71,'Tabla de Amortizacion'!$D$2:$Q$182,MATCH(Tablas!$B$1,'Tabla de Amortizacion'!$D$2:$Q$2,0))","v":7.1230599999999996E-3},null,{"$f":"IF([1]CALCULADORA!$F$10=\"Contractual\",ROUND('[1]Tabla de Amortizacion'!C72,8),IF([1]CALCULADORA!$F$10=\"6% (Medio)\",ROUND('[1]Tabla de Amortizacion'!F72,8),IF([1]CALCULADORA!$F$10=\"10% (Medio Alto)\",ROUND('[1]Tabla de Amortizacion'!H72,8),IF([1]CALCULADORA!$F$10=\"14% (Alto)\",ROUND('[1]Tabla de Amortizacion'!#REF!,8),IF([1]CALCULADORA!$F$10=20%,ROUND('[1]Tabla de Amortizacion'!#REF!,8),ROUND('[1]Tabla de Amortizacion'!K72,8))))))","v":0}]
["2027-06-23",7.4818799999999998E-3,{"$f":"+VLOOKUP(A72,'Tabla de Amortizacion'!$D$2:$Q$182,MATCH(Tablas!$B$1,'Tabla de Amortizacion'!$D$2:$Q$2,0))","v":7.4818799999999998E-3},null,{"$f":"IF([1]CALCULADORA!$F$10=\"Contractual\",ROUND('[1]Tabla de Amortizacion'!C73,8),IF([1]CALCULADORA!$F$10=\"6% (Medio)\",ROUND('[1]Tabla de Amortizacion'!F73,8),IF([1]CALCULADORA!$F$10=\"10% (Medio Alto)\",ROUND('[1]Tabla de Amortizacion'!H73,8),IF([1]CALCULADORA!$F$10=\"14% (Alto)\",ROUND('[1]Tabla de Amortizacion'!#REF!,8),IF([1]CALCULADORA!$F$10=20%,ROUND('[1]Tabla de Amortizacion'!#REF!,8),ROUND('[1]Tabla de Amortizacion'!K73,8))))))","v":0}]
["2027-07-23",7.3915700000000001E-3,{"$f":"+VLOOKUP(A73,'Tabla de Amortizacion'!$D$2:$Q$182,MATCH(Tablas!$B$1,'Tabla de Amortizacion'!$D$2:$Q$2,0))","v":7.3915700000000001E-3},null,{"$f":"IF([1]CALCULADORA!$F$10=\"Contractual\",ROUND('[1]Tabla de Amortizacion'!C74,8),IF([1]CALCULADORA!$F$10=\"6% (Medio)\",ROUND('[1]Tabla de Amortizacion'!F74,8),IF([1]CALCULADORA!$F$10=\"10% (Medio Alto)\",ROUND('[1]Tabla de Amortizacion'!H74,8),IF([1]CALCULADORA!$F$10=\"14% (Alto)\",ROUND('[1]Tabla de Amortizacion'!#REF!,8),IF([1]CALCULADORA!$F$10=20%,ROUND('[1]Tabla de Amortizacion'!#REF!,8),ROUND('[1]Tabla de Amortizacion'!K74,8))))))","v":0}]
["2027-08-23",7.3054000000000001E-3,{"$f":"+VLOOKUP(A74,'Tabla de Amortizacion'!$D$2:$Q$182,MATCH(Tablas!$B$1,'Tabla de Amortizacion'!$D$2:$Q$2,0))","v":7.3054000000000001E-3},null,{"$f":"IF([1]CALCULADORA!$F$10=\"Contractual\",ROUND('[1]Tabla de Amortizacion'!C75,8),IF([1]CALCULADORA!$F$10=\"6% (Medio)\",ROUND('[1]Tabla de Amortizacion'!F75,8),IF([1]CALCULADORA!$F$10=\"10% (Medio Alto)\",ROUND('[1]Tabla de Amortizacion'!H75,8),IF([1]CALCULADORA!$F$10=\"14% (Alto)\",ROUND('[1]Tabla de Amortizacion'!#REF!,8),IF([1]CALCULADORA!$F$10=20%,ROUND('[1]Tabla de Amortizacion'!#REF!,8),ROUND('[1]Tabla de Amortizacion'!K75,8))))))","v":0}]
["2027-09-23",7.1998599999999998E-3,{"$f":"+VLOOKUP(A75,'Tabla de Amortizacion'!$D$2:$Q$182,MATCH(Tablas!$B$1,'Tabla de Amortizacion'!$D$2:$Q$2,0))","v":7.1998599999999998E-3},null,{"$f":"IF([1]CALCULADORA!$F$10=\"Contractual\",ROUND('[1]Tabla de Amortizacion'!C76,8),IF([1]CALCULADORA!$F$10=\"6% (Medio)\",ROUND('[1]Tabla de Amortizacion'!F76,8),IF([1]CALCULADORA!$F$10=\"10% (Medio Alto)\",ROUND('[1]Tabla de Amortizacion'!H76,8),IF([1]CALCULADORA!$F$10=\"14% (Alto)\",ROUND('[1]Tabla de Amortizacion'!#REF!,8),IF([1]CALCULADORA!$F$10=20%,ROUND('[1]Tabla de Amortizacion'!#REF!,8),ROUND('[1]Tabla de Amortizacion'!K76,8))))))","v":0}]
["2027-10-23",7.1145699999999997E-3,{"$f":"+VLOOKUP(A76,'Tabla de Amortizacion'!$D$2:$Q$182,MATCH(Tablas!$B$1,'Tabla de Amortizacion'!$D$2:$Q$2,0))","v":7.1145699999999997E-3},null,{"$f":"IF([1]CALCULADORA!$F$10=\"Contractual\",ROUND('[1]Tabla de Amortizacion'!C77,8),IF([1]CALCULADORA!$F$10=\"6% (Medio)\",ROUND('[1]Tabla de Amortizacion'!F77,8),IF([1]CALCULADORA!$F$10=\"10% (Medio Alto)\",ROUND('[1]Tabla de Amortizacion'!H77,8),IF([1]CALCULADORA!$F$10=\"14% (Alto)\",ROUND('[1]Tabla de Amortizacion'!#REF!,8),IF([1]CALCULADORA!$F$10=20%,ROUND('[1]Tabla de Amortizacion'!#REF!,8),ROUND('[1]Tabla de Amortizacion'!K77,8))))))","v":0}]
["2027-11-23",7.0047900000000003E-3,{"$f":"+VLOOKUP(A77,'Tabla de Amortizacion'!$D$2:$Q$182,MATCH(Tablas!$B$1,'Tabla de Amortizacion'!$D$2:$Q$2,0))","v":7.0047900000000003E-3},null,{"$f":"IF([1]CALCULADORA!$F$10=\"Contractual\",ROUND('[1]Tabla de Amortizacion'!C78,8),IF([1]CALCULADORA!$F$10=\"6% (Medio)\",ROUND('[1]Tabla de Amortizacion'!F78,8),IF([1]CALCULADORA!$F$10=\"10% (Medio Alto)\",ROUND('[1]Tabla de Amortizacion'!H78,8),IF([1]CALCULADORA!$F$10=\"14% (Alto)\",ROUND('[1]Tabla de Amortizacion'!#REF!,8),IF([1]CALCULADORA!$F$10=20%,ROUND('[1]Tabla de Amortizacion'!#REF!,8),ROUND('[1]Tabla de Amortizacion'!K78,8))))))","v":0}]
["2027-12-23",6.8914700000000002E-3,{"$f":"+VLOOKUP(A78,'Tabla de Amortizacion'!$D$2:$Q$182,MATCH(Tablas!$B$1,'Tabla de Amortizacion'!$D$2:$Q$2,0))","v":6.8914700000000002E-3},null,{"$f":"IF([1]CALCULADORA!$F$10=\"Contractual\",ROUND('[1]Tabla de Amortizacion'!C79,8),IF([1]CALCULADORA!$F$10=\"6% (Medio)\",ROUND('[1]Tabla de Amortizacion'!F79,8),IF([1]CALCULADORA!$F$10=\"10% (Medio Alto)\",ROUND('[1]Tabla de Amortizacion'!H79,8),IF([1]CALCULADORA!$F$10=\"14% (Alto)\",ROUND('[1]Tabla de Amortizacion'!#REF!,8),IF([1]CALCULADORA!$F$10=20%,ROUND('[1]Tabla de Amortizacion'!#REF!,8),ROUND('[1]Tabla de Amortizacion'!K79,8))))))","v":0}]
["2028-01-23",6.7864099999999997E-3,{"$f":"+VLOOKUP(A79,'Tabla de Amortizacion'!$D$2:$Q$182,MATCH(Tablas!$B$1,'Tabla de Amortizacion'!$D$2:$Q$2,0))","v":6.7864099999999997E-3},null,{"$f":"IF([1]CALCULADORA!$F$10=\"Contractual\",ROUND('[1]Tabla de Amortizacion'!C80,8),IF([1]CALCULADORA!$F$10=\"6% (Medio)\",ROUND('[1]Tabla de Amortizacion'!F80,8),IF([1]CALCULADORA!$F$10=\"10% (Medio Alto)\",ROUND('[1]Tabla de Amortizacion'!H80,8),IF([1]CALCULADORA!$F$10=\"14% (Alto)\",ROUND('[1]Tabla de Amortizacion'!#REF!,8),IF([1]CALCULADORA!$F$10=20%,ROUND('[1]Tabla de Amortizacion'!#REF!,8),ROUND('[1]Tabla de Amortizacion'!K80,8))))))","v":0}]
["2028-02-23",6.6882199999999999E-3,{"$f":"+VLOOKUP(A80,'Tabla de Amortizacion'!$D$2:$Q$182,MATCH(Tablas!$B$1,'Tabla de Amortizacion'!$D$2:$Q$2,0))","v":6.6882199999999999E-3},null,{"$f":"IF([1]CALCULADORA!$F$10=\"Contractual\",ROUND('[1]Tabla de Amortizacion'!C81,8),IF([1]CALCULADORA!$F$10=\"6% (Medio)\",ROUND('[1]Tabla de Amortizacion'!F81,8),IF([1]CALCULADORA!$F$10=\"10% (Medio Alto)\",ROUND('[1]Tabla de Amortizacion'!H81,8),IF([1]CALCULADORA!$F$10=\"14% (Alto)\",ROUND('[1]Tabla de Amortizacion'!#REF!,8),IF([1]CALCULADORA!$F$10=20%,ROUND('[1]Tabla de Amortizacion'!#REF!,8),ROUND('[1]Tabla de Amortizacion'!K81,8))))))","v":0}]
["2028-03-23",6.6006800000000003E-3,{"$f":"+VLOOKUP(A81,'Tabla de Amortizacion'!$D$2:$Q$182,MATCH(Tablas!$B$1,'Tabla de Amortizacion'!$D$2:$Q$2,0))","v":6.6006800000000003E-3},null,{"$f":"IF([1]CALCULADORA!$F$10=\"Contractual\",ROUND('[1]Tabla de Amortizacion'!C82,8),IF([1]CALCULADORA!$F$10=\"6% (Medio)\",ROUND('[1]Tabla de Amortizacion'!F82,8),IF([1]CALCULADORA!$F$10=\"10% (Medio Alto)\",ROUND('[1]Tabla de Amortizacion'!H82,8),IF([1]CALCULADORA!$F$10=\"14% (Alto)\",ROUND('[1]Tabla de Amortizacion'!#REF!,8),IF([1]CALCULADORA!$F$10=20%,ROUND('[1]Tabla de Amortizacion'!#REF!,8),ROUND('[1]Tabla de Amortizacion'!K82,8))))))","v":0}]
["2028-04-23",6.4923899999999998E-3,{"$f":"+VLOOKUP(A82,'Tabla de Amortizacion'!$D$2:$Q$182,MATCH(Tablas!$B$1,'Tabla de Amortizacion'!$D$2:$Q$2,0))","v":6.4923899999999998E-3},null,{"$f":"IF([1]CALCULADORA!$F$10=\"Contractual\",ROUND('[1]Tabla de Amortizacion'!C83,8),IF([1]CALCULADORA!$F$10=\"6% (Medio)\",ROUND('[1]Tabla de Amortizacion'!F83,8),IF([1]CALCULADORA!$F$10=\"10% (Medio Alto)\",ROUND('[1]Tabla de Amortizacion'!H83,8),IF([1]CALCULADORA!$F$10=\"14% (Alto)\",ROUND('[1]Tabla de Amortizacion'!#REF!,8),IF([1]CALCULADORA!$F$10=20%,ROUND('[1]Tabla de Amortizacion'!#REF!,8),ROUND('[1]Tabla de Amortizacion'!K83,8))))))","v":0}]
["2028-05-23",5.9068599999999999E-3,{"$f":"+VLOOKUP(A83,'Tabla de Amortizacion'!$D$2:$Q$182,MATCH(Tablas!$B$1,'Tabla de Amortizacion'!$D$2:$Q$2,0))","v":5.9068599999999999E-3},null,{"$f":"IF([1]CALCULADORA!$F$10=\"Contractual\",ROUND('[1]Tabla de Amortizacion'!C84,8),IF([1]CALCULADORA!$F$10=\"6% (Medio)\",ROUND('[1]Tabla de Amortizacion'!F84,8),IF([1]CALCULADORA!$F$10=\"10% (Medio Alto)\",ROUND('[1]Tabla de Amortizacion'!H84,8),IF([1]CALCULADORA!$F$10=\"14% (Alto)\",ROUND('[1]Tabla de Amortizacion'!#REF!,8),IF([1]CALCULADORA!$F$10=20%,ROUND('[1]Tabla de Amortizacion'!#REF!,8),ROUND('[1]Tabla de Amortizacion'!K84,8))))))","v":0}]
["2028-06-23",6.27883E-3,{"$f":"+VLOOKUP(A84,'Tabla de Amortizacion'!$D$2:$Q$182,MATCH(Tablas!$B$1,'Tabla de Amortizacion'!$D$2:$Q$2,0))","v":6.27883E-3},null,{"$f":"IF([1]CALCULADORA!$F$10=\"Contractual\",ROUND('[1]Tabla de Amortizacion'!C85,8),IF([1]CALCULADORA!$F$10=\"6% (Medio)\",ROUND('[1]Tabla de Amortizacion'!F85,8),IF([1]CALCULADORA!$F$10=\"10% (Medio Alto)\",ROUND('[1]Tabla de Amortizacion'!H85,8),IF([1]CALCULADORA!$F$10=\"14% (Alto)\",ROUND('[1]Tabla de Amortizacion'!#REF!,8),IF([1]CALCULADORA!$F$10=20%,ROUND('[1]Tabla de Amortizacion'!#REF!,8),ROUND('[1]Tabla de Amortizacion'!K85,8))))))","v":0}]
["2028-07-23",6.1950299999999998E-3,{"$f":"+VLOOKUP(A85,'Tabla de Amortizacion'!$D$2:$Q$182,MATCH(Tablas!$B$1,'Tabla de Amortizacion'!$D$2:$Q$2,0))","v":6.1950299999999998E-3},null,{"$f":"IF([1]CALCULADORA!$F$10=\"Contractual\",ROUND('[1]Tabla de Amortizacion'!C86,8),IF([1]CALCULADORA!$F$10=\"6% (Medio)\",ROUND('[1]Tabla de Amortizacion'!F86,8),IF([1]CALCULADORA!$F$10=\"10% (Medio Alto)\",ROUND('[1]Tabla de Amortizacion'!H86,8),IF([1]CALCULADORA!$F$10=\"14% (Alto)\",ROUND('[1]Tabla de Amortizacion'!#REF!,8),IF([1]CALCULADORA!$F$10=20%,ROUND('[1]Tabla de Amortizacion'!#REF!,8),ROUND('[1]Tabla de Amortizacion'!K86,8))))))","v":0}]
["2028-08-23",6.0906800000000002E-3,{"$f":"+VLOOKUP(A86,'Tabla de Amortizacion'!$D$2:$Q$182,MATCH(Tablas!$B$1,'Tabla de Amortizacion'!$D$2:$Q$2,0))","v":6.0906800000000002E-3},null,{"$f":"IF([1]CALCULADORA!$F$10=\"Contractual\",ROUND('[1]Tabla de Amortizacion'!C87,8),IF([1]CALCULADORA!$F$10=\"6% (Medio)\",ROUND('[1]Tabla de Amortizacion'!F87,8),IF([1]CALCULADORA!$F$10=\"10% (Medio Alto)\",ROUND('[1]Tabla de Amortizacion'!H87,8),IF([1]CALCULADORA!$F$10=\"14% (Alto)\",ROUND('[1]Tabla de Amortizacion'!#REF!,8),IF([1]CALCULADORA!$F$10=20%,ROUND('[1]Tabla de Amortizacion'!#REF!,8),ROUND('[1]Tabla de Amortizacion'!K87,8))))))","v":0}]
["2028-09-23",5.9823100000000002E-3,{"$f":"+VLOOKUP(A87,'Tabla de Amortizacion'!$D$2:$Q$182,MATCH(Tablas!$B$1,'Tabla de Amortizacion'!$D$2:$Q$2,0))","v":5.9823100000000002E-3},null,{"$f":"IF([1]CALCULADORA!$F$10=\"Contractual\",ROUND('[1]Tabla de Amortizacion'!C88,8),IF([1]CALCULADORA!$F$10=\"6% (Medio)\",ROUND('[1]Tabla de Amortizacion'!F88,8),IF([1]CALCULADORA!$F$10=\"10% (Medio Alto)\",ROUND('[1]Tabla de Amortizacion'!H88,8),IF([1]CALCULADORA!$F$10=\"14% (Alto)\",ROUND('[1]Tabla de Amortizacion'!#REF!,8),IF([1]CALCULADORA!$F$10=20%,ROUND('[1]Tabla de Amortizacion'!#REF!,8),ROUND('[1]Tabla de Amortizacion'!K88,8))))))","v":0}]
["2028-10-23",5.8935599999999999E-3,{"$f":"+VLOOKUP(A88,'Tabla de Amortizacion'!$D$2:$Q$182,MATCH(Tablas!$B$1,'Tabla de Amortizacion'!$D$2:$Q$2,0))","v":5.8935599999999999E-3},null,{"$f":"IF([1]CALCULADORA!$F$10=\"Contractual\",ROUND('[1]Tabla de Amortizacion'!C89,8),IF([1]CALCULADORA!$F$10=\"6% (Medio)\",ROUND('[1]Tabla de Amortizacion'!F89,8),IF([1]CALCULADORA!$F$10=\"10% (Medio Alto)\",ROUND('[1]Tabla de Amortizacion'!H89,8),IF([1]CALCULADORA!$F$10=\"14% (Alto)\",ROUND('[1]Tabla de Amortizacion'!#REF!,8),IF([1]CALCULADORA!$F$10=20%,ROUND('[1]Tabla de Amortizacion'!#REF!,8),ROUND('[1]Tabla de Amortizacion'!K89,8))))))","v":0}]
["2028-11-23",5.8074600000000004E-3,{"$f":"+VLOOKUP(A89,'Tabla de Amortizacion'!$D$2:$Q$182,MATCH(Tablas!$B$1,'Tabla de Amortizacion'!$D$2:$Q$2,0))","v":5.8074600000000004E-3},null,{"$f":"IF([1]CALCULADORA!$F$10=\"Contractual\",ROUND('[1]Tabla de Amortizacion'!C90,8),IF([1]CALCULADORA!$F$10=\"6% (Medio)\",ROUND('[1]Tabla de Amortizacion'!F90,8),IF([1]CALCULADORA!$F$10=\"10% (Medio Alto)\",ROUND('[1]Tabla de Amortizacion'!H90,8),IF([1]CALCULADORA!$F$10=\"14% (Alto)\",ROUND('[1]Tabla de Amortizacion'!#REF!,8),IF([1]CALCULADORA!$F$10=20%,ROUND('[1]Tabla de Amortizacion'!#REF!,8),ROUND('[1]Tabla de Amortizacion'!K90,8))))))","v":0}]
["2028-12-23",5.6900800000000001E-3,{"$f":"+VLOOKUP(A90,'Tabla de Amortizacion'!$D$2:$Q$182,MATCH(Tablas!$B$1,'Tabla de Amortizacion'!$D$2:$Q$2,0))","v":5.6900800000000001E-3},null,{"$f":"IF([1]CALCULADORA!$F$10=\"Contractual\",ROUND('[1]Tabla de Amortizacion'!C91,8),IF([1]CALCULADORA!$F$10=\"6% (Medio)\",ROUND('[1]Tabla de Amortizacion'!F91,8),IF([1]CALCULADORA!$F$10=\"10% (Medio Alto)\",ROUND('[1]Tabla de Amortizacion'!H91,8),IF([1]CALCULADORA!$F$10=\"14% (Alto)\",ROUND('[1]Tabla de Amortizacion'!#REF!,8),IF([1]CALCULADORA!$F$10=20%,ROUND('[1]Tabla de Amortizacion'!#REF!,8),ROUND('[1]Tabla de Amortizacion'!K91,8))))))","v":0}]
["2029-01-23",5.6065899999999998E-3,{"$f":"+VLOOKUP(A91,'Tabla de Amortizacion'!$D$2:$Q$182,MATCH(Tablas!$B$1,'Tabla de Amortizacion'!$D$2:$Q$2,0))","v":5.6065899999999998E-3},null,{"$f":"IF([1]CALCULADORA!$F$10=\"Contractual\",ROUND('[1]Tabla de Amortizacion'!C92,8),IF([1]CALCULADORA!$F$10=\"6% (Medio)\",ROUND('[1]Tabla de Amortizacion'!F92,8),IF([1]CALCULADORA!$F$10=\"10% (Medio Alto)\",ROUND('[1]Tabla de Amortizacion'!H92,8),IF([1]CALCULADORA!$F$10=\"14% (Alto)\",ROUND('[1]Tabla de Amortizacion'!#REF!,8),IF([1]CALCULADORA!$F$10=20%,ROUND('[1]Tabla de Amortizacion'!#REF!,8),ROUND('[1]Tabla de Amortizacion'!K92,8))))))","v":0}]
["2029-02-23",5.5309399999999998E-3,{"$f":"+VLOOKUP(A92,'Tabla de Amortizacion'!$D$2:$Q$182,MATCH(Tablas!$B$1,'Tabla de Amortizacion'!$D$2:$Q$2,0))","v":5.5309399999999998E-3},null,{"$f":"IF([1]CALCULADORA!$F$10=\"Contractual\",ROUND('[1]Tabla de Amortizacion'!C93,8),IF([1]CALCULADORA!$F$10=\"6% (Medio)\",ROUND('[1]Tabla de Amortizacion'!F93,8),IF([1]CALCULADORA!$F$10=\"10% (Medio Alto)\",ROUND('[1]Tabla de Amortizacion'!H93,8),IF([1]CALCULADORA!$F$10=\"14% (Alto)\",ROUND('[1]Tabla de Amortizacion'!#REF!,8),IF([1]CALCULADORA!$F$10=20%,ROUND('[1]Tabla de Amortizacion'!#REF!,8),ROUND('[1]Tabla de Amortizacion'!K93,8))))))","v":0}]
["2029-03-23",5.4635400000000002E-3,{"$f":"+VLOOKUP(A93,'Tabla de Amortizacion'!$D$2:$Q$182,MATCH(Tablas!$B$1,'Tabla de Amortizacion'!$D$2:$Q$2,0))","v":5.4635400000000002E-3},null,{"$f":"IF([1]CALCULADORA!$F$10=\"Contractual\",ROUND('[1]Tabla de Amortizacion'!C94,8),IF([1]CALCULADORA!$F$10=\"6% (Medio)\",ROUND('[1]Tabla de Amortizacion'!F94,8),IF([1]CALCULADORA!$F$10=\"10% (Medio Alto)\",ROUND('[1]Tabla de Amortizacion'!H94,8),IF([1]CALCULADORA!$F$10=\"14% (Alto)\",ROUND('[1]Tabla de Amortizacion'!#REF!,8),IF([1]CALCULADORA!$F$10=20%,ROUND('[1]Tabla de Amortizacion'!#REF!,8),ROUND('[1]Tabla de Amortizacion'!K94,8))))))","v":0}]
["2029-04-23",5.3929399999999997E-3,{"$f":"+VLOOKUP(A94,'Tabla de Amortizacion'!$D$2:$Q$182,MATCH(Tablas!$B$1,'Tabla de Amortizacion'!$D$2:$Q$2,0))","v":5.3929399999999997E-3},null,{"$f":"IF([1]CALCULADORA!$F$10=\"Contractual\",ROUND('[1]Tabla de Amortizacion'!C95,8),IF([1]CALCULADORA!$F$10=\"6% (Medio)\",ROUND('[1]Tabla de Amortizacion'!F95,8),IF([1]CALCULADORA!$F$10=\"10% (Medio Alto)\",ROUND('[1]Tabla de Amortizacion'!H95,8),IF([1]CALCULADORA!$F$10=\"14% (Alto)\",ROUND('[1]Tabla de Amortizacion'!#REF!,8),IF([1]CALCULADORA!$F$10=20%,ROUND('[1]Tabla de Amortizacion'!#REF!,8),ROUND('[1]Tabla de Amortizacion'!K95,8))))))","v":0}]
["2029-05-23",4.7906800000000003E-3,{"$f":"+VLOOKUP(A95,'Tabla de Amortizacion'!$D$2:$Q$182,MATCH(Tablas!$B$1,'Tabla de Amortizacion'!$D$2:$Q$2,0))","v":4.7906800000000003E-3},null,{"$f":"IF([1]CALCULADORA!$F$10=\"Contractual\",ROUND('[1]Tabla de Amortizacion'!C96,8),IF([1]CALCULADORA!$F$10=\"6% (Medio)\",ROUND('[1]Tabla de Amortizacion'!F96,8),IF([1]CALCULADORA!$F$10=\"10% (Medio Alto)\",ROUND('[1]Tabla de Amortizacion'!H96,8),IF([1]CALCULADORA!$F$10=\"14% (Alto)\",ROUND('[1]Tabla de Amortizacion'!#REF!,8),IF([1]CALCULADORA!$F$10=20%,ROUND('[1]Tabla de Amortizacion'!#REF!,8),ROUND('[1]Tabla de Amortizacion'!K96,8))))))","v":0}]
["2029-06-23",5.2230799999999997E-3,{"$f":"+VLOOKUP(A96,'Tabla de Amortizacion'!$D$2:$Q$182,MATCH(Tablas!$B$1,'Tabla de Amortizacion'!$D$2:$Q$2,0))","v":5.2230799999999997E-3},null,{"$f":"IF([1]CALCULADORA!$F$10=\"Contractual\",ROUND('[1]Tabla de Amortizacion'!C97,8),IF([1]CALCULADORA!$F$10=\"6% (Medio)\",ROUND('[1]Tabla de Amortizacion'!F97,8),IF([1]CALCULADORA!$F$10=\"10% (Medio Alto)\",ROUND('[1]Tabla de Amortizacion'!H97,8),IF([1]CALCULADORA!$F$10=\"14% (Alto)\",ROUND('[1]Tabla de Amortizacion'!#REF!,8),IF([1]CALCULADORA!$F$10=20%,ROUND('[1]Tabla de Amortizacion'!#REF!,8),ROUND('[1]Tabla de Amortizacion'!K97,8))))))","v":0}]
["2029-07-23",5.1383000000000002E-3,{"$f":"+VLOOKUP(A97,'Tabla de Amortizacion'!$D$2:$Q$182,MATCH(Tablas!$B$1,'Tabla de Amortizacion'!$D$2:$Q$2,0))","v":5.1383000000000002E-3},null,{"$f":"IF([1]CALCULADORA!$F$10=\"Contractual\",ROUND('[1]Tabla de Amortizacion'!C98,8),IF([1]CALCULADORA!$F$10=\"6% (Medio)\",ROUND('[1]Tabla de Amortizacion'!F98,8),IF([1]CALCULADORA!$F$10=\"10% (Medio Alto)\",ROUND('[1]Tabla de Amortizacion'!H98,8),IF([1]CALCULADORA!$F$10=\"14% (Alto)\",ROUND('[1]Tabla de Amortizacion'!#REF!,8),IF([1]CALCULADORA!$F$10=20%,ROUND('[1]Tabla de Amortizacion'!#REF!,8),ROUND('[1]Tabla de Amortizacion'!K98,8))))))","v":0}]
["2029-08-23",5.0607100000000004E-3,{"$f":"+VLOOKUP(A98,'Tabla de Amortizacion'!$D$2:$Q$182,MATCH(Tablas!$B$1,'Tabla de Amortizacion'!$D$2:$Q$2,0))","v":5.0607100000000004E-3},null,{"$f":"IF([1]CALCULADORA!$F$10=\"Contractual\",ROUND('[1]Tabla de Amortizacion'!C99,8),IF([1]CALCULADORA!$F$10=\"6% (Medio)\",ROUND('[1]Tabla de Amortizacion'!F99,8),IF([1]CALCULADORA!$F$10=\"10% (Medio Alto)\",ROUND('[1]Tabla de Amortizacion'!H99,8),IF([1]CALCULADORA!$F$10=\"14% (Alto)\",ROUND('[1]Tabla de Amortizacion'!#REF!,8),IF([1]CALCULADORA!$F$10=20%,ROUND('[1]Tabla de Amortizacion'!#REF!,8),ROUND('[1]Tabla de Amortizacion'!K99,8))))))","v":0}]
["2029-09-23",4.9916300000000004E-3,{"$f":"+VLOOKUP(A99,'Tabla de Amortizacion'!$D$2:$Q$182,MATCH(Tablas!$B$1,'Tabla de Amortizacion'!$D$2:$Q$2,0))","v":4.9916300000000004E-3},null,{"$f":"IF([1]CALCULADORA!$F$10=\"Contractual\",ROUND('[1]Tabla de Amortizacion'!C100,8),IF([1]CALCULADORA!$F$10=\"6% (Medio)\",ROUND('[1]Tabla de Amortizacion'!F100,8),IF([1]CALCULADORA!$F$10=\"10% (Medio Alto)\",ROUND('[1]Tabla de Amortizacion'!H100,8),IF([1]CALCULADORA!$F$10=\"14% (Alto)\",ROUND('[1]Tabla de Amortizacion'!#REF!,8),IF([1]CALCULADORA!$F$10=20%,ROUND('[1]Tabla de Amortizacion'!#REF!,8),ROUND('[1]Tabla de Amortizacion'!K100,8))))))","v":0}]
["2029-10-23",4.91692E-3,{"$f":"+VLOOKUP(A100,'Tabla de Amortizacion'!$D$2:$Q$182,MATCH(Tablas!$B$1,'Tabla de Amortizacion'!$D$2:$Q$2,0))","v":4.91692E-3},null,{"$f":"IF([1]CALCULADORA!$F$10=\"Contractual\",ROUND('[1]Tabla de Amortizacion'!C101,8),IF([1]CALCULADORA!$F$10=\"6% (Medio)\",ROUND('[1]Tabla de Amortizacion'!F101,8),IF([1]CALCULADORA!$F$10=\"10% (Medio Alto)\",ROUND('[1]Tabla de Amortizacion'!H101,8),IF([1]CALCULADORA!$F$10=\"14% (Alto)\",ROUND('[1]Tabla de Amortizacion'!#REF!,8),IF([1]CALCULADORA!$F$10=20%,ROUND('[1]Tabla de Amortizacion'!#REF!,8),ROUND('[1]Tabla de Amortizacion'!K101,8))))))","v":0}]
["2029-11-23",4.8546500000000003E-3,{"$f":"+VLOOKUP(A101,'Tabla de Amortizacion'!$D$2:$Q$182,MATCH(Tablas!$B$1,'Tabla de Amortizacion'!$D$2:$Q$2,0))","v":4.8546500000000003E-3},null,{"$f":"IF([1]CALCULADORA!$F$10=\"Contractual\",ROUND('[1]Tabla de Amortizacion'!C102,8),IF([1]CALCULADORA!$F$10=\"6% (Medio)\",ROUND('[1]Tabla de Amortizacion'!F102,8),IF([1]CALCULADORA!$F$10=\"10% (Medio Alto)\",ROUND('[1]Tabla de Amortizacion'!H102,8),IF([1]CALCULADORA!$F$10=\"14% (Alto)\",ROUND('[1]Tabla de Amortizacion'!#REF!,8),IF([1]CALCULADORA!$F$10=20%,ROUND('[1]Tabla de Amortizacion'!#REF!,8),ROUND('[1]Tabla de Amortizacion'!K102,8))))))","v":0}]
["2029-12-23",4.7985800000000002E-3,{"$f":"+VLOOKUP(A102,'Tabla de Amortizacion'!$D$2:$Q$182,MATCH(Tablas!$B$1,'Tabla de Amortizacion'!$D$2:$Q$2,0))","v":4.7985800000000002E-3},null,{"$f":"IF([1]CALCULADORA!$F$10=\"Contractual\",ROUND('[1]Tabla de Amortizacion'!C103,8),IF([1]CALCULADORA!$F$10=\"6% (Medio)\",ROUND('[1]Tabla de Amortizacion'!F103,8),IF([1]CALCULADORA!$F$10=\"10% (Medio Alto)\",ROUND('[1]Tabla de Amortizacion'!H103,8),IF([1]CALCULADORA!$F$10=\"14% (Alto)\",ROUND('[1]Tabla de Amortizacion'!#REF!,8),IF([1]CALCULADORA!$F$10=20%,ROUND('[1]Tabla de Amortizacion'!#REF!,8),ROUND('[1]Tabla de Amortizacion'!K103,8))))))","v":0}]
["2030-01-23",4.7445500000000002E-3,{"$f":"+VLOOKUP(A103,'Tabla de Amortizacion'!$D$2:$Q$182,MATCH(Tablas!$B$1,'Tabla de Amortizacion'!$D$2:$Q$2,0))","v":4.7445500000000002E-3},null,{"$f":"IF([1]CALCULADORA!$F$10=\"Contractual\",ROUND('[1]Tabla de Amortizacion'!C104,8),IF([1]CALCULADORA!$F$10=\"6% (Medio)\",ROUND('[1]Tabla de Amortizacion'!F104,8),IF([1]CALCULADORA!$F$10=\"10% (Medio Alto)\",ROUND('[1]Tabla de Amortizacion'!H104,8),IF([1]CALCULADORA!$F$10=\"14% (Alto)\",ROUND('[1]Tabla de Amortizacion'!#REF!,8),IF([1]CALCULADORA!$F$10=20%,ROUND('[1]Tabla de Amortizacion'!#REF!,8),ROUND('[1]Tabla de Amortizacion'!K104,8))))))","v":0}]
["2030-02-23",4.6937699999999999E-3,{"$f":"+VLOOKUP(A104,'Tabla de Amortizacion'!$D$2:$Q$182,MATCH(Tablas!$B$1,'Tabla de Amortizacion'!$D$2:$Q$2,0))","v":4.6937699999999999E-3},null,{"$f":"IF([1]CALCULADORA!$F$10=\"Contractual\",ROUND('[1]Tabla de Amortizacion'!C105,8),IF([1]CALCULADORA!$F$10=\"6% (Medio)\",ROUND('[1]Tabla de Amortizacion'!F105,8),IF([1]CALCULADORA!$F$10=\"10% (Medio Alto)\",ROUND('[1]Tabla de Amortizacion'!H105,8),IF([1]CALCULADORA!$F$10=\"14% (Alto)\",ROUND('[1]Tabla de Amortizacion'!#REF!,8),IF([1]CALCULADORA!$F$10=20%,ROUND('[1]Tabla de Amortizacion'!#REF!,8),ROUND('[1]Tabla de Amortizacion'!K105,8))))))","v":0}]
["2030-03-23",4.6429399999999999E-3,{"$f":"+VLOOKUP(A105,'Tabla de Amortizacion'!$D$2:$Q$182,MATCH(Tablas!$B$1,'Tabla de Amortizacion'!$D$2:$Q$2,0))","v":4.6429399999999999E-3},null,{"$f":"IF([1]CALCULADORA!$F$10=\"Contractual\",ROUND('[1]Tabla de Amortizacion'!C106,8),IF([1]CALCULADORA!$F$10=\"6% (Medio)\",ROUND('[1]Tabla de Amortizacion'!F106,8),IF([1]CALCULADORA!$F$10=\"10% (Medio Alto)\",ROUND('[1]Tabla de Amortizacion'!H106,8),IF([1]CALCULADORA!$F$10=\"14% (Alto)\",ROUND('[1]Tabla de Amortizacion'!#REF!,8),IF([1]CALCULADORA!$F$10=20%,ROUND('[1]Tabla de Amortizacion'!#REF!,8),ROUND('[1]Tabla de Amortizacion'!K106,8))))))","v":0}]
["2030-04-23",4.5949700000000003E-3,{"$f":"+VLOOKUP(A106,'Tabla de Amortizacion'!$D$2:$Q$182,MATCH(Tablas!$B$1,'Tabla de Amortizacion'!$D$2:$Q$2,0))","v":4.5949700000000003E-3},null,{"$f":"IF([1]CALCULADORA!$F$10=\"Contractual\",ROUND('[1]Tabla de Amortizacion'!C107,8),IF([1]CALCULADORA!$F$10=\"6% (Medio)\",ROUND('[1]Tabla de Amortizacion'!F107,8),IF([1]CALCULADORA!$F$10=\"10% (Medio Alto)\",ROUND('[1]Tabla de Amortizacion'!H107,8),IF([1]CALCULADORA!$F$10=\"14% (Alto)\",ROUND('[1]Tabla de Amortizacion'!#REF!,8),IF([1]CALCULADORA!$F$10=20%,ROUND('[1]Tabla de Amortizacion'!#REF!,8),ROUND('[1]Tabla de Amortizacion'!K107,8))))))","v":0}]
["2030-05-23",3.9931999999999997E-3,{"$f":"+VLOOKUP(A107,'Tabla de Amortizacion'!$D$2:$Q$182,MATCH(Tablas!$B$1,'Tabla de Amortizacion'!$D$2:$Q$2,0))","v":3.9931999999999997E-3},null,{"$f":"IF([1]CALCULADORA!$F$10=\"Contractual\",ROUND('[1]Tabla de Amortizacion'!C108,8),IF([1]CALCULADORA!$F$10=\"6% (Medio)\",ROUND('[1]Tabla de Amortizacion'!F108,8),IF([1]CALCULADORA!$F$10=\"10% (Medio Alto)\",ROUND('[1]Tabla de Amortizacion'!H108,8),IF([1]CALCULADORA!$F$10=\"14% (Alto)\",ROUND('[1]Tabla de Amortizacion'!#REF!,8),IF([1]CALCULADORA!$F$10=20%,ROUND('[1]Tabla de Amortizacion'!#REF!,8),ROUND('[1]Tabla de Amortizacion'!K108,8))))))","v":0}]
["2030-06-23",4.4871499999999996E-3,{"$f":"+VLOOKUP(A108,'Tabla de Amortizacion'!$D$2:$Q$182,MATCH(Tablas!$B$1,'Tabla de Amortizacion'!$D$2:$Q$2,0))","v":4.4871499999999996E-3},null,{"$f":"IF([1]CALCULADORA!$F$10=\"Contractual\",ROUND('[1]Tabla de Amortizacion'!C109,8),IF([1]CALCULADORA!$F$10=\"6% (Medio)\",ROUND('[1]Tabla de Amortizacion'!F109,8),IF([1]CALCULADORA!$F$10=\"10% (Medio Alto)\",ROUND('[1]Tabla de Amortizacion'!H109,8),IF([1]CALCULADORA!$F$10=\"14% (Alto)\",ROUND('[1]Tabla de Amortizacion'!#REF!,8),IF([1]CALCULADORA!$F$10=20%,ROUND('[1]Tabla de Amortizacion'!#REF!,8),ROUND('[1]Tabla de Amortizacion'!K109,8))))))","v":0}]
["2030-07-23",4.43495E-3,{"$f":"+VLOOKUP(A109,'Tabla de Amortizacion'!$D$2:$Q$182,MATCH(Tablas!$B$1,'Tabla de Amortizacion'!$D$2:$Q$2,0))","v":4.43495E-3},null,{"$f":"IF([1]CALCULADORA!$F$10=\"Contractual\",ROUND('[1]Tabla de Amortizacion'!C110,8),IF([1]CALCULADORA!$F$10=\"6% (Medio)\",ROUND('[1]Tabla de Amortizacion'!F110,8),IF([1]CALCULADORA!$F$10=\"10% (Medio Alto)\",ROUND('[1]Tabla de Amortizacion'!H110,8),IF([1]CALCULADORA!$F$10=\"14% (Alto)\",ROUND('[1]Tabla de Amortizacion'!#REF!,8),IF([1]CALCULADORA!$F$10=20%,ROUND('[1]Tabla de Amortizacion'!#REF!,8),ROUND('[1]Tabla de Amortizacion'!K110,8))))))","v":0}]
["2030-08-23",4.3798300000000004E-3,{"$f":"+VLOOKUP(A110,'Tabla de Amortizacion'!$D$2:$Q$182,MATCH(Tablas!$B$1,'Tabla de Amortizacion'!$D$2:$Q$2,0))","v":4.3798300000000004E-3},null,{"$f":"IF([1]CALCULADORA!$F$10=\"Contractual\",ROUND('[1]Tabla de Amortizacion'!C111,8),IF([1]CALCULADORA!$F$10=\"6% (Medio)\",ROUND('[1]Tabla de Amortizacion'!F111,8),IF([1]CALCULADORA!$F$10=\"10% (Medio Alto)\",ROUND('[1]Tabla de Amortizacion'!H111,8),IF([1]CALCULADORA!$F$10=\"14% (Alto)\",ROUND('[1]Tabla de Amortizacion'!#REF!,8),IF([1]CALCULADORA!$F$10=20%,ROUND('[1]Tabla de Amortizacion'!#REF!,8),ROUND('[1]Tabla de Amortizacion'!K111,8))))))","v":0}]
["2030-09-23",4.3262700000000001E-3,{"$f":"+VLOOKUP(A111,'Tabla de Amortizacion'!$D$2:$Q$182,MATCH(Tablas!$B$1,'Tabla de Amortizacion'!$D$2:$Q$2,0))","v":4.3262700000000001E-3},null,{"$f":"IF([1]CALCULADORA!$F$10=\"Contractual\",ROUND('[1]Tabla de Amortizacion'!C112,8),IF([1]CALCULADORA!$F$10=\"6% (Medio)\",ROUND('[1]Tabla de Amortizacion'!F112,8),IF([1]CALCULADORA!$F$10=\"10% (Medio Alto)\",ROUND('[1]Tabla de Amortizacion'!H112,8),IF([1]CALCULADORA!$F$10=\"14% (Alto)\",ROUND('[1]Tabla de Amortizacion'!#REF!,8),IF([1]CALCULADORA!$F$10=20%,ROUND('[1]Tabla de Amortizacion'!#REF!,8),ROUND('[1]Tabla de Amortizacion'!K112,8))))))","v":0}]
["2030-10-23",4.2701500000000003E-3,{"$f":"+VLOOKUP(A112,'Tabla de Amortizacion'!$D$2:$Q$182,MATCH(Tablas!$B$1,'Tabla de Amortizacion'!$D$2:$Q$2,0))","v":4.2701500000000003E-3},null,{"$f":"IF([1]CALCULADORA!$F$10=\"Contractual\",ROUND('[1]Tabla de Amortizacion'!C113,8),IF([1]CALCULADORA!$F$10=\"6% (Medio)\",ROUND('[1]Tabla de Amortizacion'!F113,8),IF([1]CALCULADORA!$F$10=\"10% (Medio Alto)\",ROUND('[1]Tabla de Amortizacion'!H113,8),IF([1]CALCULADORA!$F$10=\"14% (Alto)\",ROUND('[1]Tabla de Amortizacion'!#REF!,8),IF([1]CALCULADORA!$F$10=20%,ROUND('[1]Tabla de Amortizacion'!#REF!,8),ROUND('[1]Tabla de Amortizacion'!K113,8))))))","v":0}]
["2030-11-23",4.21486E-3,{"$f":"+VLOOKUP(A113,'Tabla de Amortizacion'!$D$2:$Q$182,MATCH(Tablas!$B$1,'Tabla de Amortizacion'!$D$2:$Q$2,0))","v":4.21486E-3},null,{"$f":"IF([1]CALCULADORA!$F$10=\"Contractual\",ROUND('[1]Tabla de Amortizacion'!C114,8),IF([1]CALCULADORA!$F$10=\"6% (Medio)\",ROUND('[1]Tabla de Amortizacion'!F114,8),IF([1]CALCULADORA!$F$10=\"10% (Medio Alto)\",ROUND('[1]Tabla de Amortizacion'!H114,8),IF([1]CALCULADORA!$F$10=\"14% (Alto)\",ROUND('[1]Tabla de Amortizacion'!#REF!,8),IF([1]CALCULADORA!$F$10=20%,ROUND('[1]Tabla de Amortizacion'!#REF!,8),ROUND('[1]Tabla de Amortizacion'!K114,8))))))","v":0}]
["2030-12-23",4.1626900000000001E-3,{"$f":"+VLOOKUP(A114,'Tabla de Amortizacion'!$D$2:$Q$182,MATCH(Tablas!$B$1,'Tabla de Amortizacion'!$D$2:$Q$2,0))","v":4.1626900000000001E-3},null,{"$f":"IF([1]CALCULADORA!$F$10=\"Contractual\",ROUND('[1]Tabla de Amortizacion'!C115,8),IF([1]CALCULADORA!$F$10=\"6% (Medio)\",ROUND('[1]Tabla de Amortizacion'!F115,8),IF([1]CALCULADORA!$F$10=\"10% (Medio Alto)\",ROUND('[1]Tabla de Amortizacion'!H115,8),IF([1]CALCULADORA!$F$10=\"14% (Alto)\",ROUND('[1]Tabla de Amortizacion'!#REF!,8),IF([1]CALCULADORA!$F$10=20%,ROUND('[1]Tabla de Amortizacion'!#REF!,8),ROUND('[1]Tabla de Amortizacion'!K115,8))))))","v":0}]
["2031-01-23",4.0998199999999997E-3,{"$f":"+VLOOKUP(A115,'Tabla de Amortizacion'!$D$2:$Q$182,MATCH(Tablas!$B$1,'Tabla de Amortizacion'!$D$2:$Q$2,0))","v":4.0998199999999997E-3},null,{"$f":"IF([1]CALCULADORA!$F$10=\"Contractual\",ROUND('[1]Tabla de Amortizacion'!C116,8),IF([1]CALCULADORA!$F$10=\"6% (Medio)\",ROUND('[1]Tabla de Amortizacion'!F116,8),IF([1]CALCULADORA!$F$10=\"10% (Medio Alto)\",ROUND('[1]Tabla de Amortizacion'!H116,8),IF([1]CALCULADORA!$F$10=\"14% (Alto)\",ROUND('[1]Tabla de Amortizacion'!#REF!,8),IF([1]CALCULADORA!$F$10=20%,ROUND('[1]Tabla de Amortizacion'!#REF!,8),ROUND('[1]Tabla de Amortizacion'!K116,8))))))","v":0}]
["2031-02-23",4.0431900000000003E-3,{"$f":"+VLOOKUP(A116,'Tabla de Amortizacion'!$D$2:$Q$182,MATCH(Tablas!$B$1,'Tabla de Amortizacion'!$D$2:$Q$2,0))","v":4.0431900000000003E-3},null,{"$f":"IF([1]CALCULADORA!$F$10=\"Contractual\",ROUND('[1]Tabla de Amortizacion'!C117,8),IF([1]CALCULADORA!$F$10=\"6% (Medio)\",ROUND('[1]Tabla de Amortizacion'!F117,8),IF([1]CALCULADORA!$F$10=\"10% (Medio Alto)\",ROUND('[1]Tabla de Amortizacion'!H117,8),IF([1]CALCULADORA!$F$10=\"14% (Alto)\",ROUND('[1]Tabla de Amortizacion'!#REF!,8),IF([1]CALCULADORA!$F$10=20%,ROUND('[1]Tabla de Amortizacion'!#REF!,8),ROUND('[1]Tabla de Amortizacion'!K117,8))))))","v":0}]
["2031-03-23",3.99023E-3,{"$f":"+VLOOKUP(A117,'Tabla de Amortizacion'!$D$2:$Q$182,MATCH(Tablas!$B$1,'Tabla de Amortizacion'!$D$2:$Q$2,0))","v":3.99023E-3},null,{"$f":"IF([1]CALCULADORA!$F$10=\"Contractual\",ROUND('[1]Tabla de Amortizacion'!C118,8),IF([1]CALCULADORA!$F$10=\"6% (Medio)\",ROUND('[1]Tabla de Amortizacion'!F118,8),IF([1]CALCULADORA!$F$10=\"10% (Medio Alto)\",ROUND('[1]Tabla de Amortizacion'!H118,8),IF([1]CALCULADORA!$F$10=\"14% (Alto)\",ROUND('[1]Tabla de Amortizacion'!#REF!,8),IF([1]CALCULADORA!$F$10=20%,ROUND('[1]Tabla de Amortizacion'!#REF!,8),ROUND('[1]Tabla de Amortizacion'!K118,8))))))","v":0}]
["2031-04-23",3.9217000000000002E-3,{"$f":"+VLOOKUP(A118,'Tabla de Amortizacion'!$D$2:$Q$182,MATCH(Tablas!$B$1,'Tabla de Amortizacion'!$D$2:$Q$2,0))","v":3.9217000000000002E-3},null,{"$f":"IF([1]CALCULADORA!$F$10=\"Contractual\",ROUND('[1]Tabla de Amortizacion'!C119,8),IF([1]CALCULADORA!$F$10=\"6% (Medio)\",ROUND('[1]Tabla de Amortizacion'!F119,8),IF([1]CALCULADORA!$F$10=\"10% (Medio Alto)\",ROUND('[1]Tabla de Amortizacion'!H119,8),IF([1]CALCULADORA!$F$10=\"14% (Alto)\",ROUND('[1]Tabla de Amortizacion'!#REF!,8),IF([1]CALCULADORA!$F$10=20%,ROUND('[1]Tabla de Amortizacion'!#REF!,8),ROUND('[1]Tabla de Amortizacion'!K119,8))))))","v":0}]
["2031-05-23",3.2861000000000001E-3,{"$f":"+VLOOKUP(A119,'Tabla de Amortizacion'!$D$2:$Q$182,MATCH(Tablas!$B$1,'Tabla de Amortizacion'!$D$2:$Q$2,0))","v":3.2861000000000001E-3},null,{"$f":"IF([1]CALCULADORA!$F$10=\"Contractual\",ROUND('[1]Tabla de Amortizacion'!C120,8),IF([1]CALCULADORA!$F$10=\"6% (Medio)\",ROUND('[1]Tabla de Amortizacion'!F120,8),IF([1]CALCULADORA!$F$10=\"10% (Medio Alto)\",ROUND('[1]Tabla de Amortizacion'!H120,8),IF([1]CALCULADORA!$F$10=\"14% (Alto)\",ROUND('[1]Tabla de Amortizacion'!#REF!,8),IF([1]CALCULADORA!$F$10=20%,ROUND('[1]Tabla de Amortizacion'!#REF!,8),ROUND('[1]Tabla de Amortizacion'!K120,8))))))","v":0}]
["2031-06-23",2.9935500000000002E-3,{"$f":"+VLOOKUP(A120,'Tabla de Amortizacion'!$D$2:$Q$182,MATCH(Tablas!$B$1,'Tabla de Amortizacion'!$D$2:$Q$2,0))","v":2.9935500000000002E-3},null,{"$f":"IF([1]CALCULADORA!$F$10=\"Contractual\",ROUND('[1]Tabla de Amortizacion'!C121,8),IF([1]CALCULADORA!$F$10=\"6% (Medio)\",ROUND('[1]Tabla de Amortizacion'!F121,8),IF([1]CALCULADORA!$F$10=\"10% (Medio Alto)\",ROUND('[1]Tabla de Amortizacion'!H121,8),IF([1]CALCULADORA!$F$10=\"14% (Alto)\",ROUND('[1]Tabla de Amortizacion'!#REF!,8),IF([1]CALCULADORA!$F$10=20%,ROUND('[1]Tabla de Amortizacion'!#REF!,8),ROUND('[1]Tabla de Amortizacion'!K121,8))))))","v":0}]
["2031-07-23",0,{"$f":"+VLOOKUP(A121,'Tabla de Amortizacion'!$D$2:$Q$182,MATCH(Tablas!$B$1,'Tabla de Amortizacion'!$D$2:$Q$2,0))","v":0},null,{"$f":"IF([1]CALCULADORA!$F$10=\"Contractual\",ROUND('[1]Tabla de Amortizacion'!C122,8),IF([1]CALCULADORA!$F$10=\"6% (Medio)\",ROUND('[1]Tabla de Amortizacion'!F122,8),IF([1]CALCULADORA!$F$10=\"10% (Medio Alto)\",ROUND('[1]Tabla de Amortizacion'!H122,8),IF([1]CALCULADORA!$F$10=\"14% (Alto)\",ROUND('[1]Tabla de Amortizacion'!#REF!,8),IF([1]CALCULADORA!$F$10=20%,ROUND('[1]Tabla de Amortizacion'!#REF!,8),ROUND('[1]Tabla de Amortizacion'!K122,8))))))","v":0}]
["2031-08-23",0,{"$f":"+VLOOKUP(A122,'Tabla de Amortizacion'!$D$2:$Q$182,MATCH(Tablas!$B$1,'Tabla de Amortizacion'!$D$2:$Q$2,0))","v":0},null,{"$f":"IF([1]CALCULADORA!$F$10=\"Contractual\",ROUND('[1]Tabla de Amortizacion'!C123,8),IF([1]CALCULADORA!$F$10=\"6% (Medio)\",ROUND('[1]Tabla de Amortizacion'!F123,8),IF([1]CALCULADORA!$F$10=\"10% (Medio Alto)\",ROUND('[1]Tabla de Amortizacion'!H123,8),IF([1]CALCULADORA!$F$10=\"14% (Alto)\",ROUND('[1]Tabla de Amortizacion'!#REF!,8),IF([1]CALCULADORA!$F$10=20%,ROUND('[1]Tabla de Amortizacion'!#REF!,8),ROUND('[1]Tabla de Amortizacion'!K123,8))))))","v":0}]
["2031-09-23",0,{"$f":"+VLOOKUP(A123,'Tabla de Amortizacion'!$D$2:$Q$182,MATCH(Tablas!$B$1,'Tabla de Amortizacion'!$D$2:$Q$2,0))","v":0},null,{"$f":"IF([1]CALCULADORA!$F$10=\"Contractual\",ROUND('[1]Tabla de Amortizacion'!C124,8),IF([1]CALCULADORA!$F$10=\"6% (Medio)\",ROUND('[1]Tabla de Amortizacion'!F124,8),IF([1]CALCULADORA!$F$10=\"10% (Medio Alto)\",ROUND('[1]Tabla de Amortizacion'!H124,8),IF([1]CALCULADORA!$F$10=\"14% (Alto)\",ROUND('[1]Tabla de Amortizacion'!#REF!,8),IF([1]CALCULADORA!$F$10=20%,ROUND('[1]Tabla de Amortizacion'!#REF!,8),ROUND('[1]Tabla de Amortizacion'!K124,8))))))","v":0}]
["2031-10-23",0,{"$f":"+VLOOKUP(A124,'Tabla de Amortizacion'!$D$2:$Q$182,MATCH(Tablas!$B$1,'Tabla de Amortizacion'!$D$2:$Q$2,0))","v":0},null,{"$f":"IF([1]CALCULADORA!$F$10=\"Contractual\",ROUND('[1]Tabla de Amortizacion'!C125,8),IF([1]CALCULADORA!$F$10=\"6% (Medio)\",ROUND('[1]Tabla de Amortizacion'!F125,8),IF([1]CALCULADORA!$F$10=\"10% (Medio Alto)\",ROUND('[1]Tabla de Amortizacion'!H125,8),IF([1]CALCULADORA!$F$10=\"14% (Alto)\",ROUND('[1]Tabla de Amortizacion'!#REF!,8),IF([1]CALCULADORA!$F$10=20%,ROUND('[1]Tabla de Amortizacion'!#REF!,8),ROUND('[1]Tabla de Amortizacion'!K125,8))))))","v":0}]
["2031-11-23",0,{"$f":"+VLOOKUP(A125,'Tabla de Amortizacion'!$D$2:$Q$182,MATCH(Tablas!$B$1,'Tabla de Amortizacion'!$D$2:$Q$2,0))","v":0},null,{"$f":"IF([1]CALCULADORA!$F$10=\"Contractual\",ROUND('[1]Tabla de Amortizacion'!C126,8),IF([1]CALCULADORA!$F$10=\"6% (Medio)\",ROUND('[1]Tabla de Amortizacion'!F126,8),IF([1]CALCULADORA!$F$10=\"10% (Medio Alto)\",ROUND('[1]Tabla de Amortizacion'!H126,8),IF([1]CALCULADORA!$F$10=\"14% (Alto)\",ROUND('[1]Tabla de Amortizacion'!#REF!,8),IF([1]CALCULADORA!$F$10=20%,ROUND('[1]Tabla de Amortizacion'!#REF!,8),ROUND('[1]Tabla de Amortizacion'!K126,8))))))","v":0}]
["2031-12-23",0,{"$f":"+VLOOKUP(A126,'Tabla de Amortizacion'!$D$2:$Q$182,MATCH(Tablas!$B$1,'Tabla de Amortizacion'!$D$2:$Q$2,0))","v":0},null,{"$f":"IF([1]CALCULADORA!$F$10=\"Contractual\",ROUND('[1]Tabla de Amortizacion'!C127,8),IF([1]CALCULADORA!$F$10=\"6% (Medio)\",ROUND('[1]Tabla de Amortizacion'!F127,8),IF([1]CALCULADORA!$F$10=\"10% (Medio Alto)\",ROUND('[1]Tabla de Amortizacion'!H127,8),IF([1]CALCULADORA!$F$10=\"14% (Alto)\",ROUND('[1]Tabla de Amortizacion'!#REF!,8),IF([1]CALCULADORA!$F$10=20%,ROUND('[1]Tabla de Amortizacion'!#REF!,8),ROUND('[1]Tabla de Amortizacion'!K127,8))))))","v":0}]
["2032-01-23",0,{"$f":"+VLOOKUP(A127,'Tabla de Amortizacion'!$D$2:$Q$182,MATCH(Tablas!$B$1,'Tabla de Amortizacion'!$D$2:$Q$2,0))","v":0},null,{"$f":"IF([1]CALCULADORA!$F$10=\"Contractual\",ROUND('[1]Tabla de Amortizacion'!C128,8),IF([1]CALCULADORA!$F$10=\"6% (Medio)\",ROUND('[1]Tabla de Amortizacion'!F128,8),IF([1]CALCULADORA!$F$10=\"10% (Medio Alto)\",ROUND('[1]Tabla de Amortizacion'!H128,8),IF([1]CALCULADORA!$F$10=\"14% (Alto)\",ROUND('[1]Tabla de Amortizacion'!#REF!,8),IF([1]CALCULADORA!$F$10=20%,ROUND('[1]Tabla de Amortizacion'!#REF!,8),ROUND('[1]Tabla de Amortizacion'!K128,8))))))","v":0}]
["2032-02-23",0,{"$f":"+VLOOKUP(A128,'Tabla de Amortizacion'!$D$2:$Q$182,MATCH(Tablas!$B$1,'Tabla de Amortizacion'!$D$2:$Q$2,0))","v":0},null,{"$f":"IF([1]CALCULADORA!$F$10=\"Contractual\",ROUND('[1]Tabla de Amortizacion'!C129,8),IF([1]CALCULADORA!$F$10=\"6% (Medio)\",ROUND('[1]Tabla de Amortizacion'!F129,8),IF([1]CALCULADORA!$F$10=\"10% (Medio Alto)\",ROUND('[1]Tabla de Amortizacion'!H129,8),IF([1]CALCULADORA!$F$10=\"14% (Alto)\",ROUND('[1]Tabla de Amortizacion'!#REF!,8),IF([1]CALCULADORA!$F$10=20%,ROUND('[1]Tabla de Amortizacion'!#REF!,8),ROUND('[1]Tabla de Amortizacion'!K129,8))))))","v":0}]
["2032-03-23",0,{"$f":"+VLOOKUP(A129,'Tabla de Amortizacion'!$D$2:$Q$182,MATCH(Tablas!$B$1,'Tabla de Amortizacion'!$D$2:$Q$2,0))","v":0},null,{"$f":"IF([1]CALCULADORA!$F$10=\"Contractual\",ROUND('[1]Tabla de Amortizacion'!C130,8),IF([1]CALCULADORA!$F$10=\"6% (Medio)\",ROUND('[1]Tabla de Amortizacion'!F130,8),IF([1]CALCULADORA!$F$10=\"10% (Medio Alto)\",ROUND('[1]Tabla de Amortizacion'!H130,8),IF([1]CALCULADORA!$F$10=\"14% (Alto)\",ROUND('[1]Tabla de Amortizacion'!#REF!,8),IF([1]CALCULADORA!$F$10=20%,ROUND('[1]Tabla de Amortizacion'!#REF!,8),ROUND('[1]Tabla de Amortizacion'!K130,8))))))","v":0}]
["2032-04-23",0,{"$f":"+VLOOKUP(A130,'Tabla de Amortizacion'!$D$2:$Q$182,MATCH(Tablas!$B$1,'Tabla de Amortizacion'!$D$2:$Q$2,0))","v":0},null,{"$f":"IF([1]CALCULADORA!$F$10=\"Contractual\",ROUND('[1]Tabla de Amortizacion'!C131,8),IF([1]CALCULADORA!$F$10=\"6% (Medio)\",ROUND('[1]Tabla de Amortizacion'!F131,8),IF([1]CALCULADORA!$F$10=\"10% (Medio Alto)\",ROUND('[1]Tabla de Amortizacion'!H131,8),IF([1]CALCULADORA!$F$10=\"14% (Alto)\",ROUND('[1]Tabla de Amortizacion'!#REF!,8),IF([1]CALCULADORA!$F$10=20%,ROUND('[1]Tabla de Amortizacion'!#REF!,8),ROUND('[1]Tabla de Amortizacion'!K131,8))))))","v":0}]
[{"$f":"EDATE(A130,1)","v":"2032-05-23"},{"$f":"+ROUND(C131,8)","v":0},{"$f":"+VLOOKUP(A131,'Tabla de Amortizacion'!$D$2:$Q$182,MATCH(Tablas!$B$1,'Tabla de Amortizacion'!$D$2:$Q$2,0))","v":0},null,{"$f":"IF([1]CALCULADORA!$F$10=\"Contractual\",ROUND('[1]Tabla de Amortizacion'!C132,8),IF([1]CALCULADORA!$F$10=\"6% (Medio)\",ROUND('[1]Tabla de Amortizacion'!F132,8),IF([1]CALCULADORA!$F$10=\"10% (Medio Alto)\",ROUND('[1]Tabla de Amortizacion'!H132,8),IF([1]CALCULADORA!$F$10=\"14% (Alto)\",ROUND('[1]Tabla de Amortizacion'!#REF!,8),IF([1]CALCULADORA!$F$10=20%,ROUND('[1]Tabla de Amortizacion'!#REF!,8),ROUND('[1]Tabla de Amortizacion'!K132,8))))))","v":0}]
["2032-06-23",0,{"$f":"+VLOOKUP(A132,'Tabla de Amortizacion'!$D$2:$Q$182,MATCH(Tablas!$B$1,'Tabla de Amortizacion'!$D$2:$Q$2,0))","v":0},null,{"$f":"IF([1]CALCULADORA!$F$10=\"Contractual\",ROUND('[1]Tabla de Amortizacion'!C133,8),IF([1]CALCULADORA!$F$10=\"6% (Medio)\",ROUND('[1]Tabla de Amortizacion'!F133,8),IF([1]CALCULADORA!$F$10=\"10% (Medio Alto)\",ROUND('[1]Tabla de Amortizacion'!H133,8),IF([1]CALCULADORA!$F$10=\"14% (Alto)\",ROUND('[1]Tabla de Amortizacion'!#REF!,8),IF([1]CALCULADORA!$F$10=20%,ROUND('[1]Tabla de Amortizacion'!#REF!,8),ROUND('[1]Tabla de Amortizacion'!K133,8))))))","v":0}]
["2032-07-23",0,{"$f":"+VLOOKUP(A133,'Tabla de Amortizacion'!$D$2:$Q$182,MATCH(Tablas!$B$1,'Tabla de Amortizacion'!$D$2:$Q$2,0))","v":0},null,{"$f":"IF([1]CALCULADORA!$F$10=\"Contractual\",ROUND('[1]Tabla de Amortizacion'!C134,8),IF([1]CALCULADORA!$F$10=\"6% (Medio)\",ROUND('[1]Tabla de Amortizacion'!F134,8),IF([1]CALCULADORA!$F$10=\"10% (Medio Alto)\",ROUND('[1]Tabla de Amortizacion'!H134,8),IF([1]CALCULADORA!$F$10=\"14% (Alto)\",ROUND('[1]Tabla de Amortizacion'!#REF!,8),IF([1]CALCULADORA!$F$10=20%,ROUND('[1]Tabla de Amortizacion'!#REF!,8),ROUND('[1]Tabla de Amortizacion'!K134,8))))))","v":0}]
["2032-08-23",0,{"$f":"+VLOOKUP(A134,'Tabla de Amortizacion'!$D$2:$Q$182,MATCH(Tablas!$B$1,'Tabla de Amortizacion'!$D$2:$Q$2,0))","v":0},null,{"$f":"IF([1]CALCULADORA!$F$10=\"Contractual\",ROUND('[1]Tabla de Amortizacion'!C135,8),IF([1]CALCULADORA!$F$10=\"6% (Medio)\",ROUND('[1]Tabla de Amortizacion'!F135,8),IF([1]CALCULADORA!$F$10=\"10% (Medio Alto)\",ROUND('[1]Tabla de Amortizacion'!H135,8),IF([1]CALCULADORA!$F$10=\"14% (Alto)\",ROUND('[1]Tabla de Amortizacion'!#REF!,8),IF([1]CALCULADORA!$F$10=20%,ROUND('[1]Tabla de Amortizacion'!#REF!,8),ROUND('[1]Tabla de Amortizacion'!K135,8))))))","v":0}]
["2032-09-23",0,{"$f":"+VLOOKUP(A135,'Tabla de Amortizacion'!$D$2:$Q$182,MATCH(Tablas!$B$1,'Tabla de Amortizacion'!$D$2:$Q$2,0))","v":0},null,{"$f":"IF([1]CALCULADORA!$F$10=\"Contractual\",ROUND('[1]Tabla de Amortizacion'!C136,8),IF([1]CALCULADORA!$F$10=\"6% (Medio)\",ROUND('[1]Tabla de Amortizacion'!F136,8),IF([1]CALCULADORA!$F$10=\"10% (Medio Alto)\",ROUND('[1]Tabla de Amortizacion'!H136,8),IF([1]CALCULADORA!$F$10=\"14% (Alto)\",ROUND('[1]Tabla de Amortizacion'!#REF!,8),IF([1]CALCULADORA!$F$10=20%,ROUND('[1]Tabla de Amortizacion'!#REF!,8),ROUND('[1]Tabla de Amortizacion'!K136,8))))))","v":0}]
["2032-10-23",0,{"$f":"+VLOOKUP(A136,'Tabla de Amortizacion'!$D$2:$Q$182,MATCH(Tablas!$B$1,'Tabla de Amortizacion'!$D$2:$Q$2,0))","v":0},null,{"$f":"IF([1]CALCULADORA!$F$10=\"Contractual\",ROUND('[1]Tabla de Amortizacion'!C137,8),IF([1]CALCULADORA!$F$10=\"6% (Medio)\",ROUND('[1]Tabla de Amortizacion'!F137,8),IF([1]CALCULADORA!$F$10=\"10% (Medio Alto)\",ROUND('[1]Tabla de Amortizacion'!H137,8),IF([1]CALCULADORA!$F$10=\"14% (Alto)\",ROUND('[1]Tabla de Amortizacion'!#REF!,8),IF([1]CALCULADORA!$F$10=20%,ROUND('[1]Tabla de Amortizacion'!#REF!,8),ROUND('[1]Tabla de Amortizacion'!K137,8))))))","v":0}]
["2032-11-23",0,{"$f":"+VLOOKUP(A137,'Tabla de Amortizacion'!$D$2:$Q$182,MATCH(Tablas!$B$1,'Tabla de Amortizacion'!$D$2:$Q$2,0))","v":0},null,{"$f":"IF([1]CALCULADORA!$F$10=\"Contractual\",ROUND('[1]Tabla de Amortizacion'!C138,8),IF([1]CALCULADORA!$F$10=\"6% (Medio)\",ROUND('[1]Tabla de Amortizacion'!F138,8),IF([1]CALCULADORA!$F$10=\"10% (Medio Alto)\",ROUND('[1]Tabla de Amortizacion'!H138,8),IF([1]CALCULADORA!$F$10=\"14% (Alto)\",ROUND('[1]Tabla de Amortizacion'!#REF!,8),IF([1]CALCULADORA!$F$10=20%,ROUND('[1]Tabla de Amortizacion'!#REF!,8),ROUND('[1]Tabla de Amortizacion'!K138,8))))))","v":0}]
["2032-12-23",0,{"$f":"+VLOOKUP(A138,'Tabla de Amortizacion'!$D$2:$Q$182,MATCH(Tablas!$B$1,'Tabla de Amortizacion'!$D$2:$Q$2,0))","v":0},null,{"$f":"IF([1]CALCULADORA!$F$10=\"Contractual\",ROUND('[1]Tabla de Amortizacion'!C139,8),IF([1]CALCULADORA!$F$10=\"6% (Medio)\",ROUND('[1]Tabla de Amortizacion'!F139,8),IF([1]CALCULADORA!$F$10=\"10% (Medio Alto)\",ROUND('[1]Tabla de Amortizacion'!H139,8),IF([1]CALCULADORA!$F$10=\"14% (Alto)\",ROUND('[1]Tabla de Amortizacion'!#REF!,8),IF([1]CALCULADORA!$F$10=20%,ROUND('[1]Tabla de Amortizacion'!#REF!,8),ROUND('[1]Tabla de Amortizacion'!K139,8))))))","v":0}]
["2033-01-23",0,{"$f":"+VLOOKUP(A139,'Tabla de Amortizacion'!$D$2:$Q$182,MATCH(Tablas!$B$1,'Tabla de Amortizacion'!$D$2:$Q$2,0))","v":0},null,{"$f":"IF([1]CALCULADORA!$F$10=\"Contractual\",ROUND('[1]Tabla de Amortizacion'!C140,8),IF([1]CALCULADORA!$F$10=\"6% (Medio)\",ROUND('[1]Tabla de Amortizacion'!F140,8),IF([1]CALCULADORA!$F$10=\"10% (Medio Alto)\",ROUND('[1]Tabla de Amortizacion'!H140,8),IF([1]CALCULADORA!$F$10=\"14% (Alto)\",ROUND('[1]Tabla de Amortizacion'!#REF!,8),IF([1]CALCULADORA!$F$10=20%,ROUND('[1]Tabla de Amortizacion'!#REF!,8),ROUND('[1]Tabla de Amortizacion'!K140,8))))))","v":0}]
["2033-02-23",0,{"$f":"+VLOOKUP(A140,'Tabla de Amortizacion'!$D$2:$Q$182,MATCH(Tablas!$B$1,'Tabla de Amortizacion'!$D$2:$Q$2,0))","v":0},null,{"$f":"IF([1]CALCULADORA!$F$10=\"Contractual\",ROUND('[1]Tabla de Amortizacion'!C141,8),IF([1]CALCULADORA!$F$10=\"6% (Medio)\",ROUND('[1]Tabla de Amortizacion'!F141,8),IF([1]CALCULADORA!$F$10=\"10% (Medio Alto)\",ROUND('[1]Tabla de Amortizacion'!H141,8),IF([1]CALCULADORA!$F$10=\"14% (Alto)\",ROUND('[1]Tabla de Amortizacion'!#REF!,8),IF([1]CALCULADORA!$F$10=20%,ROUND('[1]Tabla de Amortizacion'!#REF!,8),ROUND('[1]Tabla de Amortizacion'!K141,8))))))","v":0}]
["2033-03-23",0,{"$f":"+VLOOKUP(A141,'Tabla de Amortizacion'!$D$2:$Q$182,MATCH(Tablas!$B$1,'Tabla de Amortizacion'!$D$2:$Q$2,0))","v":0},null,{"$f":"IF([1]CALCULADORA!$F$10=\"Contractual\",ROUND('[1]Tabla de Amortizacion'!C142,8),IF([1]CALCULADORA!$F$10=\"6% (Medio)\",ROUND('[1]Tabla de Amortizacion'!F142,8),IF([1]CALCULADORA!$F$10=\"10% (Medio Alto)\",ROUND('[1]Tabla de Amortizacion'!H142,8),IF([1]CALCULADORA!$F$10=\"14% (Alto)\",ROUND('[1]Tabla de Amortizacion'!#REF!,8),IF([1]CALCULADORA!$F$10=20%,ROUND('[1]Tabla de Amortizacion'!#REF!,8),ROUND('[1]Tabla de Amortizacion'!K142,8))))))","v":0}]
["2033-04-23",0,{"$f":"+VLOOKUP(A142,'Tabla de Amortizacion'!$D$2:$Q$182,MATCH(Tablas!$B$1,'Tabla de Amortizacion'!$D$2:$Q$2,0))","v":0},null,{"$f":"IF([1]CALCULADORA!$F$10=\"Contractual\",ROUND('[1]Tabla de Amortizacion'!C143,8),IF([1]CALCULADORA!$F$10=\"6% (Medio)\",ROUND('[1]Tabla de Amortizacion'!F143,8),IF([1]CALCULADORA!$F$10=\"10% (Medio Alto)\",ROUND('[1]Tabla de Amortizacion'!H143,8),IF([1]CALCULADORA!$F$10=\"14% (Alto)\",ROUND('[1]Tabla de Amortizacion'!#REF!,8),IF([1]CALCULADORA!$F$10=20%,ROUND('[1]Tabla de Amortizacion'!#REF!,8),ROUND('[1]Tabla de Amortizacion'!K143,8))))))","v":0}]
["2033-05-23",0,{"$f":"+VLOOKUP(A143,'Tabla de Amortizacion'!$D$2:$Q$182,MATCH(Tablas!$B$1,'Tabla de Amortizacion'!$D$2:$Q$2,0))","v":0},null,{"$f":"IF([1]CALCULADORA!$F$10=\"Contractual\",ROUND('[1]Tabla de Amortizacion'!C144,8),IF([1]CALCULADORA!$F$10=\"6% (Medio)\",ROUND('[1]Tabla de Amortizacion'!F144,8),IF([1]CALCULADORA!$F$10=\"10% (Medio Alto)\",ROUND('[1]Tabla de Amortizacion'!H144,8),IF([1]CALCULADORA!$F$10=\"14% (Alto)\",ROUND('[1]Tabla de Amortizacion'!#REF!,8),IF([1]CALCULADORA!$F$10=20%,ROUND('[1]Tabla de Amortizacion'!#REF!,8),ROUND('[1]Tabla de Amortizacion'!K144,8))))))","v":0}]
["2033-06-23",0,{"$f":"+VLOOKUP(A144,'Tabla de Amortizacion'!$D$2:$Q$182,MATCH(Tablas!$B$1,'Tabla de Amortizacion'!$D$2:$Q$2,0))","v":0},null,{"$f":"IF([1]CALCULADORA!$F$10=\"Contractual\",ROUND('[1]Tabla de Amortizacion'!C145,8),IF([1]CALCULADORA!$F$10=\"6% (Medio)\",ROUND('[1]Tabla de Amortizacion'!F145,8),IF([1]CALCULADORA!$F$10=\"10% (Medio Alto)\",ROUND('[1]Tabla de Amortizacion'!H145,8),IF([1]CALCULADORA!$F$10=\"14% (Alto)\",ROUND('[1]Tabla de Amortizacion'!#REF!,8),IF([1]CALCULADORA!$F$10=20%,ROUND('[1]Tabla de Amortizacion'!#REF!,8),ROUND('[1]Tabla de Amortizacion'!K145,8))))))","v":0}]
["2033-07-23",0,{"$f":"+VLOOKUP(A145,'Tabla de Amortizacion'!$D$2:$Q$182,MATCH(Tablas!$B$1,'Tabla de Amortizacion'!$D$2:$Q$2,0))","v":0},null,{"$f":"IF([1]CALCULADORA!$F$10=\"Contractual\",ROUND('[1]Tabla de Amortizacion'!C146,8),IF([1]CALCULADORA!$F$10=\"6% (Medio)\",ROUND('[1]Tabla de Amortizacion'!F146,8),IF([1]CALCULADORA!$F$10=\"10% (Medio Alto)\",ROUND('[1]Tabla de Amortizacion'!H146,8),IF([1]CALCULADORA!$F$10=\"14% (Alto)\",ROUND('[1]Tabla de Amortizacion'!#REF!,8),IF([1]CALCULADORA!$F$10=20%,ROUND('[1]Tabla de Amortizacion'!#REF!,8),ROUND('[1]Tabla de Amortizacion'!K146,8))))))","v":0}]
["2033-08-23",0,{"$f":"+VLOOKUP(A146,'Tabla de Amortizacion'!$D$2:$Q$182,MATCH(Tablas!$B$1,'Tabla de Amortizacion'!$D$2:$Q$2,0))","v":0},null,{"$f":"IF([1]CALCULADORA!$F$10=\"Contractual\",ROUND('[1]Tabla de Amortizacion'!C147,8),IF([1]CALCULADORA!$F$10=\"6% (Medio)\",ROUND('[1]Tabla de Amortizacion'!F147,8),IF([1]CALCULADORA!$F$10=\"10% (Medio Alto)\",ROUND('[1]Tabla de Amortizacion'!H147,8),IF([1]CALCULADORA!$F$10=\"14% (Alto)\",ROUND('[1]Tabla de Amortizacion'!#REF!,8),IF([1]CALCULADORA!$F$10=20%,ROUND('[1]Tabla de Amortizacion'!#REF!,8),ROUND('[1]Tabla de Amortizacion'!K147,8))))))","v":0}]
["2033-09-23",0,{"$f":"+VLOOKUP(A147,'Tabla de Amortizacion'!$D$2:$Q$182,MATCH(Tablas!$B$1,'Tabla de Amortizacion'!$D$2:$Q$2,0))","v":0},null,{"$f":"IF([1]CALCULADORA!$F$10=\"Contractual\",ROUND('[1]Tabla de Amortizacion'!C148,8),IF([1]CALCULADORA!$F$10=\"6% (Medio)\",ROUND('[1]Tabla de Amortizacion'!F148,8),IF([1]CALCULADORA!$F$10=\"10% (Medio Alto)\",ROUND('[1]Tabla de Amortizacion'!H148,8),IF([1]CALCULADORA!$F$10=\"14% (Alto)\",ROUND('[1]Tabla de Amortizacion'!#REF!,8),IF([1]CALCULADORA!$F$10=20%,ROUND('[1]Tabla de Amortizacion'!#REF!,8),ROUND('[1]Tabla de Amortizacion'!K148,8))))))","v":0}]
["2033-10-23",0,{"$f":"+VLOOKUP(A148,'Tabla de Amortizacion'!$D$2:$Q$182,MATCH(Tablas!$B$1,'Tabla de Amortizacion'!$D$2:$Q$2,0))","v":0},null,{"$f":"IF([1]CALCULADORA!$F$10=\"Contractual\",ROUND('[1]Tabla de Amortizacion'!C149,8),IF([1]CALCULADORA!$F$10=\"6% (Medio)\",ROUND('[1]Tabla de Amortizacion'!F149,8),IF([1]CALCULADORA!$F$10=\"10% (Medio Alto)\",ROUND('[1]Tabla de Amortizacion'!H149,8),IF([1]CALCULADORA!$F$10=\"14% (Alto)\",ROUND('[1]Tabla de Amortizacion'!#REF!,8),IF([1]CALCULADORA!$F$10=20%,ROUND('[1]Tabla de Amortizacion'!#REF!,8),ROUND('[1]Tabla de Amortizacion'!K149,8))))))","v":0}]
["2033-11-23",0,{"$f":"+VLOOKUP(A149,'Tabla de Amortizacion'!$D$2:$Q$182,MATCH(Tablas!$B$1,'Tabla de Amortizacion'!$D$2:$Q$2,0))","v":0},null,{"$f":"IF([1]CALCULADORA!$F$10=\"Contractual\",ROUND('[1]Tabla de Amortizacion'!C150,8),IF([1]CALCULADORA!$F$10=\"6% (Medio)\",ROUND('[1]Tabla de Amortizacion'!F150,8),IF([1]CALCULADORA!$F$10=\"10% (Medio Alto)\",ROUND('[1]Tabla de Amortizacion'!H150,8),IF([1]CALCULADORA!$F$10=\"14% (Alto)\",ROUND('[1]Tabla de Amortizacion'!#REF!,8),IF([1]CALCULADORA!$F$10=20%,ROUND('[1]Tabla de Amortizacion'!#REF!,8),ROUND('[1]Tabla de Amortizacion'!K150,8))))))","v":0}]
["2033-12-23",0,{"$f":"+VLOOKUP(A150,'Tabla de Amortizacion'!$D$2:$Q$182,MATCH(Tablas!$B$1,'Tabla de Amortizacion'!$D$2:$Q$2,0))","v":0},null,{"$f":"IF([1]CALCULADORA!$F$10=\"Contractual\",ROUND('[1]Tabla de Amortizacion'!C151,8),IF([1]CALCULADORA!$F$10=\"6% (Medio)\",ROUND('[1]Tabla de Amortizacion'!F151,8),IF([1]CALCULADORA!$F$10=\"10% (Medio Alto)\",ROUND('[1]Tabla de Amortizacion'!H151,8),IF([1]CALCULADORA!$F$10=\"14% (Alto)\",ROUND('[1]Tabla de Amortizacion'!#REF!,8),IF([1]CALCULADORA!$F$10=20%,ROUND('[1]Tabla de Amortizacion'!#REF!,8),ROUND('[1]Tabla de Amortizacion'!K151,8))))))","v":0}]
["2034-01-23",0,{"$f":"+VLOOKUP(A151,'Tabla de Amortizacion'!$D$2:$Q$182,MATCH(Tablas!$B$1,'Tabla de Amortizacion'!$D$2:$Q$2,0))","v":0},null,{"$f":"IF([1]CALCULADORA!$F$10=\"Contractual\",ROUND('[1]Tabla de Amortizacion'!C152,8),IF([1]CALCULADORA!$F$10=\"6% (Medio)\",ROUND('[1]Tabla de Amortizacion'!F152,8),IF([1]CALCULADORA!$F$10=\"10% (Medio Alto)\",ROUND('[1]Tabla de Amortizacion'!H152,8),IF([1]CALCULADORA!$F$10=\"14% (Alto)\",ROUND('[1]Tabla de Amortizacion'!#REF!,8),IF([1]CALCULADORA!$F$10=20%,ROUND('[1]Tabla de Amortizacion'!#REF!,8),ROUND('[1]Tabla de Amortizacion'!K152,8))))))","v":0}]
["2034-02-23",0,{"$f":"+VLOOKUP(A152,'Tabla de Amortizacion'!$D$2:$Q$182,MATCH(Tablas!$B$1,'Tabla de Amortizacion'!$D$2:$Q$2,0))","v":0},null,{"$f":"IF([1]CALCULADORA!$F$10=\"Contractual\",ROUND('[1]Tabla de Amortizacion'!C153,8),IF([1]CALCULADORA!$F$10=\"6% (Medio)\",ROUND('[1]Tabla de Amortizacion'!F153,8),IF([1]CALCULADORA!$F$10=\"10% (Medio Alto)\",ROUND('[1]Tabla de Amortizacion'!H153,8),IF([1]CALCULADORA!$F$10=\"14% (Alto)\",ROUND('[1]Tabla de Amortizacion'!#REF!,8),IF([1]CALCULADORA!$F$10=20%,ROUND('[1]Tabla de Amortizacion'!#REF!,8),ROUND('[1]Tabla de Amortizacion'!K153,8))))))","v":0}]
["2034-03-23",0,{"$f":"+VLOOKUP(A153,'Tabla de Amortizacion'!$D$2:$Q$182,MATCH(Tablas!$B$1,'Tabla de Amortizacion'!$D$2:$Q$2,0))","v":0},null,{"$f":"IF([1]CALCULADORA!$F$10=\"Contractual\",ROUND('[1]Tabla de Amortizacion'!C154,8),IF([1]CALCULADORA!$F$10=\"6% (Medio)\",ROUND('[1]Tabla de Amortizacion'!F154,8),IF([1]CALCULADORA!$F$10=\"10% (Medio Alto)\",ROUND('[1]Tabla de Amortizacion'!H154,8),IF([1]CALCULADORA!$F$10=\"14% (Alto)\",ROUND('[1]Tabla de Amortizacion'!#REF!,8),IF([1]CALCULADORA!$F$10=20%,ROUND('[1]Tabla de Amortizacion'!#REF!,8),ROUND('[1]Tabla de Amortizacion'!K154,8))))))","v":0}]
["2034-04-23",0,{"$f":"+VLOOKUP(A154,'Tabla de Amortizacion'!$D$2:$Q$182,MATCH(Tablas!$B$1,'Tabla de Amortizacion'!$D$2:$Q$2,0))","v":0},null,{"$f":"IF([1]CALCULADORA!$F$10=\"Contractual\",ROUND('[1]Tabla de Amortizacion'!C155,8),IF([1]CALCULADORA!$F$10=\"6% (Medio)\",ROUND('[1]Tabla de Amortizacion'!F155,8),IF([1]CALCULADORA!$F$10=\"10% (Medio Alto)\",ROUND('[1]Tabla de Amortizacion'!H155,8),IF([1]CALCULADORA!$F$10=\"14% (Alto)\",ROUND('[1]Tabla de Amortizacion'!#REF!,8),IF([1]CALCULADORA!$F$10=20%,ROUND('[1]Tabla de Amortizacion'!#REF!,8),ROUND('[1]Tabla de Amortizacion'!K155,8))))))","v":0}]
["2034-05-23",0,{"$f":"+VLOOKUP(A155,'Tabla de Amortizacion'!$D$2:$Q$182,MATCH(Tablas!$B$1,'Tabla de Amortizacion'!$D$2:$Q$2,0))","v":0},null,{"$f":"IF([1]CALCULADORA!$F$10=\"Contractual\",ROUND('[1]Tabla de Amortizacion'!C156,8),IF([1]CALCULADORA!$F$10=\"6% (Medio)\",ROUND('[1]Tabla de Amortizacion'!F156,8),IF([1]CALCULADORA!$F$10=\"10% (Medio Alto)\",ROUND('[1]Tabla de Amortizacion'!H156,8),IF([1]CALCULADORA!$F$10=\"14% (Alto)\",ROUND('[1]Tabla de Amortizacion'!#REF!,8),IF([1]CALCULADORA!$F$10=20%,ROUND('[1]Tabla de Amortizacion'!#REF!,8),ROUND('[1]Tabla de Amortizacion'!K156,8))))))","v":0}]
["2034-06-23",0,{"$f":"+VLOOKUP(A156,'Tabla de Amortizacion'!$D$2:$Q$182,MATCH(Tablas!$B$1,'Tabla de Amortizacion'!$D$2:$Q$2,0))","v":0},null,{"$f":"IF([1]CALCULADORA!$F$10=\"Contractual\",ROUND('[1]Tabla de Amortizacion'!C157,8),IF([1]CALCULADORA!$F$10=\"6% (Medio)\",ROUND('[1]Tabla de Amortizacion'!F157,8),IF([1]CALCULADORA!$F$10=\"10% (Medio Alto)\",ROUND('[1]Tabla de Amortizacion'!H157,8),IF([1]CALCULADORA!$F$10=\"14% (Alto)\",ROUND('[1]Tabla de Amortizacion'!#REF!,8),IF([1]CALCULADORA!$F$10=20%,ROUND('[1]Tabla de Amortizacion'!#REF!,8),ROUND('[1]Tabla de Amortizacion'!K157,8))))))","v":0}]
["2034-07-23",0,{"$f":"+VLOOKUP(A157,'Tabla de Amortizacion'!$D$2:$Q$182,MATCH(Tablas!$B$1,'Tabla de Amortizacion'!$D$2:$Q$2,0))","v":0},null,{"$f":"IF([1]CALCULADORA!$F$10=\"Contractual\",ROUND('[1]Tabla de Amortizacion'!C158,8),IF([1]CALCULADORA!$F$10=\"6% (Medio)\",ROUND('[1]Tabla de Amortizacion'!F158,8),IF([1]CALCULADORA!$F$10=\"10% (Medio Alto)\",ROUND('[1]Tabla de Amortizacion'!H158,8),IF([1]CALCULADORA!$F$10=\"14% (Alto)\",ROUND('[1]Tabla de Amortizacion'!#REF!,8),IF([1]CALCULADORA!$F$10=20%,ROUND('[1]Tabla de Amortizacion'!#REF!,8),ROUND('[1]Tabla de Amortizacion'!K158,8))))))","v":0}]
["2034-08-23",0,{"$f":"+VLOOKUP(A158,'Tabla de Amortizacion'!$D$2:$Q$182,MATCH(Tablas!$B$1,'Tabla de Amortizacion'!$D$2:$Q$2,0))","v":0},null,{"$f":"IF([1]CALCULADORA!$F$10=\"Contractual\",ROUND('[1]Tabla de Amortizacion'!C159,8),IF([1]CALCULADORA!$F$10=\"6% (Medio)\",ROUND('[1]Tabla de Amortizacion'!F159,8),IF([1]CALCULADORA!$F$10=\"10% (Medio Alto)\",ROUND('[1]Tabla de Amortizacion'!H159,8),IF([1]CALCULADORA!$F$10=\"14% (Alto)\",ROUND('[1]Tabla de Amortizacion'!#REF!,8),IF([1]CALCULADORA!$F$10=20%,ROUND('[1]Tabla de Amortizacion'!#REF!,8),ROUND('[1]Tabla de Amortizacion'!K159,8))))))","v":0}]
["2034-09-23",0,{"$f":"+VLOOKUP(A159,'Tabla de Amortizacion'!$D$2:$Q$182,MATCH(Tablas!$B$1,'Tabla de Amortizacion'!$D$2:$Q$2,0))","v":0},null,{"$f":"IF([1]CALCULADORA!$F$10=\"Contractual\",ROUND('[1]Tabla de Amortizacion'!C160,8),IF([1]CALCULADORA!$F$10=\"6% (Medio)\",ROUND('[1]Tabla de Amortizacion'!F160,8),IF([1]CALCULADORA!$F$10=\"10% (Medio Alto)\",ROUND('[1]Tabla de Amortizacion'!H160,8),IF([1]CALCULADORA!$F$10=\"14% (Alto)\",ROUND('[1]Tabla de Amortizacion'!#REF!,8),IF([1]CALCULADORA!$F$10=20%,ROUND('[1]Tabla de Amortizacion'!#REF!,8),ROUND('[1]Tabla de Amortizacion'!K160,8))))))","v":0}]
["2034-10-23",0,{"$f":"+VLOOKUP(A160,'Tabla de Amortizacion'!$D$2:$Q$182,MATCH(Tablas!$B$1,'Tabla de Amortizacion'!$D$2:$Q$2,0))","v":0},null,{"$f":"IF([1]CALCULADORA!$F$10=\"Contractual\",ROUND('[1]Tabla de Amortizacion'!C161,8),IF([1]CALCULADORA!$F$10=\"6% (Medio)\",ROUND('[1]Tabla de Amortizacion'!F161,8),IF([1]CALCULADORA!$F$10=\"10% (Medio Alto)\",ROUND('[1]Tabla de Amortizacion'!H161,8),IF([1]CALCULADORA!$F$10=\"14% (Alto)\",ROUND('[1]Tabla de Amortizacion'!#REF!,8),IF([1]CALCULADORA!$F$10=20%,ROUND('[1]Tabla de Amortizacion'!#REF!,8),ROUND('[1]Tabla de Amortizacion'!K161,8))))))","v":0}]
["2034-11-23",0,{"$f":"+VLOOKUP(A161,'Tabla de Amortizacion'!$D$2:$Q$182,MATCH(Tablas!$B$1,'Tabla de Amortizacion'!$D$2:$Q$2,0))","v":0},null,{"$f":"IF([1]CALCULADORA!$F$10=\"Contractual\",ROUND('[1]Tabla de Amortizacion'!C162,8),IF([1]CALCULADORA!$F$10=\"6% (Medio)\",ROUND('[1]Tabla de Amortizacion'!F162,8),IF([1]CALCULADORA!$F$10=\"10% (Medio Alto)\",ROUND('[1]Tabla de Amortizacion'!H162,8),IF([1]CALCULADORA!$F$10=\"14% (Alto)\",ROUND('[1]Tabla de Amortizacion'!#REF!,8),IF([1]CALCULADORA!$F$10=20%,ROUND('[1]Tabla de Amortizacion'!#REF!,8),ROUND('[1]Tabla de Amortizacion'!K162,8))))))","v":0}]
["2034-12-23",0,{"$f":"+VLOOKUP(A162,'Tabla de Amortizacion'!$D$2:$Q$182,MATCH(Tablas!$B$1,'Tabla de Amortizacion'!$D$2:$Q$2,0))","v":0},null,{"$f":"IF([1]CALCULADORA!$F$10=\"Contractual\",ROUND('[1]Tabla de Amortizacion'!C163,8),IF([1]CALCULADORA!$F$10=\"6% (Medio)\",ROUND('[1]Tabla de Amortizacion'!F163,8),IF([1]CALCULADORA!$F$10=\"10% (Medio Alto)\",ROUND('[1]Tabla de Amortizacion'!H163,8),IF([1]CALCULADORA!$F$10=\"14% (Alto)\",ROUND('[1]Tabla de Amortizacion'!#REF!,8),IF([1]CALCULADORA!$F$10=20%,ROUND('[1]Tabla de Amortizacion'!#REF!,8),ROUND('[1]Tabla de Amortizacion'!K163,8))))))","v":0}]
["2035-01-23",0,{"$f":"+VLOOKUP(A163,'Tabla de Amortizacion'!$D$2:$Q$182,MATCH(Tablas!$B$1,'Tabla de Amortizacion'!$D$2:$Q$2,0))","v":0},null,{"$f":"IF([1]CALCULADORA!$F$10=\"Contractual\",ROUND('[1]Tabla de Amortizacion'!C164,8),IF([1]CALCULADORA!$F$10=\"6% (Medio)\",ROUND('[1]Tabla de Amortizacion'!F164,8),IF([1]CALCULADORA!$F$10=\"10% (Medio Alto)\",ROUND('[1]Tabla de Amortizacion'!H164,8),IF([1]CALCULADORA!$F$10=\"14% (Alto)\",ROUND('[1]Tabla de Amortizacion'!#REF!,8),IF([1]CALCULADORA!$F$10=20%,ROUND('[1]Tabla de Amortizacion'!#REF!,8),ROUND('[1]Tabla de Amortizacion'!K164,8))))))","v":0}]
["2035-02-23",0,{"$f":"+VLOOKUP(A164,'Tabla de Amortizacion'!$D$2:$Q$182,MATCH(Tablas!$B$1,'Tabla de Amortizacion'!$D$2:$Q$2,0))","v":0},null,{"$f":"IF([1]CALCULADORA!$F$10=\"Contractual\",ROUND('[1]Tabla de Amortizacion'!C165,8),IF([1]CALCULADORA!$F$10=\"6% (Medio)\",ROUND('[1]Tabla de Amortizacion'!F165,8),IF([1]CALCULADORA!$F$10=\"10% (Medio Alto)\",ROUND('[1]Tabla de Amortizacion'!H165,8),IF([1]CALCULADORA!$F$10=\"14% (Alto)\",ROUND('[1]Tabla de Amortizacion'!#REF!,8),IF([1]CALCULADORA!$F$10=20%,ROUND('[1]Tabla de Amortizacion'!#REF!,8),ROUND('[1]Tabla de Amortizacion'!K165,8))))))","v":0}]
["2035-03-23",0,{"$f":"+VLOOKUP(A165,'Tabla de Amortizacion'!$D$2:$Q$182,MATCH(Tablas!$B$1,'Tabla de Amortizacion'!$D$2:$Q$2,0))","v":0},null,{"$f":"IF([1]CALCULADORA!$F$10=\"Contractual\",ROUND('[1]Tabla de Amortizacion'!C166,8),IF([1]CALCULADORA!$F$10=\"6% (Medio)\",ROUND('[1]Tabla de Amortizacion'!F166,8),IF([1]CALCULADORA!$F$10=\"10% (Medio Alto)\",ROUND('[1]Tabla de Amortizacion'!H166,8),IF([1]CALCULADORA!$F$10=\"14% (Alto)\",ROUND('[1]Tabla de Amortizacion'!#REF!,8),IF([1]CALCULADORA!$F$10=20%,ROUND('[1]Tabla de Amortizacion'!#REF!,8),ROUND('[1]Tabla de Amortizacion'!K166,8))))))","v":0}]
["2035-04-23",0,{"$f":"+VLOOKUP(A166,'Tabla de Amortizacion'!$D$2:$Q$182,MATCH(Tablas!$B$1,'Tabla de Amortizacion'!$D$2:$Q$2,0))","v":0},null,{"$f":"IF([1]CALCULADORA!$F$10=\"Contractual\",ROUND('[1]Tabla de Amortizacion'!C167,8),IF([1]CALCULADORA!$F$10=\"6% (Medio)\",ROUND('[1]Tabla de Amortizacion'!F167,8),IF([1]CALCULADORA!$F$10=\"10% (Medio Alto)\",ROUND('[1]Tabla de Amortizacion'!H167,8),IF([1]CALCULADORA!$F$10=\"14% (Alto)\",ROUND('[1]Tabla de Amortizacion'!#REF!,8),IF([1]CALCULADORA!$F$10=20%,ROUND('[1]Tabla de Amortizacion'!#REF!,8),ROUND('[1]Tabla de Amortizacion'!K167,8))))))","v":0}]
["2035-05-23",0,{"$f":"+VLOOKUP(A167,'Tabla de Amortizacion'!$D$2:$Q$182,MATCH(Tablas!$B$1,'Tabla de Amortizacion'!$D$2:$Q$2,0))","v":0},null,{"$f":"IF([1]CALCULADORA!$F$10=\"Contractual\",ROUND('[1]Tabla de Amortizacion'!C168,8),IF([1]CALCULADORA!$F$10=\"6% (Medio)\",ROUND('[1]Tabla de Amortizacion'!F168,8),IF([1]CALCULADORA!$F$10=\"10% (Medio Alto)\",ROUND('[1]Tabla de Amortizacion'!H168,8),IF([1]CALCULADORA!$F$10=\"14% (Alto)\",ROUND('[1]Tabla de Amortizacion'!#REF!,8),IF([1]CALCULADORA!$F$10=20%,ROUND('[1]Tabla de Amortizacion'!#REF!,8),ROUND('[1]Tabla de Amortizacion'!K168,8))))))","v":0}]
["2035-06-23",0,{"$f":"+VLOOKUP(A168,'Tabla de Amortizacion'!$D$2:$Q$182,MATCH(Tablas!$B$1,'Tabla de Amortizacion'!$D$2:$Q$2,0))","v":0},null,{"$f":"IF([1]CALCULADORA!$F$10=\"Contractual\",ROUND('[1]Tabla de Amortizacion'!C169,8),IF([1]CALCULADORA!$F$10=\"6% (Medio)\",ROUND('[1]Tabla de Amortizacion'!F169,8),IF([1]CALCULADORA!$F$10=\"10% (Medio Alto)\",ROUND('[1]Tabla de Amortizacion'!H169,8),IF([1]CALCULADORA!$F$10=\"14% (Alto)\",ROUND('[1]Tabla de Amortizacion'!#REF!,8),IF([1]CALCULADORA!$F$10=20%,ROUND('[1]Tabla de Amortizacion'!#REF!,8),ROUND('[1]Tabla de Amortizacion'!K169,8))))))","v":0}]
["2035-07-23",0,{"$f":"+VLOOKUP(A169,'Tabla de Amortizacion'!$D$2:$Q$182,MATCH(Tablas!$B$1,'Tabla de Amortizacion'!$D$2:$Q$2,0))","v":0},null,{"$f":"IF([1]CALCULADORA!$F$10=\"Contractual\",ROUND('[1]Tabla de Amortizacion'!C170,8),IF([1]CALCULADORA!$F$10=\"6% (Medio)\",ROUND('[1]Tabla de Amortizacion'!F170,8),IF([1]CALCULADORA!$F$10=\"10% (Medio Alto)\",ROUND('[1]Tabla de Amortizacion'!H170,8),IF([1]CALCULADORA!$F$10=\"14% (Alto)\",ROUND('[1]Tabla de Amortizacion'!#REF!,8),IF([1]CALCULADORA!$F$10=20%,ROUND('[1]Tabla de Amortizacion'!#REF!,8),ROUND('[1]Tabla de Amortizacion'!K170,8))))))","v":0}]
["2035-08-23",0,{"$f":"+VLOOKUP(A170,'Tabla de Amortizacion'!$D$2:$Q$182,MATCH(Tablas!$B$1,'Tabla de Amortizacion'!$D$2:$Q$2,0))","v":0},null,{"$f":"IF([1]CALCULADORA!$F$10=\"Contractual\",ROUND('[1]Tabla de Amortizacion'!C171,8),IF([1]CALCULADORA!$F$10=\"6% (Medio)\",ROUND('[1]Tabla de Amortizacion'!F171,8),IF([1]CALCULADORA!$F$10=\"10% (Medio Alto)\",ROUND('[1]Tabla de Amortizacion'!H171,8),IF([1]CALCULADORA!$F$10=\"14% (Alto)\",ROUND('[1]Tabla de Amortizacion'!#REF!,8),IF([1]CALCULADORA!$F$10=20%,ROUND('[1]Tabla de Amortizacion'!#REF!,8),ROUND('[1]Tabla de Amortizacion'!K171,8))))))","v":0}]
["2035-09-23",0,{"$f":"+VLOOKUP(A171,'Tabla de Amortizacion'!$D$2:$Q$182,MATCH(Tablas!$B$1,'Tabla de Amortizacion'!$D$2:$Q$2,0))","v":0},null,{"$f":"IF([1]CALCULADORA!$F$10=\"Contractual\",ROUND('[1]Tabla de Amortizacion'!C172,8),IF([1]CALCULADORA!$F$10=\"6% (Medio)\",ROUND('[1]Tabla de Amortizacion'!F172,8),IF([1]CALCULADORA!$F$10=\"10% (Medio Alto)\",ROUND('[1]Tabla de Amortizacion'!H172,8),IF([1]CALCULADORA!$F$10=\"14% (Alto)\",ROUND('[1]Tabla de Amortizacion'!#REF!,8),IF([1]CALCULADORA!$F$10=20%,ROUND('[1]Tabla de Amortizacion'!#REF!,8),ROUND('[1]Tabla de Amortizacion'!K172,8))))))","v":0}]
["2035-10-23",0,{"$f":"+VLOOKUP(A172,'Tabla de Amortizacion'!$D$2:$Q$182,MATCH(Tablas!$B$1,'Tabla de Amortizacion'!$D$2:$Q$2,0))","v":0},null,{"$f":"IF([1]CALCULADORA!$F$10=\"Contractual\",ROUND('[1]Tabla de Amortizacion'!C173,8),IF([1]CALCULADORA!$F$10=\"6% (Medio)\",ROUND('[1]Tabla de Amortizacion'!F173,8),IF([1]CALCULADORA!$F$10=\"10% (Medio Alto)\",ROUND('[1]Tabla de Amortizacion'!H173,8),IF([1]CALCULADORA!$F$10=\"14% (Alto)\",ROUND('[1]Tabla de Amortizacion'!#REF!,8),IF([1]CALCULADORA!$F$10=20%,ROUND('[1]Tabla de Amortizacion'!#REF!,8),ROUND('[1]Tabla de Amortizacion'!K173,8))))))","v":0}]
["2035-11-23",0,{"$f":"+VLOOKUP(A173,'Tabla de Amortizacion'!$D$2:$Q$182,MATCH(Tablas!$B$1,'Tabla de Amortizacion'!$D$2:$Q$2,0))","v":0},null,{"$f":"IF([1]CALCULADORA!$F$10=\"Contractual\",ROUND('[1]Tabla de Amortizacion'!C174,8),IF([1]CALCULADORA!$F$10=\"6% (Medio)\",ROUND('[1]Tabla de Amortizacion'!F174,8),IF([1]CALCULADORA!$F$10=\"10% (Medio Alto)\",ROUND('[1]Tabla de Amortizacion'!H174,8),IF([1]CALCULADORA!$F$10=\"14% (Alto)\",ROUND('[1]Tabla de Amortizacion'!#REF!,8),IF([1]CALCULADORA!$F$10=20%,ROUND('[1]Tabla de Amortizacion'!#REF!,8),ROUND('[1]Tabla de Amortizacion'!K174,8))))))","v":0}]
["2035-12-23",0,{"$f":"+VLOOKUP(A174,'Tabla de Amortizacion'!$D$2:$Q$182,MATCH(Tablas!$B$1,'Tabla de Amortizacion'!$D$2:$Q$2,0))","v":0},null,{"$f":"IF([1]CALCULADORA!$F$10=\"Contractual\",ROUND('[1]Tabla de Amortizacion'!C175,8),IF([1]CALCULADORA!$F$10=\"6% (Medio)\",ROUND('[1]Tabla de Amortizacion'!F175,8),IF([1]CALCULADORA!$F$10=\"10% (Medio Alto)\",ROUND('[1]Tabla de Amortizacion'!H175,8),IF([1]CALCULADORA!$F$10=\"14% (Alto)\",ROUND('[1]Tabla de Amortizacion'!#REF!,8),IF([1]CALCULADORA!$F$10=20%,ROUND('[1]Tabla de Amortizacion'!#REF!,8),ROUND('[1]Tabla de Amortizacion'!K175,8))))))","v":0}]
["2036-01-23",0,{"$f":"+VLOOKUP(A175,'Tabla de Amortizacion'!$D$2:$Q$182,MATCH(Tablas!$B$1,'Tabla de Amortizacion'!$D$2:$Q$2,0))","v":0},null,{"$f":"IF([1]CALCULADORA!$F$10=\"Contractual\",ROUND('[1]Tabla de Amortizacion'!C176,8),IF([1]CALCULADORA!$F$10=\"6% (Medio)\",ROUND('[1]Tabla de Amortizacion'!F176,8),IF([1]CALCULADORA!$F$10=\"10% (Medio Alto)\",ROUND('[1]Tabla de Amortizacion'!H176,8),IF([1]CALCULADORA!$F$10=\"14% (Alto)\",ROUND('[1]Tabla de Amortizacion'!#REF!,8),IF([1]CALCULADORA!$F$10=20%,ROUND('[1]Tabla de Amortizacion'!#REF!,8),ROUND('[1]Tabla de Amortizacion'!K176,8))))))","v":0}]
["2036-02-23",0,{"$f":"+VLOOKUP(A176,'Tabla de Amortizacion'!$D$2:$Q$182,MATCH(Tablas!$B$1,'Tabla de Amortizacion'!$D$2:$Q$2,0))","v":0},null,{"$f":"IF([1]CALCULADORA!$F$10=\"Contractual\",ROUND('[1]Tabla de Amortizacion'!C177,8),IF([1]CALCULADORA!$F$10=\"6% (Medio)\",ROUND('[1]Tabla de Amortizacion'!F177,8),IF([1]CALCULADORA!$F$10=\"10% (Medio Alto)\",ROUND('[1]Tabla de Amortizacion'!H177,8),IF([1]CALCULADORA!$F$10=\"14% (Alto)\",ROUND('[1]Tabla de Amortizacion'!#REF!,8),IF([1]CALCULADORA!$F$10=20%,ROUND('[1]Tabla de Amortizacion'!#REF!,8),ROUND('[1]Tabla de Amortizacion'!K177,8))))))","v":0}]
["2036-03-23",0,{"$f":"+VLOOKUP(A177,'Tabla de Amortizacion'!$D$2:$Q$182,MATCH(Tablas!$B$1,'Tabla de Amortizacion'!$D$2:$Q$2,0))","v":0},null,{"$f":"IF([1]CALCULADORA!$F$10=\"Contractual\",ROUND('[1]Tabla de Amortizacion'!C178,8),IF([1]CALCULADORA!$F$10=\"6% (Medio)\",ROUND('[1]Tabla de Amortizacion'!F178,8),IF([1]CALCULADORA!$F$10=\"10% (Medio Alto)\",ROUND('[1]Tabla de Amortizacion'!H178,8),IF([1]CALCULADORA!$F$10=\"14% (Alto)\",ROUND('[1]Tabla de Amortizacion'!#REF!,8),IF([1]CALCULADORA!$F$10=20%,ROUND('[1]Tabla de Amortizacion'!#REF!,8),ROUND('[1]Tabla de Amortizacion'!K178,8))))))","v":0}]
["2036-04-23",0,{"$f":"+VLOOKUP(A178,'Tabla de Amortizacion'!$D$2:$Q$182,MATCH(Tablas!$B$1,'Tabla de Amortizacion'!$D$2:$Q$2,0))","v":0},null,{"$f":"IF([1]CALCULADORA!$F$10=\"Contractual\",ROUND('[1]Tabla de Amortizacion'!C179,8),IF([1]CALCULADORA!$F$10=\"6% (Medio)\",ROUND('[1]Tabla de Amortizacion'!F179,8),IF([1]CALCULADORA!$F$10=\"10% (Medio Alto)\",ROUND('[1]Tabla de Amortizacion'!H179,8),IF([1]CALCULADORA!$F$10=\"14% (Alto)\",ROUND('[1]Tabla de Amortizacion'!#REF!,8),IF([1]CALCULADORA!$F$10=20%,ROUND('[1]Tabla de Amortizacion'!#REF!,8),ROUND('[1]Tabla de Amortizacion'!K179,8))))))","v":0}]
["2036-05-23",0,{"$f":"+VLOOKUP(A179,'Tabla de Amortizacion'!$D$2:$Q$182,MATCH(Tablas!$B$1,'Tabla de Amortizacion'!$D$2:$Q$2,0))","v":0},null,{"$f":"IF([1]CALCULADORA!$F$10=\"Contractual\",ROUND('[1]Tabla de Amortizacion'!C180,8),IF([1]CALCULADORA!$F$10=\"6% (Medio)\",ROUND('[1]Tabla de Amortizacion'!F180,8),IF([1]CALCULADORA!$F$10=\"10% (Medio Alto)\",ROUND('[1]Tabla de Amortizacion'!H180,8),IF([1]CALCULADORA!$F$10=\"14% (Alto)\",ROUND('[1]Tabla de Amortizacion'!#REF!,8),IF([1]CALCULADORA!$F$10=20%,ROUND('[1]Tabla de Amortizacion'!#REF!,8),ROUND('[1]Tabla de Amortizacion'!K180,8))))))","v":0}]
["2036-06-23",0,{"$f":"+VLOOKUP(A180,'Tabla de Amortizacion'!$D$2:$Q$182,MATCH(Tablas!$B$1,'Tabla de Amortizacion'!$D$2:$Q$2,0))","v":0},null,{"$f":"IF([1]CALCULADORA!$F$10=\"Contractual\",ROUND('[1]Tabla de Amortizacion'!C181,8),IF([1]CALCULADORA!$F$10=\"6% (Medio)\",ROUND('[1]Tabla de Amortizacion'!F181,8),IF([1]CALCULADORA!$F$10=\"10% (Medio Alto)\",ROUND('[1]Tabla de Amortizacion'!H181,8),IF([1]CALCULADORA!$F$10=\"14% (Alto)\",ROUND('[1]Tabla de Amortizacion'!#REF!,8),IF([1]CALCULADORA!$F$10=20%,ROUND('[1]Tabla de Amortizacion'!#REF!,8),ROUND('[1]Tabla de Amortizacion'!K181,8))))))","v":0}]
["2036-07-23",0,{"$f":"+VLOOKUP(A181,'Tabla de Amortizacion'!$D$2:$Q$182,MATCH(Tablas!$B$1,'Tabla de Amortizacion'!$D$2:$Q$2,0))","v":0},null,{"$f":"IF([1]CALCULADORA!$F$10=\"Contractual\",ROUND('[1]Tabla de Amortizacion'!C182,8),IF([1]CALCULADORA!$F$10=\"6% (Medio)\",ROUND('[1]Tabla de Amortizacion'!F182,8),IF([1]CALCULADORA!$F$10=\"10% (Medio Alto)\",ROUND('[1]Tabla de Amortizacion'!H182,8),IF([1]CALCULADORA!$F$10=\"14% (Alto)\",ROUND('[1]Tabla de Amortizacion'!#REF!,8),IF([1]CALCULADORA!$F$10=20%,ROUND('[1]Tabla de Amortizacion'!#REF!,8),ROUND('[1]Tabla de Amortizacion'!K182,8))))))","v":0}]

{"sheet":"Exclusión","index":6,"n_rows":1,"n_cols":1,"rows_kept":1,"cut":false,"hidden":false,"merged":[[0,0,13,7]]}
["“Titularizadora Colombiana S.A publica el presente documento con un carácter estrictamente informativo para los inversionistas. Aunque la información aquí contenida ha sido obtenida de fuentes que la compañía considera confiables, Titularizadora Colombiana S.A no garantiza su exactitud. En ningún caso su contenido se puede considerar como una opinión financiera o legal ni como una recomendación de negocios o de inversión por parte de nuestra compañía. Tampoco puede ser considerado como una invitación a realizar negocios ni como una oferta para comprar o vender ningún tipo de valor. En ningún caso Titularizadora Colombiana S.A asume responsabilidad por las decisiones de inversión que se tomen, o el resultado de cualquier operación que se efectúe por parte de los destinatarios o de terceras personas, sobre la información aquí contenida. Tal responsabilidad es exclusiva de los inversionistas que hagan uso de ella. Dicha información puede tener variaciones posteriores a la fecha de su publicación razón por la cual Titularizadora Colombiana S.A se reserva el derecho de modificarla o actualizarla en cualquier tiempo y sin previo aviso.”"]